{"text_format":"1","workbook":"xlsx","n_sheets":4,"sheets":["Factors","Venn","Working1","Working2"],"not_rendered":{"charts":0,"images":0,"macros":0,"external_links":0,"defined_names":0,"comments":0,"pivot_tables":0},"unopened":[],"bounds":{"document_bytes":16777216,"sheet_cells":100000,"rows_first":2000,"rows_last":500,"rows_between":2000,"halvings":0,"cell_chars":16384,"cell_head_chars":4096},"cells_cut":0,"cells_raw":0,"read":"whole","date_system":"1900"}

{"sheet":"Factors","index":0,"n_rows":7,"n_cols":5,"rows_kept":7,"cut":false,"hidden":false,"merged":[[0,0,0,5],[2,2,2,3],[5,2,5,3],[3,1,3,2],[6,1,6,2]]}
["Prime Factorisation"]
[null,null,null,null,2]
[null,720,{"$f":"\" = \"&IF(E2<6,IF(B3=1,1,Working2!F59),\"\")","v":" = 2⁴ x 3² x 5"}]
[null,{"$f":"IF(E2<4,Working2!D5&\" factors\",\"\")","v":"30 factors"},null,{"$f":"IF(E2<2,\"HCF = \"&Working2!B10,\"\")","v":""}]
[null,null,null,{"$f":"IF(E2<1,\"LCM = \"&Working2!B11,\"\")","v":""}]
[null,168,{"$f":"\" = \"&IF(E2<5,IF(B6=1,1,Working2!F61),\"\")","v":" = 2³ x 3 x 7"}]
[null,{"$f":"IF(E2<3,Working2!D6&\" factors\",\"\")","v":"16 factors"}]

{"sheet":"Venn","index":1,"n_rows":17,"n_cols":20,"rows_kept":17,"cut":false,"hidden":false,"merged":[[1,4,2,6],[1,18,2,20],[9,4,9,11],[9,12,9,19],[4,4,4,5],[5,4,5,5],[4,19,4,20],[5,19,5,20]]}
[]
[null,null,null,null,180,null,null,null,null,null,null,null,null,null,null,null,null,null,423]
["#1","#2","HCF:",null,null,null,null,null,{"$f":"A14","v":""},{"$f":"A16","v":""},null,null,{"$f":"C12","v":""},null,null,{"$f":"B16","v":""},{"$f":"B14","v":""}]
[{"$f":"Working1!E65","v":2},{"$f":"Working1!E81","v":47},{"$f":"Working1!E49","v":3},null,null,null,null,null,{"$f":"A7","v":""},{"$f":"A10","v":""},null,{"$f":"C14","v":""},{"$f":"C7","v":""},{"$f":"C15","v":""},null,{"$f":"B10","v":""},{"$f":"B7","v":""}]
[{"$f":"Working1!E66","v":2},{"$f":"Working1!E82","v":""},{"$f":"Working1!E50","v":3},null,"HCF:",null,null,{"$f":"A8","v":""},{"$f":"A4","v":2},{"$f":"A11","v":""},null,{"$f":"C8","v":""},{"$f":"C4","v":3},{"$f":"C9","v":""},null,{"$f":"B11","v":""},{"$f":"B4","v":47},{"$f":"B8","v":""},null,"LCM:"]
[{"$f":"Working1!E67","v":5},{"$f":"Working1!E83","v":""},{"$f":"Working1!E51","v":""},null,{"$f":"Working1!B10","v":9},null,null,{"$f":"A9","v":""},{"$f":"A5","v":2},{"$f":"A12","v":""},null,{"$f":"C10","v":""},{"$f":"C5","v":3},{"$f":"C11","v":""},null,{"$f":"B12","v":""},{"$f":"B5","v":""},{"$f":"B9","v":""},null,{"$f":"Working1!B11","v":8460}]
[{"$f":"Working1!E68","v":""},{"$f":"Working1!E84","v":""},{"$f":"Working1!E52","v":""},null,null,null,null,null,{"$f":"A6","v":5},{"$f":"A13","v":""},null,{"$f":"C16","v":""},{"$f":"C6","v":""},{"$f":"C17","v":""},null,{"$f":"B13","v":""},{"$f":"B6","v":""}]
[{"$f":"Working1!E69","v":""},{"$f":"Working1!E85","v":""},{"$f":"Working1!E53","v":""},null,null,null,null,null,{"$f":"A15","v":""},{"$f":"A17","v":""},null,null,{"$f":"C13","v":""},null,null,{"$f":"B17","v":""},{"$f":"B15","v":""}]
[{"$f":"Working1!E70","v":""},{"$f":"Working1!E86","v":""},{"$f":"Working1!E54","v":""}]
[{"$f":"Working1!E71","v":""},{"$f":"Working1!E87","v":""},{"$f":"Working1!E55","v":""},null,{"$f":"E2&\" = \"&Working1!F59","v":"180 = 2² x 3² x 5"},null,null,null,null,null,null,null,{"$f":"S2&\" = \"&Working1!F61","v":"423 = 3² x 47"}]
[{"$f":"Working1!E72","v":""},{"$f":"Working1!E88","v":""},{"$f":"Working1!E56","v":""}]
[{"$f":"Working1!E73","v":""},{"$f":"Working1!E89","v":""},{"$f":"Working1!E57","v":""}]
[{"$f":"Working1!E74","v":""},{"$f":"Working1!E90","v":""},{"$f":"Working1!E58","v":""}]
[{"$f":"Working1!E75","v":""},{"$f":"Working1!E91","v":""},{"$f":"Working1!E59","v":""}]
[{"$f":"Working1!E76","v":""},{"$f":"Working1!E92","v":""},{"$f":"Working1!E60","v":""}]
[{"$f":"Working1!E77","v":""},{"$f":"Working1!E93","v":""},{"$f":"Working1!E61","v":""}]
[{"$f":"Working1!E78","v":""},{"$f":"Working1!E94","v":""},{"$f":"Working1!E62","v":""}]

{"sheet":"Working1","index":2,"n_rows":113,"n_cols":1006,"rows_kept":113,"cut":false,"hidden":true,"merged":[]}
[null,null,null,null,null,1,2,3,{"$f":"H1+1","v":4},{"$f":"I1+1","v":5},6,7,8,9,10,11,12,13,14,15,16,17,18,19,20,21,22,23,24,25,26,27,28,29,30,31,32,33,34,35,36,37,38,39,40,41,42,43,44,45,46,47,48,49,50,51,52,53,54,55,56,57,58,59,60,61,62,63,64,65,66,67,68,{"$f":"BU1+1","v":69},70,71,72,73,74,75,76,77,78,79,80,81,82,83,84,85,86,87,88,89,90,91,92,93,94,95,96,97,98,99,100,101,102,103,104,105,106,107,108,109,110,111,112,113,114,115,116,117,118,119,120,121,122,123,124,125,126,127,128,129,130,131,132,{"$f":"EG1+1","v":133},134,135,136,137,138,139,140,141,142,143,144,145,146,147,148,149,150,151,152,153,154,155,156,157,158,159,160,161,162,163,164,165,166,167,168,169,170,171,172,173,174,175,176,177,178,179,180,181,182,183,184,185,186,187,188,189,190,191,192,193,194,195,196,{"$f":"GS1+1","v":197},198,199,200,201,202,203,204,205,206,207,208,209,210,211,212,213,214,215,216,217,218,219,220,221,222,223,224,225,226,227,228,229,230,231,232,233,234,235,236,237,238,239,240,241,242,243,244,245,246,247,248,249,250,251,252,253,254,255,256,257,258,259,260,{"$f":"JE1+1","v":261},262,263,264,265,266,267,268,269,270,271,272,273,274,275,276,277,278,279,280,281,282,283,284,285,286,287,288,289,290,291,292,293,294,295,296,297,298,299,300,301,302,303,304,305,306,307,308,309,310,311,312,313,314,315,316,317,318,319,320,321,322,323,324,{"$f":"LQ1+1","v":325},326,327,328,329,330,331,332,333,334,335,336,337,338,339,340,341,342,343,344,345,346,347,348,349,350,351,352,353,354,355,356,357,358,359,360,361,362,363,364,365,366,367,368,369,370,371,372,373,374,375,376,377,378,379,380,381,382,383,384,385,386,387,388,{"$f":"OC1+1","v":389},390,391,392,393,394,395,396,397,398,399,400,401,402,403,404,405,406,407,408,409,410,411,412,413,414,415,416,417,418,419,420,421,422,423,424,425,426,427,428,429,430,431,432,433,434,435,436,437,438,439,440,441,442,443,444,445,446,447,448,449,450,451,452,{"$f":"QO1+1","v":453},454,455,456,457,458,459,460,461,462,463,464,465,466,467,468,469,470,471,472,473,474,475,476,477,478,479,480,481,482,483,484,485,486,487,488,489,490,491,492,493,494,495,496,497,498,499,500,501,502,503,504,505,506,507,508,509,510,511,512,513,514,515,516,{"$f":"TA1+1","v":517},518,519,520,521,522,523,524,525,526,527,528,529,530,531,532,533,534,535,536,537,538,539,540,541,542,543,544,545,546,547,548,549,550,551,552,553,554,555,556,557,558,559,560,561,562,563,564,565,566,567,568,569,570,571,572,573,574,575,576,577,578,579,580,{"$f":"VM1+1","v":581},582,583,584,585,586,587,588,589,590,591,592,593,594,595,596,597,598,599,600,601,602,603,604,605,606,607,608,609,610,611,612,613,614,615,616,617,618,619,620,621,622,623,624,625,626,627,628,629,630,631,632,633,634,635,636,637,638,639,640,641,642,643,644,{"$f":"XY1+1","v":645},646,647,648,649,650,651,652,653,654,655,656,657,658,659,660,661,662,663,664,665,666,667,668,669,670,671,672,673,674,675,676,677,678,679,680,681,682,683,684,685,686,687,688,689,690,691,692,693,694,695,696,697,698,699,700,701,702,703,704,705,706,707,708,{"$f":"AAK1+1","v":709},710,711,712,713,714,715,716,717,718,719,720,721,722,723,724,725,726,727,728,729,730,731,732,733,734,735,736,737,738,739,740,741,742,743,744,745,746,747,748,749,750,751,752,753,754,755,756,757,758,759,760,761,762,763,764,765,766,767,768,769,770,771,772,{"$f":"ACW1+1","v":773},774,775,776,777,778,779,780,781,782,783,784,785,786,787,788,789,790,791,792,793,794,795,796,797,798,799,800,801,802,803,804,805,806,807,808,809,810,811,812,813,814,815,816,817,818,819,820,821,822,823,824,825,826,827,828,829,830,831,832,833,834,835,836,{"$f":"AFI1+1","v":837},838,839,840,841,842,843,844,845,846,847,848,849,850,851,852,853,854,855,856,857,858,859,860,861,862,863,864,865,866,867,868,869,870,871,872,873,874,875,876,877,878,879,880,881,882,883,884,885,886,887,888,889,890,891,892,893,894,895,896,897,898,899,900,{"$f":"AHU1+1","v":901},902,903,904,905,906,907,908,909,910,911,912,913,914,915,916,917,918,919,920,921,922,923,924,925,926,927,928,929,930,931,932,933,934,935,936,937,938,939,940,941,942,943,944,945,946,947,948,949,950,951,952,953,954,955,956,957,958,959,960,961,962,963,964,{"$f":"AKG1+1","v":965},966,967,968,969,970,971,972,973,974,975,976,977,978,979,980,981,982,983,984,985,986,987,988,989,990,991,992,993,994,995,996,997,998,999,1000]
[null,null,null,null,null,{"$f":"IF(F4=\"\",\"\",\" x \"&F4)","v":" x 2²"},{"$f":"IF(G4=\"\",\"\",\" x \")&G4","v":" x 3²"},{"$f":"IF(H4=\"\",\"\",\" x \")&H4","v":" x 5"},"","","","","","","","","","","","","","","","","","","","","","","","","","","","","","","","","","","","","","","","","","","","","","","","","","","","","","","","","","","","","","","",{"$f":"IF(BT4=\"\",\"\",\" x \")&BT4","v":""},"","","","","","","","","","","","","","","","","","","","","","","","","","","","","","","","","","","","","","","","","","","","","","","","","","","","","","","","","","","","","","","",{"$f":"IF(EF4=\"\",\"\",\" x \")&EF4","v":""},"","","","","","","","","","","","","","","","","","","","","","","","","","","","","","","","","","","","","","","","","","","","","","","","","","","","","","","","","","","","","","","",{"$f":"IF(GR4=\"\",\"\",\" x \")&GR4","v":""},"","","","","","","","","","","","","","","","","","","","","","","","","","","","","","","","","","","","","","","","","","","","","","","","","","","","","","","","","","","","","","","",{"$f":"IF(JD4=\"\",\"\",\" x \")&JD4","v":""},"","","","","","","","","","","","","","","","","","","","","","","","","","","","","","","","","","","","","","","","","","","","","","","","","","","","","","","","","","","","","","","",{"$f":"IF(LP4=\"\",\"\",\" x \")&LP4","v":""},"","","","","","","","","","","","","","","","","","","","","","","","","","","","","","","","","","","","","","","","","","","","","","","","","","","","","","","","","","","","","","","",{"$f":"IF(OB4=\"\",\"\",\" x \")&OB4","v":""},"","","","","","","","","","","","","","","","","","","","","","","","","","","","","","","","","","","","","","","","","","","","","","","","","","","","","","","","","","","","","","","",{"$f":"IF(QN4=\"\",\"\",\" x \")&QN4","v":""},"","","","","","","","","","","","","","","","","","","","","","","","","","","","","","","","","","","","","","","","","","","","","","","","","","","","","","","","","","","","","","","",{"$f":"IF(SZ4=\"\",\"\",\" x \")&SZ4","v":""},"","","","","","","","","","","","","","","","","","","","","","","","","","","","","","","","","","","","","","","","","","","","","","","","","","","","","","","","","","","","","","","",{"$f":"IF(VL4=\"\",\"\",\" x \")&VL4","v":""},"","","","","","","","","","","","","","","","","","","","","","","","","","","","","","","","","","","","","","","","","","","","","","","","","","","","","","","","","","","","","","","",{"$f":"IF(XX4=\"\",\"\",\" x \")&XX4","v":""},"","","","","","","","","","","","","","","","","","","","","","","","","","","","","","","","","","","","","","","","","","","","","","","","","","","","","","","","","","","","","","","",{"$f":"IF(AAJ4=\"\",\"\",\" x \")&AAJ4","v":""},"","","","","","","","","","","","","","","","","","","","","","","","","","","","","","","","","","","","","","","","","","","","","","","","","","","","","","","","","","","","","","","",{"$f":"IF(ACV4=\"\",\"\",\" x \")&ACV4","v":""},"","","","","","","","","","","","","","","","","","","","","","","","","","","","","","","","","","","","","","","","","","","","","","","","","","","","","","","","","","","","","","","",{"$f":"IF(AFH4=\"\",\"\",\" x \")&AFH4","v":""},"","","","","","","","","","","","","","","","","","","","","","","","","","","","","","","","","","","","","","","","","","","","","","","","","","","","","","","","","","","","","","","",{"$f":"IF(AHT4=\"\",\"\",\" x \")&AHT4","v":""},"","","","","","","","","","","","","","","","","","","","","","","","","","","","","","","","","","","","","","","","","","","","","","","","","","","","","","","","","","","","","","","",{"$f":"IF(AKF4=\"\",\"\",\" x \")&AKF4","v":""},"","","","","","","","","","","","","","","","","","","","","","","","","","","","","","","","","","","","",""]
[null,null,null,null,null,{"$f":"SUM($F$5:F5)","v":2},{"$f":"SUM($F$5:G5)","v":4},{"$f":"SUM($F$5:H5)","v":5},{"$f":"SUM($F$5:I5)","v":5},{"$f":"SUM($F$5:J5)","v":5},{"$f":"SUM($F$5:K5)","v":5},{"$f":"SUM($F$5:L5)","v":5},{"$f":"SUM($F$5:M5)","v":5},{"$f":"SUM($F$5:N5)","v":5},{"$f":"SUM($F$5:O5)","v":5},{"$f":"SUM($F$5:P5)","v":5},{"$f":"SUM($F$5:Q5)","v":5},{"$f":"SUM($F$5:R5)","v":5},{"$f":"SUM($F$5:S5)","v":5},{"$f":"SUM($F$5:T5)","v":5},{"$f":"SUM($F$5:U5)","v":5},{"$f":"SUM($F$5:V5)","v":5},{"$f":"SUM($F$5:W5)","v":5},{"$f":"SUM($F$5:X5)","v":5},{"$f":"SUM($F$5:Y5)","v":5},{"$f":"SUM($F$5:Z5)","v":5},{"$f":"SUM($F$5:AA5)","v":5},{"$f":"SUM($F$5:AB5)","v":5},{"$f":"SUM($F$5:AC5)","v":5},{"$f":"SUM($F$5:AD5)","v":5},{"$f":"SUM($F$5:AE5)","v":5},{"$f":"SUM($F$5:AF5)","v":5},{"$f":"SUM($F$5:AG5)","v":5},{"$f":"SUM($F$5:AH5)","v":5},{"$f":"SUM($F$5:AI5)","v":5},{"$f":"SUM($F$5:AJ5)","v":5},{"$f":"SUM($F$5:AK5)","v":5},{"$f":"SUM($F$5:AL5)","v":5},{"$f":"SUM($F$5:AM5)","v":5},{"$f":"SUM($F$5:AN5)","v":5},{"$f":"SUM($F$5:AO5)","v":5},{"$f":"SUM($F$5:AP5)","v":5},{"$f":"SUM($F$5:AQ5)","v":5},{"$f":"SUM($F$5:AR5)","v":5},{"$f":"SUM($F$5:AS5)","v":5},{"$f":"SUM($F$5:AT5)","v":5},{"$f":"SUM($F$5:AU5)","v":5},{"$f":"SUM($F$5:AV5)","v":5},{"$f":"SUM($F$5:AW5)","v":5},{"$f":"SUM($F$5:AX5)","v":5},{"$f":"SUM($F$5:AY5)","v":5},{"$f":"SUM($F$5:AZ5)","v":5},{"$f":"SUM($F$5:BA5)","v":5},{"$f":"SUM($F$5:BB5)","v":5},{"$f":"SUM($F$5:BC5)","v":5},{"$f":"SUM($F$5:BD5)","v":5},{"$f":"SUM($F$5:BE5)","v":5},{"$f":"SUM($F$5:BF5)","v":5},{"$f":"SUM($F$5:BG5)","v":5},{"$f":"SUM($F$5:BH5)","v":5},{"$f":"SUM($F$5:BI5)","v":5},{"$f":"SUM($F$5:BJ5)","v":5},{"$f":"SUM($F$5:BK5)","v":5},{"$f":"SUM($F$5:BL5)","v":5},{"$f":"SUM($F$5:BM5)","v":5},{"$f":"SUM($F$5:BN5)","v":5},{"$f":"SUM($F$5:BO5)","v":5},{"$f":"SUM($F$5:BP5)","v":5},{"$f":"SUM($F$5:BQ5)","v":5},{"$f":"SUM($F$5:BR5)","v":5},{"$f":"SUM($F$5:BS5)","v":5},{"$f":"SUM($F$5:BT5)","v":5},{"$f":"SUM($F$5:BU5)","v":5},{"$f":"SUM($F$5:BV5)","v":5},{"$f":"SUM($F$5:BW5)","v":5},{"$f":"SUM($F$5:BX5)","v":5},{"$f":"SUM($F$5:BY5)","v":5},{"$f":"SUM($F$5:BZ5)","v":5},{"$f":"SUM($F$5:CA5)","v":5},{"$f":"SUM($F$5:CB5)","v":5},{"$f":"SUM($F$5:CC5)","v":5},{"$f":"SUM($F$5:CD5)","v":5},{"$f":"SUM($F$5:CE5)","v":5},{"$f":"SUM($F$5:CF5)","v":5},{"$f":"SUM($F$5:CG5)","v":5},{"$f":"SUM($F$5:CH5)","v":5},{"$f":"SUM($F$5:CI5)","v":5},{"$f":"SUM($F$5:CJ5)","v":5},{"$f":"SUM($F$5:CK5)","v":5},{"$f":"SUM($F$5:CL5)","v":5},{"$f":"SUM($F$5:CM5)","v":5},{"$f":"SUM($F$5:CN5)","v":5},{"$f":"SUM($F$5:CO5)","v":5},{"$f":"SUM($F$5:CP5)","v":5},{"$f":"SUM($F$5:CQ5)","v":5},{"$f":"SUM($F$5:CR5)","v":5},{"$f":"SUM($F$5:CS5)","v":5},{"$f":"SUM($F$5:CT5)","v":5},{"$f":"SUM($F$5:CU5)","v":5},{"$f":"SUM($F$5:CV5)","v":5},{"$f":"SUM($F$5:CW5)","v":5},{"$f":"SUM($F$5:CX5)","v":5},{"$f":"SUM($F$5:CY5)","v":5},{"$f":"SUM($F$5:CZ5)","v":5},{"$f":"SUM($F$5:DA5)","v":5},{"$f":"SUM($F$5:DB5)","v":5},{"$f":"SUM($F$5:DC5)","v":5},{"$f":"SUM($F$5:DD5)","v":5},{"$f":"SUM($F$5:DE5)","v":5},{"$f":"SUM($F$5:DF5)","v":5},{"$f":"SUM($F$5:DG5)","v":5},{"$f":"SUM($F$5:DH5)","v":5},{"$f":"SUM($F$5:DI5)","v":5},{"$f":"SUM($F$5:DJ5)","v":5},{"$f":"SUM($F$5:DK5)","v":5},{"$f":"SUM($F$5:DL5)","v":5},{"$f":"SUM($F$5:DM5)","v":5},{"$f":"SUM($F$5:DN5)","v":5},{"$f":"SUM($F$5:DO5)","v":5},{"$f":"SUM($F$5:DP5)","v":5},{"$f":"SUM($F$5:DQ5)","v":5},{"$f":"SUM($F$5:DR5)","v":5},{"$f":"SUM($F$5:DS5)","v":5},{"$f":"SUM($F$5:DT5)","v":5},{"$f":"SUM($F$5:DU5)","v":5},{"$f":"SUM($F$5:DV5)","v":5},{"$f":"SUM($F$5:DW5)","v":5},{"$f":"SUM($F$5:DX5)","v":5},{"$f":"SUM($F$5:DY5)","v":5},{"$f":"SUM($F$5:DZ5)","v":5},{"$f":"SUM($F$5:EA5)","v":5},{"$f":"SUM($F$5:EB5)","v":5},{"$f":"SUM($F$5:EC5)","v":5},{"$f":"SUM($F$5:ED5)","v":5},{"$f":"SUM($F$5:EE5)","v":5},{"$f":"SUM($F$5:EF5)","v":5},{"$f":"SUM($F$5:EG5)","v":5},{"$f":"SUM($F$5:EH5)","v":5},{"$f":"SUM($F$5:EI5)","v":5},{"$f":"SUM($F$5:EJ5)","v":5},{"$f":"SUM($F$5:EK5)","v":5},{"$f":"SUM($F$5:EL5)","v":5},{"$f":"SUM($F$5:EM5)","v":5},{"$f":"SUM($F$5:EN5)","v":5},{"$f":"SUM($F$5:EO5)","v":5},{"$f":"SUM($F$5:EP5)","v":5},{"$f":"SUM($F$5:EQ5)","v":5},{"$f":"SUM($F$5:ER5)","v":5},{"$f":"SUM($F$5:ES5)","v":5},{"$f":"SUM($F$5:ET5)","v":5},{"$f":"SUM($F$5:EU5)","v":5},{"$f":"SUM($F$5:EV5)","v":5},{"$f":"SUM($F$5:EW5)","v":5},{"$f":"SUM($F$5:EX5)","v":5},{"$f":"SUM($F$5:EY5)","v":5},{"$f":"SUM($F$5:EZ5)","v":5},{"$f":"SUM($F$5:FA5)","v":5},{"$f":"SUM($F$5:FB5)","v":5},{"$f":"SUM($F$5:FC5)","v":5},{"$f":"SUM($F$5:FD5)","v":5},{"$f":"SUM($F$5:FE5)","v":5},{"$f":"SUM($F$5:FF5)","v":5},{"$f":"SUM($F$5:FG5)","v":5},{"$f":"SUM($F$5:FH5)","v":5},{"$f":"SUM($F$5:FI5)","v":5},{"$f":"SUM($F$5:FJ5)","v":5},{"$f":"SUM($F$5:FK5)","v":5},{"$f":"SUM($F$5:FL5)","v":5},{"$f":"SUM($F$5:FM5)","v":5},{"$f":"SUM($F$5:FN5)","v":5},{"$f":"SUM($F$5:FO5)","v":5},{"$f":"SUM($F$5:FP5)","v":5},{"$f":"SUM($F$5:FQ5)","v":5},{"$f":"SUM($F$5:FR5)","v":5},{"$f":"SUM($F$5:FS5)","v":5},{"$f":"SUM($F$5:FT5)","v":5},{"$f":"SUM($F$5:FU5)","v":5},{"$f":"SUM($F$5:FV5)","v":5},{"$f":"SUM($F$5:FW5)","v":5},{"$f":"SUM($F$5:FX5)","v":5},{"$f":"SUM($F$5:FY5)","v":5},{"$f":"SUM($F$5:FZ5)","v":5},{"$f":"SUM($F$5:GA5)","v":5},{"$f":"SUM($F$5:GB5)","v":5},{"$f":"SUM($F$5:GC5)","v":5},{"$f":"SUM($F$5:GD5)","v":5},{"$f":"SUM($F$5:GE5)","v":5},{"$f":"SUM($F$5:GF5)","v":5},{"$f":"SUM($F$5:GG5)","v":5},{"$f":"SUM($F$5:GH5)","v":5},{"$f":"SUM($F$5:GI5)","v":5},{"$f":"SUM($F$5:GJ5)","v":5},{"$f":"SUM($F$5:GK5)","v":5},{"$f":"SUM($F$5:GL5)","v":5},{"$f":"SUM($F$5:GM5)","v":5},{"$f":"SUM($F$5:GN5)","v":5},{"$f":"SUM($F$5:GO5)","v":5},{"$f":"SUM($F$5:GP5)","v":5},{"$f":"SUM($F$5:GQ5)","v":5},{"$f":"SUM($F$5:GR5)","v":5},{"$f":"SUM($F$5:GS5)","v":5},{"$f":"SUM($F$5:GT5)","v":5},{"$f":"SUM($F$5:GU5)","v":5},{"$f":"SUM($F$5:GV5)","v":5},{"$f":"SUM($F$5:GW5)","v":5},{"$f":"SUM($F$5:GX5)","v":5},{"$f":"SUM($F$5:GY5)","v":5},{"$f":"SUM($F$5:GZ5)","v":5},{"$f":"SUM($F$5:HA5)","v":5},{"$f":"SUM($F$5:HB5)","v":5},{"$f":"SUM($F$5:HC5)","v":5},{"$f":"SUM($F$5:HD5)","v":5},{"$f":"SUM($F$5:HE5)","v":5},{"$f":"SUM($F$5:HF5)","v":5},{"$f":"SUM($F$5:HG5)","v":5},{"$f":"SUM($F$5:HH5)","v":5},{"$f":"SUM($F$5:HI5)","v":5},{"$f":"SUM($F$5:HJ5)","v":5},{"$f":"SUM($F$5:HK5)","v":5},{"$f":"SUM($F$5:HL5)","v":5},{"$f":"SUM($F$5:HM5)","v":5},{"$f":"SUM($F$5:HN5)","v":5},{"$f":"SUM($F$5:HO5)","v":5},{"$f":"SUM($F$5:HP5)","v":5},{"$f":"SUM($F$5:HQ5)","v":5},{"$f":"SUM($F$5:HR5)","v":5},{"$f":"SUM($F$5:HS5)","v":5},{"$f":"SUM($F$5:HT5)","v":5},{"$f":"SUM($F$5:HU5)","v":5},{"$f":"SUM($F$5:HV5)","v":5},{"$f":"SUM($F$5:HW5)","v":5},{"$f":"SUM($F$5:HX5)","v":5},{"$f":"SUM($F$5:HY5)","v":5},{"$f":"SUM($F$5:HZ5)","v":5},{"$f":"SUM($F$5:IA5)","v":5},{"$f":"SUM($F$5:IB5)","v":5},{"$f":"SUM($F$5:IC5)","v":5},{"$f":"SUM($F$5:ID5)","v":5},{"$f":"SUM($F$5:IE5)","v":5},{"$f":"SUM($F$5:IF5)","v":5},{"$f":"SUM($F$5:IG5)","v":5},{"$f":"SUM($F$5:IH5)","v":5},{"$f":"SUM($F$5:II5)","v":5},{"$f":"SUM($F$5:IJ5)","v":5},{"$f":"SUM($F$5:IK5)","v":5},{"$f":"SUM($F$5:IL5)","v":5},{"$f":"SUM($F$5:IM5)","v":5},{"$f":"SUM($F$5:IN5)","v":5},{"$f":"SUM($F$5:IO5)","v":5},{"$f":"SUM($F$5:IP5)","v":5},{"$f":"SUM($F$5:IQ5)","v":5},{"$f":"SUM($F$5:IR5)","v":5},{"$f":"SUM($F$5:IS5)","v":5},{"$f":"SUM($F$5:IT5)","v":5},{"$f":"SUM($F$5:IU5)","v":5},{"$f":"SUM($F$5:IV5)","v":5},{"$f":"SUM($F$5:IW5)","v":5},{"$f":"SUM($F$5:IX5)","v":5},{"$f":"SUM($F$5:IY5)","v":5},{"$f":"SUM($F$5:IZ5)","v":5},{"$f":"SUM($F$5:JA5)","v":5},{"$f":"SUM($F$5:JB5)","v":5},{"$f":"SUM($F$5:JC5)","v":5},{"$f":"SUM($F$5:JD5)","v":5},{"$f":"SUM($F$5:JE5)","v":5},{"$f":"SUM($F$5:JF5)","v":5},{"$f":"SUM($F$5:JG5)","v":5},{"$f":"SUM($F$5:JH5)","v":5},{"$f":"SUM($F$5:JI5)","v":5},{"$f":"SUM($F$5:JJ5)","v":5},{"$f":"SUM($F$5:JK5)","v":5},{"$f":"SUM($F$5:JL5)","v":5},{"$f":"SUM($F$5:JM5)","v":5},{"$f":"SUM($F$5:JN5)","v":5},{"$f":"SUM($F$5:JO5)","v":5},{"$f":"SUM($F$5:JP5)","v":5},{"$f":"SUM($F$5:JQ5)","v":5},{"$f":"SUM($F$5:JR5)","v":5},{"$f":"SUM($F$5:JS5)","v":5},{"$f":"SUM($F$5:JT5)","v":5},{"$f":"SUM($F$5:JU5)","v":5},{"$f":"SUM($F$5:JV5)","v":5},{"$f":"SUM($F$5:JW5)","v":5},{"$f":"SUM($F$5:JX5)","v":5},{"$f":"SUM($F$5:JY5)","v":5},{"$f":"SUM($F$5:JZ5)","v":5},{"$f":"SUM($F$5:KA5)","v":5},{"$f":"SUM($F$5:KB5)","v":5},{"$f":"SUM($F$5:KC5)","v":5},{"$f":"SUM($F$5:KD5)","v":5},{"$f":"SUM($F$5:KE5)","v":5},{"$f":"SUM($F$5:KF5)","v":5},{"$f":"SUM($F$5:KG5)","v":5},{"$f":"SUM($F$5:KH5)","v":5},{"$f":"SUM($F$5:KI5)","v":5},{"$f":"SUM($F$5:KJ5)","v":5},{"$f":"SUM($F$5:KK5)","v":5},{"$f":"SUM($F$5:KL5)","v":5},{"$f":"SUM($F$5:KM5)","v":5},{"$f":"SUM($F$5:KN5)","v":5},{"$f":"SUM($F$5:KO5)","v":5},{"$f":"SUM($F$5:KP5)","v":5},{"$f":"SUM($F$5:KQ5)","v":5},{"$f":"SUM($F$5:KR5)","v":5},{"$f":"SUM($F$5:KS5)","v":5},{"$f":"SUM($F$5:KT5)","v":5},{"$f":"SUM($F$5:KU5)","v":5},{"$f":"SUM($F$5:KV5)","v":5},{"$f":"SUM($F$5:KW5)","v":5},{"$f":"SUM($F$5:KX5)","v":5},{"$f":"SUM($F$5:KY5)","v":5},{"$f":"SUM($F$5:KZ5)","v":5},{"$f":"SUM($F$5:LA5)","v":5},{"$f":"SUM($F$5:LB5)","v":5},{"$f":"SUM($F$5:LC5)","v":5},{"$f":"SUM($F$5:LD5)","v":5},{"$f":"SUM($F$5:LE5)","v":5},{"$f":"SUM($F$5:LF5)","v":5},{"$f":"SUM($F$5:LG5)","v":5},{"$f":"SUM($F$5:LH5)","v":5},{"$f":"SUM($F$5:LI5)","v":5},{"$f":"SUM($F$5:LJ5)","v":5},{"$f":"SUM($F$5:LK5)","v":5},{"$f":"SUM($F$5:LL5)","v":5},{"$f":"SUM($F$5:LM5)","v":5},{"$f":"SUM($F$5:LN5)","v":5},{"$f":"SUM($F$5:LO5)","v":5},{"$f":"SUM($F$5:LP5)","v":5},{"$f":"SUM($F$5:LQ5)","v":5},{"$f":"SUM($F$5:LR5)","v":5},{"$f":"SUM($F$5:LS5)","v":5},{"$f":"SUM($F$5:LT5)","v":5},{"$f":"SUM($F$5:LU5)","v":5},{"$f":"SUM($F$5:LV5)","v":5},{"$f":"SUM($F$5:LW5)","v":5},{"$f":"SUM($F$5:LX5)","v":5},{"$f":"SUM($F$5:LY5)","v":5},{"$f":"SUM($F$5:LZ5)","v":5},{"$f":"SUM($F$5:MA5)","v":5},{"$f":"SUM($F$5:MB5)","v":5},{"$f":"SUM($F$5:MC5)","v":5},{"$f":"SUM($F$5:MD5)","v":5},{"$f":"SUM($F$5:ME5)","v":5},{"$f":"SUM($F$5:MF5)","v":5},{"$f":"SUM($F$5:MG5)","v":5},{"$f":"SUM($F$5:MH5)","v":5},{"$f":"SUM($F$5:MI5)","v":5},{"$f":"SUM($F$5:MJ5)","v":5},{"$f":"SUM($F$5:MK5)","v":5},{"$f":"SUM($F$5:ML5)","v":5},{"$f":"SUM($F$5:MM5)","v":5},{"$f":"SUM($F$5:MN5)","v":5},{"$f":"SUM($F$5:MO5)","v":5},{"$f":"SUM($F$5:MP5)","v":5},{"$f":"SUM($F$5:MQ5)","v":5},{"$f":"SUM($F$5:MR5)","v":5},{"$f":"SUM($F$5:MS5)","v":5},{"$f":"SUM($F$5:MT5)","v":5},{"$f":"SUM($F$5:MU5)","v":5},{"$f":"SUM($F$5:MV5)","v":5},{"$f":"SUM($F$5:MW5)","v":5},{"$f":"SUM($F$5:MX5)","v":5},{"$f":"SUM($F$5:MY5)","v":5},{"$f":"SUM($F$5:MZ5)","v":5},{"$f":"SUM($F$5:NA5)","v":5},{"$f":"SUM($F$5:NB5)","v":5},{"$f":"SUM($F$5:NC5)","v":5},{"$f":"SUM($F$5:ND5)","v":5},{"$f":"SUM($F$5:NE5)","v":5},{"$f":"SUM($F$5:NF5)","v":5},{"$f":"SUM($F$5:NG5)","v":5},{"$f":"SUM($F$5:NH5)","v":5},{"$f":"SUM($F$5:NI5)","v":5},{"$f":"SUM($F$5:NJ5)","v":5},{"$f":"SUM($F$5:NK5)","v":5},{"$f":"SUM($F$5:NL5)","v":5},{"$f":"SUM($F$5:NM5)","v":5},{"$f":"SUM($F$5:NN5)","v":5},{"$f":"SUM($F$5:NO5)","v":5},{"$f":"SUM($F$5:NP5)","v":5},{"$f":"SUM($F$5:NQ5)","v":5},{"$f":"SUM($F$5:NR5)","v":5},{"$f":"SUM($F$5:NS5)","v":5},{"$f":"SUM($F$5:NT5)","v":5},{"$f":"SUM($F$5:NU5)","v":5},{"$f":"SUM($F$5:NV5)","v":5},{"$f":"SUM($F$5:NW5)","v":5},{"$f":"SUM($F$5:NX5)","v":5},{"$f":"SUM($F$5:NY5)","v":5},{"$f":"SUM($F$5:NZ5)","v":5},{"$f":"SUM($F$5:OA5)","v":5},{"$f":"SUM($F$5:OB5)","v":5},{"$f":"SUM($F$5:OC5)","v":5},{"$f":"SUM($F$5:OD5)","v":5},{"$f":"SUM($F$5:OE5)","v":5},{"$f":"SUM($F$5:OF5)","v":5},{"$f":"SUM($F$5:OG5)","v":5},{"$f":"SUM($F$5:OH5)","v":5},{"$f":"SUM($F$5:OI5)","v":5},{"$f":"SUM($F$5:OJ5)","v":5},{"$f":"SUM($F$5:OK5)","v":5},{"$f":"SUM($F$5:OL5)","v":5},{"$f":"SUM($F$5:OM5)","v":5},{"$f":"SUM($F$5:ON5)","v":5},{"$f":"SUM($F$5:OO5)","v":5},{"$f":"SUM($F$5:OP5)","v":5},{"$f":"SUM($F$5:OQ5)","v":5},{"$f":"SUM($F$5:OR5)","v":5},{"$f":"SUM($F$5:OS5)","v":5},{"$f":"SUM($F$5:OT5)","v":5},{"$f":"SUM($F$5:OU5)","v":5},{"$f":"SUM($F$5:OV5)","v":5},{"$f":"SUM($F$5:OW5)","v":5},{"$f":"SUM($F$5:OX5)","v":5},{"$f":"SUM($F$5:OY5)","v":5},{"$f":"SUM($F$5:OZ5)","v":5},{"$f":"SUM($F$5:PA5)","v":5},{"$f":"SUM($F$5:PB5)","v":5},{"$f":"SUM($F$5:PC5)","v":5},{"$f":"SUM($F$5:PD5)","v":5},{"$f":"SUM($F$5:PE5)","v":5},{"$f":"SUM($F$5:PF5)","v":5},{"$f":"SUM($F$5:PG5)","v":5},{"$f":"SUM($F$5:PH5)","v":5},{"$f":"SUM($F$5:PI5)","v":5},{"$f":"SUM($F$5:PJ5)","v":5},{"$f":"SUM($F$5:PK5)","v":5},{"$f":"SUM($F$5:PL5)","v":5},{"$f":"SUM($F$5:PM5)","v":5},{"$f":"SUM($F$5:PN5)","v":5},{"$f":"SUM($F$5:PO5)","v":5},{"$f":"SUM($F$5:PP5)","v":5},{"$f":"SUM($F$5:PQ5)","v":5},{"$f":"SUM($F$5:PR5)","v":5},{"$f":"SUM($F$5:PS5)","v":5},{"$f":"SUM($F$5:PT5)","v":5},{"$f":"SUM($F$5:PU5)","v":5},{"$f":"SUM($F$5:PV5)","v":5},{"$f":"SUM($F$5:PW5)","v":5},{"$f":"SUM($F$5:PX5)","v":5},{"$f":"SUM($F$5:PY5)","v":5},{"$f":"SUM($F$5:PZ5)","v":5},{"$f":"SUM($F$5:QA5)","v":5},{"$f":"SUM($F$5:QB5)","v":5},{"$f":"SUM($F$5:QC5)","v":5},{"$f":"SUM($F$5:QD5)","v":5},{"$f":"SUM($F$5:QE5)","v":5},{"$f":"SUM($F$5:QF5)","v":5},{"$f":"SUM($F$5:QG5)","v":5},{"$f":"SUM($F$5:QH5)","v":5},{"$f":"SUM($F$5:QI5)","v":5},{"$f":"SUM($F$5:QJ5)","v":5},{"$f":"SUM($F$5:QK5)","v":5},{"$f":"SUM($F$5:QL5)","v":5},{"$f":"SUM($F$5:QM5)","v":5},{"$f":"SUM($F$5:QN5)","v":5},{"$f":"SUM($F$5:QO5)","v":5},{"$f":"SUM($F$5:QP5)","v":5},{"$f":"SUM($F$5:QQ5)","v":5},{"$f":"SUM($F$5:QR5)","v":5},{"$f":"SUM($F$5:QS5)","v":5},{"$f":"SUM($F$5:QT5)","v":5},{"$f":"SUM($F$5:QU5)","v":5},{"$f":"SUM($F$5:QV5)","v":5},{"$f":"SUM($F$5:QW5)","v":5},{"$f":"SUM($F$5:QX5)","v":5},{"$f":"SUM($F$5:QY5)","v":5},{"$f":"SUM($F$5:QZ5)","v":5},{"$f":"SUM($F$5:RA5)","v":5},{"$f":"SUM($F$5:RB5)","v":5},{"$f":"SUM($F$5:RC5)","v":5},{"$f":"SUM($F$5:RD5)","v":5},{"$f":"SUM($F$5:RE5)","v":5},{"$f":"SUM($F$5:RF5)","v":5},{"$f":"SUM($F$5:RG5)","v":5},{"$f":"SUM($F$5:RH5)","v":5},{"$f":"SUM($F$5:RI5)","v":5},{"$f":"SUM($F$5:RJ5)","v":5},{"$f":"SUM($F$5:RK5)","v":5},{"$f":"SUM($F$5:RL5)","v":5},{"$f":"SUM($F$5:RM5)","v":5},{"$f":"SUM($F$5:RN5)","v":5},{"$f":"SUM($F$5:RO5)","v":5},{"$f":"SUM($F$5:RP5)","v":5},{"$f":"SUM($F$5:RQ5)","v":5},{"$f":"SUM($F$5:RR5)","v":5},{"$f":"SUM($F$5:RS5)","v":5},{"$f":"SUM($F$5:RT5)","v":5},{"$f":"SUM($F$5:RU5)","v":5},{"$f":"SUM($F$5:RV5)","v":5},{"$f":"SUM($F$5:RW5)","v":5},{"$f":"SUM($F$5:RX5)","v":5},{"$f":"SUM($F$5:RY5)","v":5},{"$f":"SUM($F$5:RZ5)","v":5},{"$f":"SUM($F$5:SA5)","v":5},{"$f":"SUM($F$5:SB5)","v":5},{"$f":"SUM($F$5:SC5)","v":5},{"$f":"SUM($F$5:SD5)","v":5},{"$f":"SUM($F$5:SE5)","v":5},{"$f":"SUM($F$5:SF5)","v":5},{"$f":"SUM($F$5:SG5)","v":5},{"$f":"SUM($F$5:SH5)","v":5},{"$f":"SUM($F$5:SI5)","v":5},{"$f":"SUM($F$5:SJ5)","v":5},{"$f":"SUM($F$5:SK5)","v":5},{"$f":"SUM($F$5:SL5)","v":5},{"$f":"SUM($F$5:SM5)","v":5},{"$f":"SUM($F$5:SN5)","v":5},{"$f":"SUM($F$5:SO5)","v":5},{"$f":"SUM($F$5:SP5)","v":5},{"$f":"SUM($F$5:SQ5)","v":5},{"$f":"SUM($F$5:SR5)","v":5},{"$f":"SUM($F$5:SS5)","v":5},{"$f":"SUM($F$5:ST5)","v":5},{"$f":"SUM($F$5:SU5)","v":5},{"$f":"SUM($F$5:SV5)","v":5},{"$f":"SUM($F$5:SW5)","v":5},{"$f":"SUM($F$5:SX5)","v":5},{"$f":"SUM($F$5:SY5)","v":5},{"$f":"SUM($F$5:SZ5)","v":5},{"$f":"SUM($F$5:TA5)","v":5},{"$f":"SUM($F$5:TB5)","v":5},{"$f":"SUM($F$5:TC5)","v":5},{"$f":"SUM($F$5:TD5)","v":5},{"$f":"SUM($F$5:TE5)","v":5},{"$f":"SUM($F$5:TF5)","v":5},{"$f":"SUM($F$5:TG5)","v":5},{"$f":"SUM($F$5:TH5)","v":5},{"$f":"SUM($F$5:TI5)","v":5},{"$f":"SUM($F$5:TJ5)","v":5},{"$f":"SUM($F$5:TK5)","v":5},{"$f":"SUM($F$5:TL5)","v":5},{"$f":"SUM($F$5:TM5)","v":5},{"$f":"SUM($F$5:TN5)","v":5},{"$f":"SUM($F$5:TO5)","v":5},{"$f":"SUM($F$5:TP5)","v":5},{"$f":"SUM($F$5:TQ5)","v":5},{"$f":"SUM($F$5:TR5)","v":5},{"$f":"SUM($F$5:TS5)","v":5},{"$f":"SUM($F$5:TT5)","v":5},{"$f":"SUM($F$5:TU5)","v":5},{"$f":"SUM($F$5:TV5)","v":5},{"$f":"SUM($F$5:TW5)","v":5},{"$f":"SUM($F$5:TX5)","v":5},{"$f":"SUM($F$5:TY5)","v":5},{"$f":"SUM($F$5:TZ5)","v":5},{"$f":"SUM($F$5:UA5)","v":5},{"$f":"SUM($F$5:UB5)","v":5},{"$f":"SUM($F$5:UC5)","v":5},{"$f":"SUM($F$5:UD5)","v":5},{"$f":"SUM($F$5:UE5)","v":5},{"$f":"SUM($F$5:UF5)","v":5},{"$f":"SUM($F$5:UG5)","v":5},{"$f":"SUM($F$5:UH5)","v":5},{"$f":"SUM($F$5:UI5)","v":5},{"$f":"SUM($F$5:UJ5)","v":5},{"$f":"SUM($F$5:UK5)","v":5},{"$f":"SUM($F$5:UL5)","v":5},{"$f":"SUM($F$5:UM5)","v":5},{"$f":"SUM($F$5:UN5)","v":5},{"$f":"SUM($F$5:UO5)","v":5},{"$f":"SUM($F$5:UP5)","v":5},{"$f":"SUM($F$5:UQ5)","v":5},{"$f":"SUM($F$5:UR5)","v":5},{"$f":"SUM($F$5:US5)","v":5},{"$f":"SUM($F$5:UT5)","v":5},{"$f":"SUM($F$5:UU5)","v":5},{"$f":"SUM($F$5:UV5)","v":5},{"$f":"SUM($F$5:UW5)","v":5},{"$f":"SUM($F$5:UX5)","v":5},{"$f":"SUM($F$5:UY5)","v":5},{"$f":"SUM($F$5:UZ5)","v":5},{"$f":"SUM($F$5:VA5)","v":5},{"$f":"SUM($F$5:VB5)","v":5},{"$f":"SUM($F$5:VC5)","v":5},{"$f":"SUM($F$5:VD5)","v":5},{"$f":"SUM($F$5:VE5)","v":5},{"$f":"SUM($F$5:VF5)","v":5},{"$f":"SUM($F$5:VG5)","v":5},{"$f":"SUM($F$5:VH5)","v":5},{"$f":"SUM($F$5:VI5)","v":5},{"$f":"SUM($F$5:VJ5)","v":5},{"$f":"SUM($F$5:VK5)","v":5},{"$f":"SUM($F$5:VL5)","v":5},{"$f":"SUM($F$5:VM5)","v":5},{"$f":"SUM($F$5:VN5)","v":5},{"$f":"SUM($F$5:VO5)","v":5},{"$f":"SUM($F$5:VP5)","v":5},{"$f":"SUM($F$5:VQ5)","v":5},{"$f":"SUM($F$5:VR5)","v":5},{"$f":"SUM($F$5:VS5)","v":5},{"$f":"SUM($F$5:VT5)","v":5},{"$f":"SUM($F$5:VU5)","v":5},{"$f":"SUM($F$5:VV5)","v":5},{"$f":"SUM($F$5:VW5)","v":5},{"$f":"SUM($F$5:VX5)","v":5},{"$f":"SUM($F$5:VY5)","v":5},{"$f":"SUM($F$5:VZ5)","v":5},{"$f":"SUM($F$5:WA5)","v":5},{"$f":"SUM($F$5:WB5)","v":5},{"$f":"SUM($F$5:WC5)","v":5},{"$f":"SUM($F$5:WD5)","v":5},{"$f":"SUM($F$5:WE5)","v":5},{"$f":"SUM($F$5:WF5)","v":5},{"$f":"SUM($F$5:WG5)","v":5},{"$f":"SUM($F$5:WH5)","v":5},{"$f":"SUM($F$5:WI5)","v":5},{"$f":"SUM($F$5:WJ5)","v":5},{"$f":"SUM($F$5:WK5)","v":5},{"$f":"SUM($F$5:WL5)","v":5},{"$f":"SUM($F$5:WM5)","v":5},{"$f":"SUM($F$5:WN5)","v":5},{"$f":"SUM($F$5:WO5)","v":5},{"$f":"SUM($F$5:WP5)","v":5},{"$f":"SUM($F$5:WQ5)","v":5},{"$f":"SUM($F$5:WR5)","v":5},{"$f":"SUM($F$5:WS5)","v":5},{"$f":"SUM($F$5:WT5)","v":5},{"$f":"SUM($F$5:WU5)","v":5},{"$f":"SUM($F$5:WV5)","v":5},{"$f":"SUM($F$5:WW5)","v":5},{"$f":"SUM($F$5:WX5)","v":5},{"$f":"SUM($F$5:WY5)","v":5},{"$f":"SUM($F$5:WZ5)","v":5},{"$f":"SUM($F$5:XA5)","v":5},{"$f":"SUM($F$5:XB5)","v":5},{"$f":"SUM($F$5:XC5)","v":5},{"$f":"SUM($F$5:XD5)","v":5},{"$f":"SUM($F$5:XE5)","v":5},{"$f":"SUM($F$5:XF5)","v":5},{"$f":"SUM($F$5:XG5)","v":5},{"$f":"SUM($F$5:XH5)","v":5},{"$f":"SUM($F$5:XI5)","v":5},{"$f":"SUM($F$5:XJ5)","v":5},{"$f":"SUM($F$5:XK5)","v":5},{"$f":"SUM($F$5:XL5)","v":5},{"$f":"SUM($F$5:XM5)","v":5},{"$f":"SUM($F$5:XN5)","v":5},{"$f":"SUM($F$5:XO5)","v":5},{"$f":"SUM($F$5:XP5)","v":5},{"$f":"SUM($F$5:XQ5)","v":5},{"$f":"SUM($F$5:XR5)","v":5},{"$f":"SUM($F$5:XS5)","v":5},{"$f":"SUM($F$5:XT5)","v":5},{"$f":"SUM($F$5:XU5)","v":5},{"$f":"SUM($F$5:XV5)","v":5},{"$f":"SUM($F$5:XW5)","v":5},{"$f":"SUM($F$5:XX5)","v":5},{"$f":"SUM($F$5:XY5)","v":5},{"$f":"SUM($F$5:XZ5)","v":5},{"$f":"SUM($F$5:YA5)","v":5},{"$f":"SUM($F$5:YB5)","v":5},{"$f":"SUM($F$5:YC5)","v":5},{"$f":"SUM($F$5:YD5)","v":5},{"$f":"SUM($F$5:YE5)","v":5},{"$f":"SUM($F$5:YF5)","v":5},{"$f":"SUM($F$5:YG5)","v":5},{"$f":"SUM($F$5:YH5)","v":5},{"$f":"SUM($F$5:YI5)","v":5},{"$f":"SUM($F$5:YJ5)","v":5},{"$f":"SUM($F$5:YK5)","v":5},{"$f":"SUM($F$5:YL5)","v":5},{"$f":"SUM($F$5:YM5)","v":5},{"$f":"SUM($F$5:YN5)","v":5},{"$f":"SUM($F$5:YO5)","v":5},{"$f":"SUM($F$5:YP5)","v":5},{"$f":"SUM($F$5:YQ5)","v":5},{"$f":"SUM($F$5:YR5)","v":5},{"$f":"SUM($F$5:YS5)","v":5},{"$f":"SUM($F$5:YT5)","v":5},{"$f":"SUM($F$5:YU5)","v":5},{"$f":"SUM($F$5:YV5)","v":5},{"$f":"SUM($F$5:YW5)","v":5},{"$f":"SUM($F$5:YX5)","v":5},{"$f":"SUM($F$5:YY5)","v":5},{"$f":"SUM($F$5:YZ5)","v":5},{"$f":"SUM($F$5:ZA5)","v":5},{"$f":"SUM($F$5:ZB5)","v":5},{"$f":"SUM($F$5:ZC5)","v":5},{"$f":"SUM($F$5:ZD5)","v":5},{"$f":"SUM($F$5:ZE5)","v":5},{"$f":"SUM($F$5:ZF5)","v":5},{"$f":"SUM($F$5:ZG5)","v":5},{"$f":"SUM($F$5:ZH5)","v":5},{"$f":"SUM($F$5:ZI5)","v":5},{"$f":"SUM($F$5:ZJ5)","v":5},{"$f":"SUM($F$5:ZK5)","v":5},{"$f":"SUM($F$5:ZL5)","v":5},{"$f":"SUM($F$5:ZM5)","v":5},{"$f":"SUM($F$5:ZN5)","v":5},{"$f":"SUM($F$5:ZO5)","v":5},{"$f":"SUM($F$5:ZP5)","v":5},{"$f":"SUM($F$5:ZQ5)","v":5},{"$f":"SUM($F$5:ZR5)","v":5},{"$f":"SUM($F$5:ZS5)","v":5},{"$f":"SUM($F$5:ZT5)","v":5},{"$f":"SUM($F$5:ZU5)","v":5},{"$f":"SUM($F$5:ZV5)","v":5},{"$f":"SUM($F$5:ZW5)","v":5},{"$f":"SUM($F$5:ZX5)","v":5},{"$f":"SUM($F$5:ZY5)","v":5},{"$f":"SUM($F$5:ZZ5)","v":5},{"$f":"SUM($F$5:AAA5)","v":5},{"$f":"SUM($F$5:AAB5)","v":5},{"$f":"SUM($F$5:AAC5)","v":5},{"$f":"SUM($F$5:AAD5)","v":5},{"$f":"SUM($F$5:AAE5)","v":5},{"$f":"SUM($F$5:AAF5)","v":5},{"$f":"SUM($F$5:AAG5)","v":5},{"$f":"SUM($F$5:AAH5)","v":5},{"$f":"SUM($F$5:AAI5)","v":5},{"$f":"SUM($F$5:AAJ5)","v":5},{"$f":"SUM($F$5:AAK5)","v":5},{"$f":"SUM($F$5:AAL5)","v":5},{"$f":"SUM($F$5:AAM5)","v":5},{"$f":"SUM($F$5:AAN5)","v":5},{"$f":"SUM($F$5:AAO5)","v":5},{"$f":"SUM($F$5:AAP5)","v":5},{"$f":"SUM($F$5:AAQ5)","v":5},{"$f":"SUM($F$5:AAR5)","v":5},{"$f":"SUM($F$5:AAS5)","v":5},{"$f":"SUM($F$5:AAT5)","v":5},{"$f":"SUM($F$5:AAU5)","v":5},{"$f":"SUM($F$5:AAV5)","v":5},{"$f":"SUM($F$5:AAW5)","v":5},{"$f":"SUM($F$5:AAX5)","v":5},{"$f":"SUM($F$5:AAY5)","v":5},{"$f":"SUM($F$5:AAZ5)","v":5},{"$f":"SUM($F$5:ABA5)","v":5},{"$f":"SUM($F$5:ABB5)","v":5},{"$f":"SUM($F$5:ABC5)","v":5},{"$f":"SUM($F$5:ABD5)","v":5},{"$f":"SUM($F$5:ABE5)","v":5},{"$f":"SUM($F$5:ABF5)","v":5},{"$f":"SUM($F$5:ABG5)","v":5},{"$f":"SUM($F$5:ABH5)","v":5},{"$f":"SUM($F$5:ABI5)","v":5},{"$f":"SUM($F$5:ABJ5)","v":5},{"$f":"SUM($F$5:ABK5)","v":5},{"$f":"SUM($F$5:ABL5)","v":5},{"$f":"SUM($F$5:ABM5)","v":5},{"$f":"SUM($F$5:ABN5)","v":5},{"$f":"SUM($F$5:ABO5)","v":5},{"$f":"SUM($F$5:ABP5)","v":5},{"$f":"SUM($F$5:ABQ5)","v":5},{"$f":"SUM($F$5:ABR5)","v":5},{"$f":"SUM($F$5:ABS5)","v":5},{"$f":"SUM($F$5:ABT5)","v":5},{"$f":"SUM($F$5:ABU5)","v":5},{"$f":"SUM($F$5:ABV5)","v":5},{"$f":"SUM($F$5:ABW5)","v":5},{"$f":"SUM($F$5:ABX5)","v":5},{"$f":"SUM($F$5:ABY5)","v":5},{"$f":"SUM($F$5:ABZ5)","v":5},{"$f":"SUM($F$5:ACA5)","v":5},{"$f":"SUM($F$5:ACB5)","v":5},{"$f":"SUM($F$5:ACC5)","v":5},{"$f":"SUM($F$5:ACD5)","v":5},{"$f":"SUM($F$5:ACE5)","v":5},{"$f":"SUM($F$5:ACF5)","v":5},{"$f":"SUM($F$5:ACG5)","v":5},{"$f":"SUM($F$5:ACH5)","v":5},{"$f":"SUM($F$5:ACI5)","v":5},{"$f":"SUM($F$5:ACJ5)","v":5},{"$f":"SUM($F$5:ACK5)","v":5},{"$f":"SUM($F$5:ACL5)","v":5},{"$f":"SUM($F$5:ACM5)","v":5},{"$f":"SUM($F$5:ACN5)","v":5},{"$f":"SUM($F$5:ACO5)","v":5},{"$f":"SUM($F$5:ACP5)","v":5},{"$f":"SUM($F$5:ACQ5)","v":5},{"$f":"SUM($F$5:ACR5)","v":5},{"$f":"SUM($F$5:ACS5)","v":5},{"$f":"SUM($F$5:ACT5)","v":5},{"$f":"SUM($F$5:ACU5)","v":5},{"$f":"SUM($F$5:ACV5)","v":5},{"$f":"SUM($F$5:ACW5)","v":5},{"$f":"SUM($F$5:ACX5)","v":5},{"$f":"SUM($F$5:ACY5)","v":5},{"$f":"SUM($F$5:ACZ5)","v":5},{"$f":"SUM($F$5:ADA5)","v":5},{"$f":"SUM($F$5:ADB5)","v":5},{"$f":"SUM($F$5:ADC5)","v":5},{"$f":"SUM($F$5:ADD5)","v":5},{"$f":"SUM($F$5:ADE5)","v":5},{"$f":"SUM($F$5:ADF5)","v":5},{"$f":"SUM($F$5:ADG5)","v":5},{"$f":"SUM($F$5:ADH5)","v":5},{"$f":"SUM($F$5:ADI5)","v":5},{"$f":"SUM($F$5:ADJ5)","v":5},{"$f":"SUM($F$5:ADK5)","v":5},{"$f":"SUM($F$5:ADL5)","v":5},{"$f":"SUM($F$5:ADM5)","v":5},{"$f":"SUM($F$5:ADN5)","v":5},{"$f":"SUM($F$5:ADO5)","v":5},{"$f":"SUM($F$5:ADP5)","v":5},{"$f":"SUM($F$5:ADQ5)","v":5},{"$f":"SUM($F$5:ADR5)","v":5},{"$f":"SUM($F$5:ADS5)","v":5},{"$f":"SUM($F$5:ADT5)","v":5},{"$f":"SUM($F$5:ADU5)","v":5},{"$f":"SUM($F$5:ADV5)","v":5},{"$f":"SUM($F$5:ADW5)","v":5},{"$f":"SUM($F$5:ADX5)","v":5},{"$f":"SUM($F$5:ADY5)","v":5},{"$f":"SUM($F$5:ADZ5)","v":5},{"$f":"SUM($F$5:AEA5)","v":5},{"$f":"SUM($F$5:AEB5)","v":5},{"$f":"SUM($F$5:AEC5)","v":5},{"$f":"SUM($F$5:AED5)","v":5},{"$f":"SUM($F$5:AEE5)","v":5},{"$f":"SUM($F$5:AEF5)","v":5},{"$f":"SUM($F$5:AEG5)","v":5},{"$f":"SUM($F$5:AEH5)","v":5},{"$f":"SUM($F$5:AEI5)","v":5},{"$f":"SUM($F$5:AEJ5)","v":5},{"$f":"SUM($F$5:AEK5)","v":5},{"$f":"SUM($F$5:AEL5)","v":5},{"$f":"SUM($F$5:AEM5)","v":5},{"$f":"SUM($F$5:AEN5)","v":5},{"$f":"SUM($F$5:AEO5)","v":5},{"$f":"SUM($F$5:AEP5)","v":5},{"$f":"SUM($F$5:AEQ5)","v":5},{"$f":"SUM($F$5:AER5)","v":5},{"$f":"SUM($F$5:AES5)","v":5},{"$f":"SUM($F$5:AET5)","v":5},{"$f":"SUM($F$5:AEU5)","v":5},{"$f":"SUM($F$5:AEV5)","v":5},{"$f":"SUM($F$5:AEW5)","v":5},{"$f":"SUM($F$5:AEX5)","v":5},{"$f":"SUM($F$5:AEY5)","v":5},{"$f":"SUM($F$5:AEZ5)","v":5},{"$f":"SUM($F$5:AFA5)","v":5},{"$f":"SUM($F$5:AFB5)","v":5},{"$f":"SUM($F$5:AFC5)","v":5},{"$f":"SUM($F$5:AFD5)","v":5},{"$f":"SUM($F$5:AFE5)","v":5},{"$f":"SUM($F$5:AFF5)","v":5},{"$f":"SUM($F$5:AFG5)","v":5},{"$f":"SUM($F$5:AFH5)","v":5},{"$f":"SUM($F$5:AFI5)","v":5},{"$f":"SUM($F$5:AFJ5)","v":5},{"$f":"SUM($F$5:AFK5)","v":5},{"$f":"SUM($F$5:AFL5)","v":5},{"$f":"SUM($F$5:AFM5)","v":5},{"$f":"SUM($F$5:AFN5)","v":5},{"$f":"SUM($F$5:AFO5)","v":5},{"$f":"SUM($F$5:AFP5)","v":5},{"$f":"SUM($F$5:AFQ5)","v":5},{"$f":"SUM($F$5:AFR5)","v":5},{"$f":"SUM($F$5:AFS5)","v":5},{"$f":"SUM($F$5:AFT5)","v":5},{"$f":"SUM($F$5:AFU5)","v":5},{"$f":"SUM($F$5:AFV5)","v":5},{"$f":"SUM($F$5:AFW5)","v":5},{"$f":"SUM($F$5:AFX5)","v":5},{"$f":"SUM($F$5:AFY5)","v":5},{"$f":"SUM($F$5:AFZ5)","v":5},{"$f":"SUM($F$5:AGA5)","v":5},{"$f":"SUM($F$5:AGB5)","v":5},{"$f":"SUM($F$5:AGC5)","v":5},{"$f":"SUM($F$5:AGD5)","v":5},{"$f":"SUM($F$5:AGE5)","v":5},{"$f":"SUM($F$5:AGF5)","v":5},{"$f":"SUM($F$5:AGG5)","v":5},{"$f":"SUM($F$5:AGH5)","v":5},{"$f":"SUM($F$5:AGI5)","v":5},{"$f":"SUM($F$5:AGJ5)","v":5},{"$f":"SUM($F$5:AGK5)","v":5},{"$f":"SUM($F$5:AGL5)","v":5},{"$f":"SUM($F$5:AGM5)","v":5},{"$f":"SUM($F$5:AGN5)","v":5},{"$f":"SUM($F$5:AGO5)","v":5},{"$f":"SUM($F$5:AGP5)","v":5},{"$f":"SUM($F$5:AGQ5)","v":5},{"$f":"SUM($F$5:AGR5)","v":5},{"$f":"SUM($F$5:AGS5)","v":5},{"$f":"SUM($F$5:AGT5)","v":5},{"$f":"SUM($F$5:AGU5)","v":5},{"$f":"SUM($F$5:AGV5)","v":5},{"$f":"SUM($F$5:AGW5)","v":5},{"$f":"SUM($F$5:AGX5)","v":5},{"$f":"SUM($F$5:AGY5)","v":5},{"$f":"SUM($F$5:AGZ5)","v":5},{"$f":"SUM($F$5:AHA5)","v":5},{"$f":"SUM($F$5:AHB5)","v":5},{"$f":"SUM($F$5:AHC5)","v":5},{"$f":"SUM($F$5:AHD5)","v":5},{"$f":"SUM($F$5:AHE5)","v":5},{"$f":"SUM($F$5:AHF5)","v":5},{"$f":"SUM($F$5:AHG5)","v":5},{"$f":"SUM($F$5:AHH5)","v":5},{"$f":"SUM($F$5:AHI5)","v":5},{"$f":"SUM($F$5:AHJ5)","v":5},{"$f":"SUM($F$5:AHK5)","v":5},{"$f":"SUM($F$5:AHL5)","v":5},{"$f":"SUM($F$5:AHM5)","v":5},{"$f":"SUM($F$5:AHN5)","v":5},{"$f":"SUM($F$5:AHO5)","v":5},{"$f":"SUM($F$5:AHP5)","v":5},{"$f":"SUM($F$5:AHQ5)","v":5},{"$f":"SUM($F$5:AHR5)","v":5},{"$f":"SUM($F$5:AHS5)","v":5},{"$f":"SUM($F$5:AHT5)","v":5},{"$f":"SUM($F$5:AHU5)","v":5},{"$f":"SUM($F$5:AHV5)","v":5},{"$f":"SUM($F$5:AHW5)","v":5},{"$f":"SUM($F$5:AHX5)","v":5},{"$f":"SUM($F$5:AHY5)","v":5},{"$f":"SUM($F$5:AHZ5)","v":5},{"$f":"SUM($F$5:AIA5)","v":5},{"$f":"SUM($F$5:AIB5)","v":5},{"$f":"SUM($F$5:AIC5)","v":5},{"$f":"SUM($F$5:AID5)","v":5},{"$f":"SUM($F$5:AIE5)","v":5},{"$f":"SUM($F$5:AIF5)","v":5},{"$f":"SUM($F$5:AIG5)","v":5},{"$f":"SUM($F$5:AIH5)","v":5},{"$f":"SUM($F$5:AII5)","v":5},{"$f":"SUM($F$5:AIJ5)","v":5},{"$f":"SUM($F$5:AIK5)","v":5},{"$f":"SUM($F$5:AIL5)","v":5},{"$f":"SUM($F$5:AIM5)","v":5},{"$f":"SUM($F$5:AIN5)","v":5},{"$f":"SUM($F$5:AIO5)","v":5},{"$f":"SUM($F$5:AIP5)","v":5},{"$f":"SUM($F$5:AIQ5)","v":5},{"$f":"SUM($F$5:AIR5)","v":5},{"$f":"SUM($F$5:AIS5)","v":5},{"$f":"SUM($F$5:AIT5)","v":5},{"$f":"SUM($F$5:AIU5)","v":5},{"$f":"SUM($F$5:AIV5)","v":5},{"$f":"SUM($F$5:AIW5)","v":5},{"$f":"SUM($F$5:AIX5)","v":5},{"$f":"SUM($F$5:AIY5)","v":5},{"$f":"SUM($F$5:AIZ5)","v":5},{"$f":"SUM($F$5:AJA5)","v":5},{"$f":"SUM($F$5:AJB5)","v":5},{"$f":"SUM($F$5:AJC5)","v":5},{"$f":"SUM($F$5:AJD5)","v":5},{"$f":"SUM($F$5:AJE5)","v":5},{"$f":"SUM($F$5:AJF5)","v":5},{"$f":"SUM($F$5:AJG5)","v":5},{"$f":"SUM($F$5:AJH5)","v":5},{"$f":"SUM($F$5:AJI5)","v":5},{"$f":"SUM($F$5:AJJ5)","v":5},{"$f":"SUM($F$5:AJK5)","v":5},{"$f":"SUM($F$5:AJL5)","v":5},{"$f":"SUM($F$5:AJM5)","v":5},{"$f":"SUM($F$5:AJN5)","v":5},{"$f":"SUM($F$5:AJO5)","v":5},{"$f":"SUM($F$5:AJP5)","v":5},{"$f":"SUM($F$5:AJQ5)","v":5},{"$f":"SUM($F$5:AJR5)","v":5},{"$f":"SUM($F$5:AJS5)","v":5},{"$f":"SUM($F$5:AJT5)","v":5},{"$f":"SUM($F$5:AJU5)","v":5},{"$f":"SUM($F$5:AJV5)","v":5},{"$f":"SUM($F$5:AJW5)","v":5},{"$f":"SUM($F$5:AJX5)","v":5},{"$f":"SUM($F$5:AJY5)","v":5},{"$f":"SUM($F$5:AJZ5)","v":5},{"$f":"SUM($F$5:AKA5)","v":5},{"$f":"SUM($F$5:AKB5)","v":5},{"$f":"SUM($F$5:AKC5)","v":5},{"$f":"SUM($F$5:AKD5)","v":5},{"$f":"SUM($F$5:AKE5)","v":5},{"$f":"SUM($F$5:AKF5)","v":5},{"$f":"SUM($F$5:AKG5)","v":5},{"$f":"SUM($F$5:AKH5)","v":5},{"$f":"SUM($F$5:AKI5)","v":5},{"$f":"SUM($F$5:AKJ5)","v":5},{"$f":"SUM($F$5:AKK5)","v":5},{"$f":"SUM($F$5:AKL5)","v":5},{"$f":"SUM($F$5:AKM5)","v":5},{"$f":"SUM($F$5:AKN5)","v":5},{"$f":"SUM($F$5:AKO5)","v":5},{"$f":"SUM($F$5:AKP5)","v":5},{"$f":"SUM($F$5:AKQ5)","v":5},{"$f":"SUM($F$5:AKR5)","v":5},{"$f":"SUM($F$5:AKS5)","v":5},{"$f":"SUM($F$5:AKT5)","v":5},{"$f":"SUM($F$5:AKU5)","v":5},{"$f":"SUM($F$5:AKV5)","v":5},{"$f":"SUM($F$5:AKW5)","v":5},{"$f":"SUM($F$5:AKX5)","v":5},{"$f":"SUM($F$5:AKY5)","v":5},{"$f":"SUM($F$5:AKZ5)","v":5},{"$f":"SUM($F$5:ALA5)","v":5},{"$f":"SUM($F$5:ALB5)","v":5},{"$f":"SUM($F$5:ALC5)","v":5},{"$f":"SUM($F$5:ALD5)","v":5},{"$f":"SUM($F$5:ALE5)","v":5},{"$f":"SUM($F$5:ALF5)","v":5},{"$f":"SUM($F$5:ALG5)","v":5},{"$f":"SUM($F$5:ALH5)","v":5},{"$f":"SUM($F$5:ALI5)","v":5},{"$f":"SUM($F$5:ALJ5)","v":5},{"$f":"SUM($F$5:ALK5)","v":5},{"$f":"SUM($F$5:ALL5)","v":5},{"$f":"SUM($F$5:ALM5)","v":5},{"$f":"SUM($F$5:ALN5)","v":5},{"$f":"SUM($F$5:ALO5)","v":5},{"$f":"SUM($F$5:ALP5)","v":5},{"$f":"SUM($F$5:ALQ5)","v":5}]
[null,null,"# Prime factors",null,null,{"$f":"IF(F5=0,\"\",F6&IF(F5=1,\"\",LOOKUP(F5,$A$96:$A$113,$B$96:$B$113)))","v":"2²"},{"$f":"IF(G5=0,\"\",G6&IF(G5=1,\"\",LOOKUP(G5,$A$96:$A$113,$B$96:$B$113)))","v":"3²"},"5","","","","","","","","","","","","","","","",{"$f":"IF(X5=0,\"\",X6&IF(X5=1,\"\",LOOKUP(X5,$A$96:$A$113,$B$96:$B$113)))","v":""},{"$f":"IF(Y5=0,\"\",Y6&IF(Y5=1,\"\",LOOKUP(Y5,$A$96:$A$113,$B$96:$B$113)))","v":""},{"$f":"IF(Z5=0,\"\",Z6&IF(Z5=1,\"\",LOOKUP(Z5,$A$96:$A$113,$B$96:$B$113)))","v":""},{"$f":"IF(AA5=0,\"\",AA6&IF(AA5=1,\"\",LOOKUP(AA5,$A$96:$A$113,$B$96:$B$113)))","v":""},{"$f":"IF(AB5=0,\"\",AB6&IF(AB5=1,\"\",LOOKUP(AB5,$A$96:$A$113,$B$96:$B$113)))","v":""},{"$f":"IF(AC5=0,\"\",AC6&IF(AC5=1,\"\",LOOKUP(AC5,$A$96:$A$113,$B$96:$B$113)))","v":""},{"$f":"IF(AD5=0,\"\",AD6&IF(AD5=1,\"\",LOOKUP(AD5,$A$96:$A$113,$B$96:$B$113)))","v":""},{"$f":"IF(AE5=0,\"\",AE6&IF(AE5=1,\"\",LOOKUP(AE5,$A$96:$A$113,$B$96:$B$113)))","v":""},{"$f":"IF(AF5=0,\"\",AF6&IF(AF5=1,\"\",LOOKUP(AF5,$A$96:$A$113,$B$96:$B$113)))","v":""},{"$f":"IF(AG5=0,\"\",AG6&IF(AG5=1,\"\",LOOKUP(AG5,$A$96:$A$113,$B$96:$B$113)))","v":""},{"$f":"IF(AH5=0,\"\",AH6&IF(AH5=1,\"\",LOOKUP(AH5,$A$96:$A$113,$B$96:$B$113)))","v":""},{"$f":"IF(AI5=0,\"\",AI6&IF(AI5=1,\"\",LOOKUP(AI5,$A$96:$A$113,$B$96:$B$113)))","v":""},{"$f":"IF(AJ5=0,\"\",AJ6&IF(AJ5=1,\"\",LOOKUP(AJ5,$A$96:$A$113,$B$96:$B$113)))","v":""},{"$f":"IF(AK5=0,\"\",AK6&IF(AK5=1,\"\",LOOKUP(AK5,$A$96:$A$113,$B$96:$B$113)))","v":""},{"$f":"IF(AL5=0,\"\",AL6&IF(AL5=1,\"\",LOOKUP(AL5,$A$96:$A$113,$B$96:$B$113)))","v":""},{"$f":"IF(AM5=0,\"\",AM6&IF(AM5=1,\"\",LOOKUP(AM5,$A$96:$A$113,$B$96:$B$113)))","v":""},{"$f":"IF(AN5=0,\"\",AN6&IF(AN5=1,\"\",LOOKUP(AN5,$A$96:$A$113,$B$96:$B$113)))","v":""},{"$f":"IF(AO5=0,\"\",AO6&IF(AO5=1,\"\",LOOKUP(AO5,$A$96:$A$113,$B$96:$B$113)))","v":""},{"$f":"IF(AP5=0,\"\",AP6&IF(AP5=1,\"\",LOOKUP(AP5,$A$96:$A$113,$B$96:$B$113)))","v":""},{"$f":"IF(AQ5=0,\"\",AQ6&IF(AQ5=1,\"\",LOOKUP(AQ5,$A$96:$A$113,$B$96:$B$113)))","v":""},{"$f":"IF(AR5=0,\"\",AR6&IF(AR5=1,\"\",LOOKUP(AR5,$A$96:$A$113,$B$96:$B$113)))","v":""},{"$f":"IF(AS5=0,\"\",AS6&IF(AS5=1,\"\",LOOKUP(AS5,$A$96:$A$113,$B$96:$B$113)))","v":""},{"$f":"IF(AT5=0,\"\",AT6&IF(AT5=1,\"\",LOOKUP(AT5,$A$96:$A$113,$B$96:$B$113)))","v":""},{"$f":"IF(AU5=0,\"\",AU6&IF(AU5=1,\"\",LOOKUP(AU5,$A$96:$A$113,$B$96:$B$113)))","v":""},{"$f":"IF(AV5=0,\"\",AV6&IF(AV5=1,\"\",LOOKUP(AV5,$A$96:$A$113,$B$96:$B$113)))","v":""},{"$f":"IF(AW5=0,\"\",AW6&IF(AW5=1,\"\",LOOKUP(AW5,$A$96:$A$113,$B$96:$B$113)))","v":""},{"$f":"IF(AX5=0,\"\",AX6&IF(AX5=1,\"\",LOOKUP(AX5,$A$96:$A$113,$B$96:$B$113)))","v":""},{"$f":"IF(AY5=0,\"\",AY6&IF(AY5=1,\"\",LOOKUP(AY5,$A$96:$A$113,$B$96:$B$113)))","v":""},{"$f":"IF(AZ5=0,\"\",AZ6&IF(AZ5=1,\"\",LOOKUP(AZ5,$A$96:$A$113,$B$96:$B$113)))","v":""},{"$f":"IF(BA5=0,\"\",BA6&IF(BA5=1,\"\",LOOKUP(BA5,$A$96:$A$113,$B$96:$B$113)))","v":""},{"$f":"IF(BB5=0,\"\",BB6&IF(BB5=1,\"\",LOOKUP(BB5,$A$96:$A$113,$B$96:$B$113)))","v":""},{"$f":"IF(BC5=0,\"\",BC6&IF(BC5=1,\"\",LOOKUP(BC5,$A$96:$A$113,$B$96:$B$113)))","v":""},{"$f":"IF(BD5=0,\"\",BD6&IF(BD5=1,\"\",LOOKUP(BD5,$A$96:$A$113,$B$96:$B$113)))","v":""},{"$f":"IF(BE5=0,\"\",BE6&IF(BE5=1,\"\",LOOKUP(BE5,$A$96:$A$113,$B$96:$B$113)))","v":""},{"$f":"IF(BF5=0,\"\",BF6&IF(BF5=1,\"\",LOOKUP(BF5,$A$96:$A$113,$B$96:$B$113)))","v":""},{"$f":"IF(BG5=0,\"\",BG6&IF(BG5=1,\"\",LOOKUP(BG5,$A$96:$A$113,$B$96:$B$113)))","v":""},{"$f":"IF(BH5=0,\"\",BH6&IF(BH5=1,\"\",LOOKUP(BH5,$A$96:$A$113,$B$96:$B$113)))","v":""},{"$f":"IF(BI5=0,\"\",BI6&IF(BI5=1,\"\",LOOKUP(BI5,$A$96:$A$113,$B$96:$B$113)))","v":""},{"$f":"IF(BJ5=0,\"\",BJ6&IF(BJ5=1,\"\",LOOKUP(BJ5,$A$96:$A$113,$B$96:$B$113)))","v":""},{"$f":"IF(BK5=0,\"\",BK6&IF(BK5=1,\"\",LOOKUP(BK5,$A$96:$A$113,$B$96:$B$113)))","v":""},{"$f":"IF(BL5=0,\"\",BL6&IF(BL5=1,\"\",LOOKUP(BL5,$A$96:$A$113,$B$96:$B$113)))","v":""},{"$f":"IF(BM5=0,\"\",BM6&IF(BM5=1,\"\",LOOKUP(BM5,$A$96:$A$113,$B$96:$B$113)))","v":""},{"$f":"IF(BN5=0,\"\",BN6&IF(BN5=1,\"\",LOOKUP(BN5,$A$96:$A$113,$B$96:$B$113)))","v":""},{"$f":"IF(BO5=0,\"\",BO6&IF(BO5=1,\"\",LOOKUP(BO5,$A$96:$A$113,$B$96:$B$113)))","v":""},{"$f":"IF(BP5=0,\"\",BP6&IF(BP5=1,\"\",LOOKUP(BP5,$A$96:$A$113,$B$96:$B$113)))","v":""},{"$f":"IF(BQ5=0,\"\",BQ6&IF(BQ5=1,\"\",LOOKUP(BQ5,$A$96:$A$113,$B$96:$B$113)))","v":""},{"$f":"IF(BR5=0,\"\",BR6&IF(BR5=1,\"\",LOOKUP(BR5,$A$96:$A$113,$B$96:$B$113)))","v":""},{"$f":"IF(BS5=0,\"\",BS6&IF(BS5=1,\"\",LOOKUP(BS5,$A$96:$A$113,$B$96:$B$113)))","v":""},{"$f":"IF(BT5=0,\"\",BT6&IF(BT5=1,\"\",LOOKUP(BT5,$A$96:$A$113,$B$96:$B$113)))","v":""},{"$f":"IF(BU5=0,\"\",BU6&IF(BU5=1,\"\",LOOKUP(BU5,$A$96:$A$113,$B$96:$B$113)))","v":""},{"$f":"IF(BV5=0,\"\",BV6&IF(BV5=1,\"\",LOOKUP(BV5,$A$96:$A$113,$B$96:$B$113)))","v":""},{"$f":"IF(BW5=0,\"\",BW6&IF(BW5=1,\"\",LOOKUP(BW5,$A$96:$A$113,$B$96:$B$113)))","v":""},{"$f":"IF(BX5=0,\"\",BX6&IF(BX5=1,\"\",LOOKUP(BX5,$A$96:$A$113,$B$96:$B$113)))","v":""},{"$f":"IF(BY5=0,\"\",BY6&IF(BY5=1,\"\",LOOKUP(BY5,$A$96:$A$113,$B$96:$B$113)))","v":""},{"$f":"IF(BZ5=0,\"\",BZ6&IF(BZ5=1,\"\",LOOKUP(BZ5,$A$96:$A$113,$B$96:$B$113)))","v":""},{"$f":"IF(CA5=0,\"\",CA6&IF(CA5=1,\"\",LOOKUP(CA5,$A$96:$A$113,$B$96:$B$113)))","v":""},{"$f":"IF(CB5=0,\"\",CB6&IF(CB5=1,\"\",LOOKUP(CB5,$A$96:$A$113,$B$96:$B$113)))","v":""},{"$f":"IF(CC5=0,\"\",CC6&IF(CC5=1,\"\",LOOKUP(CC5,$A$96:$A$113,$B$96:$B$113)))","v":""},{"$f":"IF(CD5=0,\"\",CD6&IF(CD5=1,\"\",LOOKUP(CD5,$A$96:$A$113,$B$96:$B$113)))","v":""},{"$f":"IF(CE5=0,\"\",CE6&IF(CE5=1,\"\",LOOKUP(CE5,$A$96:$A$113,$B$96:$B$113)))","v":""},{"$f":"IF(CF5=0,\"\",CF6&IF(CF5=1,\"\",LOOKUP(CF5,$A$96:$A$113,$B$96:$B$113)))","v":""},{"$f":"IF(CG5=0,\"\",CG6&IF(CG5=1,\"\",LOOKUP(CG5,$A$96:$A$113,$B$96:$B$113)))","v":""},{"$f":"IF(CH5=0,\"\",CH6&IF(CH5=1,\"\",LOOKUP(CH5,$A$96:$A$113,$B$96:$B$113)))","v":""},{"$f":"IF(CI5=0,\"\",CI6&IF(CI5=1,\"\",LOOKUP(CI5,$A$96:$A$113,$B$96:$B$113)))","v":""},{"$f":"IF(CJ5=0,\"\",CJ6&IF(CJ5=1,\"\",LOOKUP(CJ5,$A$96:$A$113,$B$96:$B$113)))","v":""},{"$f":"IF(CK5=0,\"\",CK6&IF(CK5=1,\"\",LOOKUP(CK5,$A$96:$A$113,$B$96:$B$113)))","v":""},{"$f":"IF(CL5=0,\"\",CL6&IF(CL5=1,\"\",LOOKUP(CL5,$A$96:$A$113,$B$96:$B$113)))","v":""},{"$f":"IF(CM5=0,\"\",CM6&IF(CM5=1,\"\",LOOKUP(CM5,$A$96:$A$113,$B$96:$B$113)))","v":""},{"$f":"IF(CN5=0,\"\",CN6&IF(CN5=1,\"\",LOOKUP(CN5,$A$96:$A$113,$B$96:$B$113)))","v":""},{"$f":"IF(CO5=0,\"\",CO6&IF(CO5=1,\"\",LOOKUP(CO5,$A$96:$A$113,$B$96:$B$113)))","v":""},{"$f":"IF(CP5=0,\"\",CP6&IF(CP5=1,\"\",LOOKUP(CP5,$A$96:$A$113,$B$96:$B$113)))","v":""},{"$f":"IF(CQ5=0,\"\",CQ6&IF(CQ5=1,\"\",LOOKUP(CQ5,$A$96:$A$113,$B$96:$B$113)))","v":""},{"$f":"IF(CR5=0,\"\",CR6&IF(CR5=1,\"\",LOOKUP(CR5,$A$96:$A$113,$B$96:$B$113)))","v":""},{"$f":"IF(CS5=0,\"\",CS6&IF(CS5=1,\"\",LOOKUP(CS5,$A$96:$A$113,$B$96:$B$113)))","v":""},{"$f":"IF(CT5=0,\"\",CT6&IF(CT5=1,\"\",LOOKUP(CT5,$A$96:$A$113,$B$96:$B$113)))","v":""},{"$f":"IF(CU5=0,\"\",CU6&IF(CU5=1,\"\",LOOKUP(CU5,$A$96:$A$113,$B$96:$B$113)))","v":""},{"$f":"IF(CV5=0,\"\",CV6&IF(CV5=1,\"\",LOOKUP(CV5,$A$96:$A$113,$B$96:$B$113)))","v":""},{"$f":"IF(CW5=0,\"\",CW6&IF(CW5=1,\"\",LOOKUP(CW5,$A$96:$A$113,$B$96:$B$113)))","v":""},{"$f":"IF(CX5=0,\"\",CX6&IF(CX5=1,\"\",LOOKUP(CX5,$A$96:$A$113,$B$96:$B$113)))","v":""},{"$f":"IF(CY5=0,\"\",CY6&IF(CY5=1,\"\",LOOKUP(CY5,$A$96:$A$113,$B$96:$B$113)))","v":""},{"$f":"IF(CZ5=0,\"\",CZ6&IF(CZ5=1,\"\",LOOKUP(CZ5,$A$96:$A$113,$B$96:$B$113)))","v":""},{"$f":"IF(DA5=0,\"\",DA6&IF(DA5=1,\"\",LOOKUP(DA5,$A$96:$A$113,$B$96:$B$113)))","v":""},{"$f":"IF(DB5=0,\"\",DB6&IF(DB5=1,\"\",LOOKUP(DB5,$A$96:$A$113,$B$96:$B$113)))","v":""},{"$f":"IF(DC5=0,\"\",DC6&IF(DC5=1,\"\",LOOKUP(DC5,$A$96:$A$113,$B$96:$B$113)))","v":""},{"$f":"IF(DD5=0,\"\",DD6&IF(DD5=1,\"\",LOOKUP(DD5,$A$96:$A$113,$B$96:$B$113)))","v":""},{"$f":"IF(DE5=0,\"\",DE6&IF(DE5=1,\"\",LOOKUP(DE5,$A$96:$A$113,$B$96:$B$113)))","v":""},{"$f":"IF(DF5=0,\"\",DF6&IF(DF5=1,\"\",LOOKUP(DF5,$A$96:$A$113,$B$96:$B$113)))","v":""},{"$f":"IF(DG5=0,\"\",DG6&IF(DG5=1,\"\",LOOKUP(DG5,$A$96:$A$113,$B$96:$B$113)))","v":""},{"$f":"IF(DH5=0,\"\",DH6&IF(DH5=1,\"\",LOOKUP(DH5,$A$96:$A$113,$B$96:$B$113)))","v":""},{"$f":"IF(DI5=0,\"\",DI6&IF(DI5=1,\"\",LOOKUP(DI5,$A$96:$A$113,$B$96:$B$113)))","v":""},{"$f":"IF(DJ5=0,\"\",DJ6&IF(DJ5=1,\"\",LOOKUP(DJ5,$A$96:$A$113,$B$96:$B$113)))","v":""},{"$f":"IF(DK5=0,\"\",DK6&IF(DK5=1,\"\",LOOKUP(DK5,$A$96:$A$113,$B$96:$B$113)))","v":""},{"$f":"IF(DL5=0,\"\",DL6&IF(DL5=1,\"\",LOOKUP(DL5,$A$96:$A$113,$B$96:$B$113)))","v":""},{"$f":"IF(DM5=0,\"\",DM6&IF(DM5=1,\"\",LOOKUP(DM5,$A$96:$A$113,$B$96:$B$113)))","v":""},{"$f":"IF(DN5=0,\"\",DN6&IF(DN5=1,\"\",LOOKUP(DN5,$A$96:$A$113,$B$96:$B$113)))","v":""},{"$f":"IF(DO5=0,\"\",DO6&IF(DO5=1,\"\",LOOKUP(DO5,$A$96:$A$113,$B$96:$B$113)))","v":""},{"$f":"IF(DP5=0,\"\",DP6&IF(DP5=1,\"\",LOOKUP(DP5,$A$96:$A$113,$B$96:$B$113)))","v":""},{"$f":"IF(DQ5=0,\"\",DQ6&IF(DQ5=1,\"\",LOOKUP(DQ5,$A$96:$A$113,$B$96:$B$113)))","v":""},{"$f":"IF(DR5=0,\"\",DR6&IF(DR5=1,\"\",LOOKUP(DR5,$A$96:$A$113,$B$96:$B$113)))","v":""},{"$f":"IF(DS5=0,\"\",DS6&IF(DS5=1,\"\",LOOKUP(DS5,$A$96:$A$113,$B$96:$B$113)))","v":""},{"$f":"IF(DT5=0,\"\",DT6&IF(DT5=1,\"\",LOOKUP(DT5,$A$96:$A$113,$B$96:$B$113)))","v":""},{"$f":"IF(DU5=0,\"\",DU6&IF(DU5=1,\"\",LOOKUP(DU5,$A$96:$A$113,$B$96:$B$113)))","v":""},{"$f":"IF(DV5=0,\"\",DV6&IF(DV5=1,\"\",LOOKUP(DV5,$A$96:$A$113,$B$96:$B$113)))","v":""},{"$f":"IF(DW5=0,\"\",DW6&IF(DW5=1,\"\",LOOKUP(DW5,$A$96:$A$113,$B$96:$B$113)))","v":""},{"$f":"IF(DX5=0,\"\",DX6&IF(DX5=1,\"\",LOOKUP(DX5,$A$96:$A$113,$B$96:$B$113)))","v":""},{"$f":"IF(DY5=0,\"\",DY6&IF(DY5=1,\"\",LOOKUP(DY5,$A$96:$A$113,$B$96:$B$113)))","v":""},{"$f":"IF(DZ5=0,\"\",DZ6&IF(DZ5=1,\"\",LOOKUP(DZ5,$A$96:$A$113,$B$96:$B$113)))","v":""},{"$f":"IF(EA5=0,\"\",EA6&IF(EA5=1,\"\",LOOKUP(EA5,$A$96:$A$113,$B$96:$B$113)))","v":""},{"$f":"IF(EB5=0,\"\",EB6&IF(EB5=1,\"\",LOOKUP(EB5,$A$96:$A$113,$B$96:$B$113)))","v":""},{"$f":"IF(EC5=0,\"\",EC6&IF(EC5=1,\"\",LOOKUP(EC5,$A$96:$A$113,$B$96:$B$113)))","v":""},{"$f":"IF(ED5=0,\"\",ED6&IF(ED5=1,\"\",LOOKUP(ED5,$A$96:$A$113,$B$96:$B$113)))","v":""},{"$f":"IF(EE5=0,\"\",EE6&IF(EE5=1,\"\",LOOKUP(EE5,$A$96:$A$113,$B$96:$B$113)))","v":""},{"$f":"IF(EF5=0,\"\",EF6&IF(EF5=1,\"\",LOOKUP(EF5,$A$96:$A$113,$B$96:$B$113)))","v":""},{"$f":"IF(EG5=0,\"\",EG6&IF(EG5=1,\"\",LOOKUP(EG5,$A$96:$A$113,$B$96:$B$113)))","v":""},{"$f":"IF(EH5=0,\"\",EH6&IF(EH5=1,\"\",LOOKUP(EH5,$A$96:$A$113,$B$96:$B$113)))","v":""},{"$f":"IF(EI5=0,\"\",EI6&IF(EI5=1,\"\",LOOKUP(EI5,$A$96:$A$113,$B$96:$B$113)))","v":""},{"$f":"IF(EJ5=0,\"\",EJ6&IF(EJ5=1,\"\",LOOKUP(EJ5,$A$96:$A$113,$B$96:$B$113)))","v":""},{"$f":"IF(EK5=0,\"\",EK6&IF(EK5=1,\"\",LOOKUP(EK5,$A$96:$A$113,$B$96:$B$113)))","v":""},{"$f":"IF(EL5=0,\"\",EL6&IF(EL5=1,\"\",LOOKUP(EL5,$A$96:$A$113,$B$96:$B$113)))","v":""},{"$f":"IF(EM5=0,\"\",EM6&IF(EM5=1,\"\",LOOKUP(EM5,$A$96:$A$113,$B$96:$B$113)))","v":""},{"$f":"IF(EN5=0,\"\",EN6&IF(EN5=1,\"\",LOOKUP(EN5,$A$96:$A$113,$B$96:$B$113)))","v":""},{"$f":"IF(EO5=0,\"\",EO6&IF(EO5=1,\"\",LOOKUP(EO5,$A$96:$A$113,$B$96:$B$113)))","v":""},{"$f":"IF(EP5=0,\"\",EP6&IF(EP5=1,\"\",LOOKUP(EP5,$A$96:$A$113,$B$96:$B$113)))","v":""},{"$f":"IF(EQ5=0,\"\",EQ6&IF(EQ5=1,\"\",LOOKUP(EQ5,$A$96:$A$113,$B$96:$B$113)))","v":""},{"$f":"IF(ER5=0,\"\",ER6&IF(ER5=1,\"\",LOOKUP(ER5,$A$96:$A$113,$B$96:$B$113)))","v":""},{"$f":"IF(ES5=0,\"\",ES6&IF(ES5=1,\"\",LOOKUP(ES5,$A$96:$A$113,$B$96:$B$113)))","v":""},{"$f":"IF(ET5=0,\"\",ET6&IF(ET5=1,\"\",LOOKUP(ET5,$A$96:$A$113,$B$96:$B$113)))","v":""},{"$f":"IF(EU5=0,\"\",EU6&IF(EU5=1,\"\",LOOKUP(EU5,$A$96:$A$113,$B$96:$B$113)))","v":""},{"$f":"IF(EV5=0,\"\",EV6&IF(EV5=1,\"\",LOOKUP(EV5,$A$96:$A$113,$B$96:$B$113)))","v":""},{"$f":"IF(EW5=0,\"\",EW6&IF(EW5=1,\"\",LOOKUP(EW5,$A$96:$A$113,$B$96:$B$113)))","v":""},{"$f":"IF(EX5=0,\"\",EX6&IF(EX5=1,\"\",LOOKUP(EX5,$A$96:$A$113,$B$96:$B$113)))","v":""},{"$f":"IF(EY5=0,\"\",EY6&IF(EY5=1,\"\",LOOKUP(EY5,$A$96:$A$113,$B$96:$B$113)))","v":""},{"$f":"IF(EZ5=0,\"\",EZ6&IF(EZ5=1,\"\",LOOKUP(EZ5,$A$96:$A$113,$B$96:$B$113)))","v":""},{"$f":"IF(FA5=0,\"\",FA6&IF(FA5=1,\"\",LOOKUP(FA5,$A$96:$A$113,$B$96:$B$113)))","v":""},{"$f":"IF(FB5=0,\"\",FB6&IF(FB5=1,\"\",LOOKUP(FB5,$A$96:$A$113,$B$96:$B$113)))","v":""},{"$f":"IF(FC5=0,\"\",FC6&IF(FC5=1,\"\",LOOKUP(FC5,$A$96:$A$113,$B$96:$B$113)))","v":""},{"$f":"IF(FD5=0,\"\",FD6&IF(FD5=1,\"\",LOOKUP(FD5,$A$96:$A$113,$B$96:$B$113)))","v":""},{"$f":"IF(FE5=0,\"\",FE6&IF(FE5=1,\"\",LOOKUP(FE5,$A$96:$A$113,$B$96:$B$113)))","v":""},{"$f":"IF(FF5=0,\"\",FF6&IF(FF5=1,\"\",LOOKUP(FF5,$A$96:$A$113,$B$96:$B$113)))","v":""},{"$f":"IF(FG5=0,\"\",FG6&IF(FG5=1,\"\",LOOKUP(FG5,$A$96:$A$113,$B$96:$B$113)))","v":""},{"$f":"IF(FH5=0,\"\",FH6&IF(FH5=1,\"\",LOOKUP(FH5,$A$96:$A$113,$B$96:$B$113)))","v":""},{"$f":"IF(FI5=0,\"\",FI6&IF(FI5=1,\"\",LOOKUP(FI5,$A$96:$A$113,$B$96:$B$113)))","v":""},{"$f":"IF(FJ5=0,\"\",FJ6&IF(FJ5=1,\"\",LOOKUP(FJ5,$A$96:$A$113,$B$96:$B$113)))","v":""},{"$f":"IF(FK5=0,\"\",FK6&IF(FK5=1,\"\",LOOKUP(FK5,$A$96:$A$113,$B$96:$B$113)))","v":""},{"$f":"IF(FL5=0,\"\",FL6&IF(FL5=1,\"\",LOOKUP(FL5,$A$96:$A$113,$B$96:$B$113)))","v":""},{"$f":"IF(FM5=0,\"\",FM6&IF(FM5=1,\"\",LOOKUP(FM5,$A$96:$A$113,$B$96:$B$113)))","v":""},{"$f":"IF(FN5=0,\"\",FN6&IF(FN5=1,\"\",LOOKUP(FN5,$A$96:$A$113,$B$96:$B$113)))","v":""},{"$f":"IF(FO5=0,\"\",FO6&IF(FO5=1,\"\",LOOKUP(FO5,$A$96:$A$113,$B$96:$B$113)))","v":""},{"$f":"IF(FP5=0,\"\",FP6&IF(FP5=1,\"\",LOOKUP(FP5,$A$96:$A$113,$B$96:$B$113)))","v":""},{"$f":"IF(FQ5=0,\"\",FQ6&IF(FQ5=1,\"\",LOOKUP(FQ5,$A$96:$A$113,$B$96:$B$113)))","v":""},{"$f":"IF(FR5=0,\"\",FR6&IF(FR5=1,\"\",LOOKUP(FR5,$A$96:$A$113,$B$96:$B$113)))","v":""},{"$f":"IF(FS5=0,\"\",FS6&IF(FS5=1,\"\",LOOKUP(FS5,$A$96:$A$113,$B$96:$B$113)))","v":""},{"$f":"IF(FT5=0,\"\",FT6&IF(FT5=1,\"\",LOOKUP(FT5,$A$96:$A$113,$B$96:$B$113)))","v":""},{"$f":"IF(FU5=0,\"\",FU6&IF(FU5=1,\"\",LOOKUP(FU5,$A$96:$A$113,$B$96:$B$113)))","v":""},{"$f":"IF(FV5=0,\"\",FV6&IF(FV5=1,\"\",LOOKUP(FV5,$A$96:$A$113,$B$96:$B$113)))","v":""},{"$f":"IF(FW5=0,\"\",FW6&IF(FW5=1,\"\",LOOKUP(FW5,$A$96:$A$113,$B$96:$B$113)))","v":""},{"$f":"IF(FX5=0,\"\",FX6&IF(FX5=1,\"\",LOOKUP(FX5,$A$96:$A$113,$B$96:$B$113)))","v":""},{"$f":"IF(FY5=0,\"\",FY6&IF(FY5=1,\"\",LOOKUP(FY5,$A$96:$A$113,$B$96:$B$113)))","v":""},{"$f":"IF(FZ5=0,\"\",FZ6&IF(FZ5=1,\"\",LOOKUP(FZ5,$A$96:$A$113,$B$96:$B$113)))","v":""},{"$f":"IF(GA5=0,\"\",GA6&IF(GA5=1,\"\",LOOKUP(GA5,$A$96:$A$113,$B$96:$B$113)))","v":""},{"$f":"IF(GB5=0,\"\",GB6&IF(GB5=1,\"\",LOOKUP(GB5,$A$96:$A$113,$B$96:$B$113)))","v":""},{"$f":"IF(GC5=0,\"\",GC6&IF(GC5=1,\"\",LOOKUP(GC5,$A$96:$A$113,$B$96:$B$113)))","v":""},{"$f":"IF(GD5=0,\"\",GD6&IF(GD5=1,\"\",LOOKUP(GD5,$A$96:$A$113,$B$96:$B$113)))","v":""},{"$f":"IF(GE5=0,\"\",GE6&IF(GE5=1,\"\",LOOKUP(GE5,$A$96:$A$113,$B$96:$B$113)))","v":""},{"$f":"IF(GF5=0,\"\",GF6&IF(GF5=1,\"\",LOOKUP(GF5,$A$96:$A$113,$B$96:$B$113)))","v":""},{"$f":"IF(GG5=0,\"\",GG6&IF(GG5=1,\"\",LOOKUP(GG5,$A$96:$A$113,$B$96:$B$113)))","v":""},{"$f":"IF(GH5=0,\"\",GH6&IF(GH5=1,\"\",LOOKUP(GH5,$A$96:$A$113,$B$96:$B$113)))","v":""},{"$f":"IF(GI5=0,\"\",GI6&IF(GI5=1,\"\",LOOKUP(GI5,$A$96:$A$113,$B$96:$B$113)))","v":""},{"$f":"IF(GJ5=0,\"\",GJ6&IF(GJ5=1,\"\",LOOKUP(GJ5,$A$96:$A$113,$B$96:$B$113)))","v":""},{"$f":"IF(GK5=0,\"\",GK6&IF(GK5=1,\"\",LOOKUP(GK5,$A$96:$A$113,$B$96:$B$113)))","v":""},{"$f":"IF(GL5=0,\"\",GL6&IF(GL5=1,\"\",LOOKUP(GL5,$A$96:$A$113,$B$96:$B$113)))","v":""},{"$f":"IF(GM5=0,\"\",GM6&IF(GM5=1,\"\",LOOKUP(GM5,$A$96:$A$113,$B$96:$B$113)))","v":""},{"$f":"IF(GN5=0,\"\",GN6&IF(GN5=1,\"\",LOOKUP(GN5,$A$96:$A$113,$B$96:$B$113)))","v":""},{"$f":"IF(GO5=0,\"\",GO6&IF(GO5=1,\"\",LOOKUP(GO5,$A$96:$A$113,$B$96:$B$113)))","v":""},{"$f":"IF(GP5=0,\"\",GP6&IF(GP5=1,\"\",LOOKUP(GP5,$A$96:$A$113,$B$96:$B$113)))","v":""},{"$f":"IF(GQ5=0,\"\",GQ6&IF(GQ5=1,\"\",LOOKUP(GQ5,$A$96:$A$113,$B$96:$B$113)))","v":""},{"$f":"IF(GR5=0,\"\",GR6&IF(GR5=1,\"\",LOOKUP(GR5,$A$96:$A$113,$B$96:$B$113)))","v":""},{"$f":"IF(GS5=0,\"\",GS6&IF(GS5=1,\"\",LOOKUP(GS5,$A$96:$A$113,$B$96:$B$113)))","v":""},{"$f":"IF(GT5=0,\"\",GT6&IF(GT5=1,\"\",LOOKUP(GT5,$A$96:$A$113,$B$96:$B$113)))","v":""},{"$f":"IF(GU5=0,\"\",GU6&IF(GU5=1,\"\",LOOKUP(GU5,$A$96:$A$113,$B$96:$B$113)))","v":""},{"$f":"IF(GV5=0,\"\",GV6&IF(GV5=1,\"\",LOOKUP(GV5,$A$96:$A$113,$B$96:$B$113)))","v":""},{"$f":"IF(GW5=0,\"\",GW6&IF(GW5=1,\"\",LOOKUP(GW5,$A$96:$A$113,$B$96:$B$113)))","v":""},{"$f":"IF(GX5=0,\"\",GX6&IF(GX5=1,\"\",LOOKUP(GX5,$A$96:$A$113,$B$96:$B$113)))","v":""},{"$f":"IF(GY5=0,\"\",GY6&IF(GY5=1,\"\",LOOKUP(GY5,$A$96:$A$113,$B$96:$B$113)))","v":""},{"$f":"IF(GZ5=0,\"\",GZ6&IF(GZ5=1,\"\",LOOKUP(GZ5,$A$96:$A$113,$B$96:$B$113)))","v":""},{"$f":"IF(HA5=0,\"\",HA6&IF(HA5=1,\"\",LOOKUP(HA5,$A$96:$A$113,$B$96:$B$113)))","v":""},{"$f":"IF(HB5=0,\"\",HB6&IF(HB5=1,\"\",LOOKUP(HB5,$A$96:$A$113,$B$96:$B$113)))","v":""},{"$f":"IF(HC5=0,\"\",HC6&IF(HC5=1,\"\",LOOKUP(HC5,$A$96:$A$113,$B$96:$B$113)))","v":""},{"$f":"IF(HD5=0,\"\",HD6&IF(HD5=1,\"\",LOOKUP(HD5,$A$96:$A$113,$B$96:$B$113)))","v":""},{"$f":"IF(HE5=0,\"\",HE6&IF(HE5=1,\"\",LOOKUP(HE5,$A$96:$A$113,$B$96:$B$113)))","v":""},{"$f":"IF(HF5=0,\"\",HF6&IF(HF5=1,\"\",LOOKUP(HF5,$A$96:$A$113,$B$96:$B$113)))","v":""},{"$f":"IF(HG5=0,\"\",HG6&IF(HG5=1,\"\",LOOKUP(HG5,$A$96:$A$113,$B$96:$B$113)))","v":""},{"$f":"IF(HH5=0,\"\",HH6&IF(HH5=1,\"\",LOOKUP(HH5,$A$96:$A$113,$B$96:$B$113)))","v":""},{"$f":"IF(HI5=0,\"\",HI6&IF(HI5=1,\"\",LOOKUP(HI5,$A$96:$A$113,$B$96:$B$113)))","v":""},{"$f":"IF(HJ5=0,\"\",HJ6&IF(HJ5=1,\"\",LOOKUP(HJ5,$A$96:$A$113,$B$96:$B$113)))","v":""},{"$f":"IF(HK5=0,\"\",HK6&IF(HK5=1,\"\",LOOKUP(HK5,$A$96:$A$113,$B$96:$B$113)))","v":""},{"$f":"IF(HL5=0,\"\",HL6&IF(HL5=1,\"\",LOOKUP(HL5,$A$96:$A$113,$B$96:$B$113)))","v":""},{"$f":"IF(HM5=0,\"\",HM6&IF(HM5=1,\"\",LOOKUP(HM5,$A$96:$A$113,$B$96:$B$113)))","v":""},{"$f":"IF(HN5=0,\"\",HN6&IF(HN5=1,\"\",LOOKUP(HN5,$A$96:$A$113,$B$96:$B$113)))","v":""},{"$f":"IF(HO5=0,\"\",HO6&IF(HO5=1,\"\",LOOKUP(HO5,$A$96:$A$113,$B$96:$B$113)))","v":""},{"$f":"IF(HP5=0,\"\",HP6&IF(HP5=1,\"\",LOOKUP(HP5,$A$96:$A$113,$B$96:$B$113)))","v":""},{"$f":"IF(HQ5=0,\"\",HQ6&IF(HQ5=1,\"\",LOOKUP(HQ5,$A$96:$A$113,$B$96:$B$113)))","v":""},{"$f":"IF(HR5=0,\"\",HR6&IF(HR5=1,\"\",LOOKUP(HR5,$A$96:$A$113,$B$96:$B$113)))","v":""},{"$f":"IF(HS5=0,\"\",HS6&IF(HS5=1,\"\",LOOKUP(HS5,$A$96:$A$113,$B$96:$B$113)))","v":""},{"$f":"IF(HT5=0,\"\",HT6&IF(HT5=1,\"\",LOOKUP(HT5,$A$96:$A$113,$B$96:$B$113)))","v":""},{"$f":"IF(HU5=0,\"\",HU6&IF(HU5=1,\"\",LOOKUP(HU5,$A$96:$A$113,$B$96:$B$113)))","v":""},{"$f":"IF(HV5=0,\"\",HV6&IF(HV5=1,\"\",LOOKUP(HV5,$A$96:$A$113,$B$96:$B$113)))","v":""},{"$f":"IF(HW5=0,\"\",HW6&IF(HW5=1,\"\",LOOKUP(HW5,$A$96:$A$113,$B$96:$B$113)))","v":""},{"$f":"IF(HX5=0,\"\",HX6&IF(HX5=1,\"\",LOOKUP(HX5,$A$96:$A$113,$B$96:$B$113)))","v":""},{"$f":"IF(HY5=0,\"\",HY6&IF(HY5=1,\"\",LOOKUP(HY5,$A$96:$A$113,$B$96:$B$113)))","v":""},{"$f":"IF(HZ5=0,\"\",HZ6&IF(HZ5=1,\"\",LOOKUP(HZ5,$A$96:$A$113,$B$96:$B$113)))","v":""},{"$f":"IF(IA5=0,\"\",IA6&IF(IA5=1,\"\",LOOKUP(IA5,$A$96:$A$113,$B$96:$B$113)))","v":""},{"$f":"IF(IB5=0,\"\",IB6&IF(IB5=1,\"\",LOOKUP(IB5,$A$96:$A$113,$B$96:$B$113)))","v":""},{"$f":"IF(IC5=0,\"\",IC6&IF(IC5=1,\"\",LOOKUP(IC5,$A$96:$A$113,$B$96:$B$113)))","v":""},{"$f":"IF(ID5=0,\"\",ID6&IF(ID5=1,\"\",LOOKUP(ID5,$A$96:$A$113,$B$96:$B$113)))","v":""},{"$f":"IF(IE5=0,\"\",IE6&IF(IE5=1,\"\",LOOKUP(IE5,$A$96:$A$113,$B$96:$B$113)))","v":""},{"$f":"IF(IF5=0,\"\",IF6&IF(IF5=1,\"\",LOOKUP(IF5,$A$96:$A$113,$B$96:$B$113)))","v":""},{"$f":"IF(IG5=0,\"\",IG6&IF(IG5=1,\"\",LOOKUP(IG5,$A$96:$A$113,$B$96:$B$113)))","v":""},{"$f":"IF(IH5=0,\"\",IH6&IF(IH5=1,\"\",LOOKUP(IH5,$A$96:$A$113,$B$96:$B$113)))","v":""},{"$f":"IF(II5=0,\"\",II6&IF(II5=1,\"\",LOOKUP(II5,$A$96:$A$113,$B$96:$B$113)))","v":""},{"$f":"IF(IJ5=0,\"\",IJ6&IF(IJ5=1,\"\",LOOKUP(IJ5,$A$96:$A$113,$B$96:$B$113)))","v":""},{"$f":"IF(IK5=0,\"\",IK6&IF(IK5=1,\"\",LOOKUP(IK5,$A$96:$A$113,$B$96:$B$113)))","v":""},{"$f":"IF(IL5=0,\"\",IL6&IF(IL5=1,\"\",LOOKUP(IL5,$A$96:$A$113,$B$96:$B$113)))","v":""},{"$f":"IF(IM5=0,\"\",IM6&IF(IM5=1,\"\",LOOKUP(IM5,$A$96:$A$113,$B$96:$B$113)))","v":""},{"$f":"IF(IN5=0,\"\",IN6&IF(IN5=1,\"\",LOOKUP(IN5,$A$96:$A$113,$B$96:$B$113)))","v":""},{"$f":"IF(IO5=0,\"\",IO6&IF(IO5=1,\"\",LOOKUP(IO5,$A$96:$A$113,$B$96:$B$113)))","v":""},{"$f":"IF(IP5=0,\"\",IP6&IF(IP5=1,\"\",LOOKUP(IP5,$A$96:$A$113,$B$96:$B$113)))","v":""},{"$f":"IF(IQ5=0,\"\",IQ6&IF(IQ5=1,\"\",LOOKUP(IQ5,$A$96:$A$113,$B$96:$B$113)))","v":""},{"$f":"IF(IR5=0,\"\",IR6&IF(IR5=1,\"\",LOOKUP(IR5,$A$96:$A$113,$B$96:$B$113)))","v":""},{"$f":"IF(IS5=0,\"\",IS6&IF(IS5=1,\"\",LOOKUP(IS5,$A$96:$A$113,$B$96:$B$113)))","v":""},{"$f":"IF(IT5=0,\"\",IT6&IF(IT5=1,\"\",LOOKUP(IT5,$A$96:$A$113,$B$96:$B$113)))","v":""},{"$f":"IF(IU5=0,\"\",IU6&IF(IU5=1,\"\",LOOKUP(IU5,$A$96:$A$113,$B$96:$B$113)))","v":""},{"$f":"IF(IV5=0,\"\",IV6&IF(IV5=1,\"\",LOOKUP(IV5,$A$96:$A$113,$B$96:$B$113)))","v":""},{"$f":"IF(IW5=0,\"\",IW6&IF(IW5=1,\"\",LOOKUP(IW5,$A$96:$A$113,$B$96:$B$113)))","v":""},{"$f":"IF(IX5=0,\"\",IX6&IF(IX5=1,\"\",LOOKUP(IX5,$A$96:$A$113,$B$96:$B$113)))","v":""},{"$f":"IF(IY5=0,\"\",IY6&IF(IY5=1,\"\",LOOKUP(IY5,$A$96:$A$113,$B$96:$B$113)))","v":""},{"$f":"IF(IZ5=0,\"\",IZ6&IF(IZ5=1,\"\",LOOKUP(IZ5,$A$96:$A$113,$B$96:$B$113)))","v":""},{"$f":"IF(JA5=0,\"\",JA6&IF(JA5=1,\"\",LOOKUP(JA5,$A$96:$A$113,$B$96:$B$113)))","v":""},{"$f":"IF(JB5=0,\"\",JB6&IF(JB5=1,\"\",LOOKUP(JB5,$A$96:$A$113,$B$96:$B$113)))","v":""},{"$f":"IF(JC5=0,\"\",JC6&IF(JC5=1,\"\",LOOKUP(JC5,$A$96:$A$113,$B$96:$B$113)))","v":""},{"$f":"IF(JD5=0,\"\",JD6&IF(JD5=1,\"\",LOOKUP(JD5,$A$96:$A$113,$B$96:$B$113)))","v":""},{"$f":"IF(JE5=0,\"\",JE6&IF(JE5=1,\"\",LOOKUP(JE5,$A$96:$A$113,$B$96:$B$113)))","v":""},{"$f":"IF(JF5=0,\"\",JF6&IF(JF5=1,\"\",LOOKUP(JF5,$A$96:$A$113,$B$96:$B$113)))","v":""},{"$f":"IF(JG5=0,\"\",JG6&IF(JG5=1,\"\",LOOKUP(JG5,$A$96:$A$113,$B$96:$B$113)))","v":""},{"$f":"IF(JH5=0,\"\",JH6&IF(JH5=1,\"\",LOOKUP(JH5,$A$96:$A$113,$B$96:$B$113)))","v":""},{"$f":"IF(JI5=0,\"\",JI6&IF(JI5=1,\"\",LOOKUP(JI5,$A$96:$A$113,$B$96:$B$113)))","v":""},{"$f":"IF(JJ5=0,\"\",JJ6&IF(JJ5=1,\"\",LOOKUP(JJ5,$A$96:$A$113,$B$96:$B$113)))","v":""},{"$f":"IF(JK5=0,\"\",JK6&IF(JK5=1,\"\",LOOKUP(JK5,$A$96:$A$113,$B$96:$B$113)))","v":""},{"$f":"IF(JL5=0,\"\",JL6&IF(JL5=1,\"\",LOOKUP(JL5,$A$96:$A$113,$B$96:$B$113)))","v":""},{"$f":"IF(JM5=0,\"\",JM6&IF(JM5=1,\"\",LOOKUP(JM5,$A$96:$A$113,$B$96:$B$113)))","v":""},{"$f":"IF(JN5=0,\"\",JN6&IF(JN5=1,\"\",LOOKUP(JN5,$A$96:$A$113,$B$96:$B$113)))","v":""},{"$f":"IF(JO5=0,\"\",JO6&IF(JO5=1,\"\",LOOKUP(JO5,$A$96:$A$113,$B$96:$B$113)))","v":""},{"$f":"IF(JP5=0,\"\",JP6&IF(JP5=1,\"\",LOOKUP(JP5,$A$96:$A$113,$B$96:$B$113)))","v":""},{"$f":"IF(JQ5=0,\"\",JQ6&IF(JQ5=1,\"\",LOOKUP(JQ5,$A$96:$A$113,$B$96:$B$113)))","v":""},{"$f":"IF(JR5=0,\"\",JR6&IF(JR5=1,\"\",LOOKUP(JR5,$A$96:$A$113,$B$96:$B$113)))","v":""},{"$f":"IF(JS5=0,\"\",JS6&IF(JS5=1,\"\",LOOKUP(JS5,$A$96:$A$113,$B$96:$B$113)))","v":""},{"$f":"IF(JT5=0,\"\",JT6&IF(JT5=1,\"\",LOOKUP(JT5,$A$96:$A$113,$B$96:$B$113)))","v":""},{"$f":"IF(JU5=0,\"\",JU6&IF(JU5=1,\"\",LOOKUP(JU5,$A$96:$A$113,$B$96:$B$113)))","v":""},{"$f":"IF(JV5=0,\"\",JV6&IF(JV5=1,\"\",LOOKUP(JV5,$A$96:$A$113,$B$96:$B$113)))","v":""},{"$f":"IF(JW5=0,\"\",JW6&IF(JW5=1,\"\",LOOKUP(JW5,$A$96:$A$113,$B$96:$B$113)))","v":""},{"$f":"IF(JX5=0,\"\",JX6&IF(JX5=1,\"\",LOOKUP(JX5,$A$96:$A$113,$B$96:$B$113)))","v":""},{"$f":"IF(JY5=0,\"\",JY6&IF(JY5=1,\"\",LOOKUP(JY5,$A$96:$A$113,$B$96:$B$113)))","v":""},{"$f":"IF(JZ5=0,\"\",JZ6&IF(JZ5=1,\"\",LOOKUP(JZ5,$A$96:$A$113,$B$96:$B$113)))","v":""},{"$f":"IF(KA5=0,\"\",KA6&IF(KA5=1,\"\",LOOKUP(KA5,$A$96:$A$113,$B$96:$B$113)))","v":""},{"$f":"IF(KB5=0,\"\",KB6&IF(KB5=1,\"\",LOOKUP(KB5,$A$96:$A$113,$B$96:$B$113)))","v":""},{"$f":"IF(KC5=0,\"\",KC6&IF(KC5=1,\"\",LOOKUP(KC5,$A$96:$A$113,$B$96:$B$113)))","v":""},{"$f":"IF(KD5=0,\"\",KD6&IF(KD5=1,\"\",LOOKUP(KD5,$A$96:$A$113,$B$96:$B$113)))","v":""},{"$f":"IF(KE5=0,\"\",KE6&IF(KE5=1,\"\",LOOKUP(KE5,$A$96:$A$113,$B$96:$B$113)))","v":""},{"$f":"IF(KF5=0,\"\",KF6&IF(KF5=1,\"\",LOOKUP(KF5,$A$96:$A$113,$B$96:$B$113)))","v":""},{"$f":"IF(KG5=0,\"\",KG6&IF(KG5=1,\"\",LOOKUP(KG5,$A$96:$A$113,$B$96:$B$113)))","v":""},{"$f":"IF(KH5=0,\"\",KH6&IF(KH5=1,\"\",LOOKUP(KH5,$A$96:$A$113,$B$96:$B$113)))","v":""},{"$f":"IF(KI5=0,\"\",KI6&IF(KI5=1,\"\",LOOKUP(KI5,$A$96:$A$113,$B$96:$B$113)))","v":""},{"$f":"IF(KJ5=0,\"\",KJ6&IF(KJ5=1,\"\",LOOKUP(KJ5,$A$96:$A$113,$B$96:$B$113)))","v":""},{"$f":"IF(KK5=0,\"\",KK6&IF(KK5=1,\"\",LOOKUP(KK5,$A$96:$A$113,$B$96:$B$113)))","v":""},{"$f":"IF(KL5=0,\"\",KL6&IF(KL5=1,\"\",LOOKUP(KL5,$A$96:$A$113,$B$96:$B$113)))","v":""},{"$f":"IF(KM5=0,\"\",KM6&IF(KM5=1,\"\",LOOKUP(KM5,$A$96:$A$113,$B$96:$B$113)))","v":""},{"$f":"IF(KN5=0,\"\",KN6&IF(KN5=1,\"\",LOOKUP(KN5,$A$96:$A$113,$B$96:$B$113)))","v":""},{"$f":"IF(KO5=0,\"\",KO6&IF(KO5=1,\"\",LOOKUP(KO5,$A$96:$A$113,$B$96:$B$113)))","v":""},{"$f":"IF(KP5=0,\"\",KP6&IF(KP5=1,\"\",LOOKUP(KP5,$A$96:$A$113,$B$96:$B$113)))","v":""},{"$f":"IF(KQ5=0,\"\",KQ6&IF(KQ5=1,\"\",LOOKUP(KQ5,$A$96:$A$113,$B$96:$B$113)))","v":""},{"$f":"IF(KR5=0,\"\",KR6&IF(KR5=1,\"\",LOOKUP(KR5,$A$96:$A$113,$B$96:$B$113)))","v":""},{"$f":"IF(KS5=0,\"\",KS6&IF(KS5=1,\"\",LOOKUP(KS5,$A$96:$A$113,$B$96:$B$113)))","v":""},{"$f":"IF(KT5=0,\"\",KT6&IF(KT5=1,\"\",LOOKUP(KT5,$A$96:$A$113,$B$96:$B$113)))","v":""},{"$f":"IF(KU5=0,\"\",KU6&IF(KU5=1,\"\",LOOKUP(KU5,$A$96:$A$113,$B$96:$B$113)))","v":""},{"$f":"IF(KV5=0,\"\",KV6&IF(KV5=1,\"\",LOOKUP(KV5,$A$96:$A$113,$B$96:$B$113)))","v":""},{"$f":"IF(KW5=0,\"\",KW6&IF(KW5=1,\"\",LOOKUP(KW5,$A$96:$A$113,$B$96:$B$113)))","v":""},{"$f":"IF(KX5=0,\"\",KX6&IF(KX5=1,\"\",LOOKUP(KX5,$A$96:$A$113,$B$96:$B$113)))","v":""},{"$f":"IF(KY5=0,\"\",KY6&IF(KY5=1,\"\",LOOKUP(KY5,$A$96:$A$113,$B$96:$B$113)))","v":""},{"$f":"IF(KZ5=0,\"\",KZ6&IF(KZ5=1,\"\",LOOKUP(KZ5,$A$96:$A$113,$B$96:$B$113)))","v":""},{"$f":"IF(LA5=0,\"\",LA6&IF(LA5=1,\"\",LOOKUP(LA5,$A$96:$A$113,$B$96:$B$113)))","v":""},{"$f":"IF(LB5=0,\"\",LB6&IF(LB5=1,\"\",LOOKUP(LB5,$A$96:$A$113,$B$96:$B$113)))","v":""},{"$f":"IF(LC5=0,\"\",LC6&IF(LC5=1,\"\",LOOKUP(LC5,$A$96:$A$113,$B$96:$B$113)))","v":""},{"$f":"IF(LD5=0,\"\",LD6&IF(LD5=1,\"\",LOOKUP(LD5,$A$96:$A$113,$B$96:$B$113)))","v":""},{"$f":"IF(LE5=0,\"\",LE6&IF(LE5=1,\"\",LOOKUP(LE5,$A$96:$A$113,$B$96:$B$113)))","v":""},{"$f":"IF(LF5=0,\"\",LF6&IF(LF5=1,\"\",LOOKUP(LF5,$A$96:$A$113,$B$96:$B$113)))","v":""},{"$f":"IF(LG5=0,\"\",LG6&IF(LG5=1,\"\",LOOKUP(LG5,$A$96:$A$113,$B$96:$B$113)))","v":""},{"$f":"IF(LH5=0,\"\",LH6&IF(LH5=1,\"\",LOOKUP(LH5,$A$96:$A$113,$B$96:$B$113)))","v":""},{"$f":"IF(LI5=0,\"\",LI6&IF(LI5=1,\"\",LOOKUP(LI5,$A$96:$A$113,$B$96:$B$113)))","v":""},{"$f":"IF(LJ5=0,\"\",LJ6&IF(LJ5=1,\"\",LOOKUP(LJ5,$A$96:$A$113,$B$96:$B$113)))","v":""},{"$f":"IF(LK5=0,\"\",LK6&IF(LK5=1,\"\",LOOKUP(LK5,$A$96:$A$113,$B$96:$B$113)))","v":""},{"$f":"IF(LL5=0,\"\",LL6&IF(LL5=1,\"\",LOOKUP(LL5,$A$96:$A$113,$B$96:$B$113)))","v":""},{"$f":"IF(LM5=0,\"\",LM6&IF(LM5=1,\"\",LOOKUP(LM5,$A$96:$A$113,$B$96:$B$113)))","v":""},{"$f":"IF(LN5=0,\"\",LN6&IF(LN5=1,\"\",LOOKUP(LN5,$A$96:$A$113,$B$96:$B$113)))","v":""},{"$f":"IF(LO5=0,\"\",LO6&IF(LO5=1,\"\",LOOKUP(LO5,$A$96:$A$113,$B$96:$B$113)))","v":""},{"$f":"IF(LP5=0,\"\",LP6&IF(LP5=1,\"\",LOOKUP(LP5,$A$96:$A$113,$B$96:$B$113)))","v":""},{"$f":"IF(LQ5=0,\"\",LQ6&IF(LQ5=1,\"\",LOOKUP(LQ5,$A$96:$A$113,$B$96:$B$113)))","v":""},{"$f":"IF(LR5=0,\"\",LR6&IF(LR5=1,\"\",LOOKUP(LR5,$A$96:$A$113,$B$96:$B$113)))","v":""},{"$f":"IF(LS5=0,\"\",LS6&IF(LS5=1,\"\",LOOKUP(LS5,$A$96:$A$113,$B$96:$B$113)))","v":""},{"$f":"IF(LT5=0,\"\",LT6&IF(LT5=1,\"\",LOOKUP(LT5,$A$96:$A$113,$B$96:$B$113)))","v":""},{"$f":"IF(LU5=0,\"\",LU6&IF(LU5=1,\"\",LOOKUP(LU5,$A$96:$A$113,$B$96:$B$113)))","v":""},{"$f":"IF(LV5=0,\"\",LV6&IF(LV5=1,\"\",LOOKUP(LV5,$A$96:$A$113,$B$96:$B$113)))","v":""},{"$f":"IF(LW5=0,\"\",LW6&IF(LW5=1,\"\",LOOKUP(LW5,$A$96:$A$113,$B$96:$B$113)))","v":""},{"$f":"IF(LX5=0,\"\",LX6&IF(LX5=1,\"\",LOOKUP(LX5,$A$96:$A$113,$B$96:$B$113)))","v":""},{"$f":"IF(LY5=0,\"\",LY6&IF(LY5=1,\"\",LOOKUP(LY5,$A$96:$A$113,$B$96:$B$113)))","v":""},{"$f":"IF(LZ5=0,\"\",LZ6&IF(LZ5=1,\"\",LOOKUP(LZ5,$A$96:$A$113,$B$96:$B$113)))","v":""},{"$f":"IF(MA5=0,\"\",MA6&IF(MA5=1,\"\",LOOKUP(MA5,$A$96:$A$113,$B$96:$B$113)))","v":""},{"$f":"IF(MB5=0,\"\",MB6&IF(MB5=1,\"\",LOOKUP(MB5,$A$96:$A$113,$B$96:$B$113)))","v":""},{"$f":"IF(MC5=0,\"\",MC6&IF(MC5=1,\"\",LOOKUP(MC5,$A$96:$A$113,$B$96:$B$113)))","v":""},{"$f":"IF(MD5=0,\"\",MD6&IF(MD5=1,\"\",LOOKUP(MD5,$A$96:$A$113,$B$96:$B$113)))","v":""},{"$f":"IF(ME5=0,\"\",ME6&IF(ME5=1,\"\",LOOKUP(ME5,$A$96:$A$113,$B$96:$B$113)))","v":""},{"$f":"IF(MF5=0,\"\",MF6&IF(MF5=1,\"\",LOOKUP(MF5,$A$96:$A$113,$B$96:$B$113)))","v":""},{"$f":"IF(MG5=0,\"\",MG6&IF(MG5=1,\"\",LOOKUP(MG5,$A$96:$A$113,$B$96:$B$113)))","v":""},{"$f":"IF(MH5=0,\"\",MH6&IF(MH5=1,\"\",LOOKUP(MH5,$A$96:$A$113,$B$96:$B$113)))","v":""},{"$f":"IF(MI5=0,\"\",MI6&IF(MI5=1,\"\",LOOKUP(MI5,$A$96:$A$113,$B$96:$B$113)))","v":""},{"$f":"IF(MJ5=0,\"\",MJ6&IF(MJ5=1,\"\",LOOKUP(MJ5,$A$96:$A$113,$B$96:$B$113)))","v":""},{"$f":"IF(MK5=0,\"\",MK6&IF(MK5=1,\"\",LOOKUP(MK5,$A$96:$A$113,$B$96:$B$113)))","v":""},{"$f":"IF(ML5=0,\"\",ML6&IF(ML5=1,\"\",LOOKUP(ML5,$A$96:$A$113,$B$96:$B$113)))","v":""},{"$f":"IF(MM5=0,\"\",MM6&IF(MM5=1,\"\",LOOKUP(MM5,$A$96:$A$113,$B$96:$B$113)))","v":""},{"$f":"IF(MN5=0,\"\",MN6&IF(MN5=1,\"\",LOOKUP(MN5,$A$96:$A$113,$B$96:$B$113)))","v":""},{"$f":"IF(MO5=0,\"\",MO6&IF(MO5=1,\"\",LOOKUP(MO5,$A$96:$A$113,$B$96:$B$113)))","v":""},{"$f":"IF(MP5=0,\"\",MP6&IF(MP5=1,\"\",LOOKUP(MP5,$A$96:$A$113,$B$96:$B$113)))","v":""},{"$f":"IF(MQ5=0,\"\",MQ6&IF(MQ5=1,\"\",LOOKUP(MQ5,$A$96:$A$113,$B$96:$B$113)))","v":""},{"$f":"IF(MR5=0,\"\",MR6&IF(MR5=1,\"\",LOOKUP(MR5,$A$96:$A$113,$B$96:$B$113)))","v":""},{"$f":"IF(MS5=0,\"\",MS6&IF(MS5=1,\"\",LOOKUP(MS5,$A$96:$A$113,$B$96:$B$113)))","v":""},{"$f":"IF(MT5=0,\"\",MT6&IF(MT5=1,\"\",LOOKUP(MT5,$A$96:$A$113,$B$96:$B$113)))","v":""},{"$f":"IF(MU5=0,\"\",MU6&IF(MU5=1,\"\",LOOKUP(MU5,$A$96:$A$113,$B$96:$B$113)))","v":""},{"$f":"IF(MV5=0,\"\",MV6&IF(MV5=1,\"\",LOOKUP(MV5,$A$96:$A$113,$B$96:$B$113)))","v":""},{"$f":"IF(MW5=0,\"\",MW6&IF(MW5=1,\"\",LOOKUP(MW5,$A$96:$A$113,$B$96:$B$113)))","v":""},{"$f":"IF(MX5=0,\"\",MX6&IF(MX5=1,\"\",LOOKUP(MX5,$A$96:$A$113,$B$96:$B$113)))","v":""},{"$f":"IF(MY5=0,\"\",MY6&IF(MY5=1,\"\",LOOKUP(MY5,$A$96:$A$113,$B$96:$B$113)))","v":""},{"$f":"IF(MZ5=0,\"\",MZ6&IF(MZ5=1,\"\",LOOKUP(MZ5,$A$96:$A$113,$B$96:$B$113)))","v":""},{"$f":"IF(NA5=0,\"\",NA6&IF(NA5=1,\"\",LOOKUP(NA5,$A$96:$A$113,$B$96:$B$113)))","v":""},{"$f":"IF(NB5=0,\"\",NB6&IF(NB5=1,\"\",LOOKUP(NB5,$A$96:$A$113,$B$96:$B$113)))","v":""},{"$f":"IF(NC5=0,\"\",NC6&IF(NC5=1,\"\",LOOKUP(NC5,$A$96:$A$113,$B$96:$B$113)))","v":""},{"$f":"IF(ND5=0,\"\",ND6&IF(ND5=1,\"\",LOOKUP(ND5,$A$96:$A$113,$B$96:$B$113)))","v":""},{"$f":"IF(NE5=0,\"\",NE6&IF(NE5=1,\"\",LOOKUP(NE5,$A$96:$A$113,$B$96:$B$113)))","v":""},{"$f":"IF(NF5=0,\"\",NF6&IF(NF5=1,\"\",LOOKUP(NF5,$A$96:$A$113,$B$96:$B$113)))","v":""},{"$f":"IF(NG5=0,\"\",NG6&IF(NG5=1,\"\",LOOKUP(NG5,$A$96:$A$113,$B$96:$B$113)))","v":""},{"$f":"IF(NH5=0,\"\",NH6&IF(NH5=1,\"\",LOOKUP(NH5,$A$96:$A$113,$B$96:$B$113)))","v":""},{"$f":"IF(NI5=0,\"\",NI6&IF(NI5=1,\"\",LOOKUP(NI5,$A$96:$A$113,$B$96:$B$113)))","v":""},{"$f":"IF(NJ5=0,\"\",NJ6&IF(NJ5=1,\"\",LOOKUP(NJ5,$A$96:$A$113,$B$96:$B$113)))","v":""},{"$f":"IF(NK5=0,\"\",NK6&IF(NK5=1,\"\",LOOKUP(NK5,$A$96:$A$113,$B$96:$B$113)))","v":""},{"$f":"IF(NL5=0,\"\",NL6&IF(NL5=1,\"\",LOOKUP(NL5,$A$96:$A$113,$B$96:$B$113)))","v":""},{"$f":"IF(NM5=0,\"\",NM6&IF(NM5=1,\"\",LOOKUP(NM5,$A$96:$A$113,$B$96:$B$113)))","v":""},{"$f":"IF(NN5=0,\"\",NN6&IF(NN5=1,\"\",LOOKUP(NN5,$A$96:$A$113,$B$96:$B$113)))","v":""},{"$f":"IF(NO5=0,\"\",NO6&IF(NO5=1,\"\",LOOKUP(NO5,$A$96:$A$113,$B$96:$B$113)))","v":""},{"$f":"IF(NP5=0,\"\",NP6&IF(NP5=1,\"\",LOOKUP(NP5,$A$96:$A$113,$B$96:$B$113)))","v":""},{"$f":"IF(NQ5=0,\"\",NQ6&IF(NQ5=1,\"\",LOOKUP(NQ5,$A$96:$A$113,$B$96:$B$113)))","v":""},{"$f":"IF(NR5=0,\"\",NR6&IF(NR5=1,\"\",LOOKUP(NR5,$A$96:$A$113,$B$96:$B$113)))","v":""},{"$f":"IF(NS5=0,\"\",NS6&IF(NS5=1,\"\",LOOKUP(NS5,$A$96:$A$113,$B$96:$B$113)))","v":""},{"$f":"IF(NT5=0,\"\",NT6&IF(NT5=1,\"\",LOOKUP(NT5,$A$96:$A$113,$B$96:$B$113)))","v":""},{"$f":"IF(NU5=0,\"\",NU6&IF(NU5=1,\"\",LOOKUP(NU5,$A$96:$A$113,$B$96:$B$113)))","v":""},{"$f":"IF(NV5=0,\"\",NV6&IF(NV5=1,\"\",LOOKUP(NV5,$A$96:$A$113,$B$96:$B$113)))","v":""},{"$f":"IF(NW5=0,\"\",NW6&IF(NW5=1,\"\",LOOKUP(NW5,$A$96:$A$113,$B$96:$B$113)))","v":""},{"$f":"IF(NX5=0,\"\",NX6&IF(NX5=1,\"\",LOOKUP(NX5,$A$96:$A$113,$B$96:$B$113)))","v":""},{"$f":"IF(NY5=0,\"\",NY6&IF(NY5=1,\"\",LOOKUP(NY5,$A$96:$A$113,$B$96:$B$113)))","v":""},{"$f":"IF(NZ5=0,\"\",NZ6&IF(NZ5=1,\"\",LOOKUP(NZ5,$A$96:$A$113,$B$96:$B$113)))","v":""},{"$f":"IF(OA5=0,\"\",OA6&IF(OA5=1,\"\",LOOKUP(OA5,$A$96:$A$113,$B$96:$B$113)))","v":""},{"$f":"IF(OB5=0,\"\",OB6&IF(OB5=1,\"\",LOOKUP(OB5,$A$96:$A$113,$B$96:$B$113)))","v":""},{"$f":"IF(OC5=0,\"\",OC6&IF(OC5=1,\"\",LOOKUP(OC5,$A$96:$A$113,$B$96:$B$113)))","v":""},{"$f":"IF(OD5=0,\"\",OD6&IF(OD5=1,\"\",LOOKUP(OD5,$A$96:$A$113,$B$96:$B$113)))","v":""},{"$f":"IF(OE5=0,\"\",OE6&IF(OE5=1,\"\",LOOKUP(OE5,$A$96:$A$113,$B$96:$B$113)))","v":""},{"$f":"IF(OF5=0,\"\",OF6&IF(OF5=1,\"\",LOOKUP(OF5,$A$96:$A$113,$B$96:$B$113)))","v":""},{"$f":"IF(OG5=0,\"\",OG6&IF(OG5=1,\"\",LOOKUP(OG5,$A$96:$A$113,$B$96:$B$113)))","v":""},{"$f":"IF(OH5=0,\"\",OH6&IF(OH5=1,\"\",LOOKUP(OH5,$A$96:$A$113,$B$96:$B$113)))","v":""},{"$f":"IF(OI5=0,\"\",OI6&IF(OI5=1,\"\",LOOKUP(OI5,$A$96:$A$113,$B$96:$B$113)))","v":""},{"$f":"IF(OJ5=0,\"\",OJ6&IF(OJ5=1,\"\",LOOKUP(OJ5,$A$96:$A$113,$B$96:$B$113)))","v":""},{"$f":"IF(OK5=0,\"\",OK6&IF(OK5=1,\"\",LOOKUP(OK5,$A$96:$A$113,$B$96:$B$113)))","v":""},{"$f":"IF(OL5=0,\"\",OL6&IF(OL5=1,\"\",LOOKUP(OL5,$A$96:$A$113,$B$96:$B$113)))","v":""},{"$f":"IF(OM5=0,\"\",OM6&IF(OM5=1,\"\",LOOKUP(OM5,$A$96:$A$113,$B$96:$B$113)))","v":""},{"$f":"IF(ON5=0,\"\",ON6&IF(ON5=1,\"\",LOOKUP(ON5,$A$96:$A$113,$B$96:$B$113)))","v":""},{"$f":"IF(OO5=0,\"\",OO6&IF(OO5=1,\"\",LOOKUP(OO5,$A$96:$A$113,$B$96:$B$113)))","v":""},{"$f":"IF(OP5=0,\"\",OP6&IF(OP5=1,\"\",LOOKUP(OP5,$A$96:$A$113,$B$96:$B$113)))","v":""},{"$f":"IF(OQ5=0,\"\",OQ6&IF(OQ5=1,\"\",LOOKUP(OQ5,$A$96:$A$113,$B$96:$B$113)))","v":""},{"$f":"IF(OR5=0,\"\",OR6&IF(OR5=1,\"\",LOOKUP(OR5,$A$96:$A$113,$B$96:$B$113)))","v":""},{"$f":"IF(OS5=0,\"\",OS6&IF(OS5=1,\"\",LOOKUP(OS5,$A$96:$A$113,$B$96:$B$113)))","v":""},{"$f":"IF(OT5=0,\"\",OT6&IF(OT5=1,\"\",LOOKUP(OT5,$A$96:$A$113,$B$96:$B$113)))","v":""},{"$f":"IF(OU5=0,\"\",OU6&IF(OU5=1,\"\",LOOKUP(OU5,$A$96:$A$113,$B$96:$B$113)))","v":""},{"$f":"IF(OV5=0,\"\",OV6&IF(OV5=1,\"\",LOOKUP(OV5,$A$96:$A$113,$B$96:$B$113)))","v":""},{"$f":"IF(OW5=0,\"\",OW6&IF(OW5=1,\"\",LOOKUP(OW5,$A$96:$A$113,$B$96:$B$113)))","v":""},{"$f":"IF(OX5=0,\"\",OX6&IF(OX5=1,\"\",LOOKUP(OX5,$A$96:$A$113,$B$96:$B$113)))","v":""},{"$f":"IF(OY5=0,\"\",OY6&IF(OY5=1,\"\",LOOKUP(OY5,$A$96:$A$113,$B$96:$B$113)))","v":""},{"$f":"IF(OZ5=0,\"\",OZ6&IF(OZ5=1,\"\",LOOKUP(OZ5,$A$96:$A$113,$B$96:$B$113)))","v":""},{"$f":"IF(PA5=0,\"\",PA6&IF(PA5=1,\"\",LOOKUP(PA5,$A$96:$A$113,$B$96:$B$113)))","v":""},{"$f":"IF(PB5=0,\"\",PB6&IF(PB5=1,\"\",LOOKUP(PB5,$A$96:$A$113,$B$96:$B$113)))","v":""},{"$f":"IF(PC5=0,\"\",PC6&IF(PC5=1,\"\",LOOKUP(PC5,$A$96:$A$113,$B$96:$B$113)))","v":""},{"$f":"IF(PD5=0,\"\",PD6&IF(PD5=1,\"\",LOOKUP(PD5,$A$96:$A$113,$B$96:$B$113)))","v":""},{"$f":"IF(PE5=0,\"\",PE6&IF(PE5=1,\"\",LOOKUP(PE5,$A$96:$A$113,$B$96:$B$113)))","v":""},{"$f":"IF(PF5=0,\"\",PF6&IF(PF5=1,\"\",LOOKUP(PF5,$A$96:$A$113,$B$96:$B$113)))","v":""},{"$f":"IF(PG5=0,\"\",PG6&IF(PG5=1,\"\",LOOKUP(PG5,$A$96:$A$113,$B$96:$B$113)))","v":""},{"$f":"IF(PH5=0,\"\",PH6&IF(PH5=1,\"\",LOOKUP(PH5,$A$96:$A$113,$B$96:$B$113)))","v":""},{"$f":"IF(PI5=0,\"\",PI6&IF(PI5=1,\"\",LOOKUP(PI5,$A$96:$A$113,$B$96:$B$113)))","v":""},{"$f":"IF(PJ5=0,\"\",PJ6&IF(PJ5=1,\"\",LOOKUP(PJ5,$A$96:$A$113,$B$96:$B$113)))","v":""},{"$f":"IF(PK5=0,\"\",PK6&IF(PK5=1,\"\",LOOKUP(PK5,$A$96:$A$113,$B$96:$B$113)))","v":""},{"$f":"IF(PL5=0,\"\",PL6&IF(PL5=1,\"\",LOOKUP(PL5,$A$96:$A$113,$B$96:$B$113)))","v":""},{"$f":"IF(PM5=0,\"\",PM6&IF(PM5=1,\"\",LOOKUP(PM5,$A$96:$A$113,$B$96:$B$113)))","v":""},{"$f":"IF(PN5=0,\"\",PN6&IF(PN5=1,\"\",LOOKUP(PN5,$A$96:$A$113,$B$96:$B$113)))","v":""},{"$f":"IF(PO5=0,\"\",PO6&IF(PO5=1,\"\",LOOKUP(PO5,$A$96:$A$113,$B$96:$B$113)))","v":""},{"$f":"IF(PP5=0,\"\",PP6&IF(PP5=1,\"\",LOOKUP(PP5,$A$96:$A$113,$B$96:$B$113)))","v":""},{"$f":"IF(PQ5=0,\"\",PQ6&IF(PQ5=1,\"\",LOOKUP(PQ5,$A$96:$A$113,$B$96:$B$113)))","v":""},{"$f":"IF(PR5=0,\"\",PR6&IF(PR5=1,\"\",LOOKUP(PR5,$A$96:$A$113,$B$96:$B$113)))","v":""},{"$f":"IF(PS5=0,\"\",PS6&IF(PS5=1,\"\",LOOKUP(PS5,$A$96:$A$113,$B$96:$B$113)))","v":""},{"$f":"IF(PT5=0,\"\",PT6&IF(PT5=1,\"\",LOOKUP(PT5,$A$96:$A$113,$B$96:$B$113)))","v":""},{"$f":"IF(PU5=0,\"\",PU6&IF(PU5=1,\"\",LOOKUP(PU5,$A$96:$A$113,$B$96:$B$113)))","v":""},{"$f":"IF(PV5=0,\"\",PV6&IF(PV5=1,\"\",LOOKUP(PV5,$A$96:$A$113,$B$96:$B$113)))","v":""},{"$f":"IF(PW5=0,\"\",PW6&IF(PW5=1,\"\",LOOKUP(PW5,$A$96:$A$113,$B$96:$B$113)))","v":""},{"$f":"IF(PX5=0,\"\",PX6&IF(PX5=1,\"\",LOOKUP(PX5,$A$96:$A$113,$B$96:$B$113)))","v":""},{"$f":"IF(PY5=0,\"\",PY6&IF(PY5=1,\"\",LOOKUP(PY5,$A$96:$A$113,$B$96:$B$113)))","v":""},{"$f":"IF(PZ5=0,\"\",PZ6&IF(PZ5=1,\"\",LOOKUP(PZ5,$A$96:$A$113,$B$96:$B$113)))","v":""},{"$f":"IF(QA5=0,\"\",QA6&IF(QA5=1,\"\",LOOKUP(QA5,$A$96:$A$113,$B$96:$B$113)))","v":""},{"$f":"IF(QB5=0,\"\",QB6&IF(QB5=1,\"\",LOOKUP(QB5,$A$96:$A$113,$B$96:$B$113)))","v":""},{"$f":"IF(QC5=0,\"\",QC6&IF(QC5=1,\"\",LOOKUP(QC5,$A$96:$A$113,$B$96:$B$113)))","v":""},{"$f":"IF(QD5=0,\"\",QD6&IF(QD5=1,\"\",LOOKUP(QD5,$A$96:$A$113,$B$96:$B$113)))","v":""},{"$f":"IF(QE5=0,\"\",QE6&IF(QE5=1,\"\",LOOKUP(QE5,$A$96:$A$113,$B$96:$B$113)))","v":""},{"$f":"IF(QF5=0,\"\",QF6&IF(QF5=1,\"\",LOOKUP(QF5,$A$96:$A$113,$B$96:$B$113)))","v":""},{"$f":"IF(QG5=0,\"\",QG6&IF(QG5=1,\"\",LOOKUP(QG5,$A$96:$A$113,$B$96:$B$113)))","v":""},{"$f":"IF(QH5=0,\"\",QH6&IF(QH5=1,\"\",LOOKUP(QH5,$A$96:$A$113,$B$96:$B$113)))","v":""},{"$f":"IF(QI5=0,\"\",QI6&IF(QI5=1,\"\",LOOKUP(QI5,$A$96:$A$113,$B$96:$B$113)))","v":""},{"$f":"IF(QJ5=0,\"\",QJ6&IF(QJ5=1,\"\",LOOKUP(QJ5,$A$96:$A$113,$B$96:$B$113)))","v":""},{"$f":"IF(QK5=0,\"\",QK6&IF(QK5=1,\"\",LOOKUP(QK5,$A$96:$A$113,$B$96:$B$113)))","v":""},{"$f":"IF(QL5=0,\"\",QL6&IF(QL5=1,\"\",LOOKUP(QL5,$A$96:$A$113,$B$96:$B$113)))","v":""},{"$f":"IF(QM5=0,\"\",QM6&IF(QM5=1,\"\",LOOKUP(QM5,$A$96:$A$113,$B$96:$B$113)))","v":""},{"$f":"IF(QN5=0,\"\",QN6&IF(QN5=1,\"\",LOOKUP(QN5,$A$96:$A$113,$B$96:$B$113)))","v":""},{"$f":"IF(QO5=0,\"\",QO6&IF(QO5=1,\"\",LOOKUP(QO5,$A$96:$A$113,$B$96:$B$113)))","v":""},{"$f":"IF(QP5=0,\"\",QP6&IF(QP5=1,\"\",LOOKUP(QP5,$A$96:$A$113,$B$96:$B$113)))","v":""},{"$f":"IF(QQ5=0,\"\",QQ6&IF(QQ5=1,\"\",LOOKUP(QQ5,$A$96:$A$113,$B$96:$B$113)))","v":""},{"$f":"IF(QR5=0,\"\",QR6&IF(QR5=1,\"\",LOOKUP(QR5,$A$96:$A$113,$B$96:$B$113)))","v":""},{"$f":"IF(QS5=0,\"\",QS6&IF(QS5=1,\"\",LOOKUP(QS5,$A$96:$A$113,$B$96:$B$113)))","v":""},{"$f":"IF(QT5=0,\"\",QT6&IF(QT5=1,\"\",LOOKUP(QT5,$A$96:$A$113,$B$96:$B$113)))","v":""},{"$f":"IF(QU5=0,\"\",QU6&IF(QU5=1,\"\",LOOKUP(QU5,$A$96:$A$113,$B$96:$B$113)))","v":""},{"$f":"IF(QV5=0,\"\",QV6&IF(QV5=1,\"\",LOOKUP(QV5,$A$96:$A$113,$B$96:$B$113)))","v":""},{"$f":"IF(QW5=0,\"\",QW6&IF(QW5=1,\"\",LOOKUP(QW5,$A$96:$A$113,$B$96:$B$113)))","v":""},{"$f":"IF(QX5=0,\"\",QX6&IF(QX5=1,\"\",LOOKUP(QX5,$A$96:$A$113,$B$96:$B$113)))","v":""},{"$f":"IF(QY5=0,\"\",QY6&IF(QY5=1,\"\",LOOKUP(QY5,$A$96:$A$113,$B$96:$B$113)))","v":""},{"$f":"IF(QZ5=0,\"\",QZ6&IF(QZ5=1,\"\",LOOKUP(QZ5,$A$96:$A$113,$B$96:$B$113)))","v":""},{"$f":"IF(RA5=0,\"\",RA6&IF(RA5=1,\"\",LOOKUP(RA5,$A$96:$A$113,$B$96:$B$113)))","v":""},{"$f":"IF(RB5=0,\"\",RB6&IF(RB5=1,\"\",LOOKUP(RB5,$A$96:$A$113,$B$96:$B$113)))","v":""},{"$f":"IF(RC5=0,\"\",RC6&IF(RC5=1,\"\",LOOKUP(RC5,$A$96:$A$113,$B$96:$B$113)))","v":""},{"$f":"IF(RD5=0,\"\",RD6&IF(RD5=1,\"\",LOOKUP(RD5,$A$96:$A$113,$B$96:$B$113)))","v":""},{"$f":"IF(RE5=0,\"\",RE6&IF(RE5=1,\"\",LOOKUP(RE5,$A$96:$A$113,$B$96:$B$113)))","v":""},{"$f":"IF(RF5=0,\"\",RF6&IF(RF5=1,\"\",LOOKUP(RF5,$A$96:$A$113,$B$96:$B$113)))","v":""},{"$f":"IF(RG5=0,\"\",RG6&IF(RG5=1,\"\",LOOKUP(RG5,$A$96:$A$113,$B$96:$B$113)))","v":""},{"$f":"IF(RH5=0,\"\",RH6&IF(RH5=1,\"\",LOOKUP(RH5,$A$96:$A$113,$B$96:$B$113)))","v":""},{"$f":"IF(RI5=0,\"\",RI6&IF(RI5=1,\"\",LOOKUP(RI5,$A$96:$A$113,$B$96:$B$113)))","v":""},{"$f":"IF(RJ5=0,\"\",RJ6&IF(RJ5=1,\"\",LOOKUP(RJ5,$A$96:$A$113,$B$96:$B$113)))","v":""},{"$f":"IF(RK5=0,\"\",RK6&IF(RK5=1,\"\",LOOKUP(RK5,$A$96:$A$113,$B$96:$B$113)))","v":""},{"$f":"IF(RL5=0,\"\",RL6&IF(RL5=1,\"\",LOOKUP(RL5,$A$96:$A$113,$B$96:$B$113)))","v":""},{"$f":"IF(RM5=0,\"\",RM6&IF(RM5=1,\"\",LOOKUP(RM5,$A$96:$A$113,$B$96:$B$113)))","v":""},{"$f":"IF(RN5=0,\"\",RN6&IF(RN5=1,\"\",LOOKUP(RN5,$A$96:$A$113,$B$96:$B$113)))","v":""},{"$f":"IF(RO5=0,\"\",RO6&IF(RO5=1,\"\",LOOKUP(RO5,$A$96:$A$113,$B$96:$B$113)))","v":""},{"$f":"IF(RP5=0,\"\",RP6&IF(RP5=1,\"\",LOOKUP(RP5,$A$96:$A$113,$B$96:$B$113)))","v":""},{"$f":"IF(RQ5=0,\"\",RQ6&IF(RQ5=1,\"\",LOOKUP(RQ5,$A$96:$A$113,$B$96:$B$113)))","v":""},{"$f":"IF(RR5=0,\"\",RR6&IF(RR5=1,\"\",LOOKUP(RR5,$A$96:$A$113,$B$96:$B$113)))","v":""},{"$f":"IF(RS5=0,\"\",RS6&IF(RS5=1,\"\",LOOKUP(RS5,$A$96:$A$113,$B$96:$B$113)))","v":""},{"$f":"IF(RT5=0,\"\",RT6&IF(RT5=1,\"\",LOOKUP(RT5,$A$96:$A$113,$B$96:$B$113)))","v":""},{"$f":"IF(RU5=0,\"\",RU6&IF(RU5=1,\"\",LOOKUP(RU5,$A$96:$A$113,$B$96:$B$113)))","v":""},{"$f":"IF(RV5=0,\"\",RV6&IF(RV5=1,\"\",LOOKUP(RV5,$A$96:$A$113,$B$96:$B$113)))","v":""},{"$f":"IF(RW5=0,\"\",RW6&IF(RW5=1,\"\",LOOKUP(RW5,$A$96:$A$113,$B$96:$B$113)))","v":""},{"$f":"IF(RX5=0,\"\",RX6&IF(RX5=1,\"\",LOOKUP(RX5,$A$96:$A$113,$B$96:$B$113)))","v":""},{"$f":"IF(RY5=0,\"\",RY6&IF(RY5=1,\"\",LOOKUP(RY5,$A$96:$A$113,$B$96:$B$113)))","v":""},{"$f":"IF(RZ5=0,\"\",RZ6&IF(RZ5=1,\"\",LOOKUP(RZ5,$A$96:$A$113,$B$96:$B$113)))","v":""},{"$f":"IF(SA5=0,\"\",SA6&IF(SA5=1,\"\",LOOKUP(SA5,$A$96:$A$113,$B$96:$B$113)))","v":""},{"$f":"IF(SB5=0,\"\",SB6&IF(SB5=1,\"\",LOOKUP(SB5,$A$96:$A$113,$B$96:$B$113)))","v":""},{"$f":"IF(SC5=0,\"\",SC6&IF(SC5=1,\"\",LOOKUP(SC5,$A$96:$A$113,$B$96:$B$113)))","v":""},{"$f":"IF(SD5=0,\"\",SD6&IF(SD5=1,\"\",LOOKUP(SD5,$A$96:$A$113,$B$96:$B$113)))","v":""},{"$f":"IF(SE5=0,\"\",SE6&IF(SE5=1,\"\",LOOKUP(SE5,$A$96:$A$113,$B$96:$B$113)))","v":""},{"$f":"IF(SF5=0,\"\",SF6&IF(SF5=1,\"\",LOOKUP(SF5,$A$96:$A$113,$B$96:$B$113)))","v":""},{"$f":"IF(SG5=0,\"\",SG6&IF(SG5=1,\"\",LOOKUP(SG5,$A$96:$A$113,$B$96:$B$113)))","v":""},{"$f":"IF(SH5=0,\"\",SH6&IF(SH5=1,\"\",LOOKUP(SH5,$A$96:$A$113,$B$96:$B$113)))","v":""},{"$f":"IF(SI5=0,\"\",SI6&IF(SI5=1,\"\",LOOKUP(SI5,$A$96:$A$113,$B$96:$B$113)))","v":""},{"$f":"IF(SJ5=0,\"\",SJ6&IF(SJ5=1,\"\",LOOKUP(SJ5,$A$96:$A$113,$B$96:$B$113)))","v":""},{"$f":"IF(SK5=0,\"\",SK6&IF(SK5=1,\"\",LOOKUP(SK5,$A$96:$A$113,$B$96:$B$113)))","v":""},{"$f":"IF(SL5=0,\"\",SL6&IF(SL5=1,\"\",LOOKUP(SL5,$A$96:$A$113,$B$96:$B$113)))","v":""},{"$f":"IF(SM5=0,\"\",SM6&IF(SM5=1,\"\",LOOKUP(SM5,$A$96:$A$113,$B$96:$B$113)))","v":""},{"$f":"IF(SN5=0,\"\",SN6&IF(SN5=1,\"\",LOOKUP(SN5,$A$96:$A$113,$B$96:$B$113)))","v":""},{"$f":"IF(SO5=0,\"\",SO6&IF(SO5=1,\"\",LOOKUP(SO5,$A$96:$A$113,$B$96:$B$113)))","v":""},{"$f":"IF(SP5=0,\"\",SP6&IF(SP5=1,\"\",LOOKUP(SP5,$A$96:$A$113,$B$96:$B$113)))","v":""},{"$f":"IF(SQ5=0,\"\",SQ6&IF(SQ5=1,\"\",LOOKUP(SQ5,$A$96:$A$113,$B$96:$B$113)))","v":""},{"$f":"IF(SR5=0,\"\",SR6&IF(SR5=1,\"\",LOOKUP(SR5,$A$96:$A$113,$B$96:$B$113)))","v":""},{"$f":"IF(SS5=0,\"\",SS6&IF(SS5=1,\"\",LOOKUP(SS5,$A$96:$A$113,$B$96:$B$113)))","v":""},{"$f":"IF(ST5=0,\"\",ST6&IF(ST5=1,\"\",LOOKUP(ST5,$A$96:$A$113,$B$96:$B$113)))","v":""},{"$f":"IF(SU5=0,\"\",SU6&IF(SU5=1,\"\",LOOKUP(SU5,$A$96:$A$113,$B$96:$B$113)))","v":""},{"$f":"IF(SV5=0,\"\",SV6&IF(SV5=1,\"\",LOOKUP(SV5,$A$96:$A$113,$B$96:$B$113)))","v":""},{"$f":"IF(SW5=0,\"\",SW6&IF(SW5=1,\"\",LOOKUP(SW5,$A$96:$A$113,$B$96:$B$113)))","v":""},{"$f":"IF(SX5=0,\"\",SX6&IF(SX5=1,\"\",LOOKUP(SX5,$A$96:$A$113,$B$96:$B$113)))","v":""},{"$f":"IF(SY5=0,\"\",SY6&IF(SY5=1,\"\",LOOKUP(SY5,$A$96:$A$113,$B$96:$B$113)))","v":""},{"$f":"IF(SZ5=0,\"\",SZ6&IF(SZ5=1,\"\",LOOKUP(SZ5,$A$96:$A$113,$B$96:$B$113)))","v":""},{"$f":"IF(TA5=0,\"\",TA6&IF(TA5=1,\"\",LOOKUP(TA5,$A$96:$A$113,$B$96:$B$113)))","v":""},{"$f":"IF(TB5=0,\"\",TB6&IF(TB5=1,\"\",LOOKUP(TB5,$A$96:$A$113,$B$96:$B$113)))","v":""},{"$f":"IF(TC5=0,\"\",TC6&IF(TC5=1,\"\",LOOKUP(TC5,$A$96:$A$113,$B$96:$B$113)))","v":""},{"$f":"IF(TD5=0,\"\",TD6&IF(TD5=1,\"\",LOOKUP(TD5,$A$96:$A$113,$B$96:$B$113)))","v":""},{"$f":"IF(TE5=0,\"\",TE6&IF(TE5=1,\"\",LOOKUP(TE5,$A$96:$A$113,$B$96:$B$113)))","v":""},{"$f":"IF(TF5=0,\"\",TF6&IF(TF5=1,\"\",LOOKUP(TF5,$A$96:$A$113,$B$96:$B$113)))","v":""},{"$f":"IF(TG5=0,\"\",TG6&IF(TG5=1,\"\",LOOKUP(TG5,$A$96:$A$113,$B$96:$B$113)))","v":""},{"$f":"IF(TH5=0,\"\",TH6&IF(TH5=1,\"\",LOOKUP(TH5,$A$96:$A$113,$B$96:$B$113)))","v":""},{"$f":"IF(TI5=0,\"\",TI6&IF(TI5=1,\"\",LOOKUP(TI5,$A$96:$A$113,$B$96:$B$113)))","v":""},{"$f":"IF(TJ5=0,\"\",TJ6&IF(TJ5=1,\"\",LOOKUP(TJ5,$A$96:$A$113,$B$96:$B$113)))","v":""},{"$f":"IF(TK5=0,\"\",TK6&IF(TK5=1,\"\",LOOKUP(TK5,$A$96:$A$113,$B$96:$B$113)))","v":""},{"$f":"IF(TL5=0,\"\",TL6&IF(TL5=1,\"\",LOOKUP(TL5,$A$96:$A$113,$B$96:$B$113)))","v":""},{"$f":"IF(TM5=0,\"\",TM6&IF(TM5=1,\"\",LOOKUP(TM5,$A$96:$A$113,$B$96:$B$113)))","v":""},{"$f":"IF(TN5=0,\"\",TN6&IF(TN5=1,\"\",LOOKUP(TN5,$A$96:$A$113,$B$96:$B$113)))","v":""},{"$f":"IF(TO5=0,\"\",TO6&IF(TO5=1,\"\",LOOKUP(TO5,$A$96:$A$113,$B$96:$B$113)))","v":""},{"$f":"IF(TP5=0,\"\",TP6&IF(TP5=1,\"\",LOOKUP(TP5,$A$96:$A$113,$B$96:$B$113)))","v":""},{"$f":"IF(TQ5=0,\"\",TQ6&IF(TQ5=1,\"\",LOOKUP(TQ5,$A$96:$A$113,$B$96:$B$113)))","v":""},{"$f":"IF(TR5=0,\"\",TR6&IF(TR5=1,\"\",LOOKUP(TR5,$A$96:$A$113,$B$96:$B$113)))","v":""},{"$f":"IF(TS5=0,\"\",TS6&IF(TS5=1,\"\",LOOKUP(TS5,$A$96:$A$113,$B$96:$B$113)))","v":""},{"$f":"IF(TT5=0,\"\",TT6&IF(TT5=1,\"\",LOOKUP(TT5,$A$96:$A$113,$B$96:$B$113)))","v":""},{"$f":"IF(TU5=0,\"\",TU6&IF(TU5=1,\"\",LOOKUP(TU5,$A$96:$A$113,$B$96:$B$113)))","v":""},{"$f":"IF(TV5=0,\"\",TV6&IF(TV5=1,\"\",LOOKUP(TV5,$A$96:$A$113,$B$96:$B$113)))","v":""},{"$f":"IF(TW5=0,\"\",TW6&IF(TW5=1,\"\",LOOKUP(TW5,$A$96:$A$113,$B$96:$B$113)))","v":""},{"$f":"IF(TX5=0,\"\",TX6&IF(TX5=1,\"\",LOOKUP(TX5,$A$96:$A$113,$B$96:$B$113)))","v":""},{"$f":"IF(TY5=0,\"\",TY6&IF(TY5=1,\"\",LOOKUP(TY5,$A$96:$A$113,$B$96:$B$113)))","v":""},{"$f":"IF(TZ5=0,\"\",TZ6&IF(TZ5=1,\"\",LOOKUP(TZ5,$A$96:$A$113,$B$96:$B$113)))","v":""},{"$f":"IF(UA5=0,\"\",UA6&IF(UA5=1,\"\",LOOKUP(UA5,$A$96:$A$113,$B$96:$B$113)))","v":""},{"$f":"IF(UB5=0,\"\",UB6&IF(UB5=1,\"\",LOOKUP(UB5,$A$96:$A$113,$B$96:$B$113)))","v":""},{"$f":"IF(UC5=0,\"\",UC6&IF(UC5=1,\"\",LOOKUP(UC5,$A$96:$A$113,$B$96:$B$113)))","v":""},{"$f":"IF(UD5=0,\"\",UD6&IF(UD5=1,\"\",LOOKUP(UD5,$A$96:$A$113,$B$96:$B$113)))","v":""},{"$f":"IF(UE5=0,\"\",UE6&IF(UE5=1,\"\",LOOKUP(UE5,$A$96:$A$113,$B$96:$B$113)))","v":""},{"$f":"IF(UF5=0,\"\",UF6&IF(UF5=1,\"\",LOOKUP(UF5,$A$96:$A$113,$B$96:$B$113)))","v":""},{"$f":"IF(UG5=0,\"\",UG6&IF(UG5=1,\"\",LOOKUP(UG5,$A$96:$A$113,$B$96:$B$113)))","v":""},{"$f":"IF(UH5=0,\"\",UH6&IF(UH5=1,\"\",LOOKUP(UH5,$A$96:$A$113,$B$96:$B$113)))","v":""},{"$f":"IF(UI5=0,\"\",UI6&IF(UI5=1,\"\",LOOKUP(UI5,$A$96:$A$113,$B$96:$B$113)))","v":""},{"$f":"IF(UJ5=0,\"\",UJ6&IF(UJ5=1,\"\",LOOKUP(UJ5,$A$96:$A$113,$B$96:$B$113)))","v":""},{"$f":"IF(UK5=0,\"\",UK6&IF(UK5=1,\"\",LOOKUP(UK5,$A$96:$A$113,$B$96:$B$113)))","v":""},{"$f":"IF(UL5=0,\"\",UL6&IF(UL5=1,\"\",LOOKUP(UL5,$A$96:$A$113,$B$96:$B$113)))","v":""},{"$f":"IF(UM5=0,\"\",UM6&IF(UM5=1,\"\",LOOKUP(UM5,$A$96:$A$113,$B$96:$B$113)))","v":""},{"$f":"IF(UN5=0,\"\",UN6&IF(UN5=1,\"\",LOOKUP(UN5,$A$96:$A$113,$B$96:$B$113)))","v":""},{"$f":"IF(UO5=0,\"\",UO6&IF(UO5=1,\"\",LOOKUP(UO5,$A$96:$A$113,$B$96:$B$113)))","v":""},{"$f":"IF(UP5=0,\"\",UP6&IF(UP5=1,\"\",LOOKUP(UP5,$A$96:$A$113,$B$96:$B$113)))","v":""},{"$f":"IF(UQ5=0,\"\",UQ6&IF(UQ5=1,\"\",LOOKUP(UQ5,$A$96:$A$113,$B$96:$B$113)))","v":""},{"$f":"IF(UR5=0,\"\",UR6&IF(UR5=1,\"\",LOOKUP(UR5,$A$96:$A$113,$B$96:$B$113)))","v":""},{"$f":"IF(US5=0,\"\",US6&IF(US5=1,\"\",LOOKUP(US5,$A$96:$A$113,$B$96:$B$113)))","v":""},{"$f":"IF(UT5=0,\"\",UT6&IF(UT5=1,\"\",LOOKUP(UT5,$A$96:$A$113,$B$96:$B$113)))","v":""},{"$f":"IF(UU5=0,\"\",UU6&IF(UU5=1,\"\",LOOKUP(UU5,$A$96:$A$113,$B$96:$B$113)))","v":""},{"$f":"IF(UV5=0,\"\",UV6&IF(UV5=1,\"\",LOOKUP(UV5,$A$96:$A$113,$B$96:$B$113)))","v":""},{"$f":"IF(UW5=0,\"\",UW6&IF(UW5=1,\"\",LOOKUP(UW5,$A$96:$A$113,$B$96:$B$113)))","v":""},{"$f":"IF(UX5=0,\"\",UX6&IF(UX5=1,\"\",LOOKUP(UX5,$A$96:$A$113,$B$96:$B$113)))","v":""},{"$f":"IF(UY5=0,\"\",UY6&IF(UY5=1,\"\",LOOKUP(UY5,$A$96:$A$113,$B$96:$B$113)))","v":""},{"$f":"IF(UZ5=0,\"\",UZ6&IF(UZ5=1,\"\",LOOKUP(UZ5,$A$96:$A$113,$B$96:$B$113)))","v":""},{"$f":"IF(VA5=0,\"\",VA6&IF(VA5=1,\"\",LOOKUP(VA5,$A$96:$A$113,$B$96:$B$113)))","v":""},{"$f":"IF(VB5=0,\"\",VB6&IF(VB5=1,\"\",LOOKUP(VB5,$A$96:$A$113,$B$96:$B$113)))","v":""},{"$f":"IF(VC5=0,\"\",VC6&IF(VC5=1,\"\",LOOKUP(VC5,$A$96:$A$113,$B$96:$B$113)))","v":""},{"$f":"IF(VD5=0,\"\",VD6&IF(VD5=1,\"\",LOOKUP(VD5,$A$96:$A$113,$B$96:$B$113)))","v":""},{"$f":"IF(VE5=0,\"\",VE6&IF(VE5=1,\"\",LOOKUP(VE5,$A$96:$A$113,$B$96:$B$113)))","v":""},{"$f":"IF(VF5=0,\"\",VF6&IF(VF5=1,\"\",LOOKUP(VF5,$A$96:$A$113,$B$96:$B$113)))","v":""},{"$f":"IF(VG5=0,\"\",VG6&IF(VG5=1,\"\",LOOKUP(VG5,$A$96:$A$113,$B$96:$B$113)))","v":""},{"$f":"IF(VH5=0,\"\",VH6&IF(VH5=1,\"\",LOOKUP(VH5,$A$96:$A$113,$B$96:$B$113)))","v":""},{"$f":"IF(VI5=0,\"\",VI6&IF(VI5=1,\"\",LOOKUP(VI5,$A$96:$A$113,$B$96:$B$113)))","v":""},{"$f":"IF(VJ5=0,\"\",VJ6&IF(VJ5=1,\"\",LOOKUP(VJ5,$A$96:$A$113,$B$96:$B$113)))","v":""},{"$f":"IF(VK5=0,\"\",VK6&IF(VK5=1,\"\",LOOKUP(VK5,$A$96:$A$113,$B$96:$B$113)))","v":""},{"$f":"IF(VL5=0,\"\",VL6&IF(VL5=1,\"\",LOOKUP(VL5,$A$96:$A$113,$B$96:$B$113)))","v":""},{"$f":"IF(VM5=0,\"\",VM6&IF(VM5=1,\"\",LOOKUP(VM5,$A$96:$A$113,$B$96:$B$113)))","v":""},{"$f":"IF(VN5=0,\"\",VN6&IF(VN5=1,\"\",LOOKUP(VN5,$A$96:$A$113,$B$96:$B$113)))","v":""},{"$f":"IF(VO5=0,\"\",VO6&IF(VO5=1,\"\",LOOKUP(VO5,$A$96:$A$113,$B$96:$B$113)))","v":""},{"$f":"IF(VP5=0,\"\",VP6&IF(VP5=1,\"\",LOOKUP(VP5,$A$96:$A$113,$B$96:$B$113)))","v":""},{"$f":"IF(VQ5=0,\"\",VQ6&IF(VQ5=1,\"\",LOOKUP(VQ5,$A$96:$A$113,$B$96:$B$113)))","v":""},{"$f":"IF(VR5=0,\"\",VR6&IF(VR5=1,\"\",LOOKUP(VR5,$A$96:$A$113,$B$96:$B$113)))","v":""},{"$f":"IF(VS5=0,\"\",VS6&IF(VS5=1,\"\",LOOKUP(VS5,$A$96:$A$113,$B$96:$B$113)))","v":""},{"$f":"IF(VT5=0,\"\",VT6&IF(VT5=1,\"\",LOOKUP(VT5,$A$96:$A$113,$B$96:$B$113)))","v":""},{"$f":"IF(VU5=0,\"\",VU6&IF(VU5=1,\"\",LOOKUP(VU5,$A$96:$A$113,$B$96:$B$113)))","v":""},{"$f":"IF(VV5=0,\"\",VV6&IF(VV5=1,\"\",LOOKUP(VV5,$A$96:$A$113,$B$96:$B$113)))","v":""},{"$f":"IF(VW5=0,\"\",VW6&IF(VW5=1,\"\",LOOKUP(VW5,$A$96:$A$113,$B$96:$B$113)))","v":""},{"$f":"IF(VX5=0,\"\",VX6&IF(VX5=1,\"\",LOOKUP(VX5,$A$96:$A$113,$B$96:$B$113)))","v":""},{"$f":"IF(VY5=0,\"\",VY6&IF(VY5=1,\"\",LOOKUP(VY5,$A$96:$A$113,$B$96:$B$113)))","v":""},{"$f":"IF(VZ5=0,\"\",VZ6&IF(VZ5=1,\"\",LOOKUP(VZ5,$A$96:$A$113,$B$96:$B$113)))","v":""},{"$f":"IF(WA5=0,\"\",WA6&IF(WA5=1,\"\",LOOKUP(WA5,$A$96:$A$113,$B$96:$B$113)))","v":""},{"$f":"IF(WB5=0,\"\",WB6&IF(WB5=1,\"\",LOOKUP(WB5,$A$96:$A$113,$B$96:$B$113)))","v":""},{"$f":"IF(WC5=0,\"\",WC6&IF(WC5=1,\"\",LOOKUP(WC5,$A$96:$A$113,$B$96:$B$113)))","v":""},{"$f":"IF(WD5=0,\"\",WD6&IF(WD5=1,\"\",LOOKUP(WD5,$A$96:$A$113,$B$96:$B$113)))","v":""},{"$f":"IF(WE5=0,\"\",WE6&IF(WE5=1,\"\",LOOKUP(WE5,$A$96:$A$113,$B$96:$B$113)))","v":""},{"$f":"IF(WF5=0,\"\",WF6&IF(WF5=1,\"\",LOOKUP(WF5,$A$96:$A$113,$B$96:$B$113)))","v":""},{"$f":"IF(WG5=0,\"\",WG6&IF(WG5=1,\"\",LOOKUP(WG5,$A$96:$A$113,$B$96:$B$113)))","v":""},{"$f":"IF(WH5=0,\"\",WH6&IF(WH5=1,\"\",LOOKUP(WH5,$A$96:$A$113,$B$96:$B$113)))","v":""},{"$f":"IF(WI5=0,\"\",WI6&IF(WI5=1,\"\",LOOKUP(WI5,$A$96:$A$113,$B$96:$B$113)))","v":""},{"$f":"IF(WJ5=0,\"\",WJ6&IF(WJ5=1,\"\",LOOKUP(WJ5,$A$96:$A$113,$B$96:$B$113)))","v":""},{"$f":"IF(WK5=0,\"\",WK6&IF(WK5=1,\"\",LOOKUP(WK5,$A$96:$A$113,$B$96:$B$113)))","v":""},{"$f":"IF(WL5=0,\"\",WL6&IF(WL5=1,\"\",LOOKUP(WL5,$A$96:$A$113,$B$96:$B$113)))","v":""},{"$f":"IF(WM5=0,\"\",WM6&IF(WM5=1,\"\",LOOKUP(WM5,$A$96:$A$113,$B$96:$B$113)))","v":""},{"$f":"IF(WN5=0,\"\",WN6&IF(WN5=1,\"\",LOOKUP(WN5,$A$96:$A$113,$B$96:$B$113)))","v":""},{"$f":"IF(WO5=0,\"\",WO6&IF(WO5=1,\"\",LOOKUP(WO5,$A$96:$A$113,$B$96:$B$113)))","v":""},{"$f":"IF(WP5=0,\"\",WP6&IF(WP5=1,\"\",LOOKUP(WP5,$A$96:$A$113,$B$96:$B$113)))","v":""},{"$f":"IF(WQ5=0,\"\",WQ6&IF(WQ5=1,\"\",LOOKUP(WQ5,$A$96:$A$113,$B$96:$B$113)))","v":""},{"$f":"IF(WR5=0,\"\",WR6&IF(WR5=1,\"\",LOOKUP(WR5,$A$96:$A$113,$B$96:$B$113)))","v":""},{"$f":"IF(WS5=0,\"\",WS6&IF(WS5=1,\"\",LOOKUP(WS5,$A$96:$A$113,$B$96:$B$113)))","v":""},{"$f":"IF(WT5=0,\"\",WT6&IF(WT5=1,\"\",LOOKUP(WT5,$A$96:$A$113,$B$96:$B$113)))","v":""},{"$f":"IF(WU5=0,\"\",WU6&IF(WU5=1,\"\",LOOKUP(WU5,$A$96:$A$113,$B$96:$B$113)))","v":""},{"$f":"IF(WV5=0,\"\",WV6&IF(WV5=1,\"\",LOOKUP(WV5,$A$96:$A$113,$B$96:$B$113)))","v":""},{"$f":"IF(WW5=0,\"\",WW6&IF(WW5=1,\"\",LOOKUP(WW5,$A$96:$A$113,$B$96:$B$113)))","v":""},{"$f":"IF(WX5=0,\"\",WX6&IF(WX5=1,\"\",LOOKUP(WX5,$A$96:$A$113,$B$96:$B$113)))","v":""},{"$f":"IF(WY5=0,\"\",WY6&IF(WY5=1,\"\",LOOKUP(WY5,$A$96:$A$113,$B$96:$B$113)))","v":""},{"$f":"IF(WZ5=0,\"\",WZ6&IF(WZ5=1,\"\",LOOKUP(WZ5,$A$96:$A$113,$B$96:$B$113)))","v":""},{"$f":"IF(XA5=0,\"\",XA6&IF(XA5=1,\"\",LOOKUP(XA5,$A$96:$A$113,$B$96:$B$113)))","v":""},{"$f":"IF(XB5=0,\"\",XB6&IF(XB5=1,\"\",LOOKUP(XB5,$A$96:$A$113,$B$96:$B$113)))","v":""},{"$f":"IF(XC5=0,\"\",XC6&IF(XC5=1,\"\",LOOKUP(XC5,$A$96:$A$113,$B$96:$B$113)))","v":""},{"$f":"IF(XD5=0,\"\",XD6&IF(XD5=1,\"\",LOOKUP(XD5,$A$96:$A$113,$B$96:$B$113)))","v":""},{"$f":"IF(XE5=0,\"\",XE6&IF(XE5=1,\"\",LOOKUP(XE5,$A$96:$A$113,$B$96:$B$113)))","v":""},{"$f":"IF(XF5=0,\"\",XF6&IF(XF5=1,\"\",LOOKUP(XF5,$A$96:$A$113,$B$96:$B$113)))","v":""},{"$f":"IF(XG5=0,\"\",XG6&IF(XG5=1,\"\",LOOKUP(XG5,$A$96:$A$113,$B$96:$B$113)))","v":""},{"$f":"IF(XH5=0,\"\",XH6&IF(XH5=1,\"\",LOOKUP(XH5,$A$96:$A$113,$B$96:$B$113)))","v":""},{"$f":"IF(XI5=0,\"\",XI6&IF(XI5=1,\"\",LOOKUP(XI5,$A$96:$A$113,$B$96:$B$113)))","v":""},{"$f":"IF(XJ5=0,\"\",XJ6&IF(XJ5=1,\"\",LOOKUP(XJ5,$A$96:$A$113,$B$96:$B$113)))","v":""},{"$f":"IF(XK5=0,\"\",XK6&IF(XK5=1,\"\",LOOKUP(XK5,$A$96:$A$113,$B$96:$B$113)))","v":""},{"$f":"IF(XL5=0,\"\",XL6&IF(XL5=1,\"\",LOOKUP(XL5,$A$96:$A$113,$B$96:$B$113)))","v":""},{"$f":"IF(XM5=0,\"\",XM6&IF(XM5=1,\"\",LOOKUP(XM5,$A$96:$A$113,$B$96:$B$113)))","v":""},{"$f":"IF(XN5=0,\"\",XN6&IF(XN5=1,\"\",LOOKUP(XN5,$A$96:$A$113,$B$96:$B$113)))","v":""},{"$f":"IF(XO5=0,\"\",XO6&IF(XO5=1,\"\",LOOKUP(XO5,$A$96:$A$113,$B$96:$B$113)))","v":""},{"$f":"IF(XP5=0,\"\",XP6&IF(XP5=1,\"\",LOOKUP(XP5,$A$96:$A$113,$B$96:$B$113)))","v":""},{"$f":"IF(XQ5=0,\"\",XQ6&IF(XQ5=1,\"\",LOOKUP(XQ5,$A$96:$A$113,$B$96:$B$113)))","v":""},{"$f":"IF(XR5=0,\"\",XR6&IF(XR5=1,\"\",LOOKUP(XR5,$A$96:$A$113,$B$96:$B$113)))","v":""},{"$f":"IF(XS5=0,\"\",XS6&IF(XS5=1,\"\",LOOKUP(XS5,$A$96:$A$113,$B$96:$B$113)))","v":""},{"$f":"IF(XT5=0,\"\",XT6&IF(XT5=1,\"\",LOOKUP(XT5,$A$96:$A$113,$B$96:$B$113)))","v":""},{"$f":"IF(XU5=0,\"\",XU6&IF(XU5=1,\"\",LOOKUP(XU5,$A$96:$A$113,$B$96:$B$113)))","v":""},{"$f":"IF(XV5=0,\"\",XV6&IF(XV5=1,\"\",LOOKUP(XV5,$A$96:$A$113,$B$96:$B$113)))","v":""},{"$f":"IF(XW5=0,\"\",XW6&IF(XW5=1,\"\",LOOKUP(XW5,$A$96:$A$113,$B$96:$B$113)))","v":""},{"$f":"IF(XX5=0,\"\",XX6&IF(XX5=1,\"\",LOOKUP(XX5,$A$96:$A$113,$B$96:$B$113)))","v":""},{"$f":"IF(XY5=0,\"\",XY6&IF(XY5=1,\"\",LOOKUP(XY5,$A$96:$A$113,$B$96:$B$113)))","v":""},{"$f":"IF(XZ5=0,\"\",XZ6&IF(XZ5=1,\"\",LOOKUP(XZ5,$A$96:$A$113,$B$96:$B$113)))","v":""},{"$f":"IF(YA5=0,\"\",YA6&IF(YA5=1,\"\",LOOKUP(YA5,$A$96:$A$113,$B$96:$B$113)))","v":""},{"$f":"IF(YB5=0,\"\",YB6&IF(YB5=1,\"\",LOOKUP(YB5,$A$96:$A$113,$B$96:$B$113)))","v":""},{"$f":"IF(YC5=0,\"\",YC6&IF(YC5=1,\"\",LOOKUP(YC5,$A$96:$A$113,$B$96:$B$113)))","v":""},{"$f":"IF(YD5=0,\"\",YD6&IF(YD5=1,\"\",LOOKUP(YD5,$A$96:$A$113,$B$96:$B$113)))","v":""},{"$f":"IF(YE5=0,\"\",YE6&IF(YE5=1,\"\",LOOKUP(YE5,$A$96:$A$113,$B$96:$B$113)))","v":""},{"$f":"IF(YF5=0,\"\",YF6&IF(YF5=1,\"\",LOOKUP(YF5,$A$96:$A$113,$B$96:$B$113)))","v":""},{"$f":"IF(YG5=0,\"\",YG6&IF(YG5=1,\"\",LOOKUP(YG5,$A$96:$A$113,$B$96:$B$113)))","v":""},{"$f":"IF(YH5=0,\"\",YH6&IF(YH5=1,\"\",LOOKUP(YH5,$A$96:$A$113,$B$96:$B$113)))","v":""},{"$f":"IF(YI5=0,\"\",YI6&IF(YI5=1,\"\",LOOKUP(YI5,$A$96:$A$113,$B$96:$B$113)))","v":""},{"$f":"IF(YJ5=0,\"\",YJ6&IF(YJ5=1,\"\",LOOKUP(YJ5,$A$96:$A$113,$B$96:$B$113)))","v":""},{"$f":"IF(YK5=0,\"\",YK6&IF(YK5=1,\"\",LOOKUP(YK5,$A$96:$A$113,$B$96:$B$113)))","v":""},{"$f":"IF(YL5=0,\"\",YL6&IF(YL5=1,\"\",LOOKUP(YL5,$A$96:$A$113,$B$96:$B$113)))","v":""},{"$f":"IF(YM5=0,\"\",YM6&IF(YM5=1,\"\",LOOKUP(YM5,$A$96:$A$113,$B$96:$B$113)))","v":""},{"$f":"IF(YN5=0,\"\",YN6&IF(YN5=1,\"\",LOOKUP(YN5,$A$96:$A$113,$B$96:$B$113)))","v":""},{"$f":"IF(YO5=0,\"\",YO6&IF(YO5=1,\"\",LOOKUP(YO5,$A$96:$A$113,$B$96:$B$113)))","v":""},{"$f":"IF(YP5=0,\"\",YP6&IF(YP5=1,\"\",LOOKUP(YP5,$A$96:$A$113,$B$96:$B$113)))","v":""},{"$f":"IF(YQ5=0,\"\",YQ6&IF(YQ5=1,\"\",LOOKUP(YQ5,$A$96:$A$113,$B$96:$B$113)))","v":""},{"$f":"IF(YR5=0,\"\",YR6&IF(YR5=1,\"\",LOOKUP(YR5,$A$96:$A$113,$B$96:$B$113)))","v":""},{"$f":"IF(YS5=0,\"\",YS6&IF(YS5=1,\"\",LOOKUP(YS5,$A$96:$A$113,$B$96:$B$113)))","v":""},{"$f":"IF(YT5=0,\"\",YT6&IF(YT5=1,\"\",LOOKUP(YT5,$A$96:$A$113,$B$96:$B$113)))","v":""},{"$f":"IF(YU5=0,\"\",YU6&IF(YU5=1,\"\",LOOKUP(YU5,$A$96:$A$113,$B$96:$B$113)))","v":""},{"$f":"IF(YV5=0,\"\",YV6&IF(YV5=1,\"\",LOOKUP(YV5,$A$96:$A$113,$B$96:$B$113)))","v":""},{"$f":"IF(YW5=0,\"\",YW6&IF(YW5=1,\"\",LOOKUP(YW5,$A$96:$A$113,$B$96:$B$113)))","v":""},{"$f":"IF(YX5=0,\"\",YX6&IF(YX5=1,\"\",LOOKUP(YX5,$A$96:$A$113,$B$96:$B$113)))","v":""},{"$f":"IF(YY5=0,\"\",YY6&IF(YY5=1,\"\",LOOKUP(YY5,$A$96:$A$113,$B$96:$B$113)))","v":""},{"$f":"IF(YZ5=0,\"\",YZ6&IF(YZ5=1,\"\",LOOKUP(YZ5,$A$96:$A$113,$B$96:$B$113)))","v":""},{"$f":"IF(ZA5=0,\"\",ZA6&IF(ZA5=1,\"\",LOOKUP(ZA5,$A$96:$A$113,$B$96:$B$113)))","v":""},{"$f":"IF(ZB5=0,\"\",ZB6&IF(ZB5=1,\"\",LOOKUP(ZB5,$A$96:$A$113,$B$96:$B$113)))","v":""},{"$f":"IF(ZC5=0,\"\",ZC6&IF(ZC5=1,\"\",LOOKUP(ZC5,$A$96:$A$113,$B$96:$B$113)))","v":""},{"$f":"IF(ZD5=0,\"\",ZD6&IF(ZD5=1,\"\",LOOKUP(ZD5,$A$96:$A$113,$B$96:$B$113)))","v":""},{"$f":"IF(ZE5=0,\"\",ZE6&IF(ZE5=1,\"\",LOOKUP(ZE5,$A$96:$A$113,$B$96:$B$113)))","v":""},{"$f":"IF(ZF5=0,\"\",ZF6&IF(ZF5=1,\"\",LOOKUP(ZF5,$A$96:$A$113,$B$96:$B$113)))","v":""},{"$f":"IF(ZG5=0,\"\",ZG6&IF(ZG5=1,\"\",LOOKUP(ZG5,$A$96:$A$113,$B$96:$B$113)))","v":""},{"$f":"IF(ZH5=0,\"\",ZH6&IF(ZH5=1,\"\",LOOKUP(ZH5,$A$96:$A$113,$B$96:$B$113)))","v":""},{"$f":"IF(ZI5=0,\"\",ZI6&IF(ZI5=1,\"\",LOOKUP(ZI5,$A$96:$A$113,$B$96:$B$113)))","v":""},{"$f":"IF(ZJ5=0,\"\",ZJ6&IF(ZJ5=1,\"\",LOOKUP(ZJ5,$A$96:$A$113,$B$96:$B$113)))","v":""},{"$f":"IF(ZK5=0,\"\",ZK6&IF(ZK5=1,\"\",LOOKUP(ZK5,$A$96:$A$113,$B$96:$B$113)))","v":""},{"$f":"IF(ZL5=0,\"\",ZL6&IF(ZL5=1,\"\",LOOKUP(ZL5,$A$96:$A$113,$B$96:$B$113)))","v":""},{"$f":"IF(ZM5=0,\"\",ZM6&IF(ZM5=1,\"\",LOOKUP(ZM5,$A$96:$A$113,$B$96:$B$113)))","v":""},{"$f":"IF(ZN5=0,\"\",ZN6&IF(ZN5=1,\"\",LOOKUP(ZN5,$A$96:$A$113,$B$96:$B$113)))","v":""},{"$f":"IF(ZO5=0,\"\",ZO6&IF(ZO5=1,\"\",LOOKUP(ZO5,$A$96:$A$113,$B$96:$B$113)))","v":""},{"$f":"IF(ZP5=0,\"\",ZP6&IF(ZP5=1,\"\",LOOKUP(ZP5,$A$96:$A$113,$B$96:$B$113)))","v":""},{"$f":"IF(ZQ5=0,\"\",ZQ6&IF(ZQ5=1,\"\",LOOKUP(ZQ5,$A$96:$A$113,$B$96:$B$113)))","v":""},{"$f":"IF(ZR5=0,\"\",ZR6&IF(ZR5=1,\"\",LOOKUP(ZR5,$A$96:$A$113,$B$96:$B$113)))","v":""},{"$f":"IF(ZS5=0,\"\",ZS6&IF(ZS5=1,\"\",LOOKUP(ZS5,$A$96:$A$113,$B$96:$B$113)))","v":""},{"$f":"IF(ZT5=0,\"\",ZT6&IF(ZT5=1,\"\",LOOKUP(ZT5,$A$96:$A$113,$B$96:$B$113)))","v":""},{"$f":"IF(ZU5=0,\"\",ZU6&IF(ZU5=1,\"\",LOOKUP(ZU5,$A$96:$A$113,$B$96:$B$113)))","v":""},{"$f":"IF(ZV5=0,\"\",ZV6&IF(ZV5=1,\"\",LOOKUP(ZV5,$A$96:$A$113,$B$96:$B$113)))","v":""},{"$f":"IF(ZW5=0,\"\",ZW6&IF(ZW5=1,\"\",LOOKUP(ZW5,$A$96:$A$113,$B$96:$B$113)))","v":""},{"$f":"IF(ZX5=0,\"\",ZX6&IF(ZX5=1,\"\",LOOKUP(ZX5,$A$96:$A$113,$B$96:$B$113)))","v":""},{"$f":"IF(ZY5=0,\"\",ZY6&IF(ZY5=1,\"\",LOOKUP(ZY5,$A$96:$A$113,$B$96:$B$113)))","v":""},{"$f":"IF(ZZ5=0,\"\",ZZ6&IF(ZZ5=1,\"\",LOOKUP(ZZ5,$A$96:$A$113,$B$96:$B$113)))","v":""},{"$f":"IF(AAA5=0,\"\",AAA6&IF(AAA5=1,\"\",LOOKUP(AAA5,$A$96:$A$113,$B$96:$B$113)))","v":""},{"$f":"IF(AAB5=0,\"\",AAB6&IF(AAB5=1,\"\",LOOKUP(AAB5,$A$96:$A$113,$B$96:$B$113)))","v":""},{"$f":"IF(AAC5=0,\"\",AAC6&IF(AAC5=1,\"\",LOOKUP(AAC5,$A$96:$A$113,$B$96:$B$113)))","v":""},{"$f":"IF(AAD5=0,\"\",AAD6&IF(AAD5=1,\"\",LOOKUP(AAD5,$A$96:$A$113,$B$96:$B$113)))","v":""},{"$f":"IF(AAE5=0,\"\",AAE6&IF(AAE5=1,\"\",LOOKUP(AAE5,$A$96:$A$113,$B$96:$B$113)))","v":""},{"$f":"IF(AAF5=0,\"\",AAF6&IF(AAF5=1,\"\",LOOKUP(AAF5,$A$96:$A$113,$B$96:$B$113)))","v":""},{"$f":"IF(AAG5=0,\"\",AAG6&IF(AAG5=1,\"\",LOOKUP(AAG5,$A$96:$A$113,$B$96:$B$113)))","v":""},{"$f":"IF(AAH5=0,\"\",AAH6&IF(AAH5=1,\"\",LOOKUP(AAH5,$A$96:$A$113,$B$96:$B$113)))","v":""},{"$f":"IF(AAI5=0,\"\",AAI6&IF(AAI5=1,\"\",LOOKUP(AAI5,$A$96:$A$113,$B$96:$B$113)))","v":""},{"$f":"IF(AAJ5=0,\"\",AAJ6&IF(AAJ5=1,\"\",LOOKUP(AAJ5,$A$96:$A$113,$B$96:$B$113)))","v":""},{"$f":"IF(AAK5=0,\"\",AAK6&IF(AAK5=1,\"\",LOOKUP(AAK5,$A$96:$A$113,$B$96:$B$113)))","v":""},{"$f":"IF(AAL5=0,\"\",AAL6&IF(AAL5=1,\"\",LOOKUP(AAL5,$A$96:$A$113,$B$96:$B$113)))","v":""},{"$f":"IF(AAM5=0,\"\",AAM6&IF(AAM5=1,\"\",LOOKUP(AAM5,$A$96:$A$113,$B$96:$B$113)))","v":""},{"$f":"IF(AAN5=0,\"\",AAN6&IF(AAN5=1,\"\",LOOKUP(AAN5,$A$96:$A$113,$B$96:$B$113)))","v":""},{"$f":"IF(AAO5=0,\"\",AAO6&IF(AAO5=1,\"\",LOOKUP(AAO5,$A$96:$A$113,$B$96:$B$113)))","v":""},{"$f":"IF(AAP5=0,\"\",AAP6&IF(AAP5=1,\"\",LOOKUP(AAP5,$A$96:$A$113,$B$96:$B$113)))","v":""},{"$f":"IF(AAQ5=0,\"\",AAQ6&IF(AAQ5=1,\"\",LOOKUP(AAQ5,$A$96:$A$113,$B$96:$B$113)))","v":""},{"$f":"IF(AAR5=0,\"\",AAR6&IF(AAR5=1,\"\",LOOKUP(AAR5,$A$96:$A$113,$B$96:$B$113)))","v":""},{"$f":"IF(AAS5=0,\"\",AAS6&IF(AAS5=1,\"\",LOOKUP(AAS5,$A$96:$A$113,$B$96:$B$113)))","v":""},{"$f":"IF(AAT5=0,\"\",AAT6&IF(AAT5=1,\"\",LOOKUP(AAT5,$A$96:$A$113,$B$96:$B$113)))","v":""},{"$f":"IF(AAU5=0,\"\",AAU6&IF(AAU5=1,\"\",LOOKUP(AAU5,$A$96:$A$113,$B$96:$B$113)))","v":""},{"$f":"IF(AAV5=0,\"\",AAV6&IF(AAV5=1,\"\",LOOKUP(AAV5,$A$96:$A$113,$B$96:$B$113)))","v":""},{"$f":"IF(AAW5=0,\"\",AAW6&IF(AAW5=1,\"\",LOOKUP(AAW5,$A$96:$A$113,$B$96:$B$113)))","v":""},{"$f":"IF(AAX5=0,\"\",AAX6&IF(AAX5=1,\"\",LOOKUP(AAX5,$A$96:$A$113,$B$96:$B$113)))","v":""},{"$f":"IF(AAY5=0,\"\",AAY6&IF(AAY5=1,\"\",LOOKUP(AAY5,$A$96:$A$113,$B$96:$B$113)))","v":""},{"$f":"IF(AAZ5=0,\"\",AAZ6&IF(AAZ5=1,\"\",LOOKUP(AAZ5,$A$96:$A$113,$B$96:$B$113)))","v":""},{"$f":"IF(ABA5=0,\"\",ABA6&IF(ABA5=1,\"\",LOOKUP(ABA5,$A$96:$A$113,$B$96:$B$113)))","v":""},{"$f":"IF(ABB5=0,\"\",ABB6&IF(ABB5=1,\"\",LOOKUP(ABB5,$A$96:$A$113,$B$96:$B$113)))","v":""},{"$f":"IF(ABC5=0,\"\",ABC6&IF(ABC5=1,\"\",LOOKUP(ABC5,$A$96:$A$113,$B$96:$B$113)))","v":""},{"$f":"IF(ABD5=0,\"\",ABD6&IF(ABD5=1,\"\",LOOKUP(ABD5,$A$96:$A$113,$B$96:$B$113)))","v":""},{"$f":"IF(ABE5=0,\"\",ABE6&IF(ABE5=1,\"\",LOOKUP(ABE5,$A$96:$A$113,$B$96:$B$113)))","v":""},{"$f":"IF(ABF5=0,\"\",ABF6&IF(ABF5=1,\"\",LOOKUP(ABF5,$A$96:$A$113,$B$96:$B$113)))","v":""},{"$f":"IF(ABG5=0,\"\",ABG6&IF(ABG5=1,\"\",LOOKUP(ABG5,$A$96:$A$113,$B$96:$B$113)))","v":""},{"$f":"IF(ABH5=0,\"\",ABH6&IF(ABH5=1,\"\",LOOKUP(ABH5,$A$96:$A$113,$B$96:$B$113)))","v":""},{"$f":"IF(ABI5=0,\"\",ABI6&IF(ABI5=1,\"\",LOOKUP(ABI5,$A$96:$A$113,$B$96:$B$113)))","v":""},{"$f":"IF(ABJ5=0,\"\",ABJ6&IF(ABJ5=1,\"\",LOOKUP(ABJ5,$A$96:$A$113,$B$96:$B$113)))","v":""},{"$f":"IF(ABK5=0,\"\",ABK6&IF(ABK5=1,\"\",LOOKUP(ABK5,$A$96:$A$113,$B$96:$B$113)))","v":""},{"$f":"IF(ABL5=0,\"\",ABL6&IF(ABL5=1,\"\",LOOKUP(ABL5,$A$96:$A$113,$B$96:$B$113)))","v":""},{"$f":"IF(ABM5=0,\"\",ABM6&IF(ABM5=1,\"\",LOOKUP(ABM5,$A$96:$A$113,$B$96:$B$113)))","v":""},{"$f":"IF(ABN5=0,\"\",ABN6&IF(ABN5=1,\"\",LOOKUP(ABN5,$A$96:$A$113,$B$96:$B$113)))","v":""},{"$f":"IF(ABO5=0,\"\",ABO6&IF(ABO5=1,\"\",LOOKUP(ABO5,$A$96:$A$113,$B$96:$B$113)))","v":""},{"$f":"IF(ABP5=0,\"\",ABP6&IF(ABP5=1,\"\",LOOKUP(ABP5,$A$96:$A$113,$B$96:$B$113)))","v":""},{"$f":"IF(ABQ5=0,\"\",ABQ6&IF(ABQ5=1,\"\",LOOKUP(ABQ5,$A$96:$A$113,$B$96:$B$113)))","v":""},{"$f":"IF(ABR5=0,\"\",ABR6&IF(ABR5=1,\"\",LOOKUP(ABR5,$A$96:$A$113,$B$96:$B$113)))","v":""},{"$f":"IF(ABS5=0,\"\",ABS6&IF(ABS5=1,\"\",LOOKUP(ABS5,$A$96:$A$113,$B$96:$B$113)))","v":""},{"$f":"IF(ABT5=0,\"\",ABT6&IF(ABT5=1,\"\",LOOKUP(ABT5,$A$96:$A$113,$B$96:$B$113)))","v":""},{"$f":"IF(ABU5=0,\"\",ABU6&IF(ABU5=1,\"\",LOOKUP(ABU5,$A$96:$A$113,$B$96:$B$113)))","v":""},{"$f":"IF(ABV5=0,\"\",ABV6&IF(ABV5=1,\"\",LOOKUP(ABV5,$A$96:$A$113,$B$96:$B$113)))","v":""},{"$f":"IF(ABW5=0,\"\",ABW6&IF(ABW5=1,\"\",LOOKUP(ABW5,$A$96:$A$113,$B$96:$B$113)))","v":""},{"$f":"IF(ABX5=0,\"\",ABX6&IF(ABX5=1,\"\",LOOKUP(ABX5,$A$96:$A$113,$B$96:$B$113)))","v":""},{"$f":"IF(ABY5=0,\"\",ABY6&IF(ABY5=1,\"\",LOOKUP(ABY5,$A$96:$A$113,$B$96:$B$113)))","v":""},{"$f":"IF(ABZ5=0,\"\",ABZ6&IF(ABZ5=1,\"\",LOOKUP(ABZ5,$A$96:$A$113,$B$96:$B$113)))","v":""},{"$f":"IF(ACA5=0,\"\",ACA6&IF(ACA5=1,\"\",LOOKUP(ACA5,$A$96:$A$113,$B$96:$B$113)))","v":""},{"$f":"IF(ACB5=0,\"\",ACB6&IF(ACB5=1,\"\",LOOKUP(ACB5,$A$96:$A$113,$B$96:$B$113)))","v":""},{"$f":"IF(ACC5=0,\"\",ACC6&IF(ACC5=1,\"\",LOOKUP(ACC5,$A$96:$A$113,$B$96:$B$113)))","v":""},{"$f":"IF(ACD5=0,\"\",ACD6&IF(ACD5=1,\"\",LOOKUP(ACD5,$A$96:$A$113,$B$96:$B$113)))","v":""},{"$f":"IF(ACE5=0,\"\",ACE6&IF(ACE5=1,\"\",LOOKUP(ACE5,$A$96:$A$113,$B$96:$B$113)))","v":""},{"$f":"IF(ACF5=0,\"\",ACF6&IF(ACF5=1,\"\",LOOKUP(ACF5,$A$96:$A$113,$B$96:$B$113)))","v":""},{"$f":"IF(ACG5=0,\"\",ACG6&IF(ACG5=1,\"\",LOOKUP(ACG5,$A$96:$A$113,$B$96:$B$113)))","v":""},{"$f":"IF(ACH5=0,\"\",ACH6&IF(ACH5=1,\"\",LOOKUP(ACH5,$A$96:$A$113,$B$96:$B$113)))","v":""},{"$f":"IF(ACI5=0,\"\",ACI6&IF(ACI5=1,\"\",LOOKUP(ACI5,$A$96:$A$113,$B$96:$B$113)))","v":""},{"$f":"IF(ACJ5=0,\"\",ACJ6&IF(ACJ5=1,\"\",LOOKUP(ACJ5,$A$96:$A$113,$B$96:$B$113)))","v":""},{"$f":"IF(ACK5=0,\"\",ACK6&IF(ACK5=1,\"\",LOOKUP(ACK5,$A$96:$A$113,$B$96:$B$113)))","v":""},{"$f":"IF(ACL5=0,\"\",ACL6&IF(ACL5=1,\"\",LOOKUP(ACL5,$A$96:$A$113,$B$96:$B$113)))","v":""},{"$f":"IF(ACM5=0,\"\",ACM6&IF(ACM5=1,\"\",LOOKUP(ACM5,$A$96:$A$113,$B$96:$B$113)))","v":""},{"$f":"IF(ACN5=0,\"\",ACN6&IF(ACN5=1,\"\",LOOKUP(ACN5,$A$96:$A$113,$B$96:$B$113)))","v":""},{"$f":"IF(ACO5=0,\"\",ACO6&IF(ACO5=1,\"\",LOOKUP(ACO5,$A$96:$A$113,$B$96:$B$113)))","v":""},{"$f":"IF(ACP5=0,\"\",ACP6&IF(ACP5=1,\"\",LOOKUP(ACP5,$A$96:$A$113,$B$96:$B$113)))","v":""},{"$f":"IF(ACQ5=0,\"\",ACQ6&IF(ACQ5=1,\"\",LOOKUP(ACQ5,$A$96:$A$113,$B$96:$B$113)))","v":""},{"$f":"IF(ACR5=0,\"\",ACR6&IF(ACR5=1,\"\",LOOKUP(ACR5,$A$96:$A$113,$B$96:$B$113)))","v":""},{"$f":"IF(ACS5=0,\"\",ACS6&IF(ACS5=1,\"\",LOOKUP(ACS5,$A$96:$A$113,$B$96:$B$113)))","v":""},{"$f":"IF(ACT5=0,\"\",ACT6&IF(ACT5=1,\"\",LOOKUP(ACT5,$A$96:$A$113,$B$96:$B$113)))","v":""},{"$f":"IF(ACU5=0,\"\",ACU6&IF(ACU5=1,\"\",LOOKUP(ACU5,$A$96:$A$113,$B$96:$B$113)))","v":""},{"$f":"IF(ACV5=0,\"\",ACV6&IF(ACV5=1,\"\",LOOKUP(ACV5,$A$96:$A$113,$B$96:$B$113)))","v":""},{"$f":"IF(ACW5=0,\"\",ACW6&IF(ACW5=1,\"\",LOOKUP(ACW5,$A$96:$A$113,$B$96:$B$113)))","v":""},{"$f":"IF(ACX5=0,\"\",ACX6&IF(ACX5=1,\"\",LOOKUP(ACX5,$A$96:$A$113,$B$96:$B$113)))","v":""},{"$f":"IF(ACY5=0,\"\",ACY6&IF(ACY5=1,\"\",LOOKUP(ACY5,$A$96:$A$113,$B$96:$B$113)))","v":""},{"$f":"IF(ACZ5=0,\"\",ACZ6&IF(ACZ5=1,\"\",LOOKUP(ACZ5,$A$96:$A$113,$B$96:$B$113)))","v":""},{"$f":"IF(ADA5=0,\"\",ADA6&IF(ADA5=1,\"\",LOOKUP(ADA5,$A$96:$A$113,$B$96:$B$113)))","v":""},{"$f":"IF(ADB5=0,\"\",ADB6&IF(ADB5=1,\"\",LOOKUP(ADB5,$A$96:$A$113,$B$96:$B$113)))","v":""},{"$f":"IF(ADC5=0,\"\",ADC6&IF(ADC5=1,\"\",LOOKUP(ADC5,$A$96:$A$113,$B$96:$B$113)))","v":""},{"$f":"IF(ADD5=0,\"\",ADD6&IF(ADD5=1,\"\",LOOKUP(ADD5,$A$96:$A$113,$B$96:$B$113)))","v":""},{"$f":"IF(ADE5=0,\"\",ADE6&IF(ADE5=1,\"\",LOOKUP(ADE5,$A$96:$A$113,$B$96:$B$113)))","v":""},{"$f":"IF(ADF5=0,\"\",ADF6&IF(ADF5=1,\"\",LOOKUP(ADF5,$A$96:$A$113,$B$96:$B$113)))","v":""},{"$f":"IF(ADG5=0,\"\",ADG6&IF(ADG5=1,\"\",LOOKUP(ADG5,$A$96:$A$113,$B$96:$B$113)))","v":""},{"$f":"IF(ADH5=0,\"\",ADH6&IF(ADH5=1,\"\",LOOKUP(ADH5,$A$96:$A$113,$B$96:$B$113)))","v":""},{"$f":"IF(ADI5=0,\"\",ADI6&IF(ADI5=1,\"\",LOOKUP(ADI5,$A$96:$A$113,$B$96:$B$113)))","v":""},{"$f":"IF(ADJ5=0,\"\",ADJ6&IF(ADJ5=1,\"\",LOOKUP(ADJ5,$A$96:$A$113,$B$96:$B$113)))","v":""},{"$f":"IF(ADK5=0,\"\",ADK6&IF(ADK5=1,\"\",LOOKUP(ADK5,$A$96:$A$113,$B$96:$B$113)))","v":""},{"$f":"IF(ADL5=0,\"\",ADL6&IF(ADL5=1,\"\",LOOKUP(ADL5,$A$96:$A$113,$B$96:$B$113)))","v":""},{"$f":"IF(ADM5=0,\"\",ADM6&IF(ADM5=1,\"\",LOOKUP(ADM5,$A$96:$A$113,$B$96:$B$113)))","v":""},{"$f":"IF(ADN5=0,\"\",ADN6&IF(ADN5=1,\"\",LOOKUP(ADN5,$A$96:$A$113,$B$96:$B$113)))","v":""},{"$f":"IF(ADO5=0,\"\",ADO6&IF(ADO5=1,\"\",LOOKUP(ADO5,$A$96:$A$113,$B$96:$B$113)))","v":""},{"$f":"IF(ADP5=0,\"\",ADP6&IF(ADP5=1,\"\",LOOKUP(ADP5,$A$96:$A$113,$B$96:$B$113)))","v":""},{"$f":"IF(ADQ5=0,\"\",ADQ6&IF(ADQ5=1,\"\",LOOKUP(ADQ5,$A$96:$A$113,$B$96:$B$113)))","v":""},{"$f":"IF(ADR5=0,\"\",ADR6&IF(ADR5=1,\"\",LOOKUP(ADR5,$A$96:$A$113,$B$96:$B$113)))","v":""},{"$f":"IF(ADS5=0,\"\",ADS6&IF(ADS5=1,\"\",LOOKUP(ADS5,$A$96:$A$113,$B$96:$B$113)))","v":""},{"$f":"IF(ADT5=0,\"\",ADT6&IF(ADT5=1,\"\",LOOKUP(ADT5,$A$96:$A$113,$B$96:$B$113)))","v":""},{"$f":"IF(ADU5=0,\"\",ADU6&IF(ADU5=1,\"\",LOOKUP(ADU5,$A$96:$A$113,$B$96:$B$113)))","v":""},{"$f":"IF(ADV5=0,\"\",ADV6&IF(ADV5=1,\"\",LOOKUP(ADV5,$A$96:$A$113,$B$96:$B$113)))","v":""},{"$f":"IF(ADW5=0,\"\",ADW6&IF(ADW5=1,\"\",LOOKUP(ADW5,$A$96:$A$113,$B$96:$B$113)))","v":""},{"$f":"IF(ADX5=0,\"\",ADX6&IF(ADX5=1,\"\",LOOKUP(ADX5,$A$96:$A$113,$B$96:$B$113)))","v":""},{"$f":"IF(ADY5=0,\"\",ADY6&IF(ADY5=1,\"\",LOOKUP(ADY5,$A$96:$A$113,$B$96:$B$113)))","v":""},{"$f":"IF(ADZ5=0,\"\",ADZ6&IF(ADZ5=1,\"\",LOOKUP(ADZ5,$A$96:$A$113,$B$96:$B$113)))","v":""},{"$f":"IF(AEA5=0,\"\",AEA6&IF(AEA5=1,\"\",LOOKUP(AEA5,$A$96:$A$113,$B$96:$B$113)))","v":""},{"$f":"IF(AEB5=0,\"\",AEB6&IF(AEB5=1,\"\",LOOKUP(AEB5,$A$96:$A$113,$B$96:$B$113)))","v":""},{"$f":"IF(AEC5=0,\"\",AEC6&IF(AEC5=1,\"\",LOOKUP(AEC5,$A$96:$A$113,$B$96:$B$113)))","v":""},{"$f":"IF(AED5=0,\"\",AED6&IF(AED5=1,\"\",LOOKUP(AED5,$A$96:$A$113,$B$96:$B$113)))","v":""},{"$f":"IF(AEE5=0,\"\",AEE6&IF(AEE5=1,\"\",LOOKUP(AEE5,$A$96:$A$113,$B$96:$B$113)))","v":""},{"$f":"IF(AEF5=0,\"\",AEF6&IF(AEF5=1,\"\",LOOKUP(AEF5,$A$96:$A$113,$B$96:$B$113)))","v":""},{"$f":"IF(AEG5=0,\"\",AEG6&IF(AEG5=1,\"\",LOOKUP(AEG5,$A$96:$A$113,$B$96:$B$113)))","v":""},{"$f":"IF(AEH5=0,\"\",AEH6&IF(AEH5=1,\"\",LOOKUP(AEH5,$A$96:$A$113,$B$96:$B$113)))","v":""},{"$f":"IF(AEI5=0,\"\",AEI6&IF(AEI5=1,\"\",LOOKUP(AEI5,$A$96:$A$113,$B$96:$B$113)))","v":""},{"$f":"IF(AEJ5=0,\"\",AEJ6&IF(AEJ5=1,\"\",LOOKUP(AEJ5,$A$96:$A$113,$B$96:$B$113)))","v":""},{"$f":"IF(AEK5=0,\"\",AEK6&IF(AEK5=1,\"\",LOOKUP(AEK5,$A$96:$A$113,$B$96:$B$113)))","v":""},{"$f":"IF(AEL5=0,\"\",AEL6&IF(AEL5=1,\"\",LOOKUP(AEL5,$A$96:$A$113,$B$96:$B$113)))","v":""},{"$f":"IF(AEM5=0,\"\",AEM6&IF(AEM5=1,\"\",LOOKUP(AEM5,$A$96:$A$113,$B$96:$B$113)))","v":""},{"$f":"IF(AEN5=0,\"\",AEN6&IF(AEN5=1,\"\",LOOKUP(AEN5,$A$96:$A$113,$B$96:$B$113)))","v":""},{"$f":"IF(AEO5=0,\"\",AEO6&IF(AEO5=1,\"\",LOOKUP(AEO5,$A$96:$A$113,$B$96:$B$113)))","v":""},{"$f":"IF(AEP5=0,\"\",AEP6&IF(AEP5=1,\"\",LOOKUP(AEP5,$A$96:$A$113,$B$96:$B$113)))","v":""},{"$f":"IF(AEQ5=0,\"\",AEQ6&IF(AEQ5=1,\"\",LOOKUP(AEQ5,$A$96:$A$113,$B$96:$B$113)))","v":""},{"$f":"IF(AER5=0,\"\",AER6&IF(AER5=1,\"\",LOOKUP(AER5,$A$96:$A$113,$B$96:$B$113)))","v":""},{"$f":"IF(AES5=0,\"\",AES6&IF(AES5=1,\"\",LOOKUP(AES5,$A$96:$A$113,$B$96:$B$113)))","v":""},{"$f":"IF(AET5=0,\"\",AET6&IF(AET5=1,\"\",LOOKUP(AET5,$A$96:$A$113,$B$96:$B$113)))","v":""},{"$f":"IF(AEU5=0,\"\",AEU6&IF(AEU5=1,\"\",LOOKUP(AEU5,$A$96:$A$113,$B$96:$B$113)))","v":""},{"$f":"IF(AEV5=0,\"\",AEV6&IF(AEV5=1,\"\",LOOKUP(AEV5,$A$96:$A$113,$B$96:$B$113)))","v":""},{"$f":"IF(AEW5=0,\"\",AEW6&IF(AEW5=1,\"\",LOOKUP(AEW5,$A$96:$A$113,$B$96:$B$113)))","v":""},{"$f":"IF(AEX5=0,\"\",AEX6&IF(AEX5=1,\"\",LOOKUP(AEX5,$A$96:$A$113,$B$96:$B$113)))","v":""},{"$f":"IF(AEY5=0,\"\",AEY6&IF(AEY5=1,\"\",LOOKUP(AEY5,$A$96:$A$113,$B$96:$B$113)))","v":""},{"$f":"IF(AEZ5=0,\"\",AEZ6&IF(AEZ5=1,\"\",LOOKUP(AEZ5,$A$96:$A$113,$B$96:$B$113)))","v":""},{"$f":"IF(AFA5=0,\"\",AFA6&IF(AFA5=1,\"\",LOOKUP(AFA5,$A$96:$A$113,$B$96:$B$113)))","v":""},{"$f":"IF(AFB5=0,\"\",AFB6&IF(AFB5=1,\"\",LOOKUP(AFB5,$A$96:$A$113,$B$96:$B$113)))","v":""},{"$f":"IF(AFC5=0,\"\",AFC6&IF(AFC5=1,\"\",LOOKUP(AFC5,$A$96:$A$113,$B$96:$B$113)))","v":""},{"$f":"IF(AFD5=0,\"\",AFD6&IF(AFD5=1,\"\",LOOKUP(AFD5,$A$96:$A$113,$B$96:$B$113)))","v":""},{"$f":"IF(AFE5=0,\"\",AFE6&IF(AFE5=1,\"\",LOOKUP(AFE5,$A$96:$A$113,$B$96:$B$113)))","v":""},{"$f":"IF(AFF5=0,\"\",AFF6&IF(AFF5=1,\"\",LOOKUP(AFF5,$A$96:$A$113,$B$96:$B$113)))","v":""},{"$f":"IF(AFG5=0,\"\",AFG6&IF(AFG5=1,\"\",LOOKUP(AFG5,$A$96:$A$113,$B$96:$B$113)))","v":""},{"$f":"IF(AFH5=0,\"\",AFH6&IF(AFH5=1,\"\",LOOKUP(AFH5,$A$96:$A$113,$B$96:$B$113)))","v":""},{"$f":"IF(AFI5=0,\"\",AFI6&IF(AFI5=1,\"\",LOOKUP(AFI5,$A$96:$A$113,$B$96:$B$113)))","v":""},{"$f":"IF(AFJ5=0,\"\",AFJ6&IF(AFJ5=1,\"\",LOOKUP(AFJ5,$A$96:$A$113,$B$96:$B$113)))","v":""},{"$f":"IF(AFK5=0,\"\",AFK6&IF(AFK5=1,\"\",LOOKUP(AFK5,$A$96:$A$113,$B$96:$B$113)))","v":""},{"$f":"IF(AFL5=0,\"\",AFL6&IF(AFL5=1,\"\",LOOKUP(AFL5,$A$96:$A$113,$B$96:$B$113)))","v":""},{"$f":"IF(AFM5=0,\"\",AFM6&IF(AFM5=1,\"\",LOOKUP(AFM5,$A$96:$A$113,$B$96:$B$113)))","v":""},{"$f":"IF(AFN5=0,\"\",AFN6&IF(AFN5=1,\"\",LOOKUP(AFN5,$A$96:$A$113,$B$96:$B$113)))","v":""},{"$f":"IF(AFO5=0,\"\",AFO6&IF(AFO5=1,\"\",LOOKUP(AFO5,$A$96:$A$113,$B$96:$B$113)))","v":""},{"$f":"IF(AFP5=0,\"\",AFP6&IF(AFP5=1,\"\",LOOKUP(AFP5,$A$96:$A$113,$B$96:$B$113)))","v":""},{"$f":"IF(AFQ5=0,\"\",AFQ6&IF(AFQ5=1,\"\",LOOKUP(AFQ5,$A$96:$A$113,$B$96:$B$113)))","v":""},{"$f":"IF(AFR5=0,\"\",AFR6&IF(AFR5=1,\"\",LOOKUP(AFR5,$A$96:$A$113,$B$96:$B$113)))","v":""},{"$f":"IF(AFS5=0,\"\",AFS6&IF(AFS5=1,\"\",LOOKUP(AFS5,$A$96:$A$113,$B$96:$B$113)))","v":""},{"$f":"IF(AFT5=0,\"\",AFT6&IF(AFT5=1,\"\",LOOKUP(AFT5,$A$96:$A$113,$B$96:$B$113)))","v":""},{"$f":"IF(AFU5=0,\"\",AFU6&IF(AFU5=1,\"\",LOOKUP(AFU5,$A$96:$A$113,$B$96:$B$113)))","v":""},{"$f":"IF(AFV5=0,\"\",AFV6&IF(AFV5=1,\"\",LOOKUP(AFV5,$A$96:$A$113,$B$96:$B$113)))","v":""},{"$f":"IF(AFW5=0,\"\",AFW6&IF(AFW5=1,\"\",LOOKUP(AFW5,$A$96:$A$113,$B$96:$B$113)))","v":""},{"$f":"IF(AFX5=0,\"\",AFX6&IF(AFX5=1,\"\",LOOKUP(AFX5,$A$96:$A$113,$B$96:$B$113)))","v":""},{"$f":"IF(AFY5=0,\"\",AFY6&IF(AFY5=1,\"\",LOOKUP(AFY5,$A$96:$A$113,$B$96:$B$113)))","v":""},{"$f":"IF(AFZ5=0,\"\",AFZ6&IF(AFZ5=1,\"\",LOOKUP(AFZ5,$A$96:$A$113,$B$96:$B$113)))","v":""},{"$f":"IF(AGA5=0,\"\",AGA6&IF(AGA5=1,\"\",LOOKUP(AGA5,$A$96:$A$113,$B$96:$B$113)))","v":""},{"$f":"IF(AGB5=0,\"\",AGB6&IF(AGB5=1,\"\",LOOKUP(AGB5,$A$96:$A$113,$B$96:$B$113)))","v":""},{"$f":"IF(AGC5=0,\"\",AGC6&IF(AGC5=1,\"\",LOOKUP(AGC5,$A$96:$A$113,$B$96:$B$113)))","v":""},{"$f":"IF(AGD5=0,\"\",AGD6&IF(AGD5=1,\"\",LOOKUP(AGD5,$A$96:$A$113,$B$96:$B$113)))","v":""},{"$f":"IF(AGE5=0,\"\",AGE6&IF(AGE5=1,\"\",LOOKUP(AGE5,$A$96:$A$113,$B$96:$B$113)))","v":""},{"$f":"IF(AGF5=0,\"\",AGF6&IF(AGF5=1,\"\",LOOKUP(AGF5,$A$96:$A$113,$B$96:$B$113)))","v":""},{"$f":"IF(AGG5=0,\"\",AGG6&IF(AGG5=1,\"\",LOOKUP(AGG5,$A$96:$A$113,$B$96:$B$113)))","v":""},{"$f":"IF(AGH5=0,\"\",AGH6&IF(AGH5=1,\"\",LOOKUP(AGH5,$A$96:$A$113,$B$96:$B$113)))","v":""},{"$f":"IF(AGI5=0,\"\",AGI6&IF(AGI5=1,\"\",LOOKUP(AGI5,$A$96:$A$113,$B$96:$B$113)))","v":""},{"$f":"IF(AGJ5=0,\"\",AGJ6&IF(AGJ5=1,\"\",LOOKUP(AGJ5,$A$96:$A$113,$B$96:$B$113)))","v":""},{"$f":"IF(AGK5=0,\"\",AGK6&IF(AGK5=1,\"\",LOOKUP(AGK5,$A$96:$A$113,$B$96:$B$113)))","v":""},{"$f":"IF(AGL5=0,\"\",AGL6&IF(AGL5=1,\"\",LOOKUP(AGL5,$A$96:$A$113,$B$96:$B$113)))","v":""},{"$f":"IF(AGM5=0,\"\",AGM6&IF(AGM5=1,\"\",LOOKUP(AGM5,$A$96:$A$113,$B$96:$B$113)))","v":""},{"$f":"IF(AGN5=0,\"\",AGN6&IF(AGN5=1,\"\",LOOKUP(AGN5,$A$96:$A$113,$B$96:$B$113)))","v":""},{"$f":"IF(AGO5=0,\"\",AGO6&IF(AGO5=1,\"\",LOOKUP(AGO5,$A$96:$A$113,$B$96:$B$113)))","v":""},{"$f":"IF(AGP5=0,\"\",AGP6&IF(AGP5=1,\"\",LOOKUP(AGP5,$A$96:$A$113,$B$96:$B$113)))","v":""},{"$f":"IF(AGQ5=0,\"\",AGQ6&IF(AGQ5=1,\"\",LOOKUP(AGQ5,$A$96:$A$113,$B$96:$B$113)))","v":""},{"$f":"IF(AGR5=0,\"\",AGR6&IF(AGR5=1,\"\",LOOKUP(AGR5,$A$96:$A$113,$B$96:$B$113)))","v":""},{"$f":"IF(AGS5=0,\"\",AGS6&IF(AGS5=1,\"\",LOOKUP(AGS5,$A$96:$A$113,$B$96:$B$113)))","v":""},{"$f":"IF(AGT5=0,\"\",AGT6&IF(AGT5=1,\"\",LOOKUP(AGT5,$A$96:$A$113,$B$96:$B$113)))","v":""},{"$f":"IF(AGU5=0,\"\",AGU6&IF(AGU5=1,\"\",LOOKUP(AGU5,$A$96:$A$113,$B$96:$B$113)))","v":""},{"$f":"IF(AGV5=0,\"\",AGV6&IF(AGV5=1,\"\",LOOKUP(AGV5,$A$96:$A$113,$B$96:$B$113)))","v":""},{"$f":"IF(AGW5=0,\"\",AGW6&IF(AGW5=1,\"\",LOOKUP(AGW5,$A$96:$A$113,$B$96:$B$113)))","v":""},{"$f":"IF(AGX5=0,\"\",AGX6&IF(AGX5=1,\"\",LOOKUP(AGX5,$A$96:$A$113,$B$96:$B$113)))","v":""},{"$f":"IF(AGY5=0,\"\",AGY6&IF(AGY5=1,\"\",LOOKUP(AGY5,$A$96:$A$113,$B$96:$B$113)))","v":""},{"$f":"IF(AGZ5=0,\"\",AGZ6&IF(AGZ5=1,\"\",LOOKUP(AGZ5,$A$96:$A$113,$B$96:$B$113)))","v":""},{"$f":"IF(AHA5=0,\"\",AHA6&IF(AHA5=1,\"\",LOOKUP(AHA5,$A$96:$A$113,$B$96:$B$113)))","v":""},{"$f":"IF(AHB5=0,\"\",AHB6&IF(AHB5=1,\"\",LOOKUP(AHB5,$A$96:$A$113,$B$96:$B$113)))","v":""},{"$f":"IF(AHC5=0,\"\",AHC6&IF(AHC5=1,\"\",LOOKUP(AHC5,$A$96:$A$113,$B$96:$B$113)))","v":""},{"$f":"IF(AHD5=0,\"\",AHD6&IF(AHD5=1,\"\",LOOKUP(AHD5,$A$96:$A$113,$B$96:$B$113)))","v":""},{"$f":"IF(AHE5=0,\"\",AHE6&IF(AHE5=1,\"\",LOOKUP(AHE5,$A$96:$A$113,$B$96:$B$113)))","v":""},{"$f":"IF(AHF5=0,\"\",AHF6&IF(AHF5=1,\"\",LOOKUP(AHF5,$A$96:$A$113,$B$96:$B$113)))","v":""},{"$f":"IF(AHG5=0,\"\",AHG6&IF(AHG5=1,\"\",LOOKUP(AHG5,$A$96:$A$113,$B$96:$B$113)))","v":""},{"$f":"IF(AHH5=0,\"\",AHH6&IF(AHH5=1,\"\",LOOKUP(AHH5,$A$96:$A$113,$B$96:$B$113)))","v":""},{"$f":"IF(AHI5=0,\"\",AHI6&IF(AHI5=1,\"\",LOOKUP(AHI5,$A$96:$A$113,$B$96:$B$113)))","v":""},{"$f":"IF(AHJ5=0,\"\",AHJ6&IF(AHJ5=1,\"\",LOOKUP(AHJ5,$A$96:$A$113,$B$96:$B$113)))","v":""},{"$f":"IF(AHK5=0,\"\",AHK6&IF(AHK5=1,\"\",LOOKUP(AHK5,$A$96:$A$113,$B$96:$B$113)))","v":""},{"$f":"IF(AHL5=0,\"\",AHL6&IF(AHL5=1,\"\",LOOKUP(AHL5,$A$96:$A$113,$B$96:$B$113)))","v":""},{"$f":"IF(AHM5=0,\"\",AHM6&IF(AHM5=1,\"\",LOOKUP(AHM5,$A$96:$A$113,$B$96:$B$113)))","v":""},{"$f":"IF(AHN5=0,\"\",AHN6&IF(AHN5=1,\"\",LOOKUP(AHN5,$A$96:$A$113,$B$96:$B$113)))","v":""},{"$f":"IF(AHO5=0,\"\",AHO6&IF(AHO5=1,\"\",LOOKUP(AHO5,$A$96:$A$113,$B$96:$B$113)))","v":""},{"$f":"IF(AHP5=0,\"\",AHP6&IF(AHP5=1,\"\",LOOKUP(AHP5,$A$96:$A$113,$B$96:$B$113)))","v":""},{"$f":"IF(AHQ5=0,\"\",AHQ6&IF(AHQ5=1,\"\",LOOKUP(AHQ5,$A$96:$A$113,$B$96:$B$113)))","v":""},{"$f":"IF(AHR5=0,\"\",AHR6&IF(AHR5=1,\"\",LOOKUP(AHR5,$A$96:$A$113,$B$96:$B$113)))","v":""},{"$f":"IF(AHS5=0,\"\",AHS6&IF(AHS5=1,\"\",LOOKUP(AHS5,$A$96:$A$113,$B$96:$B$113)))","v":""},{"$f":"IF(AHT5=0,\"\",AHT6&IF(AHT5=1,\"\",LOOKUP(AHT5,$A$96:$A$113,$B$96:$B$113)))","v":""},{"$f":"IF(AHU5=0,\"\",AHU6&IF(AHU5=1,\"\",LOOKUP(AHU5,$A$96:$A$113,$B$96:$B$113)))","v":""},{"$f":"IF(AHV5=0,\"\",AHV6&IF(AHV5=1,\"\",LOOKUP(AHV5,$A$96:$A$113,$B$96:$B$113)))","v":""},{"$f":"IF(AHW5=0,\"\",AHW6&IF(AHW5=1,\"\",LOOKUP(AHW5,$A$96:$A$113,$B$96:$B$113)))","v":""},{"$f":"IF(AHX5=0,\"\",AHX6&IF(AHX5=1,\"\",LOOKUP(AHX5,$A$96:$A$113,$B$96:$B$113)))","v":""},{"$f":"IF(AHY5=0,\"\",AHY6&IF(AHY5=1,\"\",LOOKUP(AHY5,$A$96:$A$113,$B$96:$B$113)))","v":""},{"$f":"IF(AHZ5=0,\"\",AHZ6&IF(AHZ5=1,\"\",LOOKUP(AHZ5,$A$96:$A$113,$B$96:$B$113)))","v":""},{"$f":"IF(AIA5=0,\"\",AIA6&IF(AIA5=1,\"\",LOOKUP(AIA5,$A$96:$A$113,$B$96:$B$113)))","v":""},{"$f":"IF(AIB5=0,\"\",AIB6&IF(AIB5=1,\"\",LOOKUP(AIB5,$A$96:$A$113,$B$96:$B$113)))","v":""},{"$f":"IF(AIC5=0,\"\",AIC6&IF(AIC5=1,\"\",LOOKUP(AIC5,$A$96:$A$113,$B$96:$B$113)))","v":""},{"$f":"IF(AID5=0,\"\",AID6&IF(AID5=1,\"\",LOOKUP(AID5,$A$96:$A$113,$B$96:$B$113)))","v":""},{"$f":"IF(AIE5=0,\"\",AIE6&IF(AIE5=1,\"\",LOOKUP(AIE5,$A$96:$A$113,$B$96:$B$113)))","v":""},{"$f":"IF(AIF5=0,\"\",AIF6&IF(AIF5=1,\"\",LOOKUP(AIF5,$A$96:$A$113,$B$96:$B$113)))","v":""},{"$f":"IF(AIG5=0,\"\",AIG6&IF(AIG5=1,\"\",LOOKUP(AIG5,$A$96:$A$113,$B$96:$B$113)))","v":""},{"$f":"IF(AIH5=0,\"\",AIH6&IF(AIH5=1,\"\",LOOKUP(AIH5,$A$96:$A$113,$B$96:$B$113)))","v":""},{"$f":"IF(AII5=0,\"\",AII6&IF(AII5=1,\"\",LOOKUP(AII5,$A$96:$A$113,$B$96:$B$113)))","v":""},{"$f":"IF(AIJ5=0,\"\",AIJ6&IF(AIJ5=1,\"\",LOOKUP(AIJ5,$A$96:$A$113,$B$96:$B$113)))","v":""},{"$f":"IF(AIK5=0,\"\",AIK6&IF(AIK5=1,\"\",LOOKUP(AIK5,$A$96:$A$113,$B$96:$B$113)))","v":""},{"$f":"IF(AIL5=0,\"\",AIL6&IF(AIL5=1,\"\",LOOKUP(AIL5,$A$96:$A$113,$B$96:$B$113)))","v":""},{"$f":"IF(AIM5=0,\"\",AIM6&IF(AIM5=1,\"\",LOOKUP(AIM5,$A$96:$A$113,$B$96:$B$113)))","v":""},{"$f":"IF(AIN5=0,\"\",AIN6&IF(AIN5=1,\"\",LOOKUP(AIN5,$A$96:$A$113,$B$96:$B$113)))","v":""},{"$f":"IF(AIO5=0,\"\",AIO6&IF(AIO5=1,\"\",LOOKUP(AIO5,$A$96:$A$113,$B$96:$B$113)))","v":""},{"$f":"IF(AIP5=0,\"\",AIP6&IF(AIP5=1,\"\",LOOKUP(AIP5,$A$96:$A$113,$B$96:$B$113)))","v":""},{"$f":"IF(AIQ5=0,\"\",AIQ6&IF(AIQ5=1,\"\",LOOKUP(AIQ5,$A$96:$A$113,$B$96:$B$113)))","v":""},{"$f":"IF(AIR5=0,\"\",AIR6&IF(AIR5=1,\"\",LOOKUP(AIR5,$A$96:$A$113,$B$96:$B$113)))","v":""},{"$f":"IF(AIS5=0,\"\",AIS6&IF(AIS5=1,\"\",LOOKUP(AIS5,$A$96:$A$113,$B$96:$B$113)))","v":""},{"$f":"IF(AIT5=0,\"\",AIT6&IF(AIT5=1,\"\",LOOKUP(AIT5,$A$96:$A$113,$B$96:$B$113)))","v":""},{"$f":"IF(AIU5=0,\"\",AIU6&IF(AIU5=1,\"\",LOOKUP(AIU5,$A$96:$A$113,$B$96:$B$113)))","v":""},{"$f":"IF(AIV5=0,\"\",AIV6&IF(AIV5=1,\"\",LOOKUP(AIV5,$A$96:$A$113,$B$96:$B$113)))","v":""},{"$f":"IF(AIW5=0,\"\",AIW6&IF(AIW5=1,\"\",LOOKUP(AIW5,$A$96:$A$113,$B$96:$B$113)))","v":""},{"$f":"IF(AIX5=0,\"\",AIX6&IF(AIX5=1,\"\",LOOKUP(AIX5,$A$96:$A$113,$B$96:$B$113)))","v":""},{"$f":"IF(AIY5=0,\"\",AIY6&IF(AIY5=1,\"\",LOOKUP(AIY5,$A$96:$A$113,$B$96:$B$113)))","v":""},{"$f":"IF(AIZ5=0,\"\",AIZ6&IF(AIZ5=1,\"\",LOOKUP(AIZ5,$A$96:$A$113,$B$96:$B$113)))","v":""},{"$f":"IF(AJA5=0,\"\",AJA6&IF(AJA5=1,\"\",LOOKUP(AJA5,$A$96:$A$113,$B$96:$B$113)))","v":""},{"$f":"IF(AJB5=0,\"\",AJB6&IF(AJB5=1,\"\",LOOKUP(AJB5,$A$96:$A$113,$B$96:$B$113)))","v":""},{"$f":"IF(AJC5=0,\"\",AJC6&IF(AJC5=1,\"\",LOOKUP(AJC5,$A$96:$A$113,$B$96:$B$113)))","v":""},{"$f":"IF(AJD5=0,\"\",AJD6&IF(AJD5=1,\"\",LOOKUP(AJD5,$A$96:$A$113,$B$96:$B$113)))","v":""},{"$f":"IF(AJE5=0,\"\",AJE6&IF(AJE5=1,\"\",LOOKUP(AJE5,$A$96:$A$113,$B$96:$B$113)))","v":""},{"$f":"IF(AJF5=0,\"\",AJF6&IF(AJF5=1,\"\",LOOKUP(AJF5,$A$96:$A$113,$B$96:$B$113)))","v":""},{"$f":"IF(AJG5=0,\"\",AJG6&IF(AJG5=1,\"\",LOOKUP(AJG5,$A$96:$A$113,$B$96:$B$113)))","v":""},{"$f":"IF(AJH5=0,\"\",AJH6&IF(AJH5=1,\"\",LOOKUP(AJH5,$A$96:$A$113,$B$96:$B$113)))","v":""},{"$f":"IF(AJI5=0,\"\",AJI6&IF(AJI5=1,\"\",LOOKUP(AJI5,$A$96:$A$113,$B$96:$B$113)))","v":""},{"$f":"IF(AJJ5=0,\"\",AJJ6&IF(AJJ5=1,\"\",LOOKUP(AJJ5,$A$96:$A$113,$B$96:$B$113)))","v":""},{"$f":"IF(AJK5=0,\"\",AJK6&IF(AJK5=1,\"\",LOOKUP(AJK5,$A$96:$A$113,$B$96:$B$113)))","v":""},{"$f":"IF(AJL5=0,\"\",AJL6&IF(AJL5=1,\"\",LOOKUP(AJL5,$A$96:$A$113,$B$96:$B$113)))","v":""},{"$f":"IF(AJM5=0,\"\",AJM6&IF(AJM5=1,\"\",LOOKUP(AJM5,$A$96:$A$113,$B$96:$B$113)))","v":""},{"$f":"IF(AJN5=0,\"\",AJN6&IF(AJN5=1,\"\",LOOKUP(AJN5,$A$96:$A$113,$B$96:$B$113)))","v":""},{"$f":"IF(AJO5=0,\"\",AJO6&IF(AJO5=1,\"\",LOOKUP(AJO5,$A$96:$A$113,$B$96:$B$113)))","v":""},{"$f":"IF(AJP5=0,\"\",AJP6&IF(AJP5=1,\"\",LOOKUP(AJP5,$A$96:$A$113,$B$96:$B$113)))","v":""},{"$f":"IF(AJQ5=0,\"\",AJQ6&IF(AJQ5=1,\"\",LOOKUP(AJQ5,$A$96:$A$113,$B$96:$B$113)))","v":""},{"$f":"IF(AJR5=0,\"\",AJR6&IF(AJR5=1,\"\",LOOKUP(AJR5,$A$96:$A$113,$B$96:$B$113)))","v":""},{"$f":"IF(AJS5=0,\"\",AJS6&IF(AJS5=1,\"\",LOOKUP(AJS5,$A$96:$A$113,$B$96:$B$113)))","v":""},{"$f":"IF(AJT5=0,\"\",AJT6&IF(AJT5=1,\"\",LOOKUP(AJT5,$A$96:$A$113,$B$96:$B$113)))","v":""},{"$f":"IF(AJU5=0,\"\",AJU6&IF(AJU5=1,\"\",LOOKUP(AJU5,$A$96:$A$113,$B$96:$B$113)))","v":""},{"$f":"IF(AJV5=0,\"\",AJV6&IF(AJV5=1,\"\",LOOKUP(AJV5,$A$96:$A$113,$B$96:$B$113)))","v":""},{"$f":"IF(AJW5=0,\"\",AJW6&IF(AJW5=1,\"\",LOOKUP(AJW5,$A$96:$A$113,$B$96:$B$113)))","v":""},{"$f":"IF(AJX5=0,\"\",AJX6&IF(AJX5=1,\"\",LOOKUP(AJX5,$A$96:$A$113,$B$96:$B$113)))","v":""},{"$f":"IF(AJY5=0,\"\",AJY6&IF(AJY5=1,\"\",LOOKUP(AJY5,$A$96:$A$113,$B$96:$B$113)))","v":""},{"$f":"IF(AJZ5=0,\"\",AJZ6&IF(AJZ5=1,\"\",LOOKUP(AJZ5,$A$96:$A$113,$B$96:$B$113)))","v":""},{"$f":"IF(AKA5=0,\"\",AKA6&IF(AKA5=1,\"\",LOOKUP(AKA5,$A$96:$A$113,$B$96:$B$113)))","v":""},{"$f":"IF(AKB5=0,\"\",AKB6&IF(AKB5=1,\"\",LOOKUP(AKB5,$A$96:$A$113,$B$96:$B$113)))","v":""},{"$f":"IF(AKC5=0,\"\",AKC6&IF(AKC5=1,\"\",LOOKUP(AKC5,$A$96:$A$113,$B$96:$B$113)))","v":""},{"$f":"IF(AKD5=0,\"\",AKD6&IF(AKD5=1,\"\",LOOKUP(AKD5,$A$96:$A$113,$B$96:$B$113)))","v":""},{"$f":"IF(AKE5=0,\"\",AKE6&IF(AKE5=1,\"\",LOOKUP(AKE5,$A$96:$A$113,$B$96:$B$113)))","v":""},{"$f":"IF(AKF5=0,\"\",AKF6&IF(AKF5=1,\"\",LOOKUP(AKF5,$A$96:$A$113,$B$96:$B$113)))","v":""},{"$f":"IF(AKG5=0,\"\",AKG6&IF(AKG5=1,\"\",LOOKUP(AKG5,$A$96:$A$113,$B$96:$B$113)))","v":""},{"$f":"IF(AKH5=0,\"\",AKH6&IF(AKH5=1,\"\",LOOKUP(AKH5,$A$96:$A$113,$B$96:$B$113)))","v":""},{"$f":"IF(AKI5=0,\"\",AKI6&IF(AKI5=1,\"\",LOOKUP(AKI5,$A$96:$A$113,$B$96:$B$113)))","v":""},{"$f":"IF(AKJ5=0,\"\",AKJ6&IF(AKJ5=1,\"\",LOOKUP(AKJ5,$A$96:$A$113,$B$96:$B$113)))","v":""},{"$f":"IF(AKK5=0,\"\",AKK6&IF(AKK5=1,\"\",LOOKUP(AKK5,$A$96:$A$113,$B$96:$B$113)))","v":""},{"$f":"IF(AKL5=0,\"\",AKL6&IF(AKL5=1,\"\",LOOKUP(AKL5,$A$96:$A$113,$B$96:$B$113)))","v":""},{"$f":"IF(AKM5=0,\"\",AKM6&IF(AKM5=1,\"\",LOOKUP(AKM5,$A$96:$A$113,$B$96:$B$113)))","v":""},{"$f":"IF(AKN5=0,\"\",AKN6&IF(AKN5=1,\"\",LOOKUP(AKN5,$A$96:$A$113,$B$96:$B$113)))","v":""},{"$f":"IF(AKO5=0,\"\",AKO6&IF(AKO5=1,\"\",LOOKUP(AKO5,$A$96:$A$113,$B$96:$B$113)))","v":""},{"$f":"IF(AKP5=0,\"\",AKP6&IF(AKP5=1,\"\",LOOKUP(AKP5,$A$96:$A$113,$B$96:$B$113)))","v":""},{"$f":"IF(AKQ5=0,\"\",AKQ6&IF(AKQ5=1,\"\",LOOKUP(AKQ5,$A$96:$A$113,$B$96:$B$113)))","v":""},{"$f":"IF(AKR5=0,\"\",AKR6&IF(AKR5=1,\"\",LOOKUP(AKR5,$A$96:$A$113,$B$96:$B$113)))","v":""},{"$f":"IF(AKS5=0,\"\",AKS6&IF(AKS5=1,\"\",LOOKUP(AKS5,$A$96:$A$113,$B$96:$B$113)))","v":""},{"$f":"IF(AKT5=0,\"\",AKT6&IF(AKT5=1,\"\",LOOKUP(AKT5,$A$96:$A$113,$B$96:$B$113)))","v":""},{"$f":"IF(AKU5=0,\"\",AKU6&IF(AKU5=1,\"\",LOOKUP(AKU5,$A$96:$A$113,$B$96:$B$113)))","v":""},{"$f":"IF(AKV5=0,\"\",AKV6&IF(AKV5=1,\"\",LOOKUP(AKV5,$A$96:$A$113,$B$96:$B$113)))","v":""},{"$f":"IF(AKW5=0,\"\",AKW6&IF(AKW5=1,\"\",LOOKUP(AKW5,$A$96:$A$113,$B$96:$B$113)))","v":""},{"$f":"IF(AKX5=0,\"\",AKX6&IF(AKX5=1,\"\",LOOKUP(AKX5,$A$96:$A$113,$B$96:$B$113)))","v":""},{"$f":"IF(AKY5=0,\"\",AKY6&IF(AKY5=1,\"\",LOOKUP(AKY5,$A$96:$A$113,$B$96:$B$113)))","v":""},{"$f":"IF(AKZ5=0,\"\",AKZ6&IF(AKZ5=1,\"\",LOOKUP(AKZ5,$A$96:$A$113,$B$96:$B$113)))","v":""},{"$f":"IF(ALA5=0,\"\",ALA6&IF(ALA5=1,\"\",LOOKUP(ALA5,$A$96:$A$113,$B$96:$B$113)))","v":""},{"$f":"IF(ALB5=0,\"\",ALB6&IF(ALB5=1,\"\",LOOKUP(ALB5,$A$96:$A$113,$B$96:$B$113)))","v":""},{"$f":"IF(ALC5=0,\"\",ALC6&IF(ALC5=1,\"\",LOOKUP(ALC5,$A$96:$A$113,$B$96:$B$113)))","v":""},{"$f":"IF(ALD5=0,\"\",ALD6&IF(ALD5=1,\"\",LOOKUP(ALD5,$A$96:$A$113,$B$96:$B$113)))","v":""},{"$f":"IF(ALE5=0,\"\",ALE6&IF(ALE5=1,\"\",LOOKUP(ALE5,$A$96:$A$113,$B$96:$B$113)))","v":""},{"$f":"IF(ALF5=0,\"\",ALF6&IF(ALF5=1,\"\",LOOKUP(ALF5,$A$96:$A$113,$B$96:$B$113)))","v":""},{"$f":"IF(ALG5=0,\"\",ALG6&IF(ALG5=1,\"\",LOOKUP(ALG5,$A$96:$A$113,$B$96:$B$113)))","v":""},{"$f":"IF(ALH5=0,\"\",ALH6&IF(ALH5=1,\"\",LOOKUP(ALH5,$A$96:$A$113,$B$96:$B$113)))","v":""},{"$f":"IF(ALI5=0,\"\",ALI6&IF(ALI5=1,\"\",LOOKUP(ALI5,$A$96:$A$113,$B$96:$B$113)))","v":""},{"$f":"IF(ALJ5=0,\"\",ALJ6&IF(ALJ5=1,\"\",LOOKUP(ALJ5,$A$96:$A$113,$B$96:$B$113)))","v":""},{"$f":"IF(ALK5=0,\"\",ALK6&IF(ALK5=1,\"\",LOOKUP(ALK5,$A$96:$A$113,$B$96:$B$113)))","v":""},{"$f":"IF(ALL5=0,\"\",ALL6&IF(ALL5=1,\"\",LOOKUP(ALL5,$A$96:$A$113,$B$96:$B$113)))","v":""},{"$f":"IF(ALM5=0,\"\",ALM6&IF(ALM5=1,\"\",LOOKUP(ALM5,$A$96:$A$113,$B$96:$B$113)))","v":""},{"$f":"IF(ALN5=0,\"\",ALN6&IF(ALN5=1,\"\",LOOKUP(ALN5,$A$96:$A$113,$B$96:$B$113)))","v":""},{"$f":"IF(ALO5=0,\"\",ALO6&IF(ALO5=1,\"\",LOOKUP(ALO5,$A$96:$A$113,$B$96:$B$113)))","v":""},{"$f":"IF(ALP5=0,\"\",ALP6&IF(ALP5=1,\"\",LOOKUP(ALP5,$A$96:$A$113,$B$96:$B$113)))","v":""},{"$f":"IF(ALQ5=0,\"\",ALQ6&IF(ALQ5=1,\"\",LOOKUP(ALQ5,$A$96:$A$113,$B$96:$B$113)))","v":""}]
["#1:",{"$f":"Venn!E2","v":180},{"$f":"SUM(F5:ALQ5)","v":5},null,null,{"$f":"14-COUNTIF(F7:F20,0)","v":2},{"$f":"14-COUNTIF(G7:G20,0)","v":2},1,0,0,0,0,0,0,0,0,0,0,0,0,0,0,0,0,0,0,0,0,0,0,0,0,0,0,0,0,0,0,0,0,0,0,0,0,0,0,0,0,0,0,0,0,0,0,0,0,0,0,0,0,0,0,0,0,0,0,0,0,0,0,{"$f":"14-COUNTIF(BS7:BS20,0)","v":0},0,0,0,0,0,0,0,0,0,0,0,0,0,0,0,0,0,0,0,0,0,0,0,0,0,0,0,0,0,0,0,0,0,0,0,0,0,0,0,0,0,0,0,0,0,0,0,0,0,0,0,0,0,0,0,0,0,0,0,0,0,0,0,{"$f":"14-COUNTIF(EE7:EE20,0)","v":0},0,0,0,0,0,0,0,0,0,0,0,0,0,0,0,0,0,0,0,0,0,0,0,0,0,0,0,0,0,0,0,0,0,0,0,0,0,0,0,0,0,0,0,0,0,0,0,0,0,0,0,0,0,0,0,0,0,0,0,0,0,0,0,{"$f":"14-COUNTIF(GQ7:GQ20,0)","v":0},0,0,0,0,0,0,0,0,0,0,0,0,0,0,0,0,0,0,0,0,0,0,0,0,0,0,0,0,0,0,0,0,0,0,0,0,0,0,0,0,0,0,0,0,0,0,0,0,0,0,0,0,0,0,0,0,0,0,0,0,0,0,0,{"$f":"14-COUNTIF(JC7:JC20,0)","v":0},0,0,0,0,0,0,0,0,0,0,0,0,0,0,0,0,0,0,0,0,0,0,0,0,0,0,0,0,0,0,0,0,0,0,0,0,0,0,0,0,0,0,0,0,0,0,0,0,0,0,0,0,0,0,0,0,0,0,0,0,0,0,0,{"$f":"14-COUNTIF(LO7:LO20,0)","v":0},0,0,0,0,0,0,0,0,0,0,0,0,0,0,0,0,0,0,0,0,0,0,0,0,0,0,0,0,0,0,0,0,0,0,0,0,0,0,0,0,0,0,0,0,0,0,0,0,0,0,0,0,0,0,0,0,0,0,0,0,0,0,0,{"$f":"14-COUNTIF(OA7:OA20,0)","v":0},0,0,0,0,0,0,0,0,0,0,0,0,0,0,0,0,0,0,0,0,0,0,0,0,0,0,0,0,0,0,0,0,0,0,0,0,0,0,0,0,0,0,0,0,0,0,0,0,0,0,0,0,0,0,0,0,0,0,0,0,0,0,0,{"$f":"14-COUNTIF(QM7:QM20,0)","v":0},0,0,0,0,0,0,0,0,0,0,0,0,0,0,0,0,0,0,0,0,0,0,0,0,0,0,0,0,0,0,0,0,0,0,0,0,0,0,0,0,0,0,0,0,0,0,0,0,0,0,0,0,0,0,0,0,0,0,0,0,0,0,0,{"$f":"14-COUNTIF(SY7:SY20,0)","v":0},0,0,0,0,0,0,0,0,0,0,0,0,0,0,0,0,0,0,0,0,0,0,0,0,0,0,0,0,0,0,0,0,0,0,0,0,0,0,0,0,0,0,0,0,0,0,0,0,0,0,0,0,0,0,0,0,0,0,0,0,0,0,0,{"$f":"14-COUNTIF(VK7:VK20,0)","v":0},0,0,0,0,0,0,0,0,0,0,0,0,0,0,0,0,0,0,0,0,0,0,0,0,0,0,0,0,0,0,0,0,0,0,0,0,0,0,0,0,0,0,0,0,0,0,0,0,0,0,0,0,0,0,0,0,0,0,0,0,0,0,0,{"$f":"14-COUNTIF(XW7:XW20,0)","v":0},0,0,0,0,0,0,0,0,0,0,0,0,0,0,0,0,0,0,0,0,0,0,0,0,0,0,0,0,0,0,0,0,0,0,0,0,0,0,0,0,0,0,0,0,0,0,0,0,0,0,0,0,0,0,0,0,0,0,0,0,0,0,0,{"$f":"14-COUNTIF(AAI7:AAI20,0)","v":0},0,0,0,0,0,0,0,0,0,0,0,0,0,0,0,0,0,0,0,0,0,0,0,0,0,0,0,0,0,0,0,0,0,0,0,0,0,0,0,0,0,0,0,0,0,0,0,0,0,0,0,0,0,0,0,0,0,0,0,0,0,0,0,{"$f":"14-COUNTIF(ACU7:ACU20,0)","v":0},0,0,0,0,0,0,0,0,0,0,0,0,0,0,0,0,0,0,0,0,0,0,0,0,0,0,0,0,0,0,0,0,0,0,0,0,0,0,0,0,0,0,0,0,0,0,0,0,0,0,0,0,0,0,0,0,0,0,0,0,0,0,0,{"$f":"14-COUNTIF(AFG7:AFG20,0)","v":0},0,0,0,0,0,0,0,0,0,0,0,0,0,0,0,0,0,0,0,0,0,0,0,0,0,0,0,0,0,0,0,0,0,0,0,0,0,0,0,0,0,0,0,0,0,0,0,0,0,0,0,0,0,0,0,0,0,0,0,0,0,0,0,{"$f":"14-COUNTIF(AHS7:AHS20,0)","v":0},0,0,0,0,0,0,0,0,0,0,0,0,0,0,0,0,0,0,0,0,0,0,0,0,0,0,0,0,0,0,0,0,0,0,0,0,0,0,0,0,0,0,0,0,0,0,0,0,0,0,0,0,0,0,0,0,0,0,0,0,0,0,0,{"$f":"14-COUNTIF(AKE7:AKE20,0)","v":0},0,0,0,0,0,0,0,0,0,0,0,0,0,0,0,0,0,0,0,0,0,0,0,0,0,0,0,0,0,0,0,0,0,0,0,0,0,0]
["#2:",{"$f":"Venn!S2","v":423},{"$f":"SUM(F28:ALQ28)","v":3},null,null,2,3,5,7,11,13,17,19,23,29,31,37,41,43,47,53,59,61,67,71,73,79,83,89,97,101,103,107,109,113,127,131,137,139,149,151,157,163,167,173,179,181,191,193,197,199,211,223,227,229,233,239,241,251,257,263,269,271,277,281,283,293,307,311,313,317,331,337,347,349,353,359,367,373,379,383,389,397,401,409,419,421,431,433,439,443,449,457,461,463,467,479,487,491,499,503,509,521,523,541,547,557,563,569,571,577,587,593,599,601,607,613,617,619,631,641,643,647,653,659,661,673,677,683,691,701,709,719,727,733,739,743,751,757,761,769,773,787,797,809,811,821,823,827,829,839,853,857,859,863,877,881,883,887,907,911,919,929,937,941,947,953,967,971,977,983,991,997,1009,1013,1019,1021,1031,1033,1039,1049,1051,1061,1063,1069,1087,1091,1093,1097,1103,1109,1117,1123,1129,1151,1153,1163,1171,1181,1187,1193,1201,1213,1217,1223,1229,1231,1237,1249,1259,1277,1279,1283,1289,1291,1297,1301,1303,1307,1319,1321,1327,1361,1367,1373,1381,1399,1409,1423,1427,1429,1433,1439,1447,1451,1453,1459,1471,1481,1483,1487,1489,1493,1499,1511,1523,1531,1543,1549,1553,1559,1567,1571,1579,1583,1597,1601,1607,1609,1613,1619,1621,1627,1637,1657,1663,1667,1669,1693,1697,1699,1709,1721,1723,1733,1741,1747,1753,1759,1777,1783,1787,1789,1801,1811,1823,1831,1847,1861,1867,1871,1873,1877,1879,1889,1901,1907,1913,1931,1933,1949,1951,1973,1979,1987,1993,1997,1999,2003,2011,2017,2027,2029,2039,2053,2063,2069,2081,2083,2087,2089,2099,2111,2113,2129,2131,2137,2141,2143,2153,2161,2179,2203,2207,2213,2221,2237,2239,2243,2251,2267,2269,2273,2281,2287,2293,2297,2309,2311,2333,2339,2341,2347,2351,2357,2371,2377,2381,2383,2389,2393,2399,2411,2417,2423,2437,2441,2447,2459,2467,2473,2477,2503,2521,2531,2539,2543,2549,2551,2557,2579,2591,2593,2609,2617,2621,2633,2647,2657,2659,2663,2671,2677,2683,2687,2689,2693,2699,2707,2711,2713,2719,2729,2731,2741,2749,2753,2767,2777,2789,2791,2797,2801,2803,2819,2833,2837,2843,2851,2857,2861,2879,2887,2897,2903,2909,2917,2927,2939,2953,2957,2963,2969,2971,2999,3001,3011,3019,3023,3037,3041,3049,3061,3067,3079,3083,3089,3109,3119,3121,3137,3163,3167,3169,3181,3187,3191,3203,3209,3217,3221,3229,3251,3253,3257,3259,3271,3299,3301,3307,3313,3319,3323,3329,3331,3343,3347,3359,3361,3371,3373,3389,3391,3407,3413,3433,3449,3457,3461,3463,3467,3469,3491,3499,3511,3517,3527,3529,3533,3539,3541,3547,3557,3559,3571,3581,3583,3593,3607,3613,3617,3623,3631,3637,3643,3659,3671,3673,3677,3691,3697,3701,3709,3719,3727,3733,3739,3761,3767,3769,3779,3793,3797,3803,3821,3823,3833,3847,3851,3853,3863,3877,3881,3889,3907,3911,3917,3919,3923,3929,3931,3943,3947,3967,3989,4001,4003,4007,4013,4019,4021,4027,4049,4051,4057,4073,4079,4091,4093,4099,4111,4127,4129,4133,4139,4153,4157,4159,4177,4201,4211,4217,4219,4229,4231,4241,4243,4253,4259,4261,4271,4273,4283,4289,4297,4327,4337,4339,4349,4357,4363,4373,4391,4397,4409,4421,4423,4441,4447,4451,4457,4463,4481,4483,4493,4507,4513,4517,4519,4523,4547,4549,4561,4567,4583,4591,4597,4603,4621,4637,4639,4643,4649,4651,4657,4663,4673,4679,4691,4703,4721,4723,4729,4733,4751,4759,4783,4787,4789,4793,4799,4801,4813,4817,4831,4861,4871,4877,4889,4903,4909,4919,4931,4933,4937,4943,4951,4957,4967,4969,4973,4987,4993,4999,5003,5009,5011,5021,5023,5039,5051,5059,5077,5081,5087,5099,5101,5107,5113,5119,5147,5153,5167,5171,5179,5189,5197,5209,5227,5231,5233,5237,5261,5273,5279,5281,5297,5303,5309,5323,5333,5347,5351,5381,5387,5393,5399,5407,5413,5417,5419,5431,5437,5441,5443,5449,5471,5477,5479,5483,5501,5503,5507,5519,5521,5527,5531,5557,5563,5569,5573,5581,5591,5623,5639,5641,5647,5651,5653,5657,5659,5669,5683,5689,5693,5701,5711,5717,5737,5741,5743,5749,5779,5783,5791,5801,5807,5813,5821,5827,5839,5843,5849,5851,5857,5861,5867,5869,5879,5881,5897,5903,5923,5927,5939,5953,5981,5987,6007,6011,6029,6037,6043,6047,6053,6067,6073,6079,6089,6091,6101,6113,6121,6131,6133,6143,6151,6163,6173,6197,6199,6203,6211,6217,6221,6229,6247,6257,6263,6269,6271,6277,6287,6299,6301,6311,6317,6323,6329,6337,6343,6353,6359,6361,6367,6373,6379,6389,6397,6421,6427,6449,6451,6469,6473,6481,6491,6521,6529,6547,6551,6553,6563,6569,6571,6577,6581,6599,6607,6619,6637,6653,6659,6661,6673,6679,6689,6691,6701,6703,6709,6719,6733,6737,6761,6763,6779,6781,6791,6793,6803,6823,6827,6829,6833,6841,6857,6863,6869,6871,6883,6899,6907,6911,6917,6947,6949,6959,6961,6967,6971,6977,6983,6991,6997,7001,7013,7019,7027,7039,7043,7057,7069,7079,7103,7109,7121,7127,7129,7151,7159,7177,7187,7193,7207,7211,7213,7219,7229,7237,7243,7247,7253,7283,7297,7307,7309,7321,7331,7333,7349,7351,7369,7393,7411,7417,7433,7451,7457,7459,7477,7481,7487,7489,7499,7507,7517,7523,7529,7537,7541,7547,7549,7559,7561,7573,7577,7583,7589,7591,7603,7607,7621,7639,7643,7649,7669,7673,7681,7687,7691,7699,7703,7717,7723,7727,7741,7753,7757,7759,7789,7793,7817,7823,7829,7841,7853,7867,7873,7877,7879,7883,7901,7907,7919,10000]
[null,null,null,null,null,{"$f":"IF($B5/F$6=ROUND($B5/F$6,0),$B5/F$6,0)","v":90},60,36,0,0,0,0,0,0,0,0,0,0,0,0,0,0,0,0,0,0,0,0,0,0,0,0,0,0,0,0,0,0,0,0,0,0,0,0,0,0,0,0,0,0,0,0,0,0,0,0,0,0,0,0,0,0,0,0,0,0,0,0,0,{"$f":"IF($B5/BR$6=ROUND($B5/BR$6,0),$B5/BR$6,0)","v":0},0,0,0,0,0,0,0,0,0,0,0,0,0,0,0,0,0,0,0,0,0,0,0,0,0,0,0,0,0,0,0,0,0,0,0,0,0,0,0,0,0,0,0,0,0,0,0,0,0,0,0,0,0,0,0,0,0,0,0,0,0,0,0,{"$f":"IF($B5/ED$6=ROUND($B5/ED$6,0),$B5/ED$6,0)","v":0},0,0,0,0,0,0,0,0,0,0,0,0,0,0,0,0,0,0,0,0,0,0,0,0,0,0,0,0,0,0,0,0,0,0,0,0,0,0,0,0,0,0,0,0,0,0,0,0,0,0,0,0,0,0,0,0,0,0,0,0,0,0,0,{"$f":"IF($B5/GP$6=ROUND($B5/GP$6,0),$B5/GP$6,0)","v":0},0,0,0,0,0,0,0,0,0,0,0,0,0,0,0,0,0,0,0,0,0,0,0,0,0,0,0,0,0,0,0,0,0,0,0,0,0,0,0,0,0,0,0,0,0,0,0,0,0,0,0,0,0,0,0,0,0,0,0,0,0,0,0,{"$f":"IF($B5/JB$6=ROUND($B5/JB$6,0),$B5/JB$6,0)","v":0},0,0,0,0,0,0,0,0,0,0,0,0,0,0,0,0,0,0,0,0,0,0,0,0,0,0,0,0,0,0,0,0,0,0,0,0,0,0,0,0,0,0,0,0,0,0,0,0,0,0,0,0,0,0,0,0,0,0,0,0,0,0,0,{"$f":"IF($B5/LN$6=ROUND($B5/LN$6,0),$B5/LN$6,0)","v":0},0,0,0,0,0,0,0,0,0,0,0,0,0,0,0,0,0,0,0,0,0,0,0,0,0,0,0,0,0,0,0,0,0,0,0,0,0,0,0,0,0,0,0,0,0,0,0,0,0,0,0,0,0,0,0,0,0,0,0,0,0,0,0,{"$f":"IF($B5/NZ$6=ROUND($B5/NZ$6,0),$B5/NZ$6,0)","v":0},0,0,0,0,0,0,0,0,0,0,0,0,0,0,0,0,0,0,0,0,0,0,0,0,0,0,0,0,0,0,0,0,0,0,0,0,0,0,0,0,0,0,0,0,0,0,0,0,0,0,0,0,0,0,0,0,0,0,0,0,0,0,0,{"$f":"IF($B5/QL$6=ROUND($B5/QL$6,0),$B5/QL$6,0)","v":0},0,0,0,0,0,0,0,0,0,0,0,0,0,0,0,0,0,0,0,0,0,0,0,0,0,0,0,0,0,0,0,0,0,0,0,0,0,0,0,0,0,0,0,0,0,0,0,0,0,0,0,0,0,0,0,0,0,0,0,0,0,0,0,{"$f":"IF($B5/SX$6=ROUND($B5/SX$6,0),$B5/SX$6,0)","v":0},0,0,0,0,0,0,0,0,0,0,0,0,0,0,0,0,0,0,0,0,0,0,0,0,0,0,0,0,0,0,0,0,0,0,0,0,0,0,0,0,0,0,0,0,0,0,0,0,0,0,0,0,0,0,0,0,0,0,0,0,0,0,0,{"$f":"IF($B5/VJ$6=ROUND($B5/VJ$6,0),$B5/VJ$6,0)","v":0},0,0,0,0,0,0,0,0,0,0,0,0,0,0,0,0,0,0,0,0,0,0,0,0,0,0,0,0,0,0,0,0,0,0,0,0,0,0,0,0,0,0,0,0,0,0,0,0,0,0,0,0,0,0,0,0,0,0,0,0,0,0,0,{"$f":"IF($B5/XV$6=ROUND($B5/XV$6,0),$B5/XV$6,0)","v":0},0,0,0,0,0,0,0,0,0,0,0,0,0,0,0,0,0,0,0,0,0,0,0,0,0,0,0,0,0,0,0,0,0,0,0,0,0,0,0,0,0,0,0,0,0,0,0,0,0,0,0,0,0,0,0,0,0,0,0,0,0,0,0,{"$f":"IF($B5/AAH$6=ROUND($B5/AAH$6,0),$B5/AAH$6,0)","v":0},0,0,0,0,0,0,0,0,0,0,0,0,0,0,0,0,0,0,0,0,0,0,0,0,0,0,0,0,0,0,0,0,0,0,0,0,0,0,0,0,0,0,0,0,0,0,0,0,0,0,0,0,0,0,0,0,0,0,0,0,0,0,0,{"$f":"IF($B5/ACT$6=ROUND($B5/ACT$6,0),$B5/ACT$6,0)","v":0},0,0,0,0,0,0,0,0,0,0,0,0,0,0,0,0,0,0,0,0,0,0,0,0,0,0,0,0,0,0,0,0,0,0,0,0,0,0,0,0,0,0,0,0,0,0,0,0,0,0,0,0,0,0,0,0,0,0,0,0,0,0,0,{"$f":"IF($B5/AFF$6=ROUND($B5/AFF$6,0),$B5/AFF$6,0)","v":0},0,0,0,0,0,0,0,0,0,0,0,0,0,0,0,0,0,0,0,0,0,0,0,0,0,0,0,0,0,0,0,0,0,0,0,0,0,0,0,0,0,0,0,0,0,0,0,0,0,0,0,0,0,0,0,0,0,0,0,0,0,0,0,{"$f":"IF($B5/AHR$6=ROUND($B5/AHR$6,0),$B5/AHR$6,0)","v":0},0,0,0,0,0,0,0,0,0,0,0,0,0,0,0,0,0,0,0,0,0,0,0,0,0,0,0,0,0,0,0,0,0,0,0,0,0,0,0,0,0,0,0,0,0,0,0,0,0,0,0,0,0,0,0,0,0,0,0,0,0,0,0,{"$f":"IF($B5/AKD$6=ROUND($B5/AKD$6,0),$B5/AKD$6,0)","v":0},0,0,0,0,0,0,0,0,0,0,0,0,0,0,0,0,0,0,0,0,0,0,0,0,0,0,0,0,0,0,0,0,0,0,0,0,0,0,0]
["Max:",{"$f":"F6*ALQ6","v":15838},null,null,null,{"$f":"IF(AND(F7/F$6=ROUND(F7/F$6,0),NOT(F7=0)),F7/F$6,0)","v":45},{"$f":"IF(AND(G7/G$6=ROUND(G7/G$6,0),NOT(G7=0)),G7/G$6,0)","v":20},0,0,0,0,0,0,0,0,0,0,0,0,0,0,0,0,0,0,0,0,0,0,0,0,0,0,0,0,0,0,0,0,0,0,0,0,0,0,0,0,0,0,0,0,0,0,0,0,0,0,0,0,0,0,0,0,0,0,0,0,0,0,0,{"$f":"IF(AND(BS7/BS$6=ROUND(BS7/BS$6,0),NOT(BS7=0)),BS7/BS$6,0)","v":0},0,0,0,0,0,0,0,0,0,0,0,0,0,0,0,0,0,0,0,0,0,0,0,0,0,0,0,0,0,0,0,0,0,0,0,0,0,0,0,0,0,0,0,0,0,0,0,0,0,0,0,0,0,0,0,0,0,0,0,0,0,0,0,{"$f":"IF(AND(EE7/EE$6=ROUND(EE7/EE$6,0),NOT(EE7=0)),EE7/EE$6,0)","v":0},0,0,0,0,0,0,0,0,0,0,0,0,0,0,0,0,0,0,0,0,0,0,0,0,0,0,0,0,0,0,0,0,0,0,0,0,0,0,0,0,0,0,0,0,0,0,0,0,0,0,0,0,0,0,0,0,0,0,0,0,0,0,0,{"$f":"IF(AND(GQ7/GQ$6=ROUND(GQ7/GQ$6,0),NOT(GQ7=0)),GQ7/GQ$6,0)","v":0},0,0,0,0,0,0,0,0,0,0,0,0,0,0,0,0,0,0,0,0,0,0,0,0,0,0,0,0,0,0,0,0,0,0,0,0,0,0,0,0,0,0,0,0,0,0,0,0,0,0,0,0,0,0,0,0,0,0,0,0,0,0,0,{"$f":"IF(AND(JC7/JC$6=ROUND(JC7/JC$6,0),NOT(JC7=0)),JC7/JC$6,0)","v":0},0,0,0,0,0,0,0,0,0,0,0,0,0,0,0,0,0,0,0,0,0,0,0,0,0,0,0,0,0,0,0,0,0,0,0,0,0,0,0,0,0,0,0,0,0,0,0,0,0,0,0,0,0,0,0,0,0,0,0,0,0,0,0,{"$f":"IF(AND(LO7/LO$6=ROUND(LO7/LO$6,0),NOT(LO7=0)),LO7/LO$6,0)","v":0},0,0,0,0,0,0,0,0,0,0,0,0,0,0,0,0,0,0,0,0,0,0,0,0,0,0,0,0,0,0,0,0,0,0,0,0,0,0,0,0,0,0,0,0,0,0,0,0,0,0,0,0,0,0,0,0,0,0,0,0,0,0,0,{"$f":"IF(AND(OA7/OA$6=ROUND(OA7/OA$6,0),NOT(OA7=0)),OA7/OA$6,0)","v":0},0,0,0,0,0,0,0,0,0,0,0,0,0,0,0,0,0,0,0,0,0,0,0,0,0,0,0,0,0,0,0,0,0,0,0,0,0,0,0,0,0,0,0,0,0,0,0,0,0,0,0,0,0,0,0,0,0,0,0,0,0,0,0,{"$f":"IF(AND(QM7/QM$6=ROUND(QM7/QM$6,0),NOT(QM7=0)),QM7/QM$6,0)","v":0},0,0,0,0,0,0,0,0,0,0,0,0,0,0,0,0,0,0,0,0,0,0,0,0,0,0,0,0,0,0,0,0,0,0,0,0,0,0,0,0,0,0,0,0,0,0,0,0,0,0,0,0,0,0,0,0,0,0,0,0,0,0,0,{"$f":"IF(AND(SY7/SY$6=ROUND(SY7/SY$6,0),NOT(SY7=0)),SY7/SY$6,0)","v":0},0,0,0,0,0,0,0,0,0,0,0,0,0,0,0,0,0,0,0,0,0,0,0,0,0,0,0,0,0,0,0,0,0,0,0,0,0,0,0,0,0,0,0,0,0,0,0,0,0,0,0,0,0,0,0,0,0,0,0,0,0,0,0,{"$f":"IF(AND(VK7/VK$6=ROUND(VK7/VK$6,0),NOT(VK7=0)),VK7/VK$6,0)","v":0},0,0,0,0,0,0,0,0,0,0,0,0,0,0,0,0,0,0,0,0,0,0,0,0,0,0,0,0,0,0,0,0,0,0,0,0,0,0,0,0,0,0,0,0,0,0,0,0,0,0,0,0,0,0,0,0,0,0,0,0,0,0,0,{"$f":"IF(AND(XW7/XW$6=ROUND(XW7/XW$6,0),NOT(XW7=0)),XW7/XW$6,0)","v":0},0,0,0,0,0,0,0,0,0,0,0,0,0,0,0,0,0,0,0,0,0,0,0,0,0,0,0,0,0,0,0,0,0,0,0,0,0,0,0,0,0,0,0,0,0,0,0,0,0,0,0,0,0,0,0,0,0,0,0,0,0,0,0,{"$f":"IF(AND(AAI7/AAI$6=ROUND(AAI7/AAI$6,0),NOT(AAI7=0)),AAI7/AAI$6,0)","v":0},0,0,0,0,0,0,0,0,0,0,0,0,0,0,0,0,0,0,0,0,0,0,0,0,0,0,0,0,0,0,0,0,0,0,0,0,0,0,0,0,0,0,0,0,0,0,0,0,0,0,0,0,0,0,0,0,0,0,0,0,0,0,0,{"$f":"IF(AND(ACU7/ACU$6=ROUND(ACU7/ACU$6,0),NOT(ACU7=0)),ACU7/ACU$6,0)","v":0},0,0,0,0,0,0,0,0,0,0,0,0,0,0,0,0,0,0,0,0,0,0,0,0,0,0,0,0,0,0,0,0,0,0,0,0,0,0,0,0,0,0,0,0,0,0,0,0,0,0,0,0,0,0,0,0,0,0,0,0,0,0,0,{"$f":"IF(AND(AFG7/AFG$6=ROUND(AFG7/AFG$6,0),NOT(AFG7=0)),AFG7/AFG$6,0)","v":0},0,0,0,0,0,0,0,0,0,0,0,0,0,0,0,0,0,0,0,0,0,0,0,0,0,0,0,0,0,0,0,0,0,0,0,0,0,0,0,0,0,0,0,0,0,0,0,0,0,0,0,0,0,0,0,0,0,0,0,0,0,0,0,{"$f":"IF(AND(AHS7/AHS$6=ROUND(AHS7/AHS$6,0),NOT(AHS7=0)),AHS7/AHS$6,0)","v":0},0,0,0,0,0,0,0,0,0,0,0,0,0,0,0,0,0,0,0,0,0,0,0,0,0,0,0,0,0,0,0,0,0,0,0,0,0,0,0,0,0,0,0,0,0,0,0,0,0,0,0,0,0,0,0,0,0,0,0,0,0,0,0,{"$f":"IF(AND(AKE7/AKE$6=ROUND(AKE7/AKE$6,0),NOT(AKE7=0)),AKE7/AKE$6,0)","v":0},0,0,0,0,0,0,0,0,0,0,0,0,0,0,0,0,0,0,0,0,0,0,0,0,0,0,0,0,0,0,0,0,0,0,0,0,0,0]
[null,null,null,null,null,0,0,0,0,0,0,0,0,0,0,0,0,0,0,0,0,0,0,0,0,0,0,0,0,0,0,0,0,0,0,0,0,0,0,0,0,0,0,0,0,0,0,0,0,0,0,0,0,{"$f":"IF(AND(BB8/BB$6=ROUND(BB8/BB$6,0),NOT(BB8=0)),BB8/BB$6,0)","v":0},{"$f":"IF(AND(BC8/BC$6=ROUND(BC8/BC$6,0),NOT(BC8=0)),BC8/BC$6,0)","v":0},{"$f":"IF(AND(BD8/BD$6=ROUND(BD8/BD$6,0),NOT(BD8=0)),BD8/BD$6,0)","v":0},{"$f":"IF(AND(BE8/BE$6=ROUND(BE8/BE$6,0),NOT(BE8=0)),BE8/BE$6,0)","v":0},{"$f":"IF(AND(BF8/BF$6=ROUND(BF8/BF$6,0),NOT(BF8=0)),BF8/BF$6,0)","v":0},{"$f":"IF(AND(BG8/BG$6=ROUND(BG8/BG$6,0),NOT(BG8=0)),BG8/BG$6,0)","v":0},{"$f":"IF(AND(BH8/BH$6=ROUND(BH8/BH$6,0),NOT(BH8=0)),BH8/BH$6,0)","v":0},{"$f":"IF(AND(BI8/BI$6=ROUND(BI8/BI$6,0),NOT(BI8=0)),BI8/BI$6,0)","v":0},{"$f":"IF(AND(BJ8/BJ$6=ROUND(BJ8/BJ$6,0),NOT(BJ8=0)),BJ8/BJ$6,0)","v":0},{"$f":"IF(AND(BK8/BK$6=ROUND(BK8/BK$6,0),NOT(BK8=0)),BK8/BK$6,0)","v":0},{"$f":"IF(AND(BL8/BL$6=ROUND(BL8/BL$6,0),NOT(BL8=0)),BL8/BL$6,0)","v":0},{"$f":"IF(AND(BM8/BM$6=ROUND(BM8/BM$6,0),NOT(BM8=0)),BM8/BM$6,0)","v":0},{"$f":"IF(AND(BN8/BN$6=ROUND(BN8/BN$6,0),NOT(BN8=0)),BN8/BN$6,0)","v":0},{"$f":"IF(AND(BO8/BO$6=ROUND(BO8/BO$6,0),NOT(BO8=0)),BO8/BO$6,0)","v":0},{"$f":"IF(AND(BP8/BP$6=ROUND(BP8/BP$6,0),NOT(BP8=0)),BP8/BP$6,0)","v":0},{"$f":"IF(AND(BQ8/BQ$6=ROUND(BQ8/BQ$6,0),NOT(BQ8=0)),BQ8/BQ$6,0)","v":0},{"$f":"IF(AND(BR8/BR$6=ROUND(BR8/BR$6,0),NOT(BR8=0)),BR8/BR$6,0)","v":0},0,0,0,0,0,0,0,0,0,0,0,0,0,0,0,0,0,0,0,0,0,0,0,0,0,0,0,0,0,0,0,0,0,0,0,0,0,0,0,0,0,0,0,0,0,0,0,0,0,0,0,0,0,0,0,0,0,0,0,0,0,0,0,0,0,0,0,0,0,0,0,0,0,0,0,0,0,0,0,0,0,0,0,0,0,0,0,0,0,0,0,0,0,0,0,0,0,0,0,0,0,0,0,0,0,0,0,0,0,0,0,0,0,0,0,0,0,0,0,0,0,0,0,0,0,0,0,0,0,0,0,0,0,0,0,0,0,0,0,0,0,0,0,0,0,0,0,0,0,0,0,0,0,0,0,0,0,0,0,0,0,0,0,0,0,0,0,0,0,0,0,0,0,0,0,0,0,0,0,0,0,0,0,0,0,0,0,0,0,0,0,0,0,0,0,0,0,0,0,0,0,0,0,0,0,0,0,0,0,0,0,0,0,0,0,0,0,0,0,0,0,0,0,0,0,0,0,0,0,0,0,0,0,0,0,0,0,0,0,0,0,0,0,0,0,0,0,0,0,0,0,0,0,0,0,0,0,0,0,0,0,0,0,0,0,0,0,0,0,0,0,0,0,0,0,0,0,0,0,0,0,0,0,0,0,0,0,0,0,0,0,0,0,0,0,0,0,0,0,0,0,0,0,0,0,0,0,0,0,0,0,0,0,0,0,0,0,0,0,0,0,0,0,0,0,0,0,0,0,0,0,0,0,0,0,0,0,0,0,0,0,0,0,0,0,0,0,0,0,0,0,0,0,0,0,0,0,0,0,0,0,0,0,0,0,0,0,0,0,0,0,0,0,0,0,0,0,0,0,0,0,0,0,0,0,0,0,0,0,0,0,0,0,0,0,0,0,0,0,0,0,0,0,0,0,0,0,0,0,0,0,0,0,0,0,0,0,0,0,0,0,0,0,0,0,0,0,0,0,0,0,0,0,0,0,0,0,0,0,0,0,0,0,0,0,0,0,0,0,0,0,0,0,0,0,0,0,0,0,0,0,0,0,0,0,0,0,0,0,0,0,0,0,0,0,0,0,0,0,0,0,0,0,0,0,0,0,0,0,0,0,0,0,0,0,0,0,0,0,0,0,0,0,0,0,0,0,0,0,0,0,0,0,0,0,0,0,0,0,0,0,0,0,0,0,0,0,0,0,0,0,0,0,0,0,0,0,0,0,0,0,0,0,0,0,0,0,0,0,0,0,0,0,0,0,0,0,0,0,0,0,0,0,0,0,0,0,0,0,0,0,0,0,0,0,0,0,0,0,0,0,0,0,0,0,0,0,0,0,0,0,0,0,0,0,0,0,0,0,0,0,0,0,0,0,0,0,0,0,0,0,0,0,0,0,0,0,0,0,0,0,0,0,0,0,0,0,0,0,0,0,0,0,0,0,0,0,0,0,0,0,0,0,0,0,0,0,0,0,0,0,0,0,0,0,0,0,0,0,0,0,0,0,0,0,0,0,0,0,0,0,0,0,0,0,0,0,0,0,0,0,0,0,0,0,0,0,0,0,0,0,0,0,0,0,0,0,0,0,0,0,0,0,0,0,0,0,0,0,0,0,0,0,0,0,0,0,0,0,0,0,0,0,0,0,0,0,0,0,0,0,0,0,0,0,0,0,0,0,0,0,0,0,0,0,0,0,0,0,0,0,0,0,0,0,0,0,0,0,0,0,0,0,0,0,0,0,0,0,0,0,0,0,0,0,0,0,0,0,0,0,0,0,0,0,0,0,0,0,0,0,0,0,0,0,0,0,0,0,0,0,0,0,0,0,0,0,0,0,0,0,0,0,0,0,0,0,0,0,0,0,0,0,0,0,0,0,0,0,0,0,0,0,0,0,0,0,0,0,0,0,0,0,0,0,0,0,0,0,0,0,0,0,0,0,0,0,0,0,0,0,0,0,0,0,0,0,0,0,0,0,0,0,0,0,0,0,0,0,0,0,0,0,0,0,0,0,0,0,0,0,0,0,0,0,0,0,0,0,0,0,0,0,0,0,0,0,0,0,0,0,0,0,0,0,0,0,0,0,0,0,0,0,0,0,0,0,0,0,0,0,0,0,0,0]
["HCF:",{"$f":"PRODUCT(F48:ALQ48)","v":9},null,null,null,0,{"$f":"IF(AND(G9/G$6=ROUND(G9/G$6,0),NOT(G9=0)),G9/G$6,0)","v":0},{"$f":"IF(AND(H9/H$6=ROUND(H9/H$6,0),NOT(H9=0)),H9/H$6,0)","v":0},{"$f":"IF(AND(I9/I$6=ROUND(I9/I$6,0),NOT(I9=0)),I9/I$6,0)","v":0},{"$f":"IF(AND(J9/J$6=ROUND(J9/J$6,0),NOT(J9=0)),J9/J$6,0)","v":0},{"$f":"IF(AND(K9/K$6=ROUND(K9/K$6,0),NOT(K9=0)),K9/K$6,0)","v":0},{"$f":"IF(AND(L9/L$6=ROUND(L9/L$6,0),NOT(L9=0)),L9/L$6,0)","v":0},{"$f":"IF(AND(M9/M$6=ROUND(M9/M$6,0),NOT(M9=0)),M9/M$6,0)","v":0},{"$f":"IF(AND(N9/N$6=ROUND(N9/N$6,0),NOT(N9=0)),N9/N$6,0)","v":0},{"$f":"IF(AND(O9/O$6=ROUND(O9/O$6,0),NOT(O9=0)),O9/O$6,0)","v":0},{"$f":"IF(AND(P9/P$6=ROUND(P9/P$6,0),NOT(P9=0)),P9/P$6,0)","v":0},{"$f":"IF(AND(Q9/Q$6=ROUND(Q9/Q$6,0),NOT(Q9=0)),Q9/Q$6,0)","v":0},{"$f":"IF(AND(R9/R$6=ROUND(R9/R$6,0),NOT(R9=0)),R9/R$6,0)","v":0},{"$f":"IF(AND(S9/S$6=ROUND(S9/S$6,0),NOT(S9=0)),S9/S$6,0)","v":0},{"$f":"IF(AND(T9/T$6=ROUND(T9/T$6,0),NOT(T9=0)),T9/T$6,0)","v":0},{"$f":"IF(AND(U9/U$6=ROUND(U9/U$6,0),NOT(U9=0)),U9/U$6,0)","v":0},{"$f":"IF(AND(V9/V$6=ROUND(V9/V$6,0),NOT(V9=0)),V9/V$6,0)","v":0},{"$f":"IF(AND(W9/W$6=ROUND(W9/W$6,0),NOT(W9=0)),W9/W$6,0)","v":0},{"$f":"IF(AND(X9/X$6=ROUND(X9/X$6,0),NOT(X9=0)),X9/X$6,0)","v":0},{"$f":"IF(AND(Y9/Y$6=ROUND(Y9/Y$6,0),NOT(Y9=0)),Y9/Y$6,0)","v":0},{"$f":"IF(AND(Z9/Z$6=ROUND(Z9/Z$6,0),NOT(Z9=0)),Z9/Z$6,0)","v":0},{"$f":"IF(AND(AA9/AA$6=ROUND(AA9/AA$6,0),NOT(AA9=0)),AA9/AA$6,0)","v":0},{"$f":"IF(AND(AB9/AB$6=ROUND(AB9/AB$6,0),NOT(AB9=0)),AB9/AB$6,0)","v":0},{"$f":"IF(AND(AC9/AC$6=ROUND(AC9/AC$6,0),NOT(AC9=0)),AC9/AC$6,0)","v":0},{"$f":"IF(AND(AD9/AD$6=ROUND(AD9/AD$6,0),NOT(AD9=0)),AD9/AD$6,0)","v":0},{"$f":"IF(AND(AE9/AE$6=ROUND(AE9/AE$6,0),NOT(AE9=0)),AE9/AE$6,0)","v":0},{"$f":"IF(AND(AF9/AF$6=ROUND(AF9/AF$6,0),NOT(AF9=0)),AF9/AF$6,0)","v":0},{"$f":"IF(AND(AG9/AG$6=ROUND(AG9/AG$6,0),NOT(AG9=0)),AG9/AG$6,0)","v":0},{"$f":"IF(AND(AH9/AH$6=ROUND(AH9/AH$6,0),NOT(AH9=0)),AH9/AH$6,0)","v":0},{"$f":"IF(AND(AI9/AI$6=ROUND(AI9/AI$6,0),NOT(AI9=0)),AI9/AI$6,0)","v":0},{"$f":"IF(AND(AJ9/AJ$6=ROUND(AJ9/AJ$6,0),NOT(AJ9=0)),AJ9/AJ$6,0)","v":0},{"$f":"IF(AND(AK9/AK$6=ROUND(AK9/AK$6,0),NOT(AK9=0)),AK9/AK$6,0)","v":0},{"$f":"IF(AND(AL9/AL$6=ROUND(AL9/AL$6,0),NOT(AL9=0)),AL9/AL$6,0)","v":0},{"$f":"IF(AND(AM9/AM$6=ROUND(AM9/AM$6,0),NOT(AM9=0)),AM9/AM$6,0)","v":0},{"$f":"IF(AND(AN9/AN$6=ROUND(AN9/AN$6,0),NOT(AN9=0)),AN9/AN$6,0)","v":0},{"$f":"IF(AND(AO9/AO$6=ROUND(AO9/AO$6,0),NOT(AO9=0)),AO9/AO$6,0)","v":0},{"$f":"IF(AND(AP9/AP$6=ROUND(AP9/AP$6,0),NOT(AP9=0)),AP9/AP$6,0)","v":0},{"$f":"IF(AND(AQ9/AQ$6=ROUND(AQ9/AQ$6,0),NOT(AQ9=0)),AQ9/AQ$6,0)","v":0},{"$f":"IF(AND(AR9/AR$6=ROUND(AR9/AR$6,0),NOT(AR9=0)),AR9/AR$6,0)","v":0},{"$f":"IF(AND(AS9/AS$6=ROUND(AS9/AS$6,0),NOT(AS9=0)),AS9/AS$6,0)","v":0},{"$f":"IF(AND(AT9/AT$6=ROUND(AT9/AT$6,0),NOT(AT9=0)),AT9/AT$6,0)","v":0},{"$f":"IF(AND(AU9/AU$6=ROUND(AU9/AU$6,0),NOT(AU9=0)),AU9/AU$6,0)","v":0},{"$f":"IF(AND(AV9/AV$6=ROUND(AV9/AV$6,0),NOT(AV9=0)),AV9/AV$6,0)","v":0},{"$f":"IF(AND(AW9/AW$6=ROUND(AW9/AW$6,0),NOT(AW9=0)),AW9/AW$6,0)","v":0},{"$f":"IF(AND(AX9/AX$6=ROUND(AX9/AX$6,0),NOT(AX9=0)),AX9/AX$6,0)","v":0},{"$f":"IF(AND(AY9/AY$6=ROUND(AY9/AY$6,0),NOT(AY9=0)),AY9/AY$6,0)","v":0},{"$f":"IF(AND(AZ9/AZ$6=ROUND(AZ9/AZ$6,0),NOT(AZ9=0)),AZ9/AZ$6,0)","v":0},{"$f":"IF(AND(BA9/BA$6=ROUND(BA9/BA$6,0),NOT(BA9=0)),BA9/BA$6,0)","v":0},{"$f":"IF(AND(BB9/BB$6=ROUND(BB9/BB$6,0),NOT(BB9=0)),BB9/BB$6,0)","v":0},{"$f":"IF(AND(BC9/BC$6=ROUND(BC9/BC$6,0),NOT(BC9=0)),BC9/BC$6,0)","v":0},{"$f":"IF(AND(BD9/BD$6=ROUND(BD9/BD$6,0),NOT(BD9=0)),BD9/BD$6,0)","v":0},{"$f":"IF(AND(BE9/BE$6=ROUND(BE9/BE$6,0),NOT(BE9=0)),BE9/BE$6,0)","v":0},{"$f":"IF(AND(BF9/BF$6=ROUND(BF9/BF$6,0),NOT(BF9=0)),BF9/BF$6,0)","v":0},{"$f":"IF(AND(BG9/BG$6=ROUND(BG9/BG$6,0),NOT(BG9=0)),BG9/BG$6,0)","v":0},{"$f":"IF(AND(BH9/BH$6=ROUND(BH9/BH$6,0),NOT(BH9=0)),BH9/BH$6,0)","v":0},{"$f":"IF(AND(BI9/BI$6=ROUND(BI9/BI$6,0),NOT(BI9=0)),BI9/BI$6,0)","v":0},{"$f":"IF(AND(BJ9/BJ$6=ROUND(BJ9/BJ$6,0),NOT(BJ9=0)),BJ9/BJ$6,0)","v":0},{"$f":"IF(AND(BK9/BK$6=ROUND(BK9/BK$6,0),NOT(BK9=0)),BK9/BK$6,0)","v":0},{"$f":"IF(AND(BL9/BL$6=ROUND(BL9/BL$6,0),NOT(BL9=0)),BL9/BL$6,0)","v":0},{"$f":"IF(AND(BM9/BM$6=ROUND(BM9/BM$6,0),NOT(BM9=0)),BM9/BM$6,0)","v":0},{"$f":"IF(AND(BN9/BN$6=ROUND(BN9/BN$6,0),NOT(BN9=0)),BN9/BN$6,0)","v":0},{"$f":"IF(AND(BO9/BO$6=ROUND(BO9/BO$6,0),NOT(BO9=0)),BO9/BO$6,0)","v":0},{"$f":"IF(AND(BP9/BP$6=ROUND(BP9/BP$6,0),NOT(BP9=0)),BP9/BP$6,0)","v":0},{"$f":"IF(AND(BQ9/BQ$6=ROUND(BQ9/BQ$6,0),NOT(BQ9=0)),BQ9/BQ$6,0)","v":0},{"$f":"IF(AND(BR9/BR$6=ROUND(BR9/BR$6,0),NOT(BR9=0)),BR9/BR$6,0)","v":0},{"$f":"IF(AND(BS9/BS$6=ROUND(BS9/BS$6,0),NOT(BS9=0)),BS9/BS$6,0)","v":0},{"$f":"IF(AND(BT9/BT$6=ROUND(BT9/BT$6,0),NOT(BT9=0)),BT9/BT$6,0)","v":0},{"$f":"IF(AND(BU9/BU$6=ROUND(BU9/BU$6,0),NOT(BU9=0)),BU9/BU$6,0)","v":0},{"$f":"IF(AND(BV9/BV$6=ROUND(BV9/BV$6,0),NOT(BV9=0)),BV9/BV$6,0)","v":0},{"$f":"IF(AND(BW9/BW$6=ROUND(BW9/BW$6,0),NOT(BW9=0)),BW9/BW$6,0)","v":0},{"$f":"IF(AND(BX9/BX$6=ROUND(BX9/BX$6,0),NOT(BX9=0)),BX9/BX$6,0)","v":0},{"$f":"IF(AND(BY9/BY$6=ROUND(BY9/BY$6,0),NOT(BY9=0)),BY9/BY$6,0)","v":0},{"$f":"IF(AND(BZ9/BZ$6=ROUND(BZ9/BZ$6,0),NOT(BZ9=0)),BZ9/BZ$6,0)","v":0},{"$f":"IF(AND(CA9/CA$6=ROUND(CA9/CA$6,0),NOT(CA9=0)),CA9/CA$6,0)","v":0},{"$f":"IF(AND(CB9/CB$6=ROUND(CB9/CB$6,0),NOT(CB9=0)),CB9/CB$6,0)","v":0},{"$f":"IF(AND(CC9/CC$6=ROUND(CC9/CC$6,0),NOT(CC9=0)),CC9/CC$6,0)","v":0},{"$f":"IF(AND(CD9/CD$6=ROUND(CD9/CD$6,0),NOT(CD9=0)),CD9/CD$6,0)","v":0},{"$f":"IF(AND(CE9/CE$6=ROUND(CE9/CE$6,0),NOT(CE9=0)),CE9/CE$6,0)","v":0},{"$f":"IF(AND(CF9/CF$6=ROUND(CF9/CF$6,0),NOT(CF9=0)),CF9/CF$6,0)","v":0},{"$f":"IF(AND(CG9/CG$6=ROUND(CG9/CG$6,0),NOT(CG9=0)),CG9/CG$6,0)","v":0},{"$f":"IF(AND(CH9/CH$6=ROUND(CH9/CH$6,0),NOT(CH9=0)),CH9/CH$6,0)","v":0},{"$f":"IF(AND(CI9/CI$6=ROUND(CI9/CI$6,0),NOT(CI9=0)),CI9/CI$6,0)","v":0},{"$f":"IF(AND(CJ9/CJ$6=ROUND(CJ9/CJ$6,0),NOT(CJ9=0)),CJ9/CJ$6,0)","v":0},{"$f":"IF(AND(CK9/CK$6=ROUND(CK9/CK$6,0),NOT(CK9=0)),CK9/CK$6,0)","v":0},{"$f":"IF(AND(CL9/CL$6=ROUND(CL9/CL$6,0),NOT(CL9=0)),CL9/CL$6,0)","v":0},{"$f":"IF(AND(CM9/CM$6=ROUND(CM9/CM$6,0),NOT(CM9=0)),CM9/CM$6,0)","v":0},{"$f":"IF(AND(CN9/CN$6=ROUND(CN9/CN$6,0),NOT(CN9=0)),CN9/CN$6,0)","v":0},{"$f":"IF(AND(CO9/CO$6=ROUND(CO9/CO$6,0),NOT(CO9=0)),CO9/CO$6,0)","v":0},{"$f":"IF(AND(CP9/CP$6=ROUND(CP9/CP$6,0),NOT(CP9=0)),CP9/CP$6,0)","v":0},{"$f":"IF(AND(CQ9/CQ$6=ROUND(CQ9/CQ$6,0),NOT(CQ9=0)),CQ9/CQ$6,0)","v":0},{"$f":"IF(AND(CR9/CR$6=ROUND(CR9/CR$6,0),NOT(CR9=0)),CR9/CR$6,0)","v":0},{"$f":"IF(AND(CS9/CS$6=ROUND(CS9/CS$6,0),NOT(CS9=0)),CS9/CS$6,0)","v":0},{"$f":"IF(AND(CT9/CT$6=ROUND(CT9/CT$6,0),NOT(CT9=0)),CT9/CT$6,0)","v":0},{"$f":"IF(AND(CU9/CU$6=ROUND(CU9/CU$6,0),NOT(CU9=0)),CU9/CU$6,0)","v":0},{"$f":"IF(AND(CV9/CV$6=ROUND(CV9/CV$6,0),NOT(CV9=0)),CV9/CV$6,0)","v":0},{"$f":"IF(AND(CW9/CW$6=ROUND(CW9/CW$6,0),NOT(CW9=0)),CW9/CW$6,0)","v":0},{"$f":"IF(AND(CX9/CX$6=ROUND(CX9/CX$6,0),NOT(CX9=0)),CX9/CX$6,0)","v":0},{"$f":"IF(AND(CY9/CY$6=ROUND(CY9/CY$6,0),NOT(CY9=0)),CY9/CY$6,0)","v":0},{"$f":"IF(AND(CZ9/CZ$6=ROUND(CZ9/CZ$6,0),NOT(CZ9=0)),CZ9/CZ$6,0)","v":0},{"$f":"IF(AND(DA9/DA$6=ROUND(DA9/DA$6,0),NOT(DA9=0)),DA9/DA$6,0)","v":0},{"$f":"IF(AND(DB9/DB$6=ROUND(DB9/DB$6,0),NOT(DB9=0)),DB9/DB$6,0)","v":0},{"$f":"IF(AND(DC9/DC$6=ROUND(DC9/DC$6,0),NOT(DC9=0)),DC9/DC$6,0)","v":0},{"$f":"IF(AND(DD9/DD$6=ROUND(DD9/DD$6,0),NOT(DD9=0)),DD9/DD$6,0)","v":0},{"$f":"IF(AND(DE9/DE$6=ROUND(DE9/DE$6,0),NOT(DE9=0)),DE9/DE$6,0)","v":0},{"$f":"IF(AND(DF9/DF$6=ROUND(DF9/DF$6,0),NOT(DF9=0)),DF9/DF$6,0)","v":0},{"$f":"IF(AND(DG9/DG$6=ROUND(DG9/DG$6,0),NOT(DG9=0)),DG9/DG$6,0)","v":0},{"$f":"IF(AND(DH9/DH$6=ROUND(DH9/DH$6,0),NOT(DH9=0)),DH9/DH$6,0)","v":0},{"$f":"IF(AND(DI9/DI$6=ROUND(DI9/DI$6,0),NOT(DI9=0)),DI9/DI$6,0)","v":0},{"$f":"IF(AND(DJ9/DJ$6=ROUND(DJ9/DJ$6,0),NOT(DJ9=0)),DJ9/DJ$6,0)","v":0},{"$f":"IF(AND(DK9/DK$6=ROUND(DK9/DK$6,0),NOT(DK9=0)),DK9/DK$6,0)","v":0},{"$f":"IF(AND(DL9/DL$6=ROUND(DL9/DL$6,0),NOT(DL9=0)),DL9/DL$6,0)","v":0},{"$f":"IF(AND(DM9/DM$6=ROUND(DM9/DM$6,0),NOT(DM9=0)),DM9/DM$6,0)","v":0},{"$f":"IF(AND(DN9/DN$6=ROUND(DN9/DN$6,0),NOT(DN9=0)),DN9/DN$6,0)","v":0},{"$f":"IF(AND(DO9/DO$6=ROUND(DO9/DO$6,0),NOT(DO9=0)),DO9/DO$6,0)","v":0},{"$f":"IF(AND(DP9/DP$6=ROUND(DP9/DP$6,0),NOT(DP9=0)),DP9/DP$6,0)","v":0},{"$f":"IF(AND(DQ9/DQ$6=ROUND(DQ9/DQ$6,0),NOT(DQ9=0)),DQ9/DQ$6,0)","v":0},{"$f":"IF(AND(DR9/DR$6=ROUND(DR9/DR$6,0),NOT(DR9=0)),DR9/DR$6,0)","v":0},{"$f":"IF(AND(DS9/DS$6=ROUND(DS9/DS$6,0),NOT(DS9=0)),DS9/DS$6,0)","v":0},{"$f":"IF(AND(DT9/DT$6=ROUND(DT9/DT$6,0),NOT(DT9=0)),DT9/DT$6,0)","v":0},{"$f":"IF(AND(DU9/DU$6=ROUND(DU9/DU$6,0),NOT(DU9=0)),DU9/DU$6,0)","v":0},{"$f":"IF(AND(DV9/DV$6=ROUND(DV9/DV$6,0),NOT(DV9=0)),DV9/DV$6,0)","v":0},{"$f":"IF(AND(DW9/DW$6=ROUND(DW9/DW$6,0),NOT(DW9=0)),DW9/DW$6,0)","v":0},{"$f":"IF(AND(DX9/DX$6=ROUND(DX9/DX$6,0),NOT(DX9=0)),DX9/DX$6,0)","v":0},{"$f":"IF(AND(DY9/DY$6=ROUND(DY9/DY$6,0),NOT(DY9=0)),DY9/DY$6,0)","v":0},{"$f":"IF(AND(DZ9/DZ$6=ROUND(DZ9/DZ$6,0),NOT(DZ9=0)),DZ9/DZ$6,0)","v":0},{"$f":"IF(AND(EA9/EA$6=ROUND(EA9/EA$6,0),NOT(EA9=0)),EA9/EA$6,0)","v":0},{"$f":"IF(AND(EB9/EB$6=ROUND(EB9/EB$6,0),NOT(EB9=0)),EB9/EB$6,0)","v":0},{"$f":"IF(AND(EC9/EC$6=ROUND(EC9/EC$6,0),NOT(EC9=0)),EC9/EC$6,0)","v":0},{"$f":"IF(AND(ED9/ED$6=ROUND(ED9/ED$6,0),NOT(ED9=0)),ED9/ED$6,0)","v":0},{"$f":"IF(AND(EE9/EE$6=ROUND(EE9/EE$6,0),NOT(EE9=0)),EE9/EE$6,0)","v":0},{"$f":"IF(AND(EF9/EF$6=ROUND(EF9/EF$6,0),NOT(EF9=0)),EF9/EF$6,0)","v":0},{"$f":"IF(AND(EG9/EG$6=ROUND(EG9/EG$6,0),NOT(EG9=0)),EG9/EG$6,0)","v":0},{"$f":"IF(AND(EH9/EH$6=ROUND(EH9/EH$6,0),NOT(EH9=0)),EH9/EH$6,0)","v":0},{"$f":"IF(AND(EI9/EI$6=ROUND(EI9/EI$6,0),NOT(EI9=0)),EI9/EI$6,0)","v":0},{"$f":"IF(AND(EJ9/EJ$6=ROUND(EJ9/EJ$6,0),NOT(EJ9=0)),EJ9/EJ$6,0)","v":0},{"$f":"IF(AND(EK9/EK$6=ROUND(EK9/EK$6,0),NOT(EK9=0)),EK9/EK$6,0)","v":0},{"$f":"IF(AND(EL9/EL$6=ROUND(EL9/EL$6,0),NOT(EL9=0)),EL9/EL$6,0)","v":0},{"$f":"IF(AND(EM9/EM$6=ROUND(EM9/EM$6,0),NOT(EM9=0)),EM9/EM$6,0)","v":0},{"$f":"IF(AND(EN9/EN$6=ROUND(EN9/EN$6,0),NOT(EN9=0)),EN9/EN$6,0)","v":0},{"$f":"IF(AND(EO9/EO$6=ROUND(EO9/EO$6,0),NOT(EO9=0)),EO9/EO$6,0)","v":0},{"$f":"IF(AND(EP9/EP$6=ROUND(EP9/EP$6,0),NOT(EP9=0)),EP9/EP$6,0)","v":0},{"$f":"IF(AND(EQ9/EQ$6=ROUND(EQ9/EQ$6,0),NOT(EQ9=0)),EQ9/EQ$6,0)","v":0},{"$f":"IF(AND(ER9/ER$6=ROUND(ER9/ER$6,0),NOT(ER9=0)),ER9/ER$6,0)","v":0},{"$f":"IF(AND(ES9/ES$6=ROUND(ES9/ES$6,0),NOT(ES9=0)),ES9/ES$6,0)","v":0},{"$f":"IF(AND(ET9/ET$6=ROUND(ET9/ET$6,0),NOT(ET9=0)),ET9/ET$6,0)","v":0},{"$f":"IF(AND(EU9/EU$6=ROUND(EU9/EU$6,0),NOT(EU9=0)),EU9/EU$6,0)","v":0},{"$f":"IF(AND(EV9/EV$6=ROUND(EV9/EV$6,0),NOT(EV9=0)),EV9/EV$6,0)","v":0},{"$f":"IF(AND(EW9/EW$6=ROUND(EW9/EW$6,0),NOT(EW9=0)),EW9/EW$6,0)","v":0},{"$f":"IF(AND(EX9/EX$6=ROUND(EX9/EX$6,0),NOT(EX9=0)),EX9/EX$6,0)","v":0},{"$f":"IF(AND(EY9/EY$6=ROUND(EY9/EY$6,0),NOT(EY9=0)),EY9/EY$6,0)","v":0},{"$f":"IF(AND(EZ9/EZ$6=ROUND(EZ9/EZ$6,0),NOT(EZ9=0)),EZ9/EZ$6,0)","v":0},{"$f":"IF(AND(FA9/FA$6=ROUND(FA9/FA$6,0),NOT(FA9=0)),FA9/FA$6,0)","v":0},{"$f":"IF(AND(FB9/FB$6=ROUND(FB9/FB$6,0),NOT(FB9=0)),FB9/FB$6,0)","v":0},{"$f":"IF(AND(FC9/FC$6=ROUND(FC9/FC$6,0),NOT(FC9=0)),FC9/FC$6,0)","v":0},{"$f":"IF(AND(FD9/FD$6=ROUND(FD9/FD$6,0),NOT(FD9=0)),FD9/FD$6,0)","v":0},{"$f":"IF(AND(FE9/FE$6=ROUND(FE9/FE$6,0),NOT(FE9=0)),FE9/FE$6,0)","v":0},{"$f":"IF(AND(FF9/FF$6=ROUND(FF9/FF$6,0),NOT(FF9=0)),FF9/FF$6,0)","v":0},{"$f":"IF(AND(FG9/FG$6=ROUND(FG9/FG$6,0),NOT(FG9=0)),FG9/FG$6,0)","v":0},{"$f":"IF(AND(FH9/FH$6=ROUND(FH9/FH$6,0),NOT(FH9=0)),FH9/FH$6,0)","v":0},{"$f":"IF(AND(FI9/FI$6=ROUND(FI9/FI$6,0),NOT(FI9=0)),FI9/FI$6,0)","v":0},{"$f":"IF(AND(FJ9/FJ$6=ROUND(FJ9/FJ$6,0),NOT(FJ9=0)),FJ9/FJ$6,0)","v":0},{"$f":"IF(AND(FK9/FK$6=ROUND(FK9/FK$6,0),NOT(FK9=0)),FK9/FK$6,0)","v":0},{"$f":"IF(AND(FL9/FL$6=ROUND(FL9/FL$6,0),NOT(FL9=0)),FL9/FL$6,0)","v":0},{"$f":"IF(AND(FM9/FM$6=ROUND(FM9/FM$6,0),NOT(FM9=0)),FM9/FM$6,0)","v":0},{"$f":"IF(AND(FN9/FN$6=ROUND(FN9/FN$6,0),NOT(FN9=0)),FN9/FN$6,0)","v":0},{"$f":"IF(AND(FO9/FO$6=ROUND(FO9/FO$6,0),NOT(FO9=0)),FO9/FO$6,0)","v":0},{"$f":"IF(AND(FP9/FP$6=ROUND(FP9/FP$6,0),NOT(FP9=0)),FP9/FP$6,0)","v":0},{"$f":"IF(AND(FQ9/FQ$6=ROUND(FQ9/FQ$6,0),NOT(FQ9=0)),FQ9/FQ$6,0)","v":0},{"$f":"IF(AND(FR9/FR$6=ROUND(FR9/FR$6,0),NOT(FR9=0)),FR9/FR$6,0)","v":0},{"$f":"IF(AND(FS9/FS$6=ROUND(FS9/FS$6,0),NOT(FS9=0)),FS9/FS$6,0)","v":0},{"$f":"IF(AND(FT9/FT$6=ROUND(FT9/FT$6,0),NOT(FT9=0)),FT9/FT$6,0)","v":0},{"$f":"IF(AND(FU9/FU$6=ROUND(FU9/FU$6,0),NOT(FU9=0)),FU9/FU$6,0)","v":0},{"$f":"IF(AND(FV9/FV$6=ROUND(FV9/FV$6,0),NOT(FV9=0)),FV9/FV$6,0)","v":0},{"$f":"IF(AND(FW9/FW$6=ROUND(FW9/FW$6,0),NOT(FW9=0)),FW9/FW$6,0)","v":0},{"$f":"IF(AND(FX9/FX$6=ROUND(FX9/FX$6,0),NOT(FX9=0)),FX9/FX$6,0)","v":0},{"$f":"IF(AND(FY9/FY$6=ROUND(FY9/FY$6,0),NOT(FY9=0)),FY9/FY$6,0)","v":0},{"$f":"IF(AND(FZ9/FZ$6=ROUND(FZ9/FZ$6,0),NOT(FZ9=0)),FZ9/FZ$6,0)","v":0},{"$f":"IF(AND(GA9/GA$6=ROUND(GA9/GA$6,0),NOT(GA9=0)),GA9/GA$6,0)","v":0},{"$f":"IF(AND(GB9/GB$6=ROUND(GB9/GB$6,0),NOT(GB9=0)),GB9/GB$6,0)","v":0},{"$f":"IF(AND(GC9/GC$6=ROUND(GC9/GC$6,0),NOT(GC9=0)),GC9/GC$6,0)","v":0},{"$f":"IF(AND(GD9/GD$6=ROUND(GD9/GD$6,0),NOT(GD9=0)),GD9/GD$6,0)","v":0},{"$f":"IF(AND(GE9/GE$6=ROUND(GE9/GE$6,0),NOT(GE9=0)),GE9/GE$6,0)","v":0},{"$f":"IF(AND(GF9/GF$6=ROUND(GF9/GF$6,0),NOT(GF9=0)),GF9/GF$6,0)","v":0},{"$f":"IF(AND(GG9/GG$6=ROUND(GG9/GG$6,0),NOT(GG9=0)),GG9/GG$6,0)","v":0},{"$f":"IF(AND(GH9/GH$6=ROUND(GH9/GH$6,0),NOT(GH9=0)),GH9/GH$6,0)","v":0},{"$f":"IF(AND(GI9/GI$6=ROUND(GI9/GI$6,0),NOT(GI9=0)),GI9/GI$6,0)","v":0},{"$f":"IF(AND(GJ9/GJ$6=ROUND(GJ9/GJ$6,0),NOT(GJ9=0)),GJ9/GJ$6,0)","v":0},{"$f":"IF(AND(GK9/GK$6=ROUND(GK9/GK$6,0),NOT(GK9=0)),GK9/GK$6,0)","v":0},{"$f":"IF(AND(GL9/GL$6=ROUND(GL9/GL$6,0),NOT(GL9=0)),GL9/GL$6,0)","v":0},{"$f":"IF(AND(GM9/GM$6=ROUND(GM9/GM$6,0),NOT(GM9=0)),GM9/GM$6,0)","v":0},{"$f":"IF(AND(GN9/GN$6=ROUND(GN9/GN$6,0),NOT(GN9=0)),GN9/GN$6,0)","v":0},{"$f":"IF(AND(GO9/GO$6=ROUND(GO9/GO$6,0),NOT(GO9=0)),GO9/GO$6,0)","v":0},{"$f":"IF(AND(GP9/GP$6=ROUND(GP9/GP$6,0),NOT(GP9=0)),GP9/GP$6,0)","v":0},{"$f":"IF(AND(GQ9/GQ$6=ROUND(GQ9/GQ$6,0),NOT(GQ9=0)),GQ9/GQ$6,0)","v":0},{"$f":"IF(AND(GR9/GR$6=ROUND(GR9/GR$6,0),NOT(GR9=0)),GR9/GR$6,0)","v":0},{"$f":"IF(AND(GS9/GS$6=ROUND(GS9/GS$6,0),NOT(GS9=0)),GS9/GS$6,0)","v":0},{"$f":"IF(AND(GT9/GT$6=ROUND(GT9/GT$6,0),NOT(GT9=0)),GT9/GT$6,0)","v":0},{"$f":"IF(AND(GU9/GU$6=ROUND(GU9/GU$6,0),NOT(GU9=0)),GU9/GU$6,0)","v":0},{"$f":"IF(AND(GV9/GV$6=ROUND(GV9/GV$6,0),NOT(GV9=0)),GV9/GV$6,0)","v":0},{"$f":"IF(AND(GW9/GW$6=ROUND(GW9/GW$6,0),NOT(GW9=0)),GW9/GW$6,0)","v":0},{"$f":"IF(AND(GX9/GX$6=ROUND(GX9/GX$6,0),NOT(GX9=0)),GX9/GX$6,0)","v":0},{"$f":"IF(AND(GY9/GY$6=ROUND(GY9/GY$6,0),NOT(GY9=0)),GY9/GY$6,0)","v":0},{"$f":"IF(AND(GZ9/GZ$6=ROUND(GZ9/GZ$6,0),NOT(GZ9=0)),GZ9/GZ$6,0)","v":0},{"$f":"IF(AND(HA9/HA$6=ROUND(HA9/HA$6,0),NOT(HA9=0)),HA9/HA$6,0)","v":0},{"$f":"IF(AND(HB9/HB$6=ROUND(HB9/HB$6,0),NOT(HB9=0)),HB9/HB$6,0)","v":0},{"$f":"IF(AND(HC9/HC$6=ROUND(HC9/HC$6,0),NOT(HC9=0)),HC9/HC$6,0)","v":0},{"$f":"IF(AND(HD9/HD$6=ROUND(HD9/HD$6,0),NOT(HD9=0)),HD9/HD$6,0)","v":0},{"$f":"IF(AND(HE9/HE$6=ROUND(HE9/HE$6,0),NOT(HE9=0)),HE9/HE$6,0)","v":0},{"$f":"IF(AND(HF9/HF$6=ROUND(HF9/HF$6,0),NOT(HF9=0)),HF9/HF$6,0)","v":0},{"$f":"IF(AND(HG9/HG$6=ROUND(HG9/HG$6,0),NOT(HG9=0)),HG9/HG$6,0)","v":0},{"$f":"IF(AND(HH9/HH$6=ROUND(HH9/HH$6,0),NOT(HH9=0)),HH9/HH$6,0)","v":0},{"$f":"IF(AND(HI9/HI$6=ROUND(HI9/HI$6,0),NOT(HI9=0)),HI9/HI$6,0)","v":0},{"$f":"IF(AND(HJ9/HJ$6=ROUND(HJ9/HJ$6,0),NOT(HJ9=0)),HJ9/HJ$6,0)","v":0},{"$f":"IF(AND(HK9/HK$6=ROUND(HK9/HK$6,0),NOT(HK9=0)),HK9/HK$6,0)","v":0},{"$f":"IF(AND(HL9/HL$6=ROUND(HL9/HL$6,0),NOT(HL9=0)),HL9/HL$6,0)","v":0},{"$f":"IF(AND(HM9/HM$6=ROUND(HM9/HM$6,0),NOT(HM9=0)),HM9/HM$6,0)","v":0},{"$f":"IF(AND(HN9/HN$6=ROUND(HN9/HN$6,0),NOT(HN9=0)),HN9/HN$6,0)","v":0},{"$f":"IF(AND(HO9/HO$6=ROUND(HO9/HO$6,0),NOT(HO9=0)),HO9/HO$6,0)","v":0},{"$f":"IF(AND(HP9/HP$6=ROUND(HP9/HP$6,0),NOT(HP9=0)),HP9/HP$6,0)","v":0},{"$f":"IF(AND(HQ9/HQ$6=ROUND(HQ9/HQ$6,0),NOT(HQ9=0)),HQ9/HQ$6,0)","v":0},{"$f":"IF(AND(HR9/HR$6=ROUND(HR9/HR$6,0),NOT(HR9=0)),HR9/HR$6,0)","v":0},{"$f":"IF(AND(HS9/HS$6=ROUND(HS9/HS$6,0),NOT(HS9=0)),HS9/HS$6,0)","v":0},{"$f":"IF(AND(HT9/HT$6=ROUND(HT9/HT$6,0),NOT(HT9=0)),HT9/HT$6,0)","v":0},{"$f":"IF(AND(HU9/HU$6=ROUND(HU9/HU$6,0),NOT(HU9=0)),HU9/HU$6,0)","v":0},{"$f":"IF(AND(HV9/HV$6=ROUND(HV9/HV$6,0),NOT(HV9=0)),HV9/HV$6,0)","v":0},{"$f":"IF(AND(HW9/HW$6=ROUND(HW9/HW$6,0),NOT(HW9=0)),HW9/HW$6,0)","v":0},{"$f":"IF(AND(HX9/HX$6=ROUND(HX9/HX$6,0),NOT(HX9=0)),HX9/HX$6,0)","v":0},{"$f":"IF(AND(HY9/HY$6=ROUND(HY9/HY$6,0),NOT(HY9=0)),HY9/HY$6,0)","v":0},{"$f":"IF(AND(HZ9/HZ$6=ROUND(HZ9/HZ$6,0),NOT(HZ9=0)),HZ9/HZ$6,0)","v":0},{"$f":"IF(AND(IA9/IA$6=ROUND(IA9/IA$6,0),NOT(IA9=0)),IA9/IA$6,0)","v":0},{"$f":"IF(AND(IB9/IB$6=ROUND(IB9/IB$6,0),NOT(IB9=0)),IB9/IB$6,0)","v":0},{"$f":"IF(AND(IC9/IC$6=ROUND(IC9/IC$6,0),NOT(IC9=0)),IC9/IC$6,0)","v":0},{"$f":"IF(AND(ID9/ID$6=ROUND(ID9/ID$6,0),NOT(ID9=0)),ID9/ID$6,0)","v":0},{"$f":"IF(AND(IE9/IE$6=ROUND(IE9/IE$6,0),NOT(IE9=0)),IE9/IE$6,0)","v":0},{"$f":"IF(AND(IF9/IF$6=ROUND(IF9/IF$6,0),NOT(IF9=0)),IF9/IF$6,0)","v":0},{"$f":"IF(AND(IG9/IG$6=ROUND(IG9/IG$6,0),NOT(IG9=0)),IG9/IG$6,0)","v":0},{"$f":"IF(AND(IH9/IH$6=ROUND(IH9/IH$6,0),NOT(IH9=0)),IH9/IH$6,0)","v":0},{"$f":"IF(AND(II9/II$6=ROUND(II9/II$6,0),NOT(II9=0)),II9/II$6,0)","v":0},{"$f":"IF(AND(IJ9/IJ$6=ROUND(IJ9/IJ$6,0),NOT(IJ9=0)),IJ9/IJ$6,0)","v":0},{"$f":"IF(AND(IK9/IK$6=ROUND(IK9/IK$6,0),NOT(IK9=0)),IK9/IK$6,0)","v":0},{"$f":"IF(AND(IL9/IL$6=ROUND(IL9/IL$6,0),NOT(IL9=0)),IL9/IL$6,0)","v":0},{"$f":"IF(AND(IM9/IM$6=ROUND(IM9/IM$6,0),NOT(IM9=0)),IM9/IM$6,0)","v":0},{"$f":"IF(AND(IN9/IN$6=ROUND(IN9/IN$6,0),NOT(IN9=0)),IN9/IN$6,0)","v":0},{"$f":"IF(AND(IO9/IO$6=ROUND(IO9/IO$6,0),NOT(IO9=0)),IO9/IO$6,0)","v":0},{"$f":"IF(AND(IP9/IP$6=ROUND(IP9/IP$6,0),NOT(IP9=0)),IP9/IP$6,0)","v":0},{"$f":"IF(AND(IQ9/IQ$6=ROUND(IQ9/IQ$6,0),NOT(IQ9=0)),IQ9/IQ$6,0)","v":0},{"$f":"IF(AND(IR9/IR$6=ROUND(IR9/IR$6,0),NOT(IR9=0)),IR9/IR$6,0)","v":0},{"$f":"IF(AND(IS9/IS$6=ROUND(IS9/IS$6,0),NOT(IS9=0)),IS9/IS$6,0)","v":0},{"$f":"IF(AND(IT9/IT$6=ROUND(IT9/IT$6,0),NOT(IT9=0)),IT9/IT$6,0)","v":0},{"$f":"IF(AND(IU9/IU$6=ROUND(IU9/IU$6,0),NOT(IU9=0)),IU9/IU$6,0)","v":0},{"$f":"IF(AND(IV9/IV$6=ROUND(IV9/IV$6,0),NOT(IV9=0)),IV9/IV$6,0)","v":0},{"$f":"IF(AND(IW9/IW$6=ROUND(IW9/IW$6,0),NOT(IW9=0)),IW9/IW$6,0)","v":0},{"$f":"IF(AND(IX9/IX$6=ROUND(IX9/IX$6,0),NOT(IX9=0)),IX9/IX$6,0)","v":0},{"$f":"IF(AND(IY9/IY$6=ROUND(IY9/IY$6,0),NOT(IY9=0)),IY9/IY$6,0)","v":0},{"$f":"IF(AND(IZ9/IZ$6=ROUND(IZ9/IZ$6,0),NOT(IZ9=0)),IZ9/IZ$6,0)","v":0},{"$f":"IF(AND(JA9/JA$6=ROUND(JA9/JA$6,0),NOT(JA9=0)),JA9/JA$6,0)","v":0},{"$f":"IF(AND(JB9/JB$6=ROUND(JB9/JB$6,0),NOT(JB9=0)),JB9/JB$6,0)","v":0},{"$f":"IF(AND(JC9/JC$6=ROUND(JC9/JC$6,0),NOT(JC9=0)),JC9/JC$6,0)","v":0},{"$f":"IF(AND(JD9/JD$6=ROUND(JD9/JD$6,0),NOT(JD9=0)),JD9/JD$6,0)","v":0},{"$f":"IF(AND(JE9/JE$6=ROUND(JE9/JE$6,0),NOT(JE9=0)),JE9/JE$6,0)","v":0},{"$f":"IF(AND(JF9/JF$6=ROUND(JF9/JF$6,0),NOT(JF9=0)),JF9/JF$6,0)","v":0},{"$f":"IF(AND(JG9/JG$6=ROUND(JG9/JG$6,0),NOT(JG9=0)),JG9/JG$6,0)","v":0},{"$f":"IF(AND(JH9/JH$6=ROUND(JH9/JH$6,0),NOT(JH9=0)),JH9/JH$6,0)","v":0},{"$f":"IF(AND(JI9/JI$6=ROUND(JI9/JI$6,0),NOT(JI9=0)),JI9/JI$6,0)","v":0},{"$f":"IF(AND(JJ9/JJ$6=ROUND(JJ9/JJ$6,0),NOT(JJ9=0)),JJ9/JJ$6,0)","v":0},{"$f":"IF(AND(JK9/JK$6=ROUND(JK9/JK$6,0),NOT(JK9=0)),JK9/JK$6,0)","v":0},{"$f":"IF(AND(JL9/JL$6=ROUND(JL9/JL$6,0),NOT(JL9=0)),JL9/JL$6,0)","v":0},{"$f":"IF(AND(JM9/JM$6=ROUND(JM9/JM$6,0),NOT(JM9=0)),JM9/JM$6,0)","v":0},{"$f":"IF(AND(JN9/JN$6=ROUND(JN9/JN$6,0),NOT(JN9=0)),JN9/JN$6,0)","v":0},{"$f":"IF(AND(JO9/JO$6=ROUND(JO9/JO$6,0),NOT(JO9=0)),JO9/JO$6,0)","v":0},{"$f":"IF(AND(JP9/JP$6=ROUND(JP9/JP$6,0),NOT(JP9=0)),JP9/JP$6,0)","v":0},{"$f":"IF(AND(JQ9/JQ$6=ROUND(JQ9/JQ$6,0),NOT(JQ9=0)),JQ9/JQ$6,0)","v":0},{"$f":"IF(AND(JR9/JR$6=ROUND(JR9/JR$6,0),NOT(JR9=0)),JR9/JR$6,0)","v":0},{"$f":"IF(AND(JS9/JS$6=ROUND(JS9/JS$6,0),NOT(JS9=0)),JS9/JS$6,0)","v":0},{"$f":"IF(AND(JT9/JT$6=ROUND(JT9/JT$6,0),NOT(JT9=0)),JT9/JT$6,0)","v":0},{"$f":"IF(AND(JU9/JU$6=ROUND(JU9/JU$6,0),NOT(JU9=0)),JU9/JU$6,0)","v":0},{"$f":"IF(AND(JV9/JV$6=ROUND(JV9/JV$6,0),NOT(JV9=0)),JV9/JV$6,0)","v":0},{"$f":"IF(AND(JW9/JW$6=ROUND(JW9/JW$6,0),NOT(JW9=0)),JW9/JW$6,0)","v":0},{"$f":"IF(AND(JX9/JX$6=ROUND(JX9/JX$6,0),NOT(JX9=0)),JX9/JX$6,0)","v":0},{"$f":"IF(AND(JY9/JY$6=ROUND(JY9/JY$6,0),NOT(JY9=0)),JY9/JY$6,0)","v":0},{"$f":"IF(AND(JZ9/JZ$6=ROUND(JZ9/JZ$6,0),NOT(JZ9=0)),JZ9/JZ$6,0)","v":0},{"$f":"IF(AND(KA9/KA$6=ROUND(KA9/KA$6,0),NOT(KA9=0)),KA9/KA$6,0)","v":0},{"$f":"IF(AND(KB9/KB$6=ROUND(KB9/KB$6,0),NOT(KB9=0)),KB9/KB$6,0)","v":0},{"$f":"IF(AND(KC9/KC$6=ROUND(KC9/KC$6,0),NOT(KC9=0)),KC9/KC$6,0)","v":0},{"$f":"IF(AND(KD9/KD$6=ROUND(KD9/KD$6,0),NOT(KD9=0)),KD9/KD$6,0)","v":0},{"$f":"IF(AND(KE9/KE$6=ROUND(KE9/KE$6,0),NOT(KE9=0)),KE9/KE$6,0)","v":0},{"$f":"IF(AND(KF9/KF$6=ROUND(KF9/KF$6,0),NOT(KF9=0)),KF9/KF$6,0)","v":0},{"$f":"IF(AND(KG9/KG$6=ROUND(KG9/KG$6,0),NOT(KG9=0)),KG9/KG$6,0)","v":0},{"$f":"IF(AND(KH9/KH$6=ROUND(KH9/KH$6,0),NOT(KH9=0)),KH9/KH$6,0)","v":0},{"$f":"IF(AND(KI9/KI$6=ROUND(KI9/KI$6,0),NOT(KI9=0)),KI9/KI$6,0)","v":0},{"$f":"IF(AND(KJ9/KJ$6=ROUND(KJ9/KJ$6,0),NOT(KJ9=0)),KJ9/KJ$6,0)","v":0},{"$f":"IF(AND(KK9/KK$6=ROUND(KK9/KK$6,0),NOT(KK9=0)),KK9/KK$6,0)","v":0},{"$f":"IF(AND(KL9/KL$6=ROUND(KL9/KL$6,0),NOT(KL9=0)),KL9/KL$6,0)","v":0},{"$f":"IF(AND(KM9/KM$6=ROUND(KM9/KM$6,0),NOT(KM9=0)),KM9/KM$6,0)","v":0},{"$f":"IF(AND(KN9/KN$6=ROUND(KN9/KN$6,0),NOT(KN9=0)),KN9/KN$6,0)","v":0},{"$f":"IF(AND(KO9/KO$6=ROUND(KO9/KO$6,0),NOT(KO9=0)),KO9/KO$6,0)","v":0},{"$f":"IF(AND(KP9/KP$6=ROUND(KP9/KP$6,0),NOT(KP9=0)),KP9/KP$6,0)","v":0},{"$f":"IF(AND(KQ9/KQ$6=ROUND(KQ9/KQ$6,0),NOT(KQ9=0)),KQ9/KQ$6,0)","v":0},{"$f":"IF(AND(KR9/KR$6=ROUND(KR9/KR$6,0),NOT(KR9=0)),KR9/KR$6,0)","v":0},{"$f":"IF(AND(KS9/KS$6=ROUND(KS9/KS$6,0),NOT(KS9=0)),KS9/KS$6,0)","v":0},{"$f":"IF(AND(KT9/KT$6=ROUND(KT9/KT$6,0),NOT(KT9=0)),KT9/KT$6,0)","v":0},{"$f":"IF(AND(KU9/KU$6=ROUND(KU9/KU$6,0),NOT(KU9=0)),KU9/KU$6,0)","v":0},{"$f":"IF(AND(KV9/KV$6=ROUND(KV9/KV$6,0),NOT(KV9=0)),KV9/KV$6,0)","v":0},{"$f":"IF(AND(KW9/KW$6=ROUND(KW9/KW$6,0),NOT(KW9=0)),KW9/KW$6,0)","v":0},{"$f":"IF(AND(KX9/KX$6=ROUND(KX9/KX$6,0),NOT(KX9=0)),KX9/KX$6,0)","v":0},{"$f":"IF(AND(KY9/KY$6=ROUND(KY9/KY$6,0),NOT(KY9=0)),KY9/KY$6,0)","v":0},{"$f":"IF(AND(KZ9/KZ$6=ROUND(KZ9/KZ$6,0),NOT(KZ9=0)),KZ9/KZ$6,0)","v":0},{"$f":"IF(AND(LA9/LA$6=ROUND(LA9/LA$6,0),NOT(LA9=0)),LA9/LA$6,0)","v":0},{"$f":"IF(AND(LB9/LB$6=ROUND(LB9/LB$6,0),NOT(LB9=0)),LB9/LB$6,0)","v":0},{"$f":"IF(AND(LC9/LC$6=ROUND(LC9/LC$6,0),NOT(LC9=0)),LC9/LC$6,0)","v":0},{"$f":"IF(AND(LD9/LD$6=ROUND(LD9/LD$6,0),NOT(LD9=0)),LD9/LD$6,0)","v":0},{"$f":"IF(AND(LE9/LE$6=ROUND(LE9/LE$6,0),NOT(LE9=0)),LE9/LE$6,0)","v":0},{"$f":"IF(AND(LF9/LF$6=ROUND(LF9/LF$6,0),NOT(LF9=0)),LF9/LF$6,0)","v":0},{"$f":"IF(AND(LG9/LG$6=ROUND(LG9/LG$6,0),NOT(LG9=0)),LG9/LG$6,0)","v":0},{"$f":"IF(AND(LH9/LH$6=ROUND(LH9/LH$6,0),NOT(LH9=0)),LH9/LH$6,0)","v":0},{"$f":"IF(AND(LI9/LI$6=ROUND(LI9/LI$6,0),NOT(LI9=0)),LI9/LI$6,0)","v":0},{"$f":"IF(AND(LJ9/LJ$6=ROUND(LJ9/LJ$6,0),NOT(LJ9=0)),LJ9/LJ$6,0)","v":0},{"$f":"IF(AND(LK9/LK$6=ROUND(LK9/LK$6,0),NOT(LK9=0)),LK9/LK$6,0)","v":0},{"$f":"IF(AND(LL9/LL$6=ROUND(LL9/LL$6,0),NOT(LL9=0)),LL9/LL$6,0)","v":0},{"$f":"IF(AND(LM9/LM$6=ROUND(LM9/LM$6,0),NOT(LM9=0)),LM9/LM$6,0)","v":0},{"$f":"IF(AND(LN9/LN$6=ROUND(LN9/LN$6,0),NOT(LN9=0)),LN9/LN$6,0)","v":0},{"$f":"IF(AND(LO9/LO$6=ROUND(LO9/LO$6,0),NOT(LO9=0)),LO9/LO$6,0)","v":0},{"$f":"IF(AND(LP9/LP$6=ROUND(LP9/LP$6,0),NOT(LP9=0)),LP9/LP$6,0)","v":0},{"$f":"IF(AND(LQ9/LQ$6=ROUND(LQ9/LQ$6,0),NOT(LQ9=0)),LQ9/LQ$6,0)","v":0},{"$f":"IF(AND(LR9/LR$6=ROUND(LR9/LR$6,0),NOT(LR9=0)),LR9/LR$6,0)","v":0},{"$f":"IF(AND(LS9/LS$6=ROUND(LS9/LS$6,0),NOT(LS9=0)),LS9/LS$6,0)","v":0},{"$f":"IF(AND(LT9/LT$6=ROUND(LT9/LT$6,0),NOT(LT9=0)),LT9/LT$6,0)","v":0},{"$f":"IF(AND(LU9/LU$6=ROUND(LU9/LU$6,0),NOT(LU9=0)),LU9/LU$6,0)","v":0},{"$f":"IF(AND(LV9/LV$6=ROUND(LV9/LV$6,0),NOT(LV9=0)),LV9/LV$6,0)","v":0},{"$f":"IF(AND(LW9/LW$6=ROUND(LW9/LW$6,0),NOT(LW9=0)),LW9/LW$6,0)","v":0},{"$f":"IF(AND(LX9/LX$6=ROUND(LX9/LX$6,0),NOT(LX9=0)),LX9/LX$6,0)","v":0},{"$f":"IF(AND(LY9/LY$6=ROUND(LY9/LY$6,0),NOT(LY9=0)),LY9/LY$6,0)","v":0},{"$f":"IF(AND(LZ9/LZ$6=ROUND(LZ9/LZ$6,0),NOT(LZ9=0)),LZ9/LZ$6,0)","v":0},{"$f":"IF(AND(MA9/MA$6=ROUND(MA9/MA$6,0),NOT(MA9=0)),MA9/MA$6,0)","v":0},{"$f":"IF(AND(MB9/MB$6=ROUND(MB9/MB$6,0),NOT(MB9=0)),MB9/MB$6,0)","v":0},{"$f":"IF(AND(MC9/MC$6=ROUND(MC9/MC$6,0),NOT(MC9=0)),MC9/MC$6,0)","v":0},{"$f":"IF(AND(MD9/MD$6=ROUND(MD9/MD$6,0),NOT(MD9=0)),MD9/MD$6,0)","v":0},{"$f":"IF(AND(ME9/ME$6=ROUND(ME9/ME$6,0),NOT(ME9=0)),ME9/ME$6,0)","v":0},{"$f":"IF(AND(MF9/MF$6=ROUND(MF9/MF$6,0),NOT(MF9=0)),MF9/MF$6,0)","v":0},{"$f":"IF(AND(MG9/MG$6=ROUND(MG9/MG$6,0),NOT(MG9=0)),MG9/MG$6,0)","v":0},{"$f":"IF(AND(MH9/MH$6=ROUND(MH9/MH$6,0),NOT(MH9=0)),MH9/MH$6,0)","v":0},{"$f":"IF(AND(MI9/MI$6=ROUND(MI9/MI$6,0),NOT(MI9=0)),MI9/MI$6,0)","v":0},{"$f":"IF(AND(MJ9/MJ$6=ROUND(MJ9/MJ$6,0),NOT(MJ9=0)),MJ9/MJ$6,0)","v":0},{"$f":"IF(AND(MK9/MK$6=ROUND(MK9/MK$6,0),NOT(MK9=0)),MK9/MK$6,0)","v":0},{"$f":"IF(AND(ML9/ML$6=ROUND(ML9/ML$6,0),NOT(ML9=0)),ML9/ML$6,0)","v":0},{"$f":"IF(AND(MM9/MM$6=ROUND(MM9/MM$6,0),NOT(MM9=0)),MM9/MM$6,0)","v":0},{"$f":"IF(AND(MN9/MN$6=ROUND(MN9/MN$6,0),NOT(MN9=0)),MN9/MN$6,0)","v":0},{"$f":"IF(AND(MO9/MO$6=ROUND(MO9/MO$6,0),NOT(MO9=0)),MO9/MO$6,0)","v":0},{"$f":"IF(AND(MP9/MP$6=ROUND(MP9/MP$6,0),NOT(MP9=0)),MP9/MP$6,0)","v":0},{"$f":"IF(AND(MQ9/MQ$6=ROUND(MQ9/MQ$6,0),NOT(MQ9=0)),MQ9/MQ$6,0)","v":0},{"$f":"IF(AND(MR9/MR$6=ROUND(MR9/MR$6,0),NOT(MR9=0)),MR9/MR$6,0)","v":0},{"$f":"IF(AND(MS9/MS$6=ROUND(MS9/MS$6,0),NOT(MS9=0)),MS9/MS$6,0)","v":0},{"$f":"IF(AND(MT9/MT$6=ROUND(MT9/MT$6,0),NOT(MT9=0)),MT9/MT$6,0)","v":0},{"$f":"IF(AND(MU9/MU$6=ROUND(MU9/MU$6,0),NOT(MU9=0)),MU9/MU$6,0)","v":0},{"$f":"IF(AND(MV9/MV$6=ROUND(MV9/MV$6,0),NOT(MV9=0)),MV9/MV$6,0)","v":0},{"$f":"IF(AND(MW9/MW$6=ROUND(MW9/MW$6,0),NOT(MW9=0)),MW9/MW$6,0)","v":0},{"$f":"IF(AND(MX9/MX$6=ROUND(MX9/MX$6,0),NOT(MX9=0)),MX9/MX$6,0)","v":0},{"$f":"IF(AND(MY9/MY$6=ROUND(MY9/MY$6,0),NOT(MY9=0)),MY9/MY$6,0)","v":0},{"$f":"IF(AND(MZ9/MZ$6=ROUND(MZ9/MZ$6,0),NOT(MZ9=0)),MZ9/MZ$6,0)","v":0},{"$f":"IF(AND(NA9/NA$6=ROUND(NA9/NA$6,0),NOT(NA9=0)),NA9/NA$6,0)","v":0},{"$f":"IF(AND(NB9/NB$6=ROUND(NB9/NB$6,0),NOT(NB9=0)),NB9/NB$6,0)","v":0},{"$f":"IF(AND(NC9/NC$6=ROUND(NC9/NC$6,0),NOT(NC9=0)),NC9/NC$6,0)","v":0},{"$f":"IF(AND(ND9/ND$6=ROUND(ND9/ND$6,0),NOT(ND9=0)),ND9/ND$6,0)","v":0},{"$f":"IF(AND(NE9/NE$6=ROUND(NE9/NE$6,0),NOT(NE9=0)),NE9/NE$6,0)","v":0},{"$f":"IF(AND(NF9/NF$6=ROUND(NF9/NF$6,0),NOT(NF9=0)),NF9/NF$6,0)","v":0},{"$f":"IF(AND(NG9/NG$6=ROUND(NG9/NG$6,0),NOT(NG9=0)),NG9/NG$6,0)","v":0},{"$f":"IF(AND(NH9/NH$6=ROUND(NH9/NH$6,0),NOT(NH9=0)),NH9/NH$6,0)","v":0},{"$f":"IF(AND(NI9/NI$6=ROUND(NI9/NI$6,0),NOT(NI9=0)),NI9/NI$6,0)","v":0},{"$f":"IF(AND(NJ9/NJ$6=ROUND(NJ9/NJ$6,0),NOT(NJ9=0)),NJ9/NJ$6,0)","v":0},{"$f":"IF(AND(NK9/NK$6=ROUND(NK9/NK$6,0),NOT(NK9=0)),NK9/NK$6,0)","v":0},{"$f":"IF(AND(NL9/NL$6=ROUND(NL9/NL$6,0),NOT(NL9=0)),NL9/NL$6,0)","v":0},{"$f":"IF(AND(NM9/NM$6=ROUND(NM9/NM$6,0),NOT(NM9=0)),NM9/NM$6,0)","v":0},{"$f":"IF(AND(NN9/NN$6=ROUND(NN9/NN$6,0),NOT(NN9=0)),NN9/NN$6,0)","v":0},{"$f":"IF(AND(NO9/NO$6=ROUND(NO9/NO$6,0),NOT(NO9=0)),NO9/NO$6,0)","v":0},{"$f":"IF(AND(NP9/NP$6=ROUND(NP9/NP$6,0),NOT(NP9=0)),NP9/NP$6,0)","v":0},{"$f":"IF(AND(NQ9/NQ$6=ROUND(NQ9/NQ$6,0),NOT(NQ9=0)),NQ9/NQ$6,0)","v":0},{"$f":"IF(AND(NR9/NR$6=ROUND(NR9/NR$6,0),NOT(NR9=0)),NR9/NR$6,0)","v":0},{"$f":"IF(AND(NS9/NS$6=ROUND(NS9/NS$6,0),NOT(NS9=0)),NS9/NS$6,0)","v":0},{"$f":"IF(AND(NT9/NT$6=ROUND(NT9/NT$6,0),NOT(NT9=0)),NT9/NT$6,0)","v":0},{"$f":"IF(AND(NU9/NU$6=ROUND(NU9/NU$6,0),NOT(NU9=0)),NU9/NU$6,0)","v":0},{"$f":"IF(AND(NV9/NV$6=ROUND(NV9/NV$6,0),NOT(NV9=0)),NV9/NV$6,0)","v":0},{"$f":"IF(AND(NW9/NW$6=ROUND(NW9/NW$6,0),NOT(NW9=0)),NW9/NW$6,0)","v":0},{"$f":"IF(AND(NX9/NX$6=ROUND(NX9/NX$6,0),NOT(NX9=0)),NX9/NX$6,0)","v":0},{"$f":"IF(AND(NY9/NY$6=ROUND(NY9/NY$6,0),NOT(NY9=0)),NY9/NY$6,0)","v":0},{"$f":"IF(AND(NZ9/NZ$6=ROUND(NZ9/NZ$6,0),NOT(NZ9=0)),NZ9/NZ$6,0)","v":0},{"$f":"IF(AND(OA9/OA$6=ROUND(OA9/OA$6,0),NOT(OA9=0)),OA9/OA$6,0)","v":0},{"$f":"IF(AND(OB9/OB$6=ROUND(OB9/OB$6,0),NOT(OB9=0)),OB9/OB$6,0)","v":0},{"$f":"IF(AND(OC9/OC$6=ROUND(OC9/OC$6,0),NOT(OC9=0)),OC9/OC$6,0)","v":0},{"$f":"IF(AND(OD9/OD$6=ROUND(OD9/OD$6,0),NOT(OD9=0)),OD9/OD$6,0)","v":0},{"$f":"IF(AND(OE9/OE$6=ROUND(OE9/OE$6,0),NOT(OE9=0)),OE9/OE$6,0)","v":0},{"$f":"IF(AND(OF9/OF$6=ROUND(OF9/OF$6,0),NOT(OF9=0)),OF9/OF$6,0)","v":0},{"$f":"IF(AND(OG9/OG$6=ROUND(OG9/OG$6,0),NOT(OG9=0)),OG9/OG$6,0)","v":0},{"$f":"IF(AND(OH9/OH$6=ROUND(OH9/OH$6,0),NOT(OH9=0)),OH9/OH$6,0)","v":0},{"$f":"IF(AND(OI9/OI$6=ROUND(OI9/OI$6,0),NOT(OI9=0)),OI9/OI$6,0)","v":0},{"$f":"IF(AND(OJ9/OJ$6=ROUND(OJ9/OJ$6,0),NOT(OJ9=0)),OJ9/OJ$6,0)","v":0},{"$f":"IF(AND(OK9/OK$6=ROUND(OK9/OK$6,0),NOT(OK9=0)),OK9/OK$6,0)","v":0},{"$f":"IF(AND(OL9/OL$6=ROUND(OL9/OL$6,0),NOT(OL9=0)),OL9/OL$6,0)","v":0},{"$f":"IF(AND(OM9/OM$6=ROUND(OM9/OM$6,0),NOT(OM9=0)),OM9/OM$6,0)","v":0},{"$f":"IF(AND(ON9/ON$6=ROUND(ON9/ON$6,0),NOT(ON9=0)),ON9/ON$6,0)","v":0},{"$f":"IF(AND(OO9/OO$6=ROUND(OO9/OO$6,0),NOT(OO9=0)),OO9/OO$6,0)","v":0},{"$f":"IF(AND(OP9/OP$6=ROUND(OP9/OP$6,0),NOT(OP9=0)),OP9/OP$6,0)","v":0},{"$f":"IF(AND(OQ9/OQ$6=ROUND(OQ9/OQ$6,0),NOT(OQ9=0)),OQ9/OQ$6,0)","v":0},{"$f":"IF(AND(OR9/OR$6=ROUND(OR9/OR$6,0),NOT(OR9=0)),OR9/OR$6,0)","v":0},{"$f":"IF(AND(OS9/OS$6=ROUND(OS9/OS$6,0),NOT(OS9=0)),OS9/OS$6,0)","v":0},{"$f":"IF(AND(OT9/OT$6=ROUND(OT9/OT$6,0),NOT(OT9=0)),OT9/OT$6,0)","v":0},{"$f":"IF(AND(OU9/OU$6=ROUND(OU9/OU$6,0),NOT(OU9=0)),OU9/OU$6,0)","v":0},{"$f":"IF(AND(OV9/OV$6=ROUND(OV9/OV$6,0),NOT(OV9=0)),OV9/OV$6,0)","v":0},{"$f":"IF(AND(OW9/OW$6=ROUND(OW9/OW$6,0),NOT(OW9=0)),OW9/OW$6,0)","v":0},{"$f":"IF(AND(OX9/OX$6=ROUND(OX9/OX$6,0),NOT(OX9=0)),OX9/OX$6,0)","v":0},{"$f":"IF(AND(OY9/OY$6=ROUND(OY9/OY$6,0),NOT(OY9=0)),OY9/OY$6,0)","v":0},{"$f":"IF(AND(OZ9/OZ$6=ROUND(OZ9/OZ$6,0),NOT(OZ9=0)),OZ9/OZ$6,0)","v":0},{"$f":"IF(AND(PA9/PA$6=ROUND(PA9/PA$6,0),NOT(PA9=0)),PA9/PA$6,0)","v":0},{"$f":"IF(AND(PB9/PB$6=ROUND(PB9/PB$6,0),NOT(PB9=0)),PB9/PB$6,0)","v":0},{"$f":"IF(AND(PC9/PC$6=ROUND(PC9/PC$6,0),NOT(PC9=0)),PC9/PC$6,0)","v":0},{"$f":"IF(AND(PD9/PD$6=ROUND(PD9/PD$6,0),NOT(PD9=0)),PD9/PD$6,0)","v":0},{"$f":"IF(AND(PE9/PE$6=ROUND(PE9/PE$6,0),NOT(PE9=0)),PE9/PE$6,0)","v":0},{"$f":"IF(AND(PF9/PF$6=ROUND(PF9/PF$6,0),NOT(PF9=0)),PF9/PF$6,0)","v":0},{"$f":"IF(AND(PG9/PG$6=ROUND(PG9/PG$6,0),NOT(PG9=0)),PG9/PG$6,0)","v":0},{"$f":"IF(AND(PH9/PH$6=ROUND(PH9/PH$6,0),NOT(PH9=0)),PH9/PH$6,0)","v":0},{"$f":"IF(AND(PI9/PI$6=ROUND(PI9/PI$6,0),NOT(PI9=0)),PI9/PI$6,0)","v":0},{"$f":"IF(AND(PJ9/PJ$6=ROUND(PJ9/PJ$6,0),NOT(PJ9=0)),PJ9/PJ$6,0)","v":0},{"$f":"IF(AND(PK9/PK$6=ROUND(PK9/PK$6,0),NOT(PK9=0)),PK9/PK$6,0)","v":0},{"$f":"IF(AND(PL9/PL$6=ROUND(PL9/PL$6,0),NOT(PL9=0)),PL9/PL$6,0)","v":0},{"$f":"IF(AND(PM9/PM$6=ROUND(PM9/PM$6,0),NOT(PM9=0)),PM9/PM$6,0)","v":0},{"$f":"IF(AND(PN9/PN$6=ROUND(PN9/PN$6,0),NOT(PN9=0)),PN9/PN$6,0)","v":0},{"$f":"IF(AND(PO9/PO$6=ROUND(PO9/PO$6,0),NOT(PO9=0)),PO9/PO$6,0)","v":0},{"$f":"IF(AND(PP9/PP$6=ROUND(PP9/PP$6,0),NOT(PP9=0)),PP9/PP$6,0)","v":0},{"$f":"IF(AND(PQ9/PQ$6=ROUND(PQ9/PQ$6,0),NOT(PQ9=0)),PQ9/PQ$6,0)","v":0},{"$f":"IF(AND(PR9/PR$6=ROUND(PR9/PR$6,0),NOT(PR9=0)),PR9/PR$6,0)","v":0},{"$f":"IF(AND(PS9/PS$6=ROUND(PS9/PS$6,0),NOT(PS9=0)),PS9/PS$6,0)","v":0},{"$f":"IF(AND(PT9/PT$6=ROUND(PT9/PT$6,0),NOT(PT9=0)),PT9/PT$6,0)","v":0},{"$f":"IF(AND(PU9/PU$6=ROUND(PU9/PU$6,0),NOT(PU9=0)),PU9/PU$6,0)","v":0},{"$f":"IF(AND(PV9/PV$6=ROUND(PV9/PV$6,0),NOT(PV9=0)),PV9/PV$6,0)","v":0},{"$f":"IF(AND(PW9/PW$6=ROUND(PW9/PW$6,0),NOT(PW9=0)),PW9/PW$6,0)","v":0},{"$f":"IF(AND(PX9/PX$6=ROUND(PX9/PX$6,0),NOT(PX9=0)),PX9/PX$6,0)","v":0},{"$f":"IF(AND(PY9/PY$6=ROUND(PY9/PY$6,0),NOT(PY9=0)),PY9/PY$6,0)","v":0},{"$f":"IF(AND(PZ9/PZ$6=ROUND(PZ9/PZ$6,0),NOT(PZ9=0)),PZ9/PZ$6,0)","v":0},{"$f":"IF(AND(QA9/QA$6=ROUND(QA9/QA$6,0),NOT(QA9=0)),QA9/QA$6,0)","v":0},{"$f":"IF(AND(QB9/QB$6=ROUND(QB9/QB$6,0),NOT(QB9=0)),QB9/QB$6,0)","v":0},{"$f":"IF(AND(QC9/QC$6=ROUND(QC9/QC$6,0),NOT(QC9=0)),QC9/QC$6,0)","v":0},{"$f":"IF(AND(QD9/QD$6=ROUND(QD9/QD$6,0),NOT(QD9=0)),QD9/QD$6,0)","v":0},{"$f":"IF(AND(QE9/QE$6=ROUND(QE9/QE$6,0),NOT(QE9=0)),QE9/QE$6,0)","v":0},{"$f":"IF(AND(QF9/QF$6=ROUND(QF9/QF$6,0),NOT(QF9=0)),QF9/QF$6,0)","v":0},{"$f":"IF(AND(QG9/QG$6=ROUND(QG9/QG$6,0),NOT(QG9=0)),QG9/QG$6,0)","v":0},{"$f":"IF(AND(QH9/QH$6=ROUND(QH9/QH$6,0),NOT(QH9=0)),QH9/QH$6,0)","v":0},{"$f":"IF(AND(QI9/QI$6=ROUND(QI9/QI$6,0),NOT(QI9=0)),QI9/QI$6,0)","v":0},{"$f":"IF(AND(QJ9/QJ$6=ROUND(QJ9/QJ$6,0),NOT(QJ9=0)),QJ9/QJ$6,0)","v":0},{"$f":"IF(AND(QK9/QK$6=ROUND(QK9/QK$6,0),NOT(QK9=0)),QK9/QK$6,0)","v":0},{"$f":"IF(AND(QL9/QL$6=ROUND(QL9/QL$6,0),NOT(QL9=0)),QL9/QL$6,0)","v":0},{"$f":"IF(AND(QM9/QM$6=ROUND(QM9/QM$6,0),NOT(QM9=0)),QM9/QM$6,0)","v":0},{"$f":"IF(AND(QN9/QN$6=ROUND(QN9/QN$6,0),NOT(QN9=0)),QN9/QN$6,0)","v":0},{"$f":"IF(AND(QO9/QO$6=ROUND(QO9/QO$6,0),NOT(QO9=0)),QO9/QO$6,0)","v":0},{"$f":"IF(AND(QP9/QP$6=ROUND(QP9/QP$6,0),NOT(QP9=0)),QP9/QP$6,0)","v":0},{"$f":"IF(AND(QQ9/QQ$6=ROUND(QQ9/QQ$6,0),NOT(QQ9=0)),QQ9/QQ$6,0)","v":0},{"$f":"IF(AND(QR9/QR$6=ROUND(QR9/QR$6,0),NOT(QR9=0)),QR9/QR$6,0)","v":0},{"$f":"IF(AND(QS9/QS$6=ROUND(QS9/QS$6,0),NOT(QS9=0)),QS9/QS$6,0)","v":0},{"$f":"IF(AND(QT9/QT$6=ROUND(QT9/QT$6,0),NOT(QT9=0)),QT9/QT$6,0)","v":0},{"$f":"IF(AND(QU9/QU$6=ROUND(QU9/QU$6,0),NOT(QU9=0)),QU9/QU$6,0)","v":0},{"$f":"IF(AND(QV9/QV$6=ROUND(QV9/QV$6,0),NOT(QV9=0)),QV9/QV$6,0)","v":0},{"$f":"IF(AND(QW9/QW$6=ROUND(QW9/QW$6,0),NOT(QW9=0)),QW9/QW$6,0)","v":0},{"$f":"IF(AND(QX9/QX$6=ROUND(QX9/QX$6,0),NOT(QX9=0)),QX9/QX$6,0)","v":0},{"$f":"IF(AND(QY9/QY$6=ROUND(QY9/QY$6,0),NOT(QY9=0)),QY9/QY$6,0)","v":0},{"$f":"IF(AND(QZ9/QZ$6=ROUND(QZ9/QZ$6,0),NOT(QZ9=0)),QZ9/QZ$6,0)","v":0},{"$f":"IF(AND(RA9/RA$6=ROUND(RA9/RA$6,0),NOT(RA9=0)),RA9/RA$6,0)","v":0},{"$f":"IF(AND(RB9/RB$6=ROUND(RB9/RB$6,0),NOT(RB9=0)),RB9/RB$6,0)","v":0},{"$f":"IF(AND(RC9/RC$6=ROUND(RC9/RC$6,0),NOT(RC9=0)),RC9/RC$6,0)","v":0},{"$f":"IF(AND(RD9/RD$6=ROUND(RD9/RD$6,0),NOT(RD9=0)),RD9/RD$6,0)","v":0},{"$f":"IF(AND(RE9/RE$6=ROUND(RE9/RE$6,0),NOT(RE9=0)),RE9/RE$6,0)","v":0},{"$f":"IF(AND(RF9/RF$6=ROUND(RF9/RF$6,0),NOT(RF9=0)),RF9/RF$6,0)","v":0},{"$f":"IF(AND(RG9/RG$6=ROUND(RG9/RG$6,0),NOT(RG9=0)),RG9/RG$6,0)","v":0},{"$f":"IF(AND(RH9/RH$6=ROUND(RH9/RH$6,0),NOT(RH9=0)),RH9/RH$6,0)","v":0},{"$f":"IF(AND(RI9/RI$6=ROUND(RI9/RI$6,0),NOT(RI9=0)),RI9/RI$6,0)","v":0},{"$f":"IF(AND(RJ9/RJ$6=ROUND(RJ9/RJ$6,0),NOT(RJ9=0)),RJ9/RJ$6,0)","v":0},{"$f":"IF(AND(RK9/RK$6=ROUND(RK9/RK$6,0),NOT(RK9=0)),RK9/RK$6,0)","v":0},{"$f":"IF(AND(RL9/RL$6=ROUND(RL9/RL$6,0),NOT(RL9=0)),RL9/RL$6,0)","v":0},{"$f":"IF(AND(RM9/RM$6=ROUND(RM9/RM$6,0),NOT(RM9=0)),RM9/RM$6,0)","v":0},{"$f":"IF(AND(RN9/RN$6=ROUND(RN9/RN$6,0),NOT(RN9=0)),RN9/RN$6,0)","v":0},{"$f":"IF(AND(RO9/RO$6=ROUND(RO9/RO$6,0),NOT(RO9=0)),RO9/RO$6,0)","v":0},{"$f":"IF(AND(RP9/RP$6=ROUND(RP9/RP$6,0),NOT(RP9=0)),RP9/RP$6,0)","v":0},{"$f":"IF(AND(RQ9/RQ$6=ROUND(RQ9/RQ$6,0),NOT(RQ9=0)),RQ9/RQ$6,0)","v":0},{"$f":"IF(AND(RR9/RR$6=ROUND(RR9/RR$6,0),NOT(RR9=0)),RR9/RR$6,0)","v":0},{"$f":"IF(AND(RS9/RS$6=ROUND(RS9/RS$6,0),NOT(RS9=0)),RS9/RS$6,0)","v":0},{"$f":"IF(AND(RT9/RT$6=ROUND(RT9/RT$6,0),NOT(RT9=0)),RT9/RT$6,0)","v":0},{"$f":"IF(AND(RU9/RU$6=ROUND(RU9/RU$6,0),NOT(RU9=0)),RU9/RU$6,0)","v":0},{"$f":"IF(AND(RV9/RV$6=ROUND(RV9/RV$6,0),NOT(RV9=0)),RV9/RV$6,0)","v":0},{"$f":"IF(AND(RW9/RW$6=ROUND(RW9/RW$6,0),NOT(RW9=0)),RW9/RW$6,0)","v":0},{"$f":"IF(AND(RX9/RX$6=ROUND(RX9/RX$6,0),NOT(RX9=0)),RX9/RX$6,0)","v":0},{"$f":"IF(AND(RY9/RY$6=ROUND(RY9/RY$6,0),NOT(RY9=0)),RY9/RY$6,0)","v":0},{"$f":"IF(AND(RZ9/RZ$6=ROUND(RZ9/RZ$6,0),NOT(RZ9=0)),RZ9/RZ$6,0)","v":0},{"$f":"IF(AND(SA9/SA$6=ROUND(SA9/SA$6,0),NOT(SA9=0)),SA9/SA$6,0)","v":0},{"$f":"IF(AND(SB9/SB$6=ROUND(SB9/SB$6,0),NOT(SB9=0)),SB9/SB$6,0)","v":0},{"$f":"IF(AND(SC9/SC$6=ROUND(SC9/SC$6,0),NOT(SC9=0)),SC9/SC$6,0)","v":0},{"$f":"IF(AND(SD9/SD$6=ROUND(SD9/SD$6,0),NOT(SD9=0)),SD9/SD$6,0)","v":0},{"$f":"IF(AND(SE9/SE$6=ROUND(SE9/SE$6,0),NOT(SE9=0)),SE9/SE$6,0)","v":0},{"$f":"IF(AND(SF9/SF$6=ROUND(SF9/SF$6,0),NOT(SF9=0)),SF9/SF$6,0)","v":0},{"$f":"IF(AND(SG9/SG$6=ROUND(SG9/SG$6,0),NOT(SG9=0)),SG9/SG$6,0)","v":0},{"$f":"IF(AND(SH9/SH$6=ROUND(SH9/SH$6,0),NOT(SH9=0)),SH9/SH$6,0)","v":0},{"$f":"IF(AND(SI9/SI$6=ROUND(SI9/SI$6,0),NOT(SI9=0)),SI9/SI$6,0)","v":0},{"$f":"IF(AND(SJ9/SJ$6=ROUND(SJ9/SJ$6,0),NOT(SJ9=0)),SJ9/SJ$6,0)","v":0},{"$f":"IF(AND(SK9/SK$6=ROUND(SK9/SK$6,0),NOT(SK9=0)),SK9/SK$6,0)","v":0},{"$f":"IF(AND(SL9/SL$6=ROUND(SL9/SL$6,0),NOT(SL9=0)),SL9/SL$6,0)","v":0},{"$f":"IF(AND(SM9/SM$6=ROUND(SM9/SM$6,0),NOT(SM9=0)),SM9/SM$6,0)","v":0},{"$f":"IF(AND(SN9/SN$6=ROUND(SN9/SN$6,0),NOT(SN9=0)),SN9/SN$6,0)","v":0},{"$f":"IF(AND(SO9/SO$6=ROUND(SO9/SO$6,0),NOT(SO9=0)),SO9/SO$6,0)","v":0},{"$f":"IF(AND(SP9/SP$6=ROUND(SP9/SP$6,0),NOT(SP9=0)),SP9/SP$6,0)","v":0},{"$f":"IF(AND(SQ9/SQ$6=ROUND(SQ9/SQ$6,0),NOT(SQ9=0)),SQ9/SQ$6,0)","v":0},{"$f":"IF(AND(SR9/SR$6=ROUND(SR9/SR$6,0),NOT(SR9=0)),SR9/SR$6,0)","v":0},{"$f":"IF(AND(SS9/SS$6=ROUND(SS9/SS$6,0),NOT(SS9=0)),SS9/SS$6,0)","v":0},{"$f":"IF(AND(ST9/ST$6=ROUND(ST9/ST$6,0),NOT(ST9=0)),ST9/ST$6,0)","v":0},{"$f":"IF(AND(SU9/SU$6=ROUND(SU9/SU$6,0),NOT(SU9=0)),SU9/SU$6,0)","v":0},{"$f":"IF(AND(SV9/SV$6=ROUND(SV9/SV$6,0),NOT(SV9=0)),SV9/SV$6,0)","v":0},{"$f":"IF(AND(SW9/SW$6=ROUND(SW9/SW$6,0),NOT(SW9=0)),SW9/SW$6,0)","v":0},{"$f":"IF(AND(SX9/SX$6=ROUND(SX9/SX$6,0),NOT(SX9=0)),SX9/SX$6,0)","v":0},{"$f":"IF(AND(SY9/SY$6=ROUND(SY9/SY$6,0),NOT(SY9=0)),SY9/SY$6,0)","v":0},{"$f":"IF(AND(SZ9/SZ$6=ROUND(SZ9/SZ$6,0),NOT(SZ9=0)),SZ9/SZ$6,0)","v":0},{"$f":"IF(AND(TA9/TA$6=ROUND(TA9/TA$6,0),NOT(TA9=0)),TA9/TA$6,0)","v":0},{"$f":"IF(AND(TB9/TB$6=ROUND(TB9/TB$6,0),NOT(TB9=0)),TB9/TB$6,0)","v":0},{"$f":"IF(AND(TC9/TC$6=ROUND(TC9/TC$6,0),NOT(TC9=0)),TC9/TC$6,0)","v":0},{"$f":"IF(AND(TD9/TD$6=ROUND(TD9/TD$6,0),NOT(TD9=0)),TD9/TD$6,0)","v":0},{"$f":"IF(AND(TE9/TE$6=ROUND(TE9/TE$6,0),NOT(TE9=0)),TE9/TE$6,0)","v":0},{"$f":"IF(AND(TF9/TF$6=ROUND(TF9/TF$6,0),NOT(TF9=0)),TF9/TF$6,0)","v":0},{"$f":"IF(AND(TG9/TG$6=ROUND(TG9/TG$6,0),NOT(TG9=0)),TG9/TG$6,0)","v":0},{"$f":"IF(AND(TH9/TH$6=ROUND(TH9/TH$6,0),NOT(TH9=0)),TH9/TH$6,0)","v":0},{"$f":"IF(AND(TI9/TI$6=ROUND(TI9/TI$6,0),NOT(TI9=0)),TI9/TI$6,0)","v":0},{"$f":"IF(AND(TJ9/TJ$6=ROUND(TJ9/TJ$6,0),NOT(TJ9=0)),TJ9/TJ$6,0)","v":0},{"$f":"IF(AND(TK9/TK$6=ROUND(TK9/TK$6,0),NOT(TK9=0)),TK9/TK$6,0)","v":0},{"$f":"IF(AND(TL9/TL$6=ROUND(TL9/TL$6,0),NOT(TL9=0)),TL9/TL$6,0)","v":0},{"$f":"IF(AND(TM9/TM$6=ROUND(TM9/TM$6,0),NOT(TM9=0)),TM9/TM$6,0)","v":0},{"$f":"IF(AND(TN9/TN$6=ROUND(TN9/TN$6,0),NOT(TN9=0)),TN9/TN$6,0)","v":0},{"$f":"IF(AND(TO9/TO$6=ROUND(TO9/TO$6,0),NOT(TO9=0)),TO9/TO$6,0)","v":0},{"$f":"IF(AND(TP9/TP$6=ROUND(TP9/TP$6,0),NOT(TP9=0)),TP9/TP$6,0)","v":0},{"$f":"IF(AND(TQ9/TQ$6=ROUND(TQ9/TQ$6,0),NOT(TQ9=0)),TQ9/TQ$6,0)","v":0},{"$f":"IF(AND(TR9/TR$6=ROUND(TR9/TR$6,0),NOT(TR9=0)),TR9/TR$6,0)","v":0},{"$f":"IF(AND(TS9/TS$6=ROUND(TS9/TS$6,0),NOT(TS9=0)),TS9/TS$6,0)","v":0},{"$f":"IF(AND(TT9/TT$6=ROUND(TT9/TT$6,0),NOT(TT9=0)),TT9/TT$6,0)","v":0},{"$f":"IF(AND(TU9/TU$6=ROUND(TU9/TU$6,0),NOT(TU9=0)),TU9/TU$6,0)","v":0},{"$f":"IF(AND(TV9/TV$6=ROUND(TV9/TV$6,0),NOT(TV9=0)),TV9/TV$6,0)","v":0},{"$f":"IF(AND(TW9/TW$6=ROUND(TW9/TW$6,0),NOT(TW9=0)),TW9/TW$6,0)","v":0},{"$f":"IF(AND(TX9/TX$6=ROUND(TX9/TX$6,0),NOT(TX9=0)),TX9/TX$6,0)","v":0},{"$f":"IF(AND(TY9/TY$6=ROUND(TY9/TY$6,0),NOT(TY9=0)),TY9/TY$6,0)","v":0},{"$f":"IF(AND(TZ9/TZ$6=ROUND(TZ9/TZ$6,0),NOT(TZ9=0)),TZ9/TZ$6,0)","v":0},{"$f":"IF(AND(UA9/UA$6=ROUND(UA9/UA$6,0),NOT(UA9=0)),UA9/UA$6,0)","v":0},{"$f":"IF(AND(UB9/UB$6=ROUND(UB9/UB$6,0),NOT(UB9=0)),UB9/UB$6,0)","v":0},{"$f":"IF(AND(UC9/UC$6=ROUND(UC9/UC$6,0),NOT(UC9=0)),UC9/UC$6,0)","v":0},{"$f":"IF(AND(UD9/UD$6=ROUND(UD9/UD$6,0),NOT(UD9=0)),UD9/UD$6,0)","v":0},{"$f":"IF(AND(UE9/UE$6=ROUND(UE9/UE$6,0),NOT(UE9=0)),UE9/UE$6,0)","v":0},{"$f":"IF(AND(UF9/UF$6=ROUND(UF9/UF$6,0),NOT(UF9=0)),UF9/UF$6,0)","v":0},{"$f":"IF(AND(UG9/UG$6=ROUND(UG9/UG$6,0),NOT(UG9=0)),UG9/UG$6,0)","v":0},{"$f":"IF(AND(UH9/UH$6=ROUND(UH9/UH$6,0),NOT(UH9=0)),UH9/UH$6,0)","v":0},{"$f":"IF(AND(UI9/UI$6=ROUND(UI9/UI$6,0),NOT(UI9=0)),UI9/UI$6,0)","v":0},{"$f":"IF(AND(UJ9/UJ$6=ROUND(UJ9/UJ$6,0),NOT(UJ9=0)),UJ9/UJ$6,0)","v":0},{"$f":"IF(AND(UK9/UK$6=ROUND(UK9/UK$6,0),NOT(UK9=0)),UK9/UK$6,0)","v":0},{"$f":"IF(AND(UL9/UL$6=ROUND(UL9/UL$6,0),NOT(UL9=0)),UL9/UL$6,0)","v":0},{"$f":"IF(AND(UM9/UM$6=ROUND(UM9/UM$6,0),NOT(UM9=0)),UM9/UM$6,0)","v":0},{"$f":"IF(AND(UN9/UN$6=ROUND(UN9/UN$6,0),NOT(UN9=0)),UN9/UN$6,0)","v":0},{"$f":"IF(AND(UO9/UO$6=ROUND(UO9/UO$6,0),NOT(UO9=0)),UO9/UO$6,0)","v":0},{"$f":"IF(AND(UP9/UP$6=ROUND(UP9/UP$6,0),NOT(UP9=0)),UP9/UP$6,0)","v":0},{"$f":"IF(AND(UQ9/UQ$6=ROUND(UQ9/UQ$6,0),NOT(UQ9=0)),UQ9/UQ$6,0)","v":0},{"$f":"IF(AND(UR9/UR$6=ROUND(UR9/UR$6,0),NOT(UR9=0)),UR9/UR$6,0)","v":0},{"$f":"IF(AND(US9/US$6=ROUND(US9/US$6,0),NOT(US9=0)),US9/US$6,0)","v":0},{"$f":"IF(AND(UT9/UT$6=ROUND(UT9/UT$6,0),NOT(UT9=0)),UT9/UT$6,0)","v":0},{"$f":"IF(AND(UU9/UU$6=ROUND(UU9/UU$6,0),NOT(UU9=0)),UU9/UU$6,0)","v":0},{"$f":"IF(AND(UV9/UV$6=ROUND(UV9/UV$6,0),NOT(UV9=0)),UV9/UV$6,0)","v":0},{"$f":"IF(AND(UW9/UW$6=ROUND(UW9/UW$6,0),NOT(UW9=0)),UW9/UW$6,0)","v":0},{"$f":"IF(AND(UX9/UX$6=ROUND(UX9/UX$6,0),NOT(UX9=0)),UX9/UX$6,0)","v":0},{"$f":"IF(AND(UY9/UY$6=ROUND(UY9/UY$6,0),NOT(UY9=0)),UY9/UY$6,0)","v":0},{"$f":"IF(AND(UZ9/UZ$6=ROUND(UZ9/UZ$6,0),NOT(UZ9=0)),UZ9/UZ$6,0)","v":0},{"$f":"IF(AND(VA9/VA$6=ROUND(VA9/VA$6,0),NOT(VA9=0)),VA9/VA$6,0)","v":0},{"$f":"IF(AND(VB9/VB$6=ROUND(VB9/VB$6,0),NOT(VB9=0)),VB9/VB$6,0)","v":0},{"$f":"IF(AND(VC9/VC$6=ROUND(VC9/VC$6,0),NOT(VC9=0)),VC9/VC$6,0)","v":0},{"$f":"IF(AND(VD9/VD$6=ROUND(VD9/VD$6,0),NOT(VD9=0)),VD9/VD$6,0)","v":0},{"$f":"IF(AND(VE9/VE$6=ROUND(VE9/VE$6,0),NOT(VE9=0)),VE9/VE$6,0)","v":0},{"$f":"IF(AND(VF9/VF$6=ROUND(VF9/VF$6,0),NOT(VF9=0)),VF9/VF$6,0)","v":0},{"$f":"IF(AND(VG9/VG$6=ROUND(VG9/VG$6,0),NOT(VG9=0)),VG9/VG$6,0)","v":0},{"$f":"IF(AND(VH9/VH$6=ROUND(VH9/VH$6,0),NOT(VH9=0)),VH9/VH$6,0)","v":0},{"$f":"IF(AND(VI9/VI$6=ROUND(VI9/VI$6,0),NOT(VI9=0)),VI9/VI$6,0)","v":0},{"$f":"IF(AND(VJ9/VJ$6=ROUND(VJ9/VJ$6,0),NOT(VJ9=0)),VJ9/VJ$6,0)","v":0},{"$f":"IF(AND(VK9/VK$6=ROUND(VK9/VK$6,0),NOT(VK9=0)),VK9/VK$6,0)","v":0},{"$f":"IF(AND(VL9/VL$6=ROUND(VL9/VL$6,0),NOT(VL9=0)),VL9/VL$6,0)","v":0},{"$f":"IF(AND(VM9/VM$6=ROUND(VM9/VM$6,0),NOT(VM9=0)),VM9/VM$6,0)","v":0},{"$f":"IF(AND(VN9/VN$6=ROUND(VN9/VN$6,0),NOT(VN9=0)),VN9/VN$6,0)","v":0},{"$f":"IF(AND(VO9/VO$6=ROUND(VO9/VO$6,0),NOT(VO9=0)),VO9/VO$6,0)","v":0},{"$f":"IF(AND(VP9/VP$6=ROUND(VP9/VP$6,0),NOT(VP9=0)),VP9/VP$6,0)","v":0},{"$f":"IF(AND(VQ9/VQ$6=ROUND(VQ9/VQ$6,0),NOT(VQ9=0)),VQ9/VQ$6,0)","v":0},{"$f":"IF(AND(VR9/VR$6=ROUND(VR9/VR$6,0),NOT(VR9=0)),VR9/VR$6,0)","v":0},{"$f":"IF(AND(VS9/VS$6=ROUND(VS9/VS$6,0),NOT(VS9=0)),VS9/VS$6,0)","v":0},{"$f":"IF(AND(VT9/VT$6=ROUND(VT9/VT$6,0),NOT(VT9=0)),VT9/VT$6,0)","v":0},{"$f":"IF(AND(VU9/VU$6=ROUND(VU9/VU$6,0),NOT(VU9=0)),VU9/VU$6,0)","v":0},{"$f":"IF(AND(VV9/VV$6=ROUND(VV9/VV$6,0),NOT(VV9=0)),VV9/VV$6,0)","v":0},{"$f":"IF(AND(VW9/VW$6=ROUND(VW9/VW$6,0),NOT(VW9=0)),VW9/VW$6,0)","v":0},{"$f":"IF(AND(VX9/VX$6=ROUND(VX9/VX$6,0),NOT(VX9=0)),VX9/VX$6,0)","v":0},{"$f":"IF(AND(VY9/VY$6=ROUND(VY9/VY$6,0),NOT(VY9=0)),VY9/VY$6,0)","v":0},{"$f":"IF(AND(VZ9/VZ$6=ROUND(VZ9/VZ$6,0),NOT(VZ9=0)),VZ9/VZ$6,0)","v":0},{"$f":"IF(AND(WA9/WA$6=ROUND(WA9/WA$6,0),NOT(WA9=0)),WA9/WA$6,0)","v":0},{"$f":"IF(AND(WB9/WB$6=ROUND(WB9/WB$6,0),NOT(WB9=0)),WB9/WB$6,0)","v":0},{"$f":"IF(AND(WC9/WC$6=ROUND(WC9/WC$6,0),NOT(WC9=0)),WC9/WC$6,0)","v":0},{"$f":"IF(AND(WD9/WD$6=ROUND(WD9/WD$6,0),NOT(WD9=0)),WD9/WD$6,0)","v":0},{"$f":"IF(AND(WE9/WE$6=ROUND(WE9/WE$6,0),NOT(WE9=0)),WE9/WE$6,0)","v":0},{"$f":"IF(AND(WF9/WF$6=ROUND(WF9/WF$6,0),NOT(WF9=0)),WF9/WF$6,0)","v":0},{"$f":"IF(AND(WG9/WG$6=ROUND(WG9/WG$6,0),NOT(WG9=0)),WG9/WG$6,0)","v":0},{"$f":"IF(AND(WH9/WH$6=ROUND(WH9/WH$6,0),NOT(WH9=0)),WH9/WH$6,0)","v":0},{"$f":"IF(AND(WI9/WI$6=ROUND(WI9/WI$6,0),NOT(WI9=0)),WI9/WI$6,0)","v":0},{"$f":"IF(AND(WJ9/WJ$6=ROUND(WJ9/WJ$6,0),NOT(WJ9=0)),WJ9/WJ$6,0)","v":0},{"$f":"IF(AND(WK9/WK$6=ROUND(WK9/WK$6,0),NOT(WK9=0)),WK9/WK$6,0)","v":0},{"$f":"IF(AND(WL9/WL$6=ROUND(WL9/WL$6,0),NOT(WL9=0)),WL9/WL$6,0)","v":0},{"$f":"IF(AND(WM9/WM$6=ROUND(WM9/WM$6,0),NOT(WM9=0)),WM9/WM$6,0)","v":0},{"$f":"IF(AND(WN9/WN$6=ROUND(WN9/WN$6,0),NOT(WN9=0)),WN9/WN$6,0)","v":0},{"$f":"IF(AND(WO9/WO$6=ROUND(WO9/WO$6,0),NOT(WO9=0)),WO9/WO$6,0)","v":0},{"$f":"IF(AND(WP9/WP$6=ROUND(WP9/WP$6,0),NOT(WP9=0)),WP9/WP$6,0)","v":0},{"$f":"IF(AND(WQ9/WQ$6=ROUND(WQ9/WQ$6,0),NOT(WQ9=0)),WQ9/WQ$6,0)","v":0},{"$f":"IF(AND(WR9/WR$6=ROUND(WR9/WR$6,0),NOT(WR9=0)),WR9/WR$6,0)","v":0},{"$f":"IF(AND(WS9/WS$6=ROUND(WS9/WS$6,0),NOT(WS9=0)),WS9/WS$6,0)","v":0},{"$f":"IF(AND(WT9/WT$6=ROUND(WT9/WT$6,0),NOT(WT9=0)),WT9/WT$6,0)","v":0},{"$f":"IF(AND(WU9/WU$6=ROUND(WU9/WU$6,0),NOT(WU9=0)),WU9/WU$6,0)","v":0},{"$f":"IF(AND(WV9/WV$6=ROUND(WV9/WV$6,0),NOT(WV9=0)),WV9/WV$6,0)","v":0},{"$f":"IF(AND(WW9/WW$6=ROUND(WW9/WW$6,0),NOT(WW9=0)),WW9/WW$6,0)","v":0},{"$f":"IF(AND(WX9/WX$6=ROUND(WX9/WX$6,0),NOT(WX9=0)),WX9/WX$6,0)","v":0},{"$f":"IF(AND(WY9/WY$6=ROUND(WY9/WY$6,0),NOT(WY9=0)),WY9/WY$6,0)","v":0},{"$f":"IF(AND(WZ9/WZ$6=ROUND(WZ9/WZ$6,0),NOT(WZ9=0)),WZ9/WZ$6,0)","v":0},{"$f":"IF(AND(XA9/XA$6=ROUND(XA9/XA$6,0),NOT(XA9=0)),XA9/XA$6,0)","v":0},{"$f":"IF(AND(XB9/XB$6=ROUND(XB9/XB$6,0),NOT(XB9=0)),XB9/XB$6,0)","v":0},{"$f":"IF(AND(XC9/XC$6=ROUND(XC9/XC$6,0),NOT(XC9=0)),XC9/XC$6,0)","v":0},{"$f":"IF(AND(XD9/XD$6=ROUND(XD9/XD$6,0),NOT(XD9=0)),XD9/XD$6,0)","v":0},{"$f":"IF(AND(XE9/XE$6=ROUND(XE9/XE$6,0),NOT(XE9=0)),XE9/XE$6,0)","v":0},{"$f":"IF(AND(XF9/XF$6=ROUND(XF9/XF$6,0),NOT(XF9=0)),XF9/XF$6,0)","v":0},{"$f":"IF(AND(XG9/XG$6=ROUND(XG9/XG$6,0),NOT(XG9=0)),XG9/XG$6,0)","v":0},{"$f":"IF(AND(XH9/XH$6=ROUND(XH9/XH$6,0),NOT(XH9=0)),XH9/XH$6,0)","v":0},{"$f":"IF(AND(XI9/XI$6=ROUND(XI9/XI$6,0),NOT(XI9=0)),XI9/XI$6,0)","v":0},{"$f":"IF(AND(XJ9/XJ$6=ROUND(XJ9/XJ$6,0),NOT(XJ9=0)),XJ9/XJ$6,0)","v":0},{"$f":"IF(AND(XK9/XK$6=ROUND(XK9/XK$6,0),NOT(XK9=0)),XK9/XK$6,0)","v":0},{"$f":"IF(AND(XL9/XL$6=ROUND(XL9/XL$6,0),NOT(XL9=0)),XL9/XL$6,0)","v":0},{"$f":"IF(AND(XM9/XM$6=ROUND(XM9/XM$6,0),NOT(XM9=0)),XM9/XM$6,0)","v":0},{"$f":"IF(AND(XN9/XN$6=ROUND(XN9/XN$6,0),NOT(XN9=0)),XN9/XN$6,0)","v":0},{"$f":"IF(AND(XO9/XO$6=ROUND(XO9/XO$6,0),NOT(XO9=0)),XO9/XO$6,0)","v":0},{"$f":"IF(AND(XP9/XP$6=ROUND(XP9/XP$6,0),NOT(XP9=0)),XP9/XP$6,0)","v":0},{"$f":"IF(AND(XQ9/XQ$6=ROUND(XQ9/XQ$6,0),NOT(XQ9=0)),XQ9/XQ$6,0)","v":0},{"$f":"IF(AND(XR9/XR$6=ROUND(XR9/XR$6,0),NOT(XR9=0)),XR9/XR$6,0)","v":0},{"$f":"IF(AND(XS9/XS$6=ROUND(XS9/XS$6,0),NOT(XS9=0)),XS9/XS$6,0)","v":0},{"$f":"IF(AND(XT9/XT$6=ROUND(XT9/XT$6,0),NOT(XT9=0)),XT9/XT$6,0)","v":0},{"$f":"IF(AND(XU9/XU$6=ROUND(XU9/XU$6,0),NOT(XU9=0)),XU9/XU$6,0)","v":0},{"$f":"IF(AND(XV9/XV$6=ROUND(XV9/XV$6,0),NOT(XV9=0)),XV9/XV$6,0)","v":0},{"$f":"IF(AND(XW9/XW$6=ROUND(XW9/XW$6,0),NOT(XW9=0)),XW9/XW$6,0)","v":0},{"$f":"IF(AND(XX9/XX$6=ROUND(XX9/XX$6,0),NOT(XX9=0)),XX9/XX$6,0)","v":0},{"$f":"IF(AND(XY9/XY$6=ROUND(XY9/XY$6,0),NOT(XY9=0)),XY9/XY$6,0)","v":0},{"$f":"IF(AND(XZ9/XZ$6=ROUND(XZ9/XZ$6,0),NOT(XZ9=0)),XZ9/XZ$6,0)","v":0},{"$f":"IF(AND(YA9/YA$6=ROUND(YA9/YA$6,0),NOT(YA9=0)),YA9/YA$6,0)","v":0},{"$f":"IF(AND(YB9/YB$6=ROUND(YB9/YB$6,0),NOT(YB9=0)),YB9/YB$6,0)","v":0},{"$f":"IF(AND(YC9/YC$6=ROUND(YC9/YC$6,0),NOT(YC9=0)),YC9/YC$6,0)","v":0},{"$f":"IF(AND(YD9/YD$6=ROUND(YD9/YD$6,0),NOT(YD9=0)),YD9/YD$6,0)","v":0},{"$f":"IF(AND(YE9/YE$6=ROUND(YE9/YE$6,0),NOT(YE9=0)),YE9/YE$6,0)","v":0},{"$f":"IF(AND(YF9/YF$6=ROUND(YF9/YF$6,0),NOT(YF9=0)),YF9/YF$6,0)","v":0},{"$f":"IF(AND(YG9/YG$6=ROUND(YG9/YG$6,0),NOT(YG9=0)),YG9/YG$6,0)","v":0},{"$f":"IF(AND(YH9/YH$6=ROUND(YH9/YH$6,0),NOT(YH9=0)),YH9/YH$6,0)","v":0},{"$f":"IF(AND(YI9/YI$6=ROUND(YI9/YI$6,0),NOT(YI9=0)),YI9/YI$6,0)","v":0},{"$f":"IF(AND(YJ9/YJ$6=ROUND(YJ9/YJ$6,0),NOT(YJ9=0)),YJ9/YJ$6,0)","v":0},{"$f":"IF(AND(YK9/YK$6=ROUND(YK9/YK$6,0),NOT(YK9=0)),YK9/YK$6,0)","v":0},{"$f":"IF(AND(YL9/YL$6=ROUND(YL9/YL$6,0),NOT(YL9=0)),YL9/YL$6,0)","v":0},{"$f":"IF(AND(YM9/YM$6=ROUND(YM9/YM$6,0),NOT(YM9=0)),YM9/YM$6,0)","v":0},{"$f":"IF(AND(YN9/YN$6=ROUND(YN9/YN$6,0),NOT(YN9=0)),YN9/YN$6,0)","v":0},{"$f":"IF(AND(YO9/YO$6=ROUND(YO9/YO$6,0),NOT(YO9=0)),YO9/YO$6,0)","v":0},{"$f":"IF(AND(YP9/YP$6=ROUND(YP9/YP$6,0),NOT(YP9=0)),YP9/YP$6,0)","v":0},{"$f":"IF(AND(YQ9/YQ$6=ROUND(YQ9/YQ$6,0),NOT(YQ9=0)),YQ9/YQ$6,0)","v":0},{"$f":"IF(AND(YR9/YR$6=ROUND(YR9/YR$6,0),NOT(YR9=0)),YR9/YR$6,0)","v":0},{"$f":"IF(AND(YS9/YS$6=ROUND(YS9/YS$6,0),NOT(YS9=0)),YS9/YS$6,0)","v":0},{"$f":"IF(AND(YT9/YT$6=ROUND(YT9/YT$6,0),NOT(YT9=0)),YT9/YT$6,0)","v":0},{"$f":"IF(AND(YU9/YU$6=ROUND(YU9/YU$6,0),NOT(YU9=0)),YU9/YU$6,0)","v":0},{"$f":"IF(AND(YV9/YV$6=ROUND(YV9/YV$6,0),NOT(YV9=0)),YV9/YV$6,0)","v":0},{"$f":"IF(AND(YW9/YW$6=ROUND(YW9/YW$6,0),NOT(YW9=0)),YW9/YW$6,0)","v":0},{"$f":"IF(AND(YX9/YX$6=ROUND(YX9/YX$6,0),NOT(YX9=0)),YX9/YX$6,0)","v":0},{"$f":"IF(AND(YY9/YY$6=ROUND(YY9/YY$6,0),NOT(YY9=0)),YY9/YY$6,0)","v":0},{"$f":"IF(AND(YZ9/YZ$6=ROUND(YZ9/YZ$6,0),NOT(YZ9=0)),YZ9/YZ$6,0)","v":0},{"$f":"IF(AND(ZA9/ZA$6=ROUND(ZA9/ZA$6,0),NOT(ZA9=0)),ZA9/ZA$6,0)","v":0},{"$f":"IF(AND(ZB9/ZB$6=ROUND(ZB9/ZB$6,0),NOT(ZB9=0)),ZB9/ZB$6,0)","v":0},{"$f":"IF(AND(ZC9/ZC$6=ROUND(ZC9/ZC$6,0),NOT(ZC9=0)),ZC9/ZC$6,0)","v":0},{"$f":"IF(AND(ZD9/ZD$6=ROUND(ZD9/ZD$6,0),NOT(ZD9=0)),ZD9/ZD$6,0)","v":0},{"$f":"IF(AND(ZE9/ZE$6=ROUND(ZE9/ZE$6,0),NOT(ZE9=0)),ZE9/ZE$6,0)","v":0},{"$f":"IF(AND(ZF9/ZF$6=ROUND(ZF9/ZF$6,0),NOT(ZF9=0)),ZF9/ZF$6,0)","v":0},{"$f":"IF(AND(ZG9/ZG$6=ROUND(ZG9/ZG$6,0),NOT(ZG9=0)),ZG9/ZG$6,0)","v":0},{"$f":"IF(AND(ZH9/ZH$6=ROUND(ZH9/ZH$6,0),NOT(ZH9=0)),ZH9/ZH$6,0)","v":0},{"$f":"IF(AND(ZI9/ZI$6=ROUND(ZI9/ZI$6,0),NOT(ZI9=0)),ZI9/ZI$6,0)","v":0},{"$f":"IF(AND(ZJ9/ZJ$6=ROUND(ZJ9/ZJ$6,0),NOT(ZJ9=0)),ZJ9/ZJ$6,0)","v":0},{"$f":"IF(AND(ZK9/ZK$6=ROUND(ZK9/ZK$6,0),NOT(ZK9=0)),ZK9/ZK$6,0)","v":0},{"$f":"IF(AND(ZL9/ZL$6=ROUND(ZL9/ZL$6,0),NOT(ZL9=0)),ZL9/ZL$6,0)","v":0},{"$f":"IF(AND(ZM9/ZM$6=ROUND(ZM9/ZM$6,0),NOT(ZM9=0)),ZM9/ZM$6,0)","v":0},{"$f":"IF(AND(ZN9/ZN$6=ROUND(ZN9/ZN$6,0),NOT(ZN9=0)),ZN9/ZN$6,0)","v":0},{"$f":"IF(AND(ZO9/ZO$6=ROUND(ZO9/ZO$6,0),NOT(ZO9=0)),ZO9/ZO$6,0)","v":0},{"$f":"IF(AND(ZP9/ZP$6=ROUND(ZP9/ZP$6,0),NOT(ZP9=0)),ZP9/ZP$6,0)","v":0},{"$f":"IF(AND(ZQ9/ZQ$6=ROUND(ZQ9/ZQ$6,0),NOT(ZQ9=0)),ZQ9/ZQ$6,0)","v":0},{"$f":"IF(AND(ZR9/ZR$6=ROUND(ZR9/ZR$6,0),NOT(ZR9=0)),ZR9/ZR$6,0)","v":0},{"$f":"IF(AND(ZS9/ZS$6=ROUND(ZS9/ZS$6,0),NOT(ZS9=0)),ZS9/ZS$6,0)","v":0},{"$f":"IF(AND(ZT9/ZT$6=ROUND(ZT9/ZT$6,0),NOT(ZT9=0)),ZT9/ZT$6,0)","v":0},{"$f":"IF(AND(ZU9/ZU$6=ROUND(ZU9/ZU$6,0),NOT(ZU9=0)),ZU9/ZU$6,0)","v":0},{"$f":"IF(AND(ZV9/ZV$6=ROUND(ZV9/ZV$6,0),NOT(ZV9=0)),ZV9/ZV$6,0)","v":0},{"$f":"IF(AND(ZW9/ZW$6=ROUND(ZW9/ZW$6,0),NOT(ZW9=0)),ZW9/ZW$6,0)","v":0},{"$f":"IF(AND(ZX9/ZX$6=ROUND(ZX9/ZX$6,0),NOT(ZX9=0)),ZX9/ZX$6,0)","v":0},{"$f":"IF(AND(ZY9/ZY$6=ROUND(ZY9/ZY$6,0),NOT(ZY9=0)),ZY9/ZY$6,0)","v":0},{"$f":"IF(AND(ZZ9/ZZ$6=ROUND(ZZ9/ZZ$6,0),NOT(ZZ9=0)),ZZ9/ZZ$6,0)","v":0},{"$f":"IF(AND(AAA9/AAA$6=ROUND(AAA9/AAA$6,0),NOT(AAA9=0)),AAA9/AAA$6,0)","v":0},{"$f":"IF(AND(AAB9/AAB$6=ROUND(AAB9/AAB$6,0),NOT(AAB9=0)),AAB9/AAB$6,0)","v":0},{"$f":"IF(AND(AAC9/AAC$6=ROUND(AAC9/AAC$6,0),NOT(AAC9=0)),AAC9/AAC$6,0)","v":0},{"$f":"IF(AND(AAD9/AAD$6=ROUND(AAD9/AAD$6,0),NOT(AAD9=0)),AAD9/AAD$6,0)","v":0},{"$f":"IF(AND(AAE9/AAE$6=ROUND(AAE9/AAE$6,0),NOT(AAE9=0)),AAE9/AAE$6,0)","v":0},{"$f":"IF(AND(AAF9/AAF$6=ROUND(AAF9/AAF$6,0),NOT(AAF9=0)),AAF9/AAF$6,0)","v":0},{"$f":"IF(AND(AAG9/AAG$6=ROUND(AAG9/AAG$6,0),NOT(AAG9=0)),AAG9/AAG$6,0)","v":0},{"$f":"IF(AND(AAH9/AAH$6=ROUND(AAH9/AAH$6,0),NOT(AAH9=0)),AAH9/AAH$6,0)","v":0},{"$f":"IF(AND(AAI9/AAI$6=ROUND(AAI9/AAI$6,0),NOT(AAI9=0)),AAI9/AAI$6,0)","v":0},{"$f":"IF(AND(AAJ9/AAJ$6=ROUND(AAJ9/AAJ$6,0),NOT(AAJ9=0)),AAJ9/AAJ$6,0)","v":0},{"$f":"IF(AND(AAK9/AAK$6=ROUND(AAK9/AAK$6,0),NOT(AAK9=0)),AAK9/AAK$6,0)","v":0},{"$f":"IF(AND(AAL9/AAL$6=ROUND(AAL9/AAL$6,0),NOT(AAL9=0)),AAL9/AAL$6,0)","v":0},{"$f":"IF(AND(AAM9/AAM$6=ROUND(AAM9/AAM$6,0),NOT(AAM9=0)),AAM9/AAM$6,0)","v":0},{"$f":"IF(AND(AAN9/AAN$6=ROUND(AAN9/AAN$6,0),NOT(AAN9=0)),AAN9/AAN$6,0)","v":0},{"$f":"IF(AND(AAO9/AAO$6=ROUND(AAO9/AAO$6,0),NOT(AAO9=0)),AAO9/AAO$6,0)","v":0},{"$f":"IF(AND(AAP9/AAP$6=ROUND(AAP9/AAP$6,0),NOT(AAP9=0)),AAP9/AAP$6,0)","v":0},{"$f":"IF(AND(AAQ9/AAQ$6=ROUND(AAQ9/AAQ$6,0),NOT(AAQ9=0)),AAQ9/AAQ$6,0)","v":0},{"$f":"IF(AND(AAR9/AAR$6=ROUND(AAR9/AAR$6,0),NOT(AAR9=0)),AAR9/AAR$6,0)","v":0},{"$f":"IF(AND(AAS9/AAS$6=ROUND(AAS9/AAS$6,0),NOT(AAS9=0)),AAS9/AAS$6,0)","v":0},{"$f":"IF(AND(AAT9/AAT$6=ROUND(AAT9/AAT$6,0),NOT(AAT9=0)),AAT9/AAT$6,0)","v":0},{"$f":"IF(AND(AAU9/AAU$6=ROUND(AAU9/AAU$6,0),NOT(AAU9=0)),AAU9/AAU$6,0)","v":0},{"$f":"IF(AND(AAV9/AAV$6=ROUND(AAV9/AAV$6,0),NOT(AAV9=0)),AAV9/AAV$6,0)","v":0},{"$f":"IF(AND(AAW9/AAW$6=ROUND(AAW9/AAW$6,0),NOT(AAW9=0)),AAW9/AAW$6,0)","v":0},{"$f":"IF(AND(AAX9/AAX$6=ROUND(AAX9/AAX$6,0),NOT(AAX9=0)),AAX9/AAX$6,0)","v":0},{"$f":"IF(AND(AAY9/AAY$6=ROUND(AAY9/AAY$6,0),NOT(AAY9=0)),AAY9/AAY$6,0)","v":0},{"$f":"IF(AND(AAZ9/AAZ$6=ROUND(AAZ9/AAZ$6,0),NOT(AAZ9=0)),AAZ9/AAZ$6,0)","v":0},{"$f":"IF(AND(ABA9/ABA$6=ROUND(ABA9/ABA$6,0),NOT(ABA9=0)),ABA9/ABA$6,0)","v":0},{"$f":"IF(AND(ABB9/ABB$6=ROUND(ABB9/ABB$6,0),NOT(ABB9=0)),ABB9/ABB$6,0)","v":0},{"$f":"IF(AND(ABC9/ABC$6=ROUND(ABC9/ABC$6,0),NOT(ABC9=0)),ABC9/ABC$6,0)","v":0},{"$f":"IF(AND(ABD9/ABD$6=ROUND(ABD9/ABD$6,0),NOT(ABD9=0)),ABD9/ABD$6,0)","v":0},{"$f":"IF(AND(ABE9/ABE$6=ROUND(ABE9/ABE$6,0),NOT(ABE9=0)),ABE9/ABE$6,0)","v":0},{"$f":"IF(AND(ABF9/ABF$6=ROUND(ABF9/ABF$6,0),NOT(ABF9=0)),ABF9/ABF$6,0)","v":0},{"$f":"IF(AND(ABG9/ABG$6=ROUND(ABG9/ABG$6,0),NOT(ABG9=0)),ABG9/ABG$6,0)","v":0},{"$f":"IF(AND(ABH9/ABH$6=ROUND(ABH9/ABH$6,0),NOT(ABH9=0)),ABH9/ABH$6,0)","v":0},{"$f":"IF(AND(ABI9/ABI$6=ROUND(ABI9/ABI$6,0),NOT(ABI9=0)),ABI9/ABI$6,0)","v":0},{"$f":"IF(AND(ABJ9/ABJ$6=ROUND(ABJ9/ABJ$6,0),NOT(ABJ9=0)),ABJ9/ABJ$6,0)","v":0},{"$f":"IF(AND(ABK9/ABK$6=ROUND(ABK9/ABK$6,0),NOT(ABK9=0)),ABK9/ABK$6,0)","v":0},{"$f":"IF(AND(ABL9/ABL$6=ROUND(ABL9/ABL$6,0),NOT(ABL9=0)),ABL9/ABL$6,0)","v":0},{"$f":"IF(AND(ABM9/ABM$6=ROUND(ABM9/ABM$6,0),NOT(ABM9=0)),ABM9/ABM$6,0)","v":0},{"$f":"IF(AND(ABN9/ABN$6=ROUND(ABN9/ABN$6,0),NOT(ABN9=0)),ABN9/ABN$6,0)","v":0},{"$f":"IF(AND(ABO9/ABO$6=ROUND(ABO9/ABO$6,0),NOT(ABO9=0)),ABO9/ABO$6,0)","v":0},{"$f":"IF(AND(ABP9/ABP$6=ROUND(ABP9/ABP$6,0),NOT(ABP9=0)),ABP9/ABP$6,0)","v":0},{"$f":"IF(AND(ABQ9/ABQ$6=ROUND(ABQ9/ABQ$6,0),NOT(ABQ9=0)),ABQ9/ABQ$6,0)","v":0},{"$f":"IF(AND(ABR9/ABR$6=ROUND(ABR9/ABR$6,0),NOT(ABR9=0)),ABR9/ABR$6,0)","v":0},{"$f":"IF(AND(ABS9/ABS$6=ROUND(ABS9/ABS$6,0),NOT(ABS9=0)),ABS9/ABS$6,0)","v":0},{"$f":"IF(AND(ABT9/ABT$6=ROUND(ABT9/ABT$6,0),NOT(ABT9=0)),ABT9/ABT$6,0)","v":0},{"$f":"IF(AND(ABU9/ABU$6=ROUND(ABU9/ABU$6,0),NOT(ABU9=0)),ABU9/ABU$6,0)","v":0},{"$f":"IF(AND(ABV9/ABV$6=ROUND(ABV9/ABV$6,0),NOT(ABV9=0)),ABV9/ABV$6,0)","v":0},{"$f":"IF(AND(ABW9/ABW$6=ROUND(ABW9/ABW$6,0),NOT(ABW9=0)),ABW9/ABW$6,0)","v":0},{"$f":"IF(AND(ABX9/ABX$6=ROUND(ABX9/ABX$6,0),NOT(ABX9=0)),ABX9/ABX$6,0)","v":0},{"$f":"IF(AND(ABY9/ABY$6=ROUND(ABY9/ABY$6,0),NOT(ABY9=0)),ABY9/ABY$6,0)","v":0},{"$f":"IF(AND(ABZ9/ABZ$6=ROUND(ABZ9/ABZ$6,0),NOT(ABZ9=0)),ABZ9/ABZ$6,0)","v":0},{"$f":"IF(AND(ACA9/ACA$6=ROUND(ACA9/ACA$6,0),NOT(ACA9=0)),ACA9/ACA$6,0)","v":0},{"$f":"IF(AND(ACB9/ACB$6=ROUND(ACB9/ACB$6,0),NOT(ACB9=0)),ACB9/ACB$6,0)","v":0},{"$f":"IF(AND(ACC9/ACC$6=ROUND(ACC9/ACC$6,0),NOT(ACC9=0)),ACC9/ACC$6,0)","v":0},{"$f":"IF(AND(ACD9/ACD$6=ROUND(ACD9/ACD$6,0),NOT(ACD9=0)),ACD9/ACD$6,0)","v":0},{"$f":"IF(AND(ACE9/ACE$6=ROUND(ACE9/ACE$6,0),NOT(ACE9=0)),ACE9/ACE$6,0)","v":0},{"$f":"IF(AND(ACF9/ACF$6=ROUND(ACF9/ACF$6,0),NOT(ACF9=0)),ACF9/ACF$6,0)","v":0},{"$f":"IF(AND(ACG9/ACG$6=ROUND(ACG9/ACG$6,0),NOT(ACG9=0)),ACG9/ACG$6,0)","v":0},{"$f":"IF(AND(ACH9/ACH$6=ROUND(ACH9/ACH$6,0),NOT(ACH9=0)),ACH9/ACH$6,0)","v":0},{"$f":"IF(AND(ACI9/ACI$6=ROUND(ACI9/ACI$6,0),NOT(ACI9=0)),ACI9/ACI$6,0)","v":0},{"$f":"IF(AND(ACJ9/ACJ$6=ROUND(ACJ9/ACJ$6,0),NOT(ACJ9=0)),ACJ9/ACJ$6,0)","v":0},{"$f":"IF(AND(ACK9/ACK$6=ROUND(ACK9/ACK$6,0),NOT(ACK9=0)),ACK9/ACK$6,0)","v":0},{"$f":"IF(AND(ACL9/ACL$6=ROUND(ACL9/ACL$6,0),NOT(ACL9=0)),ACL9/ACL$6,0)","v":0},{"$f":"IF(AND(ACM9/ACM$6=ROUND(ACM9/ACM$6,0),NOT(ACM9=0)),ACM9/ACM$6,0)","v":0},{"$f":"IF(AND(ACN9/ACN$6=ROUND(ACN9/ACN$6,0),NOT(ACN9=0)),ACN9/ACN$6,0)","v":0},{"$f":"IF(AND(ACO9/ACO$6=ROUND(ACO9/ACO$6,0),NOT(ACO9=0)),ACO9/ACO$6,0)","v":0},{"$f":"IF(AND(ACP9/ACP$6=ROUND(ACP9/ACP$6,0),NOT(ACP9=0)),ACP9/ACP$6,0)","v":0},{"$f":"IF(AND(ACQ9/ACQ$6=ROUND(ACQ9/ACQ$6,0),NOT(ACQ9=0)),ACQ9/ACQ$6,0)","v":0},{"$f":"IF(AND(ACR9/ACR$6=ROUND(ACR9/ACR$6,0),NOT(ACR9=0)),ACR9/ACR$6,0)","v":0},{"$f":"IF(AND(ACS9/ACS$6=ROUND(ACS9/ACS$6,0),NOT(ACS9=0)),ACS9/ACS$6,0)","v":0},{"$f":"IF(AND(ACT9/ACT$6=ROUND(ACT9/ACT$6,0),NOT(ACT9=0)),ACT9/ACT$6,0)","v":0},{"$f":"IF(AND(ACU9/ACU$6=ROUND(ACU9/ACU$6,0),NOT(ACU9=0)),ACU9/ACU$6,0)","v":0},{"$f":"IF(AND(ACV9/ACV$6=ROUND(ACV9/ACV$6,0),NOT(ACV9=0)),ACV9/ACV$6,0)","v":0},{"$f":"IF(AND(ACW9/ACW$6=ROUND(ACW9/ACW$6,0),NOT(ACW9=0)),ACW9/ACW$6,0)","v":0},{"$f":"IF(AND(ACX9/ACX$6=ROUND(ACX9/ACX$6,0),NOT(ACX9=0)),ACX9/ACX$6,0)","v":0},{"$f":"IF(AND(ACY9/ACY$6=ROUND(ACY9/ACY$6,0),NOT(ACY9=0)),ACY9/ACY$6,0)","v":0},{"$f":"IF(AND(ACZ9/ACZ$6=ROUND(ACZ9/ACZ$6,0),NOT(ACZ9=0)),ACZ9/ACZ$6,0)","v":0},{"$f":"IF(AND(ADA9/ADA$6=ROUND(ADA9/ADA$6,0),NOT(ADA9=0)),ADA9/ADA$6,0)","v":0},{"$f":"IF(AND(ADB9/ADB$6=ROUND(ADB9/ADB$6,0),NOT(ADB9=0)),ADB9/ADB$6,0)","v":0},{"$f":"IF(AND(ADC9/ADC$6=ROUND(ADC9/ADC$6,0),NOT(ADC9=0)),ADC9/ADC$6,0)","v":0},{"$f":"IF(AND(ADD9/ADD$6=ROUND(ADD9/ADD$6,0),NOT(ADD9=0)),ADD9/ADD$6,0)","v":0},{"$f":"IF(AND(ADE9/ADE$6=ROUND(ADE9/ADE$6,0),NOT(ADE9=0)),ADE9/ADE$6,0)","v":0},{"$f":"IF(AND(ADF9/ADF$6=ROUND(ADF9/ADF$6,0),NOT(ADF9=0)),ADF9/ADF$6,0)","v":0},{"$f":"IF(AND(ADG9/ADG$6=ROUND(ADG9/ADG$6,0),NOT(ADG9=0)),ADG9/ADG$6,0)","v":0},{"$f":"IF(AND(ADH9/ADH$6=ROUND(ADH9/ADH$6,0),NOT(ADH9=0)),ADH9/ADH$6,0)","v":0},{"$f":"IF(AND(ADI9/ADI$6=ROUND(ADI9/ADI$6,0),NOT(ADI9=0)),ADI9/ADI$6,0)","v":0},{"$f":"IF(AND(ADJ9/ADJ$6=ROUND(ADJ9/ADJ$6,0),NOT(ADJ9=0)),ADJ9/ADJ$6,0)","v":0},{"$f":"IF(AND(ADK9/ADK$6=ROUND(ADK9/ADK$6,0),NOT(ADK9=0)),ADK9/ADK$6,0)","v":0},{"$f":"IF(AND(ADL9/ADL$6=ROUND(ADL9/ADL$6,0),NOT(ADL9=0)),ADL9/ADL$6,0)","v":0},{"$f":"IF(AND(ADM9/ADM$6=ROUND(ADM9/ADM$6,0),NOT(ADM9=0)),ADM9/ADM$6,0)","v":0},{"$f":"IF(AND(ADN9/ADN$6=ROUND(ADN9/ADN$6,0),NOT(ADN9=0)),ADN9/ADN$6,0)","v":0},{"$f":"IF(AND(ADO9/ADO$6=ROUND(ADO9/ADO$6,0),NOT(ADO9=0)),ADO9/ADO$6,0)","v":0},{"$f":"IF(AND(ADP9/ADP$6=ROUND(ADP9/ADP$6,0),NOT(ADP9=0)),ADP9/ADP$6,0)","v":0},{"$f":"IF(AND(ADQ9/ADQ$6=ROUND(ADQ9/ADQ$6,0),NOT(ADQ9=0)),ADQ9/ADQ$6,0)","v":0},{"$f":"IF(AND(ADR9/ADR$6=ROUND(ADR9/ADR$6,0),NOT(ADR9=0)),ADR9/ADR$6,0)","v":0},{"$f":"IF(AND(ADS9/ADS$6=ROUND(ADS9/ADS$6,0),NOT(ADS9=0)),ADS9/ADS$6,0)","v":0},{"$f":"IF(AND(ADT9/ADT$6=ROUND(ADT9/ADT$6,0),NOT(ADT9=0)),ADT9/ADT$6,0)","v":0},{"$f":"IF(AND(ADU9/ADU$6=ROUND(ADU9/ADU$6,0),NOT(ADU9=0)),ADU9/ADU$6,0)","v":0},{"$f":"IF(AND(ADV9/ADV$6=ROUND(ADV9/ADV$6,0),NOT(ADV9=0)),ADV9/ADV$6,0)","v":0},{"$f":"IF(AND(ADW9/ADW$6=ROUND(ADW9/ADW$6,0),NOT(ADW9=0)),ADW9/ADW$6,0)","v":0},{"$f":"IF(AND(ADX9/ADX$6=ROUND(ADX9/ADX$6,0),NOT(ADX9=0)),ADX9/ADX$6,0)","v":0},{"$f":"IF(AND(ADY9/ADY$6=ROUND(ADY9/ADY$6,0),NOT(ADY9=0)),ADY9/ADY$6,0)","v":0},{"$f":"IF(AND(ADZ9/ADZ$6=ROUND(ADZ9/ADZ$6,0),NOT(ADZ9=0)),ADZ9/ADZ$6,0)","v":0},{"$f":"IF(AND(AEA9/AEA$6=ROUND(AEA9/AEA$6,0),NOT(AEA9=0)),AEA9/AEA$6,0)","v":0},{"$f":"IF(AND(AEB9/AEB$6=ROUND(AEB9/AEB$6,0),NOT(AEB9=0)),AEB9/AEB$6,0)","v":0},{"$f":"IF(AND(AEC9/AEC$6=ROUND(AEC9/AEC$6,0),NOT(AEC9=0)),AEC9/AEC$6,0)","v":0},{"$f":"IF(AND(AED9/AED$6=ROUND(AED9/AED$6,0),NOT(AED9=0)),AED9/AED$6,0)","v":0},{"$f":"IF(AND(AEE9/AEE$6=ROUND(AEE9/AEE$6,0),NOT(AEE9=0)),AEE9/AEE$6,0)","v":0},{"$f":"IF(AND(AEF9/AEF$6=ROUND(AEF9/AEF$6,0),NOT(AEF9=0)),AEF9/AEF$6,0)","v":0},{"$f":"IF(AND(AEG9/AEG$6=ROUND(AEG9/AEG$6,0),NOT(AEG9=0)),AEG9/AEG$6,0)","v":0},{"$f":"IF(AND(AEH9/AEH$6=ROUND(AEH9/AEH$6,0),NOT(AEH9=0)),AEH9/AEH$6,0)","v":0},{"$f":"IF(AND(AEI9/AEI$6=ROUND(AEI9/AEI$6,0),NOT(AEI9=0)),AEI9/AEI$6,0)","v":0},{"$f":"IF(AND(AEJ9/AEJ$6=ROUND(AEJ9/AEJ$6,0),NOT(AEJ9=0)),AEJ9/AEJ$6,0)","v":0},{"$f":"IF(AND(AEK9/AEK$6=ROUND(AEK9/AEK$6,0),NOT(AEK9=0)),AEK9/AEK$6,0)","v":0},{"$f":"IF(AND(AEL9/AEL$6=ROUND(AEL9/AEL$6,0),NOT(AEL9=0)),AEL9/AEL$6,0)","v":0},{"$f":"IF(AND(AEM9/AEM$6=ROUND(AEM9/AEM$6,0),NOT(AEM9=0)),AEM9/AEM$6,0)","v":0},{"$f":"IF(AND(AEN9/AEN$6=ROUND(AEN9/AEN$6,0),NOT(AEN9=0)),AEN9/AEN$6,0)","v":0},{"$f":"IF(AND(AEO9/AEO$6=ROUND(AEO9/AEO$6,0),NOT(AEO9=0)),AEO9/AEO$6,0)","v":0},{"$f":"IF(AND(AEP9/AEP$6=ROUND(AEP9/AEP$6,0),NOT(AEP9=0)),AEP9/AEP$6,0)","v":0},{"$f":"IF(AND(AEQ9/AEQ$6=ROUND(AEQ9/AEQ$6,0),NOT(AEQ9=0)),AEQ9/AEQ$6,0)","v":0},{"$f":"IF(AND(AER9/AER$6=ROUND(AER9/AER$6,0),NOT(AER9=0)),AER9/AER$6,0)","v":0},{"$f":"IF(AND(AES9/AES$6=ROUND(AES9/AES$6,0),NOT(AES9=0)),AES9/AES$6,0)","v":0},{"$f":"IF(AND(AET9/AET$6=ROUND(AET9/AET$6,0),NOT(AET9=0)),AET9/AET$6,0)","v":0},{"$f":"IF(AND(AEU9/AEU$6=ROUND(AEU9/AEU$6,0),NOT(AEU9=0)),AEU9/AEU$6,0)","v":0},{"$f":"IF(AND(AEV9/AEV$6=ROUND(AEV9/AEV$6,0),NOT(AEV9=0)),AEV9/AEV$6,0)","v":0},{"$f":"IF(AND(AEW9/AEW$6=ROUND(AEW9/AEW$6,0),NOT(AEW9=0)),AEW9/AEW$6,0)","v":0},{"$f":"IF(AND(AEX9/AEX$6=ROUND(AEX9/AEX$6,0),NOT(AEX9=0)),AEX9/AEX$6,0)","v":0},{"$f":"IF(AND(AEY9/AEY$6=ROUND(AEY9/AEY$6,0),NOT(AEY9=0)),AEY9/AEY$6,0)","v":0},{"$f":"IF(AND(AEZ9/AEZ$6=ROUND(AEZ9/AEZ$6,0),NOT(AEZ9=0)),AEZ9/AEZ$6,0)","v":0},{"$f":"IF(AND(AFA9/AFA$6=ROUND(AFA9/AFA$6,0),NOT(AFA9=0)),AFA9/AFA$6,0)","v":0},{"$f":"IF(AND(AFB9/AFB$6=ROUND(AFB9/AFB$6,0),NOT(AFB9=0)),AFB9/AFB$6,0)","v":0},{"$f":"IF(AND(AFC9/AFC$6=ROUND(AFC9/AFC$6,0),NOT(AFC9=0)),AFC9/AFC$6,0)","v":0},{"$f":"IF(AND(AFD9/AFD$6=ROUND(AFD9/AFD$6,0),NOT(AFD9=0)),AFD9/AFD$6,0)","v":0},{"$f":"IF(AND(AFE9/AFE$6=ROUND(AFE9/AFE$6,0),NOT(AFE9=0)),AFE9/AFE$6,0)","v":0},{"$f":"IF(AND(AFF9/AFF$6=ROUND(AFF9/AFF$6,0),NOT(AFF9=0)),AFF9/AFF$6,0)","v":0},{"$f":"IF(AND(AFG9/AFG$6=ROUND(AFG9/AFG$6,0),NOT(AFG9=0)),AFG9/AFG$6,0)","v":0},{"$f":"IF(AND(AFH9/AFH$6=ROUND(AFH9/AFH$6,0),NOT(AFH9=0)),AFH9/AFH$6,0)","v":0},{"$f":"IF(AND(AFI9/AFI$6=ROUND(AFI9/AFI$6,0),NOT(AFI9=0)),AFI9/AFI$6,0)","v":0},{"$f":"IF(AND(AFJ9/AFJ$6=ROUND(AFJ9/AFJ$6,0),NOT(AFJ9=0)),AFJ9/AFJ$6,0)","v":0},{"$f":"IF(AND(AFK9/AFK$6=ROUND(AFK9/AFK$6,0),NOT(AFK9=0)),AFK9/AFK$6,0)","v":0},{"$f":"IF(AND(AFL9/AFL$6=ROUND(AFL9/AFL$6,0),NOT(AFL9=0)),AFL9/AFL$6,0)","v":0},{"$f":"IF(AND(AFM9/AFM$6=ROUND(AFM9/AFM$6,0),NOT(AFM9=0)),AFM9/AFM$6,0)","v":0},{"$f":"IF(AND(AFN9/AFN$6=ROUND(AFN9/AFN$6,0),NOT(AFN9=0)),AFN9/AFN$6,0)","v":0},{"$f":"IF(AND(AFO9/AFO$6=ROUND(AFO9/AFO$6,0),NOT(AFO9=0)),AFO9/AFO$6,0)","v":0},{"$f":"IF(AND(AFP9/AFP$6=ROUND(AFP9/AFP$6,0),NOT(AFP9=0)),AFP9/AFP$6,0)","v":0},{"$f":"IF(AND(AFQ9/AFQ$6=ROUND(AFQ9/AFQ$6,0),NOT(AFQ9=0)),AFQ9/AFQ$6,0)","v":0},{"$f":"IF(AND(AFR9/AFR$6=ROUND(AFR9/AFR$6,0),NOT(AFR9=0)),AFR9/AFR$6,0)","v":0},{"$f":"IF(AND(AFS9/AFS$6=ROUND(AFS9/AFS$6,0),NOT(AFS9=0)),AFS9/AFS$6,0)","v":0},{"$f":"IF(AND(AFT9/AFT$6=ROUND(AFT9/AFT$6,0),NOT(AFT9=0)),AFT9/AFT$6,0)","v":0},{"$f":"IF(AND(AFU9/AFU$6=ROUND(AFU9/AFU$6,0),NOT(AFU9=0)),AFU9/AFU$6,0)","v":0},{"$f":"IF(AND(AFV9/AFV$6=ROUND(AFV9/AFV$6,0),NOT(AFV9=0)),AFV9/AFV$6,0)","v":0},{"$f":"IF(AND(AFW9/AFW$6=ROUND(AFW9/AFW$6,0),NOT(AFW9=0)),AFW9/AFW$6,0)","v":0},{"$f":"IF(AND(AFX9/AFX$6=ROUND(AFX9/AFX$6,0),NOT(AFX9=0)),AFX9/AFX$6,0)","v":0},{"$f":"IF(AND(AFY9/AFY$6=ROUND(AFY9/AFY$6,0),NOT(AFY9=0)),AFY9/AFY$6,0)","v":0},{"$f":"IF(AND(AFZ9/AFZ$6=ROUND(AFZ9/AFZ$6,0),NOT(AFZ9=0)),AFZ9/AFZ$6,0)","v":0},{"$f":"IF(AND(AGA9/AGA$6=ROUND(AGA9/AGA$6,0),NOT(AGA9=0)),AGA9/AGA$6,0)","v":0},{"$f":"IF(AND(AGB9/AGB$6=ROUND(AGB9/AGB$6,0),NOT(AGB9=0)),AGB9/AGB$6,0)","v":0},{"$f":"IF(AND(AGC9/AGC$6=ROUND(AGC9/AGC$6,0),NOT(AGC9=0)),AGC9/AGC$6,0)","v":0},{"$f":"IF(AND(AGD9/AGD$6=ROUND(AGD9/AGD$6,0),NOT(AGD9=0)),AGD9/AGD$6,0)","v":0},{"$f":"IF(AND(AGE9/AGE$6=ROUND(AGE9/AGE$6,0),NOT(AGE9=0)),AGE9/AGE$6,0)","v":0},{"$f":"IF(AND(AGF9/AGF$6=ROUND(AGF9/AGF$6,0),NOT(AGF9=0)),AGF9/AGF$6,0)","v":0},{"$f":"IF(AND(AGG9/AGG$6=ROUND(AGG9/AGG$6,0),NOT(AGG9=0)),AGG9/AGG$6,0)","v":0},{"$f":"IF(AND(AGH9/AGH$6=ROUND(AGH9/AGH$6,0),NOT(AGH9=0)),AGH9/AGH$6,0)","v":0},{"$f":"IF(AND(AGI9/AGI$6=ROUND(AGI9/AGI$6,0),NOT(AGI9=0)),AGI9/AGI$6,0)","v":0},{"$f":"IF(AND(AGJ9/AGJ$6=ROUND(AGJ9/AGJ$6,0),NOT(AGJ9=0)),AGJ9/AGJ$6,0)","v":0},{"$f":"IF(AND(AGK9/AGK$6=ROUND(AGK9/AGK$6,0),NOT(AGK9=0)),AGK9/AGK$6,0)","v":0},{"$f":"IF(AND(AGL9/AGL$6=ROUND(AGL9/AGL$6,0),NOT(AGL9=0)),AGL9/AGL$6,0)","v":0},{"$f":"IF(AND(AGM9/AGM$6=ROUND(AGM9/AGM$6,0),NOT(AGM9=0)),AGM9/AGM$6,0)","v":0},{"$f":"IF(AND(AGN9/AGN$6=ROUND(AGN9/AGN$6,0),NOT(AGN9=0)),AGN9/AGN$6,0)","v":0},{"$f":"IF(AND(AGO9/AGO$6=ROUND(AGO9/AGO$6,0),NOT(AGO9=0)),AGO9/AGO$6,0)","v":0},{"$f":"IF(AND(AGP9/AGP$6=ROUND(AGP9/AGP$6,0),NOT(AGP9=0)),AGP9/AGP$6,0)","v":0},{"$f":"IF(AND(AGQ9/AGQ$6=ROUND(AGQ9/AGQ$6,0),NOT(AGQ9=0)),AGQ9/AGQ$6,0)","v":0},{"$f":"IF(AND(AGR9/AGR$6=ROUND(AGR9/AGR$6,0),NOT(AGR9=0)),AGR9/AGR$6,0)","v":0},{"$f":"IF(AND(AGS9/AGS$6=ROUND(AGS9/AGS$6,0),NOT(AGS9=0)),AGS9/AGS$6,0)","v":0},{"$f":"IF(AND(AGT9/AGT$6=ROUND(AGT9/AGT$6,0),NOT(AGT9=0)),AGT9/AGT$6,0)","v":0},{"$f":"IF(AND(AGU9/AGU$6=ROUND(AGU9/AGU$6,0),NOT(AGU9=0)),AGU9/AGU$6,0)","v":0},{"$f":"IF(AND(AGV9/AGV$6=ROUND(AGV9/AGV$6,0),NOT(AGV9=0)),AGV9/AGV$6,0)","v":0},{"$f":"IF(AND(AGW9/AGW$6=ROUND(AGW9/AGW$6,0),NOT(AGW9=0)),AGW9/AGW$6,0)","v":0},{"$f":"IF(AND(AGX9/AGX$6=ROUND(AGX9/AGX$6,0),NOT(AGX9=0)),AGX9/AGX$6,0)","v":0},{"$f":"IF(AND(AGY9/AGY$6=ROUND(AGY9/AGY$6,0),NOT(AGY9=0)),AGY9/AGY$6,0)","v":0},{"$f":"IF(AND(AGZ9/AGZ$6=ROUND(AGZ9/AGZ$6,0),NOT(AGZ9=0)),AGZ9/AGZ$6,0)","v":0},{"$f":"IF(AND(AHA9/AHA$6=ROUND(AHA9/AHA$6,0),NOT(AHA9=0)),AHA9/AHA$6,0)","v":0},{"$f":"IF(AND(AHB9/AHB$6=ROUND(AHB9/AHB$6,0),NOT(AHB9=0)),AHB9/AHB$6,0)","v":0},{"$f":"IF(AND(AHC9/AHC$6=ROUND(AHC9/AHC$6,0),NOT(AHC9=0)),AHC9/AHC$6,0)","v":0},{"$f":"IF(AND(AHD9/AHD$6=ROUND(AHD9/AHD$6,0),NOT(AHD9=0)),AHD9/AHD$6,0)","v":0},{"$f":"IF(AND(AHE9/AHE$6=ROUND(AHE9/AHE$6,0),NOT(AHE9=0)),AHE9/AHE$6,0)","v":0},{"$f":"IF(AND(AHF9/AHF$6=ROUND(AHF9/AHF$6,0),NOT(AHF9=0)),AHF9/AHF$6,0)","v":0},{"$f":"IF(AND(AHG9/AHG$6=ROUND(AHG9/AHG$6,0),NOT(AHG9=0)),AHG9/AHG$6,0)","v":0},{"$f":"IF(AND(AHH9/AHH$6=ROUND(AHH9/AHH$6,0),NOT(AHH9=0)),AHH9/AHH$6,0)","v":0},{"$f":"IF(AND(AHI9/AHI$6=ROUND(AHI9/AHI$6,0),NOT(AHI9=0)),AHI9/AHI$6,0)","v":0},{"$f":"IF(AND(AHJ9/AHJ$6=ROUND(AHJ9/AHJ$6,0),NOT(AHJ9=0)),AHJ9/AHJ$6,0)","v":0},{"$f":"IF(AND(AHK9/AHK$6=ROUND(AHK9/AHK$6,0),NOT(AHK9=0)),AHK9/AHK$6,0)","v":0},{"$f":"IF(AND(AHL9/AHL$6=ROUND(AHL9/AHL$6,0),NOT(AHL9=0)),AHL9/AHL$6,0)","v":0},{"$f":"IF(AND(AHM9/AHM$6=ROUND(AHM9/AHM$6,0),NOT(AHM9=0)),AHM9/AHM$6,0)","v":0},{"$f":"IF(AND(AHN9/AHN$6=ROUND(AHN9/AHN$6,0),NOT(AHN9=0)),AHN9/AHN$6,0)","v":0},{"$f":"IF(AND(AHO9/AHO$6=ROUND(AHO9/AHO$6,0),NOT(AHO9=0)),AHO9/AHO$6,0)","v":0},{"$f":"IF(AND(AHP9/AHP$6=ROUND(AHP9/AHP$6,0),NOT(AHP9=0)),AHP9/AHP$6,0)","v":0},{"$f":"IF(AND(AHQ9/AHQ$6=ROUND(AHQ9/AHQ$6,0),NOT(AHQ9=0)),AHQ9/AHQ$6,0)","v":0},{"$f":"IF(AND(AHR9/AHR$6=ROUND(AHR9/AHR$6,0),NOT(AHR9=0)),AHR9/AHR$6,0)","v":0},{"$f":"IF(AND(AHS9/AHS$6=ROUND(AHS9/AHS$6,0),NOT(AHS9=0)),AHS9/AHS$6,0)","v":0},{"$f":"IF(AND(AHT9/AHT$6=ROUND(AHT9/AHT$6,0),NOT(AHT9=0)),AHT9/AHT$6,0)","v":0},{"$f":"IF(AND(AHU9/AHU$6=ROUND(AHU9/AHU$6,0),NOT(AHU9=0)),AHU9/AHU$6,0)","v":0},{"$f":"IF(AND(AHV9/AHV$6=ROUND(AHV9/AHV$6,0),NOT(AHV9=0)),AHV9/AHV$6,0)","v":0},{"$f":"IF(AND(AHW9/AHW$6=ROUND(AHW9/AHW$6,0),NOT(AHW9=0)),AHW9/AHW$6,0)","v":0},{"$f":"IF(AND(AHX9/AHX$6=ROUND(AHX9/AHX$6,0),NOT(AHX9=0)),AHX9/AHX$6,0)","v":0},{"$f":"IF(AND(AHY9/AHY$6=ROUND(AHY9/AHY$6,0),NOT(AHY9=0)),AHY9/AHY$6,0)","v":0},{"$f":"IF(AND(AHZ9/AHZ$6=ROUND(AHZ9/AHZ$6,0),NOT(AHZ9=0)),AHZ9/AHZ$6,0)","v":0},{"$f":"IF(AND(AIA9/AIA$6=ROUND(AIA9/AIA$6,0),NOT(AIA9=0)),AIA9/AIA$6,0)","v":0},{"$f":"IF(AND(AIB9/AIB$6=ROUND(AIB9/AIB$6,0),NOT(AIB9=0)),AIB9/AIB$6,0)","v":0},{"$f":"IF(AND(AIC9/AIC$6=ROUND(AIC9/AIC$6,0),NOT(AIC9=0)),AIC9/AIC$6,0)","v":0},{"$f":"IF(AND(AID9/AID$6=ROUND(AID9/AID$6,0),NOT(AID9=0)),AID9/AID$6,0)","v":0},{"$f":"IF(AND(AIE9/AIE$6=ROUND(AIE9/AIE$6,0),NOT(AIE9=0)),AIE9/AIE$6,0)","v":0},{"$f":"IF(AND(AIF9/AIF$6=ROUND(AIF9/AIF$6,0),NOT(AIF9=0)),AIF9/AIF$6,0)","v":0},{"$f":"IF(AND(AIG9/AIG$6=ROUND(AIG9/AIG$6,0),NOT(AIG9=0)),AIG9/AIG$6,0)","v":0},{"$f":"IF(AND(AIH9/AIH$6=ROUND(AIH9/AIH$6,0),NOT(AIH9=0)),AIH9/AIH$6,0)","v":0},{"$f":"IF(AND(AII9/AII$6=ROUND(AII9/AII$6,0),NOT(AII9=0)),AII9/AII$6,0)","v":0},{"$f":"IF(AND(AIJ9/AIJ$6=ROUND(AIJ9/AIJ$6,0),NOT(AIJ9=0)),AIJ9/AIJ$6,0)","v":0},{"$f":"IF(AND(AIK9/AIK$6=ROUND(AIK9/AIK$6,0),NOT(AIK9=0)),AIK9/AIK$6,0)","v":0},{"$f":"IF(AND(AIL9/AIL$6=ROUND(AIL9/AIL$6,0),NOT(AIL9=0)),AIL9/AIL$6,0)","v":0},{"$f":"IF(AND(AIM9/AIM$6=ROUND(AIM9/AIM$6,0),NOT(AIM9=0)),AIM9/AIM$6,0)","v":0},{"$f":"IF(AND(AIN9/AIN$6=ROUND(AIN9/AIN$6,0),NOT(AIN9=0)),AIN9/AIN$6,0)","v":0},{"$f":"IF(AND(AIO9/AIO$6=ROUND(AIO9/AIO$6,0),NOT(AIO9=0)),AIO9/AIO$6,0)","v":0},{"$f":"IF(AND(AIP9/AIP$6=ROUND(AIP9/AIP$6,0),NOT(AIP9=0)),AIP9/AIP$6,0)","v":0},{"$f":"IF(AND(AIQ9/AIQ$6=ROUND(AIQ9/AIQ$6,0),NOT(AIQ9=0)),AIQ9/AIQ$6,0)","v":0},{"$f":"IF(AND(AIR9/AIR$6=ROUND(AIR9/AIR$6,0),NOT(AIR9=0)),AIR9/AIR$6,0)","v":0},{"$f":"IF(AND(AIS9/AIS$6=ROUND(AIS9/AIS$6,0),NOT(AIS9=0)),AIS9/AIS$6,0)","v":0},{"$f":"IF(AND(AIT9/AIT$6=ROUND(AIT9/AIT$6,0),NOT(AIT9=0)),AIT9/AIT$6,0)","v":0},{"$f":"IF(AND(AIU9/AIU$6=ROUND(AIU9/AIU$6,0),NOT(AIU9=0)),AIU9/AIU$6,0)","v":0},{"$f":"IF(AND(AIV9/AIV$6=ROUND(AIV9/AIV$6,0),NOT(AIV9=0)),AIV9/AIV$6,0)","v":0},{"$f":"IF(AND(AIW9/AIW$6=ROUND(AIW9/AIW$6,0),NOT(AIW9=0)),AIW9/AIW$6,0)","v":0},{"$f":"IF(AND(AIX9/AIX$6=ROUND(AIX9/AIX$6,0),NOT(AIX9=0)),AIX9/AIX$6,0)","v":0},{"$f":"IF(AND(AIY9/AIY$6=ROUND(AIY9/AIY$6,0),NOT(AIY9=0)),AIY9/AIY$6,0)","v":0},{"$f":"IF(AND(AIZ9/AIZ$6=ROUND(AIZ9/AIZ$6,0),NOT(AIZ9=0)),AIZ9/AIZ$6,0)","v":0},{"$f":"IF(AND(AJA9/AJA$6=ROUND(AJA9/AJA$6,0),NOT(AJA9=0)),AJA9/AJA$6,0)","v":0},{"$f":"IF(AND(AJB9/AJB$6=ROUND(AJB9/AJB$6,0),NOT(AJB9=0)),AJB9/AJB$6,0)","v":0},{"$f":"IF(AND(AJC9/AJC$6=ROUND(AJC9/AJC$6,0),NOT(AJC9=0)),AJC9/AJC$6,0)","v":0},{"$f":"IF(AND(AJD9/AJD$6=ROUND(AJD9/AJD$6,0),NOT(AJD9=0)),AJD9/AJD$6,0)","v":0},{"$f":"IF(AND(AJE9/AJE$6=ROUND(AJE9/AJE$6,0),NOT(AJE9=0)),AJE9/AJE$6,0)","v":0},{"$f":"IF(AND(AJF9/AJF$6=ROUND(AJF9/AJF$6,0),NOT(AJF9=0)),AJF9/AJF$6,0)","v":0},{"$f":"IF(AND(AJG9/AJG$6=ROUND(AJG9/AJG$6,0),NOT(AJG9=0)),AJG9/AJG$6,0)","v":0},{"$f":"IF(AND(AJH9/AJH$6=ROUND(AJH9/AJH$6,0),NOT(AJH9=0)),AJH9/AJH$6,0)","v":0},{"$f":"IF(AND(AJI9/AJI$6=ROUND(AJI9/AJI$6,0),NOT(AJI9=0)),AJI9/AJI$6,0)","v":0},{"$f":"IF(AND(AJJ9/AJJ$6=ROUND(AJJ9/AJJ$6,0),NOT(AJJ9=0)),AJJ9/AJJ$6,0)","v":0},{"$f":"IF(AND(AJK9/AJK$6=ROUND(AJK9/AJK$6,0),NOT(AJK9=0)),AJK9/AJK$6,0)","v":0},{"$f":"IF(AND(AJL9/AJL$6=ROUND(AJL9/AJL$6,0),NOT(AJL9=0)),AJL9/AJL$6,0)","v":0},{"$f":"IF(AND(AJM9/AJM$6=ROUND(AJM9/AJM$6,0),NOT(AJM9=0)),AJM9/AJM$6,0)","v":0},{"$f":"IF(AND(AJN9/AJN$6=ROUND(AJN9/AJN$6,0),NOT(AJN9=0)),AJN9/AJN$6,0)","v":0},{"$f":"IF(AND(AJO9/AJO$6=ROUND(AJO9/AJO$6,0),NOT(AJO9=0)),AJO9/AJO$6,0)","v":0},{"$f":"IF(AND(AJP9/AJP$6=ROUND(AJP9/AJP$6,0),NOT(AJP9=0)),AJP9/AJP$6,0)","v":0},{"$f":"IF(AND(AJQ9/AJQ$6=ROUND(AJQ9/AJQ$6,0),NOT(AJQ9=0)),AJQ9/AJQ$6,0)","v":0},{"$f":"IF(AND(AJR9/AJR$6=ROUND(AJR9/AJR$6,0),NOT(AJR9=0)),AJR9/AJR$6,0)","v":0},{"$f":"IF(AND(AJS9/AJS$6=ROUND(AJS9/AJS$6,0),NOT(AJS9=0)),AJS9/AJS$6,0)","v":0},{"$f":"IF(AND(AJT9/AJT$6=ROUND(AJT9/AJT$6,0),NOT(AJT9=0)),AJT9/AJT$6,0)","v":0},{"$f":"IF(AND(AJU9/AJU$6=ROUND(AJU9/AJU$6,0),NOT(AJU9=0)),AJU9/AJU$6,0)","v":0},{"$f":"IF(AND(AJV9/AJV$6=ROUND(AJV9/AJV$6,0),NOT(AJV9=0)),AJV9/AJV$6,0)","v":0},{"$f":"IF(AND(AJW9/AJW$6=ROUND(AJW9/AJW$6,0),NOT(AJW9=0)),AJW9/AJW$6,0)","v":0},{"$f":"IF(AND(AJX9/AJX$6=ROUND(AJX9/AJX$6,0),NOT(AJX9=0)),AJX9/AJX$6,0)","v":0},{"$f":"IF(AND(AJY9/AJY$6=ROUND(AJY9/AJY$6,0),NOT(AJY9=0)),AJY9/AJY$6,0)","v":0},{"$f":"IF(AND(AJZ9/AJZ$6=ROUND(AJZ9/AJZ$6,0),NOT(AJZ9=0)),AJZ9/AJZ$6,0)","v":0},{"$f":"IF(AND(AKA9/AKA$6=ROUND(AKA9/AKA$6,0),NOT(AKA9=0)),AKA9/AKA$6,0)","v":0},{"$f":"IF(AND(AKB9/AKB$6=ROUND(AKB9/AKB$6,0),NOT(AKB9=0)),AKB9/AKB$6,0)","v":0},{"$f":"IF(AND(AKC9/AKC$6=ROUND(AKC9/AKC$6,0),NOT(AKC9=0)),AKC9/AKC$6,0)","v":0},{"$f":"IF(AND(AKD9/AKD$6=ROUND(AKD9/AKD$6,0),NOT(AKD9=0)),AKD9/AKD$6,0)","v":0},{"$f":"IF(AND(AKE9/AKE$6=ROUND(AKE9/AKE$6,0),NOT(AKE9=0)),AKE9/AKE$6,0)","v":0},{"$f":"IF(AND(AKF9/AKF$6=ROUND(AKF9/AKF$6,0),NOT(AKF9=0)),AKF9/AKF$6,0)","v":0},{"$f":"IF(AND(AKG9/AKG$6=ROUND(AKG9/AKG$6,0),NOT(AKG9=0)),AKG9/AKG$6,0)","v":0},{"$f":"IF(AND(AKH9/AKH$6=ROUND(AKH9/AKH$6,0),NOT(AKH9=0)),AKH9/AKH$6,0)","v":0},{"$f":"IF(AND(AKI9/AKI$6=ROUND(AKI9/AKI$6,0),NOT(AKI9=0)),AKI9/AKI$6,0)","v":0},{"$f":"IF(AND(AKJ9/AKJ$6=ROUND(AKJ9/AKJ$6,0),NOT(AKJ9=0)),AKJ9/AKJ$6,0)","v":0},{"$f":"IF(AND(AKK9/AKK$6=ROUND(AKK9/AKK$6,0),NOT(AKK9=0)),AKK9/AKK$6,0)","v":0},{"$f":"IF(AND(AKL9/AKL$6=ROUND(AKL9/AKL$6,0),NOT(AKL9=0)),AKL9/AKL$6,0)","v":0},{"$f":"IF(AND(AKM9/AKM$6=ROUND(AKM9/AKM$6,0),NOT(AKM9=0)),AKM9/AKM$6,0)","v":0},{"$f":"IF(AND(AKN9/AKN$6=ROUND(AKN9/AKN$6,0),NOT(AKN9=0)),AKN9/AKN$6,0)","v":0},{"$f":"IF(AND(AKO9/AKO$6=ROUND(AKO9/AKO$6,0),NOT(AKO9=0)),AKO9/AKO$6,0)","v":0},{"$f":"IF(AND(AKP9/AKP$6=ROUND(AKP9/AKP$6,0),NOT(AKP9=0)),AKP9/AKP$6,0)","v":0},{"$f":"IF(AND(AKQ9/AKQ$6=ROUND(AKQ9/AKQ$6,0),NOT(AKQ9=0)),AKQ9/AKQ$6,0)","v":0},{"$f":"IF(AND(AKR9/AKR$6=ROUND(AKR9/AKR$6,0),NOT(AKR9=0)),AKR9/AKR$6,0)","v":0},{"$f":"IF(AND(AKS9/AKS$6=ROUND(AKS9/AKS$6,0),NOT(AKS9=0)),AKS9/AKS$6,0)","v":0},{"$f":"IF(AND(AKT9/AKT$6=ROUND(AKT9/AKT$6,0),NOT(AKT9=0)),AKT9/AKT$6,0)","v":0},{"$f":"IF(AND(AKU9/AKU$6=ROUND(AKU9/AKU$6,0),NOT(AKU9=0)),AKU9/AKU$6,0)","v":0},{"$f":"IF(AND(AKV9/AKV$6=ROUND(AKV9/AKV$6,0),NOT(AKV9=0)),AKV9/AKV$6,0)","v":0},{"$f":"IF(AND(AKW9/AKW$6=ROUND(AKW9/AKW$6,0),NOT(AKW9=0)),AKW9/AKW$6,0)","v":0},{"$f":"IF(AND(AKX9/AKX$6=ROUND(AKX9/AKX$6,0),NOT(AKX9=0)),AKX9/AKX$6,0)","v":0},{"$f":"IF(AND(AKY9/AKY$6=ROUND(AKY9/AKY$6,0),NOT(AKY9=0)),AKY9/AKY$6,0)","v":0},{"$f":"IF(AND(AKZ9/AKZ$6=ROUND(AKZ9/AKZ$6,0),NOT(AKZ9=0)),AKZ9/AKZ$6,0)","v":0},{"$f":"IF(AND(ALA9/ALA$6=ROUND(ALA9/ALA$6,0),NOT(ALA9=0)),ALA9/ALA$6,0)","v":0},{"$f":"IF(AND(ALB9/ALB$6=ROUND(ALB9/ALB$6,0),NOT(ALB9=0)),ALB9/ALB$6,0)","v":0},{"$f":"IF(AND(ALC9/ALC$6=ROUND(ALC9/ALC$6,0),NOT(ALC9=0)),ALC9/ALC$6,0)","v":0},{"$f":"IF(AND(ALD9/ALD$6=ROUND(ALD9/ALD$6,0),NOT(ALD9=0)),ALD9/ALD$6,0)","v":0},{"$f":"IF(AND(ALE9/ALE$6=ROUND(ALE9/ALE$6,0),NOT(ALE9=0)),ALE9/ALE$6,0)","v":0},{"$f":"IF(AND(ALF9/ALF$6=ROUND(ALF9/ALF$6,0),NOT(ALF9=0)),ALF9/ALF$6,0)","v":0},{"$f":"IF(AND(ALG9/ALG$6=ROUND(ALG9/ALG$6,0),NOT(ALG9=0)),ALG9/ALG$6,0)","v":0},{"$f":"IF(AND(ALH9/ALH$6=ROUND(ALH9/ALH$6,0),NOT(ALH9=0)),ALH9/ALH$6,0)","v":0},{"$f":"IF(AND(ALI9/ALI$6=ROUND(ALI9/ALI$6,0),NOT(ALI9=0)),ALI9/ALI$6,0)","v":0},{"$f":"IF(AND(ALJ9/ALJ$6=ROUND(ALJ9/ALJ$6,0),NOT(ALJ9=0)),ALJ9/ALJ$6,0)","v":0},{"$f":"IF(AND(ALK9/ALK$6=ROUND(ALK9/ALK$6,0),NOT(ALK9=0)),ALK9/ALK$6,0)","v":0},{"$f":"IF(AND(ALL9/ALL$6=ROUND(ALL9/ALL$6,0),NOT(ALL9=0)),ALL9/ALL$6,0)","v":0},{"$f":"IF(AND(ALM9/ALM$6=ROUND(ALM9/ALM$6,0),NOT(ALM9=0)),ALM9/ALM$6,0)","v":0},{"$f":"IF(AND(ALN9/ALN$6=ROUND(ALN9/ALN$6,0),NOT(ALN9=0)),ALN9/ALN$6,0)","v":0},{"$f":"IF(AND(ALO9/ALO$6=ROUND(ALO9/ALO$6,0),NOT(ALO9=0)),ALO9/ALO$6,0)","v":0},{"$f":"IF(AND(ALP9/ALP$6=ROUND(ALP9/ALP$6,0),NOT(ALP9=0)),ALP9/ALP$6,0)","v":0},{"$f":"IF(AND(ALQ9/ALQ$6=ROUND(ALQ9/ALQ$6,0),NOT(ALQ9=0)),ALQ9/ALQ$6,0)","v":0}]
["LCM:",{"$f":"B6*B5/B10","v":8460},null,null,null,0,0,0,0,0,0,0,0,0,0,0,0,0,0,0,0,0,0,0,0,0,0,0,0,0,0,0,0,0,0,0,0,0,0,0,0,0,0,0,0,0,0,0,0,0,0,0,0,0,0,0,0,0,0,0,0,0,0,0,0,0,0,0,0,0,0,0,0,0,0,0,0,0,0,0,0,0,0,0,0,0,0,0,0,0,0,0,0,0,0,0,0,0,0,0,0,0,0,0,0,0,0,0,0,0,0,0,0,0,0,0,0,0,0,0,0,0,0,0,0,0,0,0,0,0,0,0,0,0,0,0,0,0,0,0,0,0,0,0,0,0,0,0,0,0,0,0,0,0,0,0,0,0,0,0,0,0,0,0,0,0,0,0,0,0,0,0,0,0,0,0,0,0,0,0,0,0,0,0,0,0,0,0,0,0,0,0,0,0,0,0,0,0,0,0,0,0,0,0,0,0,0,0,0,0,0,0,0,0,0,0,0,0,0,0,0,0,0,0,0,0,0,0,0,0,0,0,0,0,0,0,0,0,0,0,0,0,0,0,0,0,0,0,0,0,0,0,0,0,0,0,0,0,0,0,0,0,0,0,0,0,0,0,0,0,0,0,0,0,0,0,0,0,0,0,0,0,0,0,0,0,0,0,0,0,0,0,0,0,0,0,0,0,0,0,0,0,0,0,0,0,0,0,0,0,0,0,0,0,0,0,0,0,0,0,0,0,0,0,0,0,0,0,0,0,0,0,0,0,0,0,0,0,0,0,0,0,0,0,0,0,0,0,0,0,0,0,0,0,0,0,0,0,0,0,0,0,0,0,0,0,0,0,0,0,0,0,0,0,0,0,0,0,0,0,0,0,0,0,0,0,0,0,0,0,0,0,0,0,0,0,0,0,0,0,0,0,0,0,0,0,0,0,0,0,0,0,0,0,0,0,0,0,0,0,0,0,0,0,0,0,0,0,0,0,0,0,0,0,0,0,0,0,0,0,0,0,0,0,0,0,0,0,0,0,0,0,0,0,0,0,0,0,0,0,0,0,0,0,0,0,0,0,0,0,0,0,0,0,0,0,0,0,0,0,0,0,0,0,0,0,0,0,0,0,0,0,0,0,0,0,0,0,0,0,0,0,0,0,0,0,0,0,0,0,0,0,0,0,0,0,0,0,0,0,0,0,0,0,0,0,0,0,0,0,0,0,0,0,0,0,0,0,0,0,0,0,0,0,0,0,0,0,0,0,0,0,0,0,0,0,0,0,0,0,0,0,0,0,0,0,0,0,0,0,0,0,0,0,0,0,0,0,0,0,0,0,0,0,0,0,0,0,0,0,0,0,0,0,0,0,0,0,0,0,0,0,0,0,0,0,0,0,0,0,0,0,0,0,0,0,0,0,0,0,0,0,0,0,0,0,0,0,0,0,0,0,0,0,0,0,0,0,0,0,0,0,0,0,0,0,0,0,0,0,0,0,0,0,0,0,0,0,0,0,0,0,0,0,0,0,0,0,0,0,0,0,0,0,0,0,0,0,0,0,0,0,0,0,0,0,0,0,0,0,0,0,0,0,0,0,0,0,0,0,0,0,0,0,0,0,0,0,0,0,0,0,0,0,0,0,0,0,0,0,0,0,0,0,0,0,0,0,0,0,0,0,0,0,0,0,0,0,0,0,0,0,0,0,0,0,0,0,0,0,0,0,0,0,0,0,0,0,0,0,0,0,0,0,0,0,0,0,0,0,0,0,0,0,0,0,0,0,0,0,0,0,0,0,0,0,0,0,0,0,0,0,0,0,0,0,0,0,0,0,0,0,0,0,0,0,0,0,0,0,0,0,0,0,0,0,0,0,0,0,0,0,0,0,0,0,0,0,0,0,0,0,0,0,0,0,0,0,0,0,0,0,0,0,0,0,0,0,0,0,0,0,0,0,0,0,0,0,0,0,0,0,0,0,0,0,0,0,0,0,0,0,0,0,0,0,0,0,0,0,0,0,0,0,0,0,0,0,0,0,0,0,0,0,0,0,0,0,0,0,0,0,0,0,0,0,0,0,0,0,0,0,0,0,0,0,0,0,0,0,0,0,0,0,0,0,0,0,0,0,0,0,0,0,0,0,0,0,0,0,0,0,0,0,0,0,0,0,0,0,0,0,0,0,0,0,0,0,0,0,0,0,0,0,0,0,0,0,0,0,0,0,0,0,0,0,0,0,0,0,0,0,0,0,0,0,0,0,0,0,0,0,0,0,0,0,0,0,0,0,0,0,0,0,0]
["Coprime?",{"$f":"IF(B10=1,1,0)","v":0},null,null,null,0,0,0,0,0,0,0,0,0,0,0,0,0,0,0,0,0,0,0,0,0,0,0,0,0,0,0,0,0,0,0,0,0,0,0,0,0,0,0,0,0,0,0,0,0,0,0,0,0,0,0,0,0,0,0,0,0,0,0,0,0,0,0,0,0,0,0,0,0,0,0,0,0,0,0,0,0,0,0,0,0,0,0,0,0,0,0,0,0,0,0,0,0,0,0,0,0,0,0,0,0,0,0,0,0,0,0,0,0,0,0,0,0,0,0,0,0,0,0,0,0,0,0,0,0,0,0,0,0,0,0,0,0,0,0,0,0,0,0,0,0,0,0,0,0,0,0,0,0,0,0,0,0,0,0,0,0,0,0,0,0,0,0,0,0,0,0,0,0,0,0,0,0,0,0,0,0,0,0,0,0,0,0,0,0,0,0,0,0,0,0,0,0,0,0,0,0,0,0,0,0,0,0,0,0,0,0,0,0,0,0,0,0,0,0,0,0,0,0,0,0,0,0,0,0,0,0,0,0,0,0,0,0,0,0,0,0,0,0,0,0,0,0,0,0,0,0,0,0,0,0,0,0,0,0,0,0,0,0,0,0,0,0,0,0,0,0,0,0,0,0,0,0,0,0,0,0,0,0,0,0,0,0,0,0,0,0,0,0,0,0,0,0,0,0,0,0,0,0,0,0,0,0,0,0,0,0,0,0,0,0,0,0,0,0,0,0,0,0,0,0,0,0,0,0,0,0,0,0,0,0,0,0,0,0,0,0,0,0,0,0,0,0,0,0,0,0,0,0,0,0,0,0,0,0,0,0,0,0,0,0,0,0,0,0,0,0,0,0,0,0,0,0,0,0,0,0,0,0,0,0,0,0,0,0,0,0,0,0,0,0,0,0,0,0,0,0,0,0,0,0,0,0,0,0,0,0,0,0,0,0,0,0,0,0,0,0,0,0,0,0,0,0,0,0,0,0,0,0,0,0,0,0,0,0,0,0,0,0,0,0,0,0,0,0,0,0,0,0,0,0,0,0,0,0,0,0,0,0,0,0,0,0,0,0,0,0,0,0,0,0,0,0,0,0,0,0,0,0,0,0,0,0,0,0,0,0,0,0,0,0,0,0,0,0,0,0,0,0,0,0,0,0,0,0,0,0,0,0,0,0,0,0,0,0,0,0,0,0,0,0,0,0,0,0,0,0,0,0,0,0,0,0,0,0,0,0,0,0,0,0,0,0,0,0,0,0,0,0,0,0,0,0,0,0,0,0,0,0,0,0,0,0,0,0,0,0,0,0,0,0,0,0,0,0,0,0,0,0,0,0,0,0,0,0,0,0,0,0,0,0,0,0,0,0,0,0,0,0,0,0,0,0,0,0,0,0,0,0,0,0,0,0,0,0,0,0,0,0,0,0,0,0,0,0,0,0,0,0,0,0,0,0,0,0,0,0,0,0,0,0,0,0,0,0,0,0,0,0,0,0,0,0,0,0,0,0,0,0,0,0,0,0,0,0,0,0,0,0,0,0,0,0,0,0,0,0,0,0,0,0,0,0,0,0,0,0,0,0,0,0,0,0,0,0,0,0,0,0,0,0,0,0,0,0,0,0,0,0,0,0,0,0,0,0,0,0,0,0,0,0,0,0,0,0,0,0,0,0,0,0,0,0,0,0,0,0,0,0,0,0,0,0,0,0,0,0,0,0,0,0,0,0,0,0,0,0,0,0,0,0,0,0,0,0,0,0,0,0,0,0,0,0,0,0,0,0,0,0,0,0,0,0,0,0,0,0,0,0,0,0,0,0,0,0,0,0,0,0,0,0,0,0,0,0,0,0,0,0,0,0,0,0,0,0,0,0,0,0,0,0,0,0,0,0,0,0,0,0,0,0,0,0,0,0,0,0,0,0,0,0,0,0,0,0,0,0,0,0,0,0,0,0,0,0,0,0,0,0,0,0,0,0,0,0,0,0,0,0,0,0,0,0,0,0,0,0,0,0,0,0,0,0,0,0,0,0,0,0,0,0,0,0,0,0,0,0,0,0,0,0,0,0,0,0,0,0,0,0,0,0,0,0,0,0,0,0,0,0,0,0,0,0,0,0,0,0,0,0,0,0,0,0,0,0,0,0,0,0,0,0,0,0,0,0,0,0,0,0,0,0,0,0,0,0,0,0,0,0,0,0,0,0,0,0,0,0,0,0,0,0,0,0,0,0,0,0,0,0,0,0,0,0,0,0,0,0,0,0,0,0,0,0,0,0,0,0,0,0,0]
[null,null,null,null,null,0,0,0,0,0,0,0,0,0,0,0,0,0,0,0,0,0,0,0,0,0,0,0,0,0,0,0,0,0,0,0,0,0,0,0,0,0,0,0,0,0,0,0,0,0,0,0,0,0,0,0,0,0,0,0,0,0,0,0,0,0,0,0,0,0,0,0,0,0,0,0,0,0,0,0,0,0,0,0,0,0,0,0,0,0,0,0,0,0,0,0,0,0,0,0,0,0,0,0,0,0,0,0,0,0,0,0,0,0,0,0,0,0,0,0,0,0,0,0,0,0,0,0,0,0,0,0,0,0,0,0,0,0,0,0,0,0,0,0,0,0,0,0,0,0,0,0,0,0,0,0,0,0,0,0,0,0,0,0,0,0,0,0,0,0,0,0,0,0,0,0,0,0,0,0,0,0,0,0,0,0,0,0,0,0,0,0,0,0,0,0,0,0,0,0,0,0,0,0,0,0,0,0,0,0,0,0,0,0,0,0,0,0,0,0,0,0,0,0,0,0,0,0,0,0,0,0,0,0,0,0,0,0,0,0,0,0,0,0,0,0,0,0,0,0,0,0,0,0,0,0,0,0,0,0,0,0,0,0,0,0,0,0,0,0,0,0,0,0,0,0,0,0,0,0,0,0,0,0,0,0,0,0,0,0,0,0,0,0,0,0,0,0,0,0,0,0,0,0,0,0,0,0,0,0,0,0,0,0,0,0,0,0,0,0,0,0,0,0,0,0,0,0,0,0,0,0,0,0,0,0,0,0,0,0,0,0,0,0,0,0,0,0,0,0,0,0,0,0,0,0,0,0,0,0,0,0,0,0,0,0,0,0,0,0,0,0,0,0,0,0,0,0,0,0,0,0,0,0,0,0,0,0,0,0,0,0,0,0,0,0,0,0,0,0,0,0,0,0,0,0,0,0,0,0,0,0,0,0,0,0,0,0,0,0,0,0,0,0,0,0,0,0,0,0,0,0,0,0,0,0,0,0,0,0,0,0,0,0,0,0,0,0,0,0,0,0,0,0,0,0,0,0,0,0,0,0,0,0,0,0,0,0,0,0,0,0,0,0,0,0,0,0,0,0,0,0,0,0,0,0,0,0,0,0,0,0,0,0,0,0,0,0,0,0,0,0,0,0,0,0,0,0,0,0,0,0,0,0,0,0,0,0,0,0,0,0,0,0,0,0,0,0,0,0,0,0,0,0,0,0,0,0,0,0,0,0,0,0,0,0,0,0,0,0,0,0,0,0,0,0,0,0,0,0,0,0,0,0,0,0,0,0,0,0,0,0,0,0,0,0,0,0,0,0,0,0,0,0,0,0,0,0,0,0,0,0,0,0,0,0,0,0,0,0,0,0,0,0,0,0,0,0,0,0,0,0,0,0,0,0,0,0,0,0,0,0,0,0,0,0,0,0,0,0,0,0,0,0,0,0,0,0,0,0,0,0,0,0,0,0,0,0,0,0,0,0,0,0,0,0,0,0,0,0,0,0,0,0,0,0,0,0,0,0,0,0,0,0,0,0,0,0,0,0,0,0,0,0,0,0,0,0,0,0,0,0,0,0,0,0,0,0,0,0,0,0,0,0,0,0,0,0,0,0,0,0,0,0,0,0,0,0,0,0,0,0,0,0,0,0,0,0,0,0,0,0,0,0,0,0,0,0,0,0,0,0,0,0,0,0,0,0,0,0,0,0,0,0,0,0,0,0,0,0,0,0,0,0,0,0,0,0,0,0,0,0,0,0,0,0,0,0,0,0,0,0,0,0,0,0,0,0,0,0,0,0,0,0,0,0,0,0,0,0,0,0,0,0,0,0,0,0,0,0,0,0,0,0,0,0,0,0,0,0,0,0,0,0,0,0,0,0,0,0,0,0,0,0,0,0,0,0,0,0,0,0,0,0,0,0,0,0,0,0,0,0,0,0,0,0,0,0,0,0,0,0,0,0,0,0,0,0,0,0,0,0,0,0,0,0,0,0,0,0,0,0,0,0,0,0,0,0,0,0,0,0,0,0,0,0,0,0,0,0,0,0,0,0,0,0,0,0,0,0,0,0,0,0,0,0,0,0,0,0,0,0,0,0,0,0,0,0,0,0,0,0,0,0,0,0,0,0,0,0,0,0,0,0,0,0,0,0,0,0,0,0,0,0,0,0,0,0,0,0,0,0,0,0,0,0,0,0,0,0,0,0,0,0,0,0,0,0,0,0,0,0,0,0,0,0,0,0,0,0,0,0,0,0,0,0,0,0,0,0,0,0,0,0,0]
[null,null,null,null,null,0,0,0,0,0,0,0,0,0,0,0,0,0,0,0,0,0,0,0,0,0,0,0,0,0,0,0,0,0,0,0,0,0,0,0,0,0,0,0,0,0,0,0,0,0,0,0,0,0,0,0,0,0,0,0,0,0,0,0,0,0,0,0,0,0,0,0,0,0,0,0,0,0,0,0,0,0,0,0,0,0,0,0,0,0,0,0,0,0,0,0,0,0,0,0,0,0,0,0,0,0,0,0,0,0,0,0,0,0,0,0,0,0,0,0,0,0,0,0,0,0,0,0,0,0,0,0,0,0,0,0,0,0,0,0,0,0,0,0,0,0,0,0,0,0,0,0,0,0,0,0,0,0,0,0,0,0,0,0,0,0,0,0,0,0,0,0,0,0,0,0,0,0,0,0,0,0,0,0,0,0,0,0,0,0,0,0,0,0,0,0,0,0,0,0,0,0,0,0,0,0,0,0,0,0,0,0,0,0,0,0,0,0,0,0,0,0,0,0,0,0,0,0,0,0,0,0,0,0,0,0,0,0,0,0,0,0,0,0,0,0,0,0,0,0,0,0,0,0,0,0,0,0,0,0,0,0,0,0,0,0,0,0,0,0,0,0,0,0,0,0,0,0,0,0,0,0,0,0,0,0,0,0,0,0,0,0,0,0,0,0,0,0,0,0,0,0,0,0,0,0,0,0,0,0,0,0,0,0,0,0,0,0,0,0,0,0,0,0,0,0,0,0,0,0,0,0,0,0,0,0,0,0,0,0,0,0,0,0,0,0,0,0,0,0,0,0,0,0,0,0,0,0,0,0,0,0,0,0,0,0,0,0,0,0,0,0,0,0,0,0,0,0,0,0,0,0,0,0,0,0,0,0,0,0,0,0,0,0,0,0,0,0,0,0,0,0,0,0,0,0,0,0,0,0,0,0,0,0,0,0,0,0,0,0,0,0,0,0,0,0,0,0,0,0,0,0,0,0,0,0,0,0,0,0,0,0,0,0,0,0,0,0,0,0,0,0,0,0,0,0,0,0,0,0,0,0,0,0,0,0,0,0,0,0,0,0,0,0,0,0,0,0,0,0,0,0,0,0,0,0,0,0,0,0,0,0,0,0,0,0,0,0,0,0,0,0,0,0,0,0,0,0,0,0,0,0,0,0,0,0,0,0,0,0,0,0,0,0,0,0,0,0,0,0,0,0,0,0,0,0,0,0,0,0,0,0,0,0,0,0,0,0,0,0,0,0,0,0,0,0,0,0,0,0,0,0,0,0,0,0,0,0,0,0,0,0,0,0,0,0,0,0,0,0,0,0,0,0,0,0,0,0,0,0,0,0,0,0,0,0,0,0,0,0,0,0,0,0,0,0,0,0,0,0,0,0,0,0,0,0,0,0,0,0,0,0,0,0,0,0,0,0,0,0,0,0,0,0,0,0,0,0,0,0,0,0,0,0,0,0,0,0,0,0,0,0,0,0,0,0,0,0,0,0,0,0,0,0,0,0,0,0,0,0,0,0,0,0,0,0,0,0,0,0,0,0,0,0,0,0,0,0,0,0,0,0,0,0,0,0,0,0,0,0,0,0,0,0,0,0,0,0,0,0,0,0,0,0,0,0,0,0,0,0,0,0,0,0,0,0,0,0,0,0,0,0,0,0,0,0,0,0,0,0,0,0,0,0,0,0,0,0,0,0,0,0,0,0,0,0,0,0,0,0,0,0,0,0,0,0,0,0,0,0,0,0,0,0,0,0,0,0,0,0,0,0,0,0,0,0,0,0,0,0,0,0,0,0,0,0,0,0,0,0,0,0,0,0,0,0,0,0,0,0,0,0,0,0,0,0,0,0,0,0,0,0,0,0,0,0,0,0,0,0,0,0,0,0,0,0,0,0,0,0,0,0,0,0,0,0,0,0,0,0,0,0,0,0,0,0,0,0,0,0,0,0,0,0,0,0,0,0,0,0,0,0,0,0,0,0,0,0,0,0,0,0,0,0,0,0,0,0,0,0,0,0,0,0,0,0,0,0,0,0,0,0,0,0,0,0,0,0,0,0,0,0,0,0,0,0,0,0,0,0,0,0,0,0,0,0,0,0,0,0,0,0,0,0,0,0,0,0,0,0,0,0,0,0,0,0,0,0,0,0,0,0,0,0,0,0,0,0,0,0,0,0,0,0,0,0,0,0,0,0,0,0,0,0,0,0,0,0,0,0,0,0,0,0,0,0,0,0,0,0,0,0,0,0,0,0,0,0,0,0,0,0,0,0,0]
[null,null,null,null,null,0,0,0,0,0,0,0,0,0,0,0,0,0,0,0,0,0,0,0,0,0,0,0,0,0,0,0,0,0,0,0,0,0,0,0,0,0,0,0,0,0,0,0,0,0,0,0,0,0,0,0,0,0,0,0,0,0,0,0,0,0,0,0,0,0,0,0,0,0,0,0,0,0,0,0,0,0,0,0,0,0,0,0,0,0,0,0,0,0,0,0,0,0,0,0,0,0,0,0,0,0,0,0,0,0,0,0,0,0,0,0,0,0,0,0,0,0,0,0,0,0,0,0,0,0,0,0,0,0,0,0,0,0,0,0,0,0,0,0,0,0,0,0,0,0,0,0,0,0,0,0,0,0,0,0,0,0,0,0,0,0,0,0,0,0,0,0,0,0,0,0,0,0,0,0,0,0,0,0,0,0,0,0,0,0,0,0,0,0,0,0,0,0,0,0,0,0,0,0,0,0,0,0,0,0,0,0,0,0,0,0,0,0,0,0,0,0,0,0,0,0,0,0,0,0,0,0,0,0,0,0,0,0,0,0,0,0,0,0,0,0,0,0,0,0,0,0,0,0,0,0,0,0,0,0,0,0,0,0,0,0,0,0,0,0,0,0,0,0,0,0,0,0,0,0,0,0,0,0,0,0,0,0,0,0,0,0,0,0,0,0,0,0,0,0,0,0,0,0,0,0,0,0,0,0,0,0,0,0,0,0,0,0,0,0,0,0,0,0,0,0,0,0,0,0,0,0,0,0,0,0,0,0,0,0,0,0,0,0,0,0,0,0,0,0,0,0,0,0,0,0,0,0,0,0,0,0,0,0,0,0,0,0,0,0,0,0,0,0,0,0,0,0,0,0,0,0,0,0,0,0,0,0,0,0,0,0,0,0,0,0,0,0,0,0,0,0,0,0,0,0,0,0,0,0,0,0,0,0,0,0,0,0,0,0,0,0,0,0,0,0,0,0,0,0,0,0,0,0,0,0,0,0,0,0,0,0,0,0,0,0,0,0,0,0,0,0,0,0,0,0,0,0,0,0,0,0,0,0,0,0,0,0,0,0,0,0,0,0,0,0,0,0,0,0,0,0,0,0,0,0,0,0,0,0,0,0,0,0,0,0,0,0,0,0,0,0,0,0,0,0,0,0,0,0,0,0,0,0,0,0,0,0,0,0,0,0,0,0,0,0,0,0,0,0,0,0,0,0,0,0,0,0,0,0,0,0,0,0,0,0,0,0,0,0,0,0,0,0,0,0,0,0,0,0,0,0,0,0,0,0,0,0,0,0,0,0,0,0,0,0,0,0,0,0,0,0,0,0,0,0,0,0,0,0,0,0,0,0,0,0,0,0,0,0,0,0,0,0,0,0,0,0,0,0,0,0,0,0,0,0,0,0,0,0,0,0,0,0,0,0,0,0,0,0,0,0,0,0,0,0,0,0,0,0,0,0,0,0,0,0,0,0,0,0,0,0,0,0,0,0,0,0,0,0,0,0,0,0,0,0,0,0,0,0,0,0,0,0,0,0,0,0,0,0,0,0,0,0,0,0,0,0,0,0,0,0,0,0,0,0,0,0,0,0,0,0,0,0,0,0,0,0,0,0,0,0,0,0,0,0,0,0,0,0,0,0,0,0,0,0,0,0,0,0,0,0,0,0,0,0,0,0,0,0,0,0,0,0,0,0,0,0,0,0,0,0,0,0,0,0,0,0,0,0,0,0,0,0,0,0,0,0,0,0,0,0,0,0,0,0,0,0,0,0,0,0,0,0,0,0,0,0,0,0,0,0,0,0,0,0,0,0,0,0,0,0,0,0,0,0,0,0,0,0,0,0,0,0,0,0,0,0,0,0,0,0,0,0,0,0,0,0,0,0,0,0,0,0,0,0,0,0,0,0,0,0,0,0,0,0,0,0,0,0,0,0,0,0,0,0,0,0,0,0,0,0,0,0,0,0,0,0,0,0,0,0,0,0,0,0,0,0,0,0,0,0,0,0,0,0,0,0,0,0,0,0,0,0,0,0,0,0,0,0,0,0,0,0,0,0,0,0,0,0,0,0,0,0,0,0,0,0,0,0,0,0,0,0,0,0,0,0,0,0,0,0,0,0,0,0,0,0,0,0,0,0,0,0,0,0,0,0,0,0,0,0,0,0,0,0,0,0,0,0,0,0,0,0,0,0,0,0,0,0,0,0,0,0,0,0,0,0,0,0,0,0,0,0,0,0,0,0,0,0,0,0,0,0,0,0,0,0,0,0,0,0,0,0,0]
["#1:",null,null,null,null,0,0,0,0,0,0,0,0,0,0,0,0,0,0,0,0,0,0,0,0,0,0,0,0,0,0,0,0,0,0,0,0,0,0,0,0,0,0,0,0,0,0,0,0,0,0,0,0,0,0,0,0,0,0,0,0,0,0,0,0,0,0,0,0,0,0,0,0,0,0,0,0,0,0,0,0,0,0,0,0,0,0,0,0,0,0,0,0,0,0,0,0,0,0,0,0,0,0,0,0,0,0,0,0,0,0,0,0,0,0,0,0,0,0,0,0,0,0,0,0,0,0,0,0,0,0,0,0,0,0,0,0,0,0,0,0,0,0,0,0,0,0,0,0,0,0,0,0,0,0,0,0,0,0,0,0,0,0,0,0,0,0,0,0,0,0,0,0,0,0,0,0,0,0,0,0,0,0,0,0,0,0,0,0,0,0,0,0,0,0,0,0,0,0,0,0,0,0,0,0,0,0,0,0,0,0,0,0,0,0,0,0,0,0,0,0,0,0,0,0,0,0,0,0,0,0,0,0,0,0,0,0,0,0,0,0,0,0,0,0,0,0,0,0,0,0,0,0,0,0,0,0,0,0,0,0,0,0,0,0,0,0,0,0,0,0,0,0,0,0,0,0,0,0,0,0,0,0,0,0,0,0,0,0,0,0,0,0,0,0,0,0,0,0,0,0,0,0,0,0,0,0,0,0,0,0,0,0,0,0,0,0,0,0,0,0,0,0,0,0,0,0,0,0,0,0,0,0,0,0,0,0,0,0,0,0,0,0,0,0,0,0,0,0,0,0,0,0,0,0,0,0,0,0,0,0,0,0,0,0,0,0,0,0,0,0,0,0,0,0,0,0,0,0,0,0,0,0,0,0,0,0,0,0,0,0,0,0,0,0,0,0,0,0,0,0,0,0,0,0,0,0,0,0,0,0,0,0,0,0,0,0,0,0,0,0,0,0,0,0,0,0,0,0,0,0,0,0,0,0,0,0,0,0,0,0,0,0,0,0,0,0,0,0,0,0,0,0,0,0,0,0,0,0,0,0,0,0,0,0,0,0,0,0,0,0,0,0,0,0,0,0,0,0,0,0,0,0,0,0,0,0,0,0,0,0,0,0,0,0,0,0,0,0,0,0,0,0,0,0,0,0,0,0,0,0,0,0,0,0,0,0,0,0,0,0,0,0,0,0,0,0,0,0,0,0,0,0,0,0,0,0,0,0,0,0,0,0,0,0,0,0,0,0,0,0,0,0,0,0,0,0,0,0,0,0,0,0,0,0,0,0,0,0,0,0,0,0,0,0,0,0,0,0,0,0,0,0,0,0,0,0,0,0,0,0,0,0,0,0,0,0,0,0,0,0,0,0,0,0,0,0,0,0,0,0,0,0,0,0,0,0,0,0,0,0,0,0,0,0,0,0,0,0,0,0,0,0,0,0,0,0,0,0,0,0,0,0,0,0,0,0,0,0,0,0,0,0,0,0,0,0,0,0,0,0,0,0,0,0,0,0,0,0,0,0,0,0,0,0,0,0,0,0,0,0,0,0,0,0,0,0,0,0,0,0,0,0,0,0,0,0,0,0,0,0,0,0,0,0,0,0,0,0,0,0,0,0,0,0,0,0,0,0,0,0,0,0,0,0,0,0,0,0,0,0,0,0,0,0,0,0,0,0,0,0,0,0,0,0,0,0,0,0,0,0,0,0,0,0,0,0,0,0,0,0,0,0,0,0,0,0,0,0,0,0,0,0,0,0,0,0,0,0,0,0,0,0,0,0,0,0,0,0,0,0,0,0,0,0,0,0,0,0,0,0,0,0,0,0,0,0,0,0,0,0,0,0,0,0,0,0,0,0,0,0,0,0,0,0,0,0,0,0,0,0,0,0,0,0,0,0,0,0,0,0,0,0,0,0,0,0,0,0,0,0,0,0,0,0,0,0,0,0,0,0,0,0,0,0,0,0,0,0,0,0,0,0,0,0,0,0,0,0,0,0,0,0,0,0,0,0,0,0,0,0,0,0,0,0,0,0,0,0,0,0,0,0,0,0,0,0,0,0,0,0,0,0,0,0,0,0,0,0,0,0,0,0,0,0,0,0,0,0,0,0,0,0,0,0,0,0,0,0,0,0,0,0,0,0,0,0,0,0,0,0,0,0,0,0,0,0,0,0,0,0,0,0,0,0,0,0,0,0,0,0,0,0,0,0,0,0,0,0,0,0,0,0,0,0,0,0,0,0,0,0,0,0,0,0,0,0,0,0,0,0,0,0,0,0]
[1,{"$f":"MATCH(A17,$F$3:$ALQ$3,0)","v":{"$error":"#N/A"}},{"$f":"LOOKUP(B17,$F$1:$ALQ$1,$F$6:$ALQ$6)","v":{"$error":"#N/A"}},{"$f":"IF(ISERROR(C17),0,C17)","v":0},{"$f":"IF(D17=0,IF(SUM(D18:$D$30)=0,\"\",E18),D17)","v":2},0,0,0,0,0,0,0,0,0,0,0,0,0,0,0,0,0,0,0,0,0,0,0,0,0,0,0,0,0,0,0,0,0,0,0,0,0,0,0,0,0,0,0,0,0,0,0,0,0,0,0,0,0,0,0,0,0,0,0,0,0,0,0,0,0,0,0,0,0,0,0,0,0,0,0,0,0,0,0,0,0,0,0,0,0,0,0,0,0,0,0,0,0,0,0,0,0,0,0,0,0,0,0,0,0,0,0,0,0,0,0,0,0,0,0,0,0,0,0,0,0,0,0,0,0,0,0,0,0,0,0,0,0,0,0,0,0,0,0,0,0,0,0,0,0,0,0,0,0,0,0,0,0,0,0,0,0,0,0,0,0,0,0,0,0,0,0,0,0,0,0,0,0,0,0,0,0,0,0,0,0,0,0,0,0,0,0,0,0,0,0,0,0,0,0,0,0,0,0,0,0,0,0,0,0,0,0,0,0,0,0,0,0,0,0,0,0,0,0,0,0,0,0,0,0,0,0,0,0,0,0,0,0,0,0,0,0,0,0,0,0,0,0,0,0,0,0,0,0,0,0,0,0,0,0,0,0,0,0,0,0,0,0,0,0,0,0,0,0,0,0,0,0,0,0,0,0,0,0,0,0,0,0,0,0,0,0,0,0,0,0,0,0,0,0,0,0,0,0,0,0,0,0,0,0,0,0,0,0,0,0,0,0,0,0,0,0,0,0,0,0,0,0,0,0,0,0,0,0,0,0,0,0,0,0,0,0,0,0,0,0,0,0,0,0,0,0,0,0,0,0,0,0,0,0,0,0,0,0,0,0,0,0,0,0,0,0,0,0,0,0,0,0,0,0,0,0,0,0,0,0,0,0,0,0,0,0,0,0,0,0,0,0,0,0,0,0,0,0,0,0,0,0,0,0,0,0,0,0,0,0,0,0,0,0,0,0,0,0,0,0,0,0,0,0,0,0,0,0,0,0,0,0,0,0,0,0,0,0,0,0,0,0,0,0,0,0,0,0,0,0,0,0,0,0,0,0,0,0,0,0,0,0,0,0,0,0,0,0,0,0,0,0,0,0,0,0,0,0,0,0,0,0,0,0,0,0,0,0,0,0,0,0,0,0,0,0,0,0,0,0,0,0,0,0,0,0,0,0,0,0,0,0,0,0,0,0,0,0,0,0,0,0,0,0,0,0,0,0,0,0,0,0,0,0,0,0,0,0,0,0,0,0,0,0,0,0,0,0,0,0,0,0,0,0,0,0,0,0,0,0,0,0,0,0,0,0,0,0,0,0,0,0,0,0,0,0,0,0,0,0,0,0,0,0,0,0,0,0,0,0,0,0,0,0,0,0,0,0,0,0,0,0,0,0,0,0,0,0,0,0,0,0,0,0,0,0,0,0,0,0,0,0,0,0,0,0,0,0,0,0,0,0,0,0,0,0,0,0,0,0,0,0,0,0,0,0,0,0,0,0,0,0,0,0,0,0,0,0,0,0,0,0,0,0,0,0,0,0,0,0,0,0,0,0,0,0,0,0,0,0,0,0,0,0,0,0,0,0,0,0,0,0,0,0,0,0,0,0,0,0,0,0,0,0,0,0,0,0,0,0,0,0,0,0,0,0,0,0,0,0,0,0,0,0,0,0,0,0,0,0,0,0,0,0,0,0,0,0,0,0,0,0,0,0,0,0,0,0,0,0,0,0,0,0,0,0,0,0,0,0,0,0,0,0,0,0,0,0,0,0,0,0,0,0,0,0,0,0,0,0,0,0,0,0,0,0,0,0,0,0,0,0,0,0,0,0,0,0,0,0,0,0,0,0,0,0,0,0,0,0,0,0,0,0,0,0,0,0,0,0,0,0,0,0,0,0,0,0,0,0,0,0,0,0,0,0,0,0,0,0,0,0,0,0,0,0,0,0,0,0,0,0,0,0,0,0,0,0,0,0,0,0,0,0,0,0,0,0,0,0,0,0,0,0,0,0,0,0,0,0,0,0,0,0,0,0,0,0,0,0,0,0,0,0,0,0,0,0,0,0,0,0,0,0,0,0,0,0,0,0,0,0,0,0,0,0,0,0,0,0,0,0,0,0,0,0,0,0,0,0,0,0,0,0,0,0,0,0,0,0,0,0,0,0,0,0,0,0,0,0,0,0,0,0,0,0,0,0,0,0,0,0,0,0,0,0,0,0,0,0,0,0,0,0,0,0,0,0,0,0,0,0,0,0,0,0,0,0,0,0,0,0,0,0,0,0,0,0,0]
[2,{"$f":"MATCH(A18,$F$3:$ALQ$3,0)","v":1},{"$f":"LOOKUP(B18,$F$1:$ALQ$1,$F$6:$ALQ$6)","v":2},{"$f":"IF(ISERROR(C18),0,C18)","v":2},{"$f":"IF(D18=0,IF(SUM(D19:$D$30)=0,\"\",E19),D18)","v":2},0,0,0,0,0,0,0,0,0,0,0,0,0,0,0,0,0,0,0,0,0,0,0,0,0,0,0,0,0,0,0,0,0,0,0,0,0,0,0,0,0,0,0,0,0,0,0,0,0,0,0,0,0,0,0,0,0,0,0,0,0,0,0,0,0,0,0,0,0,0,0,0,0,0,0,0,0,0,0,0,0,0,0,0,0,0,0,0,0,0,0,0,0,0,0,0,0,0,0,0,0,0,0,0,0,0,0,0,0,0,0,0,0,0,0,0,0,0,0,0,0,0,0,0,0,0,0,0,0,0,0,0,0,0,0,0,0,0,0,0,0,0,0,0,0,0,0,0,0,0,0,0,0,0,0,0,0,0,0,0,0,0,0,0,0,0,0,0,0,0,0,0,0,0,0,0,0,0,0,0,0,0,0,0,0,0,0,0,0,0,0,0,0,0,0,0,0,0,0,0,0,0,0,0,0,0,0,0,0,0,0,0,0,0,0,0,0,0,0,0,0,0,0,0,0,0,0,0,0,0,0,0,0,0,0,0,0,0,0,0,0,0,0,0,0,0,0,0,0,0,0,0,0,0,0,0,0,0,0,0,0,0,0,0,0,0,0,0,0,0,0,0,0,0,0,0,0,0,0,0,0,0,0,0,0,0,0,0,0,0,0,0,0,0,0,0,0,0,0,0,0,0,0,0,0,0,0,0,0,0,0,0,0,0,0,0,0,0,0,0,0,0,0,0,0,0,0,0,0,0,0,0,0,0,0,0,0,0,0,0,0,0,0,0,0,0,0,0,0,0,0,0,0,0,0,0,0,0,0,0,0,0,0,0,0,0,0,0,0,0,0,0,0,0,0,0,0,0,0,0,0,0,0,0,0,0,0,0,0,0,0,0,0,0,0,0,0,0,0,0,0,0,0,0,0,0,0,0,0,0,0,0,0,0,0,0,0,0,0,0,0,0,0,0,0,0,0,0,0,0,0,0,0,0,0,0,0,0,0,0,0,0,0,0,0,0,0,0,0,0,0,0,0,0,0,0,0,0,0,0,0,0,0,0,0,0,0,0,0,0,0,0,0,0,0,0,0,0,0,0,0,0,0,0,0,0,0,0,0,0,0,0,0,0,0,0,0,0,0,0,0,0,0,0,0,0,0,0,0,0,0,0,0,0,0,0,0,0,0,0,0,0,0,0,0,0,0,0,0,0,0,0,0,0,0,0,0,0,0,0,0,0,0,0,0,0,0,0,0,0,0,0,0,0,0,0,0,0,0,0,0,0,0,0,0,0,0,0,0,0,0,0,0,0,0,0,0,0,0,0,0,0,0,0,0,0,0,0,0,0,0,0,0,0,0,0,0,0,0,0,0,0,0,0,0,0,0,0,0,0,0,0,0,0,0,0,0,0,0,0,0,0,0,0,0,0,0,0,0,0,0,0,0,0,0,0,0,0,0,0,0,0,0,0,0,0,0,0,0,0,0,0,0,0,0,0,0,0,0,0,0,0,0,0,0,0,0,0,0,0,0,0,0,0,0,0,0,0,0,0,0,0,0,0,0,0,0,0,0,0,0,0,0,0,0,0,0,0,0,0,0,0,0,0,0,0,0,0,0,0,0,0,0,0,0,0,0,0,0,0,0,0,0,0,0,0,0,0,0,0,0,0,0,0,0,0,0,0,0,0,0,0,0,0,0,0,0,0,0,0,0,0,0,0,0,0,0,0,0,0,0,0,0,0,0,0,0,0,0,0,0,0,0,0,0,0,0,0,0,0,0,0,0,0,0,0,0,0,0,0,0,0,0,0,0,0,0,0,0,0,0,0,0,0,0,0,0,0,0,0,0,0,0,0,0,0,0,0,0,0,0,0,0,0,0,0,0,0,0,0,0,0,0,0,0,0,0,0,0,0,0,0,0,0,0,0,0,0,0,0,0,0,0,0,0,0,0,0,0,0,0,0,0,0,0,0,0,0,0,0,0,0,0,0,0,0,0,0,0,0,0,0,0,0,0,0,0,0,0,0,0,0,0,0,0,0,0,0,0,0,0,0,0,0,0,0,0,0,0,0,0,0,0,0,0,0,0,0,0,0,0,0,0,0,0,0,0,0,0,0,0,0,0,0,0,0,0,0,0,0,0,0,0,0,0,0,0,0,0,0,0,0,0,0,0,0,0,0,0,0,0,0,0,0,0,0,0,0,0,0,0,0,0,0,0,0,0,0,0,0,0,0,0,0,0,0,0,0,0,0,0,0,0,0,0,0,0,0,0,0]
[3,{"$f":"MATCH(A19,$F$3:$ALQ$3,0)","v":{"$error":"#N/A"}},{"$error":"#N/A"},0,{"$f":"IF(D19=0,IF(SUM(D20:$D$30)=0,\"\",E20),D19)","v":3},0,0,0,0,0,0,0,0,0,0,0,0,0,0,0,0,0,0,0,0,0,0,0,0,0,0,0,0,0,0,0,0,0,0,0,0,0,0,0,0,0,0,0,0,0,0,0,0,0,0,0,0,0,0,0,0,0,0,0,0,0,0,0,0,0,0,0,0,0,0,0,0,0,0,0,0,0,0,0,0,0,0,0,0,0,0,0,0,0,0,0,0,0,0,0,0,0,0,0,0,0,0,0,0,0,0,0,0,0,0,0,0,0,0,0,0,0,0,0,0,0,0,0,0,0,0,0,0,0,0,0,0,0,0,0,0,0,0,0,0,0,0,0,0,0,0,0,0,0,0,0,0,0,0,0,0,0,0,0,0,0,0,0,0,0,0,0,0,0,0,0,0,0,0,0,0,0,0,0,0,0,0,0,0,0,0,0,0,0,0,0,0,0,0,0,0,0,0,0,0,0,0,0,0,0,0,0,0,0,0,0,0,0,0,0,0,0,0,0,0,0,0,0,0,0,0,0,0,0,0,0,0,0,0,0,0,0,0,0,0,0,0,0,0,0,0,0,0,0,0,0,0,0,0,0,0,0,0,0,0,0,0,0,0,0,0,0,0,0,0,0,0,0,0,0,0,0,0,0,0,0,0,0,0,0,0,0,0,0,0,0,0,0,0,0,0,0,0,0,0,0,0,0,0,0,0,0,0,0,0,0,0,0,0,0,0,0,0,0,0,0,0,0,0,0,0,0,0,0,0,0,0,0,0,0,0,0,0,0,0,0,0,0,0,0,0,0,0,0,0,0,0,0,0,0,0,0,0,0,0,0,0,0,0,0,0,0,0,0,0,0,0,0,0,0,0,0,0,0,0,0,0,0,0,0,0,0,0,0,0,0,0,0,0,0,0,0,0,0,0,0,0,0,0,0,0,0,0,0,0,0,0,0,0,0,0,0,0,0,0,0,0,0,0,0,0,0,0,0,0,0,0,0,0,0,0,0,0,0,0,0,0,0,0,0,0,0,0,0,0,0,0,0,0,0,0,0,0,0,0,0,0,0,0,0,0,0,0,0,0,0,0,0,0,0,0,0,0,0,0,0,0,0,0,0,0,0,0,0,0,0,0,0,0,0,0,0,0,0,0,0,0,0,0,0,0,0,0,0,0,0,0,0,0,0,0,0,0,0,0,0,0,0,0,0,0,0,0,0,0,0,0,0,0,0,0,0,0,0,0,0,0,0,0,0,0,0,0,0,0,0,0,0,0,0,0,0,0,0,0,0,0,0,0,0,0,0,0,0,0,0,0,0,0,0,0,0,0,0,0,0,0,0,0,0,0,0,0,0,0,0,0,0,0,0,0,0,0,0,0,0,0,0,0,0,0,0,0,0,0,0,0,0,0,0,0,0,0,0,0,0,0,0,0,0,0,0,0,0,0,0,0,0,0,0,0,0,0,0,0,0,0,0,0,0,0,0,0,0,0,0,0,0,0,0,0,0,0,0,0,0,0,0,0,0,0,0,0,0,0,0,0,0,0,0,0,0,0,0,0,0,0,0,0,0,0,0,0,0,0,0,0,0,0,0,0,0,0,0,0,0,0,0,0,0,0,0,0,0,0,0,0,0,0,0,0,0,0,0,0,0,0,0,0,0,0,0,0,0,0,0,0,0,0,0,0,0,0,0,0,0,0,0,0,0,0,0,0,0,0,0,0,0,0,0,0,0,0,0,0,0,0,0,0,0,0,0,0,0,0,0,0,0,0,0,0,0,0,0,0,0,0,0,0,0,0,0,0,0,0,0,0,0,0,0,0,0,0,0,0,0,0,0,0,0,0,0,0,0,0,0,0,0,0,0,0,0,0,0,0,0,0,0,0,0,0,0,0,0,0,0,0,0,0,0,0,0,0,0,0,0,0,0,0,0,0,0,0,0,0,0,0,0,0,0,0,0,0,0,0,0,0,0,0,0,0,0,0,0,0,0,0,0,0,0,0,0,0,0,0,0,0,0,0,0,0,0,0,0,0,0,0,0,0,0,0,0,0,0,0,0,0,0,0,0,0,0,0,0,0,0,0,0,0,0,0,0,0,0,0,0,0,0,0,0,0,0,0,0,0,0,0,0,0,0,0,0,0,0,0,0,0,0,0,0,0,0,0,0,0,0,0,0,0,0,0,0,0,0,0,0,0,0,0,0,0,0,0,0,0,0,0,0,0,0,0,0,0,0,0,0,0,0,0,0,0,0,0,0,0,0,0,0,0,0,0,0,0,0,0]
[4,2,3,3,{"$f":"IF(D20=0,IF(SUM(D21:$D$30)=0,\"\",E21),D20)","v":3},0,0,0,0,0,0,0,0,0,0,0,0,0,0,0,0,0,0,0,0,0,0,0,0,0,0,0,0,0,0,0,0,0,0,0,0,0,0,0,0,0,0,0,0,0,0,0,0,0,0,0,0,0,0,0,0,0,0,0,0,0,0,0,0,0,0,0,0,0,0,0,0,0,0,0,0,0,0,0,0,0,0,0,0,0,0,0,0,0,0,0,0,0,0,0,0,0,0,0,0,0,0,0,0,0,0,0,0,0,0,0,0,0,0,0,0,0,0,0,0,0,0,0,0,0,0,0,0,0,0,0,0,0,0,0,0,0,0,0,0,0,0,0,0,0,0,0,0,0,0,0,0,0,0,0,0,0,0,0,0,0,0,0,0,0,0,0,0,0,0,0,0,0,0,0,0,0,0,0,0,0,0,0,0,0,0,0,0,0,0,0,0,0,0,0,0,0,0,0,0,0,0,0,0,0,0,0,0,0,0,0,0,0,0,0,0,0,0,0,0,0,0,0,0,0,0,0,0,0,0,0,0,0,0,0,0,0,0,0,0,0,0,0,0,0,0,0,0,0,0,0,0,0,0,0,0,0,0,0,0,0,0,0,0,0,0,0,0,0,0,0,0,0,0,0,0,0,0,0,0,0,0,0,0,0,0,0,0,0,0,0,0,0,0,0,0,0,0,0,0,0,0,0,0,0,0,0,0,0,0,0,0,0,0,0,0,0,0,0,0,0,0,0,0,0,0,0,0,0,0,0,0,0,0,0,0,0,0,0,0,0,0,0,0,0,0,0,0,0,0,0,0,0,0,0,0,0,0,0,0,0,0,0,0,0,0,0,0,0,0,0,0,0,0,0,0,0,0,0,0,0,0,0,0,0,0,0,0,0,0,0,0,0,0,0,0,0,0,0,0,0,0,0,0,0,0,0,0,0,0,0,0,0,0,0,0,0,0,0,0,0,0,0,0,0,0,0,0,0,0,0,0,0,0,0,0,0,0,0,0,0,0,0,0,0,0,0,0,0,0,0,0,0,0,0,0,0,0,0,0,0,0,0,0,0,0,0,0,0,0,0,0,0,0,0,0,0,0,0,0,0,0,0,0,0,0,0,0,0,0,0,0,0,0,0,0,0,0,0,0,0,0,0,0,0,0,0,0,0,0,0,0,0,0,0,0,0,0,0,0,0,0,0,0,0,0,0,0,0,0,0,0,0,0,0,0,0,0,0,0,0,0,0,0,0,0,0,0,0,0,0,0,0,0,0,0,0,0,0,0,0,0,0,0,0,0,0,0,0,0,0,0,0,0,0,0,0,0,0,0,0,0,0,0,0,0,0,0,0,0,0,0,0,0,0,0,0,0,0,0,0,0,0,0,0,0,0,0,0,0,0,0,0,0,0,0,0,0,0,0,0,0,0,0,0,0,0,0,0,0,0,0,0,0,0,0,0,0,0,0,0,0,0,0,0,0,0,0,0,0,0,0,0,0,0,0,0,0,0,0,0,0,0,0,0,0,0,0,0,0,0,0,0,0,0,0,0,0,0,0,0,0,0,0,0,0,0,0,0,0,0,0,0,0,0,0,0,0,0,0,0,0,0,0,0,0,0,0,0,0,0,0,0,0,0,0,0,0,0,0,0,0,0,0,0,0,0,0,0,0,0,0,0,0,0,0,0,0,0,0,0,0,0,0,0,0,0,0,0,0,0,0,0,0,0,0,0,0,0,0,0,0,0,0,0,0,0,0,0,0,0,0,0,0,0,0,0,0,0,0,0,0,0,0,0,0,0,0,0,0,0,0,0,0,0,0,0,0,0,0,0,0,0,0,0,0,0,0,0,0,0,0,0,0,0,0,0,0,0,0,0,0,0,0,0,0,0,0,0,0,0,0,0,0,0,0,0,0,0,0,0,0,0,0,0,0,0,0,0,0,0,0,0,0,0,0,0,0,0,0,0,0,0,0,0,0,0,0,0,0,0,0,0,0,0,0,0,0,0,0,0,0,0,0,0,0,0,0,0,0,0,0,0,0,0,0,0,0,0,0,0,0,0,0,0,0,0,0,0,0,0,0,0,0,0,0,0,0,0,0,0,0,0,0,0,0,0,0,0,0,0,0,0,0,0,0,0,0,0,0,0,0,0,0,0,0,0,0,0,0,0,0,0,0,0,0,0,0,0,0,0,0,0,0,0,0,0,0,0,0,0,0,0,0,0,0,0,0,0,0,0,0,0,0,0,0,0,0,0,0,0,0,0,0,0,0,0,0,0,0]
[5,3,5,5,{"$f":"IF(D21=0,IF(SUM(D22:$D$30)=0,\"\",E22),D21)","v":5}]
[6,{"$error":"#N/A"},{"$error":"#N/A"},0,{"$f":"IF(D22=0,IF(SUM(D23:$D$30)=0,\"\",E23),D22)","v":""}]
[7,{"$error":"#N/A"},{"$error":"#N/A"},0,{"$f":"IF(D23=0,IF(SUM(D24:$D$30)=0,\"\",E24),D23)","v":""}]
[8,{"$error":"#N/A"},{"$error":"#N/A"},0,{"$f":"IF(D24=0,IF(SUM(D25:$D$30)=0,\"\",E25),D24)","v":""},1,2,3,{"$f":"H24+1","v":4},{"$f":"I24+1","v":5},6,7,8,9,10,11,12,13,14,15,16,17,18,19,20,21,22,23,24,25,26,27,28,29,30,31,32,33,34,35,36,37,38,39,40,41,42,43,44,45,46,47,48,49,50,51,52,53,54,55,56,57,58,59,60,61,62,63,64,65,66,67,68,{"$f":"BU24+1","v":69},70,71,72,73,74,75,76,77,78,79,80,81,82,83,84,85,86,87,88,89,90,91,92,93,94,95,96,97,98,99,100,101,102,103,104,105,106,107,108,109,110,111,112,113,114,115,116,117,118,119,120,121,122,123,124,125,126,127,128,129,130,131,132,{"$f":"EG24+1","v":133},134,135,136,137,138,139,140,141,142,143,144,145,146,147,148,149,150,151,152,153,154,155,156,157,158,159,160,161,162,163,164,165,166,167,168,169,170,171,172,173,174,175,176,177,178,179,180,181,182,183,184,185,186,187,188,189,190,191,192,193,194,195,196,{"$f":"GS24+1","v":197},198,199,200,201,202,203,204,205,206,207,208,209,210,211,212,213,214,215,216,217,218,219,220,221,222,223,224,225,226,227,228,229,230,231,232,233,234,235,236,237,238,239,240,241,242,243,244,245,246,247,248,249,250,251,252,253,254,255,256,257,258,259,260,{"$f":"JE24+1","v":261},262,263,264,265,266,267,268,269,270,271,272,273,274,275,276,277,278,279,280,281,282,283,284,285,286,287,288,289,290,291,292,293,294,295,296,297,298,299,300,301,302,303,304,305,306,307,308,309,310,311,312,313,314,315,316,317,318,319,320,321,322,323,324,{"$f":"LQ24+1","v":325},326,327,328,329,330,331,332,333,334,335,336,337,338,339,340,341,342,343,344,345,346,347,348,349,350,351,352,353,354,355,356,357,358,359,360,361,362,363,364,365,366,367,368,369,370,371,372,373,374,375,376,377,378,379,380,381,382,383,384,385,386,387,388,{"$f":"OC24+1","v":389},390,391,392,393,394,395,396,397,398,399,400,401,402,403,404,405,406,407,408,409,410,411,412,413,414,415,416,417,418,419,420,421,422,423,424,425,426,427,428,429,430,431,432,433,434,435,436,437,438,439,440,441,442,443,444,445,446,447,448,449,450,451,452,{"$f":"QO24+1","v":453},454,455,456,457,458,459,460,461,462,463,464,465,466,467,468,469,470,471,472,473,474,475,476,477,478,479,480,481,482,483,484,485,486,487,488,489,490,491,492,493,494,495,496,497,498,499,500,501,502,503,504,505,506,507,508,509,510,511,512,513,514,515,516,{"$f":"TA24+1","v":517},518,519,520,521,522,523,524,525,526,527,528,529,530,531,532,533,534,535,536,537,538,539,540,541,542,543,544,545,546,547,548,549,550,551,552,553,554,555,556,557,558,559,560,561,562,563,564,565,566,567,568,569,570,571,572,573,574,575,576,577,578,579,580,{"$f":"VM24+1","v":581},582,583,584,585,586,587,588,589,590,591,592,593,594,595,596,597,598,599,600,601,602,603,604,605,606,607,608,609,610,611,612,613,614,615,616,617,618,619,620,621,622,623,624,625,626,627,628,629,630,631,632,633,634,635,636,637,638,639,640,641,642,643,644,{"$f":"XY24+1","v":645},646,647,648,649,650,651,652,653,654,655,656,657,658,659,660,661,662,663,664,665,666,667,668,669,670,671,672,673,674,675,676,677,678,679,680,681,682,683,684,685,686,687,688,689,690,691,692,693,694,695,696,697,698,699,700,701,702,703,704,705,706,707,708,{"$f":"AAK24+1","v":709},710,711,712,713,714,715,716,717,718,719,720,721,722,723,724,725,726,727,728,729,730,731,732,733,734,735,736,737,738,739,740,741,742,743,744,745,746,747,748,749,750,751,752,753,754,755,756,757,758,759,760,761,762,763,764,765,766,767,768,769,770,771,772,{"$f":"ACW24+1","v":773},774,775,776,777,778,779,780,781,782,783,784,785,786,787,788,789,790,791,792,793,794,795,796,797,798,799,800,801,802,803,804,805,806,807,808,809,810,811,812,813,814,815,816,817,818,819,820,821,822,823,824,825,826,827,828,829,830,831,832,833,834,835,836,{"$f":"AFI24+1","v":837},838,839,840,841,842,843,844,845,846,847,848,849,850,851,852,853,854,855,856,857,858,859,860,861,862,863,864,865,866,867,868,869,870,871,872,873,874,875,876,877,878,879,880,881,882,883,884,885,886,887,888,889,890,891,892,893,894,895,896,897,898,899,900,{"$f":"AHU24+1","v":901},902,903,904,905,906,907,908,909,910,911,912,913,914,915,916,917,918,919,920,921,922,923,924,925,926,927,928,929,930,931,932,933,934,935,936,937,938,939,940,941,942,943,944,945,946,947,948,949,950,951,952,953,954,955,956,957,958,959,960,961,962,963,964,{"$f":"AKG24+1","v":965},966,967,968,969,970,971,972,973,974,975,976,977,978,979,980,981,982,983,984,985,986,987,988,989,990,991,992,993,994,995,996,997,998,999,1000]
[9,{"$error":"#N/A"},{"$error":"#N/A"},0,{"$f":"IF(D25=0,IF(SUM(D26:$D$30)=0,\"\",E26),D25)","v":""},{"$f":"IF(F27=\"\",\"\",\" x \"&F27)","v":""},{"$f":"IF(G27=\"\",\"\",\" x \")&G27","v":" x 3²"},{"$f":"IF(H27=\"\",\"\",\" x \")&H27","v":""},"","","","","","","","","","",""," x 47","","","","","","","","","","","","","","","","","","","","","","","","","","","","","","","","","","","","","","","","","","","","","","","","","","","",{"$f":"IF(BT27=\"\",\"\",\" x \")&BT27","v":""},"","","","","","","","","","","","","","","","","","","","","","","","","","","","","","","","","","","","","","","","","","","","","","","","","","","","","","","","","","","","","","","",{"$f":"IF(EF27=\"\",\"\",\" x \")&EF27","v":""},"","","","","","","","","","","","","","","","","","","","","","","","","","","","","","","","","","","","","","","","","","","","","","","","","","","","","","","","","","","","","","","",{"$f":"IF(GR27=\"\",\"\",\" x \")&GR27","v":""},"","","","","","","","","","","","","","","","","","","","","","","","","","","","","","","","","","","","","","","","","","","","","","","","","","","","","","","","","","","","","","","",{"$f":"IF(JD27=\"\",\"\",\" x \")&JD27","v":""},"","","","","","","","","","","","","","","","","","","","","","","","","","","","","","","","","","","","","","","","","","","","","","","","","","","","","","","","","","","","","","","",{"$f":"IF(LP27=\"\",\"\",\" x \")&LP27","v":""},"","","","","","","","","","","","","","","","","","","","","","","","","","","","","","","","","","","","","","","","","","","","","","","","","","","","","","","","","","","","","","","",{"$f":"IF(OB27=\"\",\"\",\" x \")&OB27","v":""},"","","","","","","","","","","","","","","","","","","","","","","","","","","","","","","","","","","","","","","","","","","","","","","","","","","","","","","","","","","","","","","",{"$f":"IF(QN27=\"\",\"\",\" x \")&QN27","v":""},"","","","","","","","","","","","","","","","","","","","","","","","","","","","","","","","","","","","","","","","","","","","","","","","","","","","","","","","","","","","","","","",{"$f":"IF(SZ27=\"\",\"\",\" x \")&SZ27","v":""},"","","","","","","","","","","","","","","","","","","","","","","","","","","","","","","","","","","","","","","","","","","","","","","","","","","","","","","","","","","","","","","",{"$f":"IF(VL27=\"\",\"\",\" x \")&VL27","v":""},"","","","","","","","","","","","","","","","","","","","","","","","","","","","","","","","","","","","","","","","","","","","","","","","","","","","","","","","","","","","","","","",{"$f":"IF(XX27=\"\",\"\",\" x \")&XX27","v":""},"","","","","","","","","","","","","","","","","","","","","","","","","","","","","","","","","","","","","","","","","","","","","","","","","","","","","","","","","","","","","","","",{"$f":"IF(AAJ27=\"\",\"\",\" x \")&AAJ27","v":""},"","","","","","","","","","","","","","","","","","","","","","","","","","","","","","","","","","","","","","","","","","","","","","","","","","","","","","","","","","","","","","","",{"$f":"IF(ACV27=\"\",\"\",\" x \")&ACV27","v":""},"","","","","","","","","","","","","","","","","","","","","","","","","","","","","","","","","","","","","","","","","","","","","","","","","","","","","","","","","","","","","","","",{"$f":"IF(AFH27=\"\",\"\",\" x \")&AFH27","v":""},"","","","","","","","","","","","","","","","","","","","","","","","","","","","","","","","","","","","","","","","","","","","","","","","","","","","","","","","","","","","","","","",{"$f":"IF(AHT27=\"\",\"\",\" x \")&AHT27","v":""},"","","","","","","","","","","","","","","","","","","","","","","","","","","","","","","","","","","","","","","","","","","","","","","","","","","","","","","","","","","","","","","",{"$f":"IF(AKF27=\"\",\"\",\" x \")&AKF27","v":""},"","","","","","","","","","","","","","","","","","","","","","","","","","","","","","","","","","","","",""]
[10,{"$error":"#N/A"},{"$error":"#N/A"},0,{"$f":"IF(D26=0,IF(SUM(D27:$D$30)=0,\"\",E27),D26)","v":""},{"$f":"SUM($F$28:F28)","v":0},{"$f":"SUM($F$28:G28)","v":2},{"$f":"SUM($F$28:H28)","v":2},{"$f":"SUM($F$28:I28)","v":2},{"$f":"SUM($F$28:J28)","v":2},{"$f":"SUM($F$28:K28)","v":2},{"$f":"SUM($F$28:L28)","v":2},{"$f":"SUM($F$28:M28)","v":2},{"$f":"SUM($F$28:N28)","v":2},{"$f":"SUM($F$28:O28)","v":2},{"$f":"SUM($F$28:P28)","v":2},{"$f":"SUM($F$28:Q28)","v":2},{"$f":"SUM($F$28:R28)","v":2},{"$f":"SUM($F$28:S28)","v":2},{"$f":"SUM($F$28:T28)","v":3},{"$f":"SUM($F$28:U28)","v":3},{"$f":"SUM($F$28:V28)","v":3},{"$f":"SUM($F$28:W28)","v":3},{"$f":"SUM($F$28:X28)","v":3},{"$f":"SUM($F$28:Y28)","v":3},{"$f":"SUM($F$28:Z28)","v":3},{"$f":"SUM($F$28:AA28)","v":3},{"$f":"SUM($F$28:AB28)","v":3},{"$f":"SUM($F$28:AC28)","v":3},{"$f":"SUM($F$28:AD28)","v":3},{"$f":"SUM($F$28:AE28)","v":3},{"$f":"SUM($F$28:AF28)","v":3},{"$f":"SUM($F$28:AG28)","v":3},{"$f":"SUM($F$28:AH28)","v":3},{"$f":"SUM($F$28:AI28)","v":3},{"$f":"SUM($F$28:AJ28)","v":3},{"$f":"SUM($F$28:AK28)","v":3},{"$f":"SUM($F$28:AL28)","v":3},{"$f":"SUM($F$28:AM28)","v":3},{"$f":"SUM($F$28:AN28)","v":3},{"$f":"SUM($F$28:AO28)","v":3},{"$f":"SUM($F$28:AP28)","v":3},{"$f":"SUM($F$28:AQ28)","v":3},{"$f":"SUM($F$28:AR28)","v":3},{"$f":"SUM($F$28:AS28)","v":3},{"$f":"SUM($F$28:AT28)","v":3},{"$f":"SUM($F$28:AU28)","v":3},{"$f":"SUM($F$28:AV28)","v":3},{"$f":"SUM($F$28:AW28)","v":3},{"$f":"SUM($F$28:AX28)","v":3},{"$f":"SUM($F$28:AY28)","v":3},{"$f":"SUM($F$28:AZ28)","v":3},{"$f":"SUM($F$28:BA28)","v":3},{"$f":"SUM($F$28:BB28)","v":3},{"$f":"SUM($F$28:BC28)","v":3},{"$f":"SUM($F$28:BD28)","v":3},{"$f":"SUM($F$28:BE28)","v":3},{"$f":"SUM($F$28:BF28)","v":3},{"$f":"SUM($F$28:BG28)","v":3},{"$f":"SUM($F$28:BH28)","v":3},{"$f":"SUM($F$28:BI28)","v":3},{"$f":"SUM($F$28:BJ28)","v":3},{"$f":"SUM($F$28:BK28)","v":3},{"$f":"SUM($F$28:BL28)","v":3},{"$f":"SUM($F$28:BM28)","v":3},{"$f":"SUM($F$28:BN28)","v":3},{"$f":"SUM($F$28:BO28)","v":3},{"$f":"SUM($F$28:BP28)","v":3},{"$f":"SUM($F$28:BQ28)","v":3},{"$f":"SUM($F$28:BR28)","v":3},{"$f":"SUM($F$28:BS28)","v":3},{"$f":"SUM($F$28:BT28)","v":3},{"$f":"SUM($F$28:BU28)","v":3},{"$f":"SUM($F$28:BV28)","v":3},{"$f":"SUM($F$28:BW28)","v":3},{"$f":"SUM($F$28:BX28)","v":3},{"$f":"SUM($F$28:BY28)","v":3},{"$f":"SUM($F$28:BZ28)","v":3},{"$f":"SUM($F$28:CA28)","v":3},{"$f":"SUM($F$28:CB28)","v":3},{"$f":"SUM($F$28:CC28)","v":3},{"$f":"SUM($F$28:CD28)","v":3},{"$f":"SUM($F$28:CE28)","v":3},{"$f":"SUM($F$28:CF28)","v":3},{"$f":"SUM($F$28:CG28)","v":3},{"$f":"SUM($F$28:CH28)","v":3},{"$f":"SUM($F$28:CI28)","v":3},{"$f":"SUM($F$28:CJ28)","v":3},{"$f":"SUM($F$28:CK28)","v":3},{"$f":"SUM($F$28:CL28)","v":3},{"$f":"SUM($F$28:CM28)","v":3},{"$f":"SUM($F$28:CN28)","v":3},{"$f":"SUM($F$28:CO28)","v":3},{"$f":"SUM($F$28:CP28)","v":3},{"$f":"SUM($F$28:CQ28)","v":3},{"$f":"SUM($F$28:CR28)","v":3},{"$f":"SUM($F$28:CS28)","v":3},{"$f":"SUM($F$28:CT28)","v":3},{"$f":"SUM($F$28:CU28)","v":3},{"$f":"SUM($F$28:CV28)","v":3},{"$f":"SUM($F$28:CW28)","v":3},{"$f":"SUM($F$28:CX28)","v":3},{"$f":"SUM($F$28:CY28)","v":3},{"$f":"SUM($F$28:CZ28)","v":3},{"$f":"SUM($F$28:DA28)","v":3},{"$f":"SUM($F$28:DB28)","v":3},{"$f":"SUM($F$28:DC28)","v":3},{"$f":"SUM($F$28:DD28)","v":3},{"$f":"SUM($F$28:DE28)","v":3},{"$f":"SUM($F$28:DF28)","v":3},{"$f":"SUM($F$28:DG28)","v":3},{"$f":"SUM($F$28:DH28)","v":3},{"$f":"SUM($F$28:DI28)","v":3},{"$f":"SUM($F$28:DJ28)","v":3},{"$f":"SUM($F$28:DK28)","v":3},{"$f":"SUM($F$28:DL28)","v":3},{"$f":"SUM($F$28:DM28)","v":3},{"$f":"SUM($F$28:DN28)","v":3},{"$f":"SUM($F$28:DO28)","v":3},{"$f":"SUM($F$28:DP28)","v":3},{"$f":"SUM($F$28:DQ28)","v":3},{"$f":"SUM($F$28:DR28)","v":3},{"$f":"SUM($F$28:DS28)","v":3},{"$f":"SUM($F$28:DT28)","v":3},{"$f":"SUM($F$28:DU28)","v":3},{"$f":"SUM($F$28:DV28)","v":3},{"$f":"SUM($F$28:DW28)","v":3},{"$f":"SUM($F$28:DX28)","v":3},{"$f":"SUM($F$28:DY28)","v":3},{"$f":"SUM($F$28:DZ28)","v":3},{"$f":"SUM($F$28:EA28)","v":3},{"$f":"SUM($F$28:EB28)","v":3},{"$f":"SUM($F$28:EC28)","v":3},{"$f":"SUM($F$28:ED28)","v":3},{"$f":"SUM($F$28:EE28)","v":3},{"$f":"SUM($F$28:EF28)","v":3},{"$f":"SUM($F$28:EG28)","v":3},{"$f":"SUM($F$28:EH28)","v":3},{"$f":"SUM($F$28:EI28)","v":3},{"$f":"SUM($F$28:EJ28)","v":3},{"$f":"SUM($F$28:EK28)","v":3},{"$f":"SUM($F$28:EL28)","v":3},{"$f":"SUM($F$28:EM28)","v":3},{"$f":"SUM($F$28:EN28)","v":3},{"$f":"SUM($F$28:EO28)","v":3},{"$f":"SUM($F$28:EP28)","v":3},{"$f":"SUM($F$28:EQ28)","v":3},{"$f":"SUM($F$28:ER28)","v":3},{"$f":"SUM($F$28:ES28)","v":3},{"$f":"SUM($F$28:ET28)","v":3},{"$f":"SUM($F$28:EU28)","v":3},{"$f":"SUM($F$28:EV28)","v":3},{"$f":"SUM($F$28:EW28)","v":3},{"$f":"SUM($F$28:EX28)","v":3},{"$f":"SUM($F$28:EY28)","v":3},{"$f":"SUM($F$28:EZ28)","v":3},{"$f":"SUM($F$28:FA28)","v":3},{"$f":"SUM($F$28:FB28)","v":3},{"$f":"SUM($F$28:FC28)","v":3},{"$f":"SUM($F$28:FD28)","v":3},{"$f":"SUM($F$28:FE28)","v":3},{"$f":"SUM($F$28:FF28)","v":3},{"$f":"SUM($F$28:FG28)","v":3},{"$f":"SUM($F$28:FH28)","v":3},{"$f":"SUM($F$28:FI28)","v":3},{"$f":"SUM($F$28:FJ28)","v":3},{"$f":"SUM($F$28:FK28)","v":3},{"$f":"SUM($F$28:FL28)","v":3},{"$f":"SUM($F$28:FM28)","v":3},{"$f":"SUM($F$28:FN28)","v":3},{"$f":"SUM($F$28:FO28)","v":3},{"$f":"SUM($F$28:FP28)","v":3},{"$f":"SUM($F$28:FQ28)","v":3},{"$f":"SUM($F$28:FR28)","v":3},{"$f":"SUM($F$28:FS28)","v":3},{"$f":"SUM($F$28:FT28)","v":3},{"$f":"SUM($F$28:FU28)","v":3},{"$f":"SUM($F$28:FV28)","v":3},{"$f":"SUM($F$28:FW28)","v":3},{"$f":"SUM($F$28:FX28)","v":3},{"$f":"SUM($F$28:FY28)","v":3},{"$f":"SUM($F$28:FZ28)","v":3},{"$f":"SUM($F$28:GA28)","v":3},{"$f":"SUM($F$28:GB28)","v":3},{"$f":"SUM($F$28:GC28)","v":3},{"$f":"SUM($F$28:GD28)","v":3},{"$f":"SUM($F$28:GE28)","v":3},{"$f":"SUM($F$28:GF28)","v":3},{"$f":"SUM($F$28:GG28)","v":3},{"$f":"SUM($F$28:GH28)","v":3},{"$f":"SUM($F$28:GI28)","v":3},{"$f":"SUM($F$28:GJ28)","v":3},{"$f":"SUM($F$28:GK28)","v":3},{"$f":"SUM($F$28:GL28)","v":3},{"$f":"SUM($F$28:GM28)","v":3},{"$f":"SUM($F$28:GN28)","v":3},{"$f":"SUM($F$28:GO28)","v":3},{"$f":"SUM($F$28:GP28)","v":3},{"$f":"SUM($F$28:GQ28)","v":3},{"$f":"SUM($F$28:GR28)","v":3},{"$f":"SUM($F$28:GS28)","v":3},{"$f":"SUM($F$28:GT28)","v":3},{"$f":"SUM($F$28:GU28)","v":3},{"$f":"SUM($F$28:GV28)","v":3},{"$f":"SUM($F$28:GW28)","v":3},{"$f":"SUM($F$28:GX28)","v":3},{"$f":"SUM($F$28:GY28)","v":3},{"$f":"SUM($F$28:GZ28)","v":3},{"$f":"SUM($F$28:HA28)","v":3},{"$f":"SUM($F$28:HB28)","v":3},{"$f":"SUM($F$28:HC28)","v":3},{"$f":"SUM($F$28:HD28)","v":3},{"$f":"SUM($F$28:HE28)","v":3},{"$f":"SUM($F$28:HF28)","v":3},{"$f":"SUM($F$28:HG28)","v":3},{"$f":"SUM($F$28:HH28)","v":3},{"$f":"SUM($F$28:HI28)","v":3},{"$f":"SUM($F$28:HJ28)","v":3},{"$f":"SUM($F$28:HK28)","v":3},{"$f":"SUM($F$28:HL28)","v":3},{"$f":"SUM($F$28:HM28)","v":3},{"$f":"SUM($F$28:HN28)","v":3},{"$f":"SUM($F$28:HO28)","v":3},{"$f":"SUM($F$28:HP28)","v":3},{"$f":"SUM($F$28:HQ28)","v":3},{"$f":"SUM($F$28:HR28)","v":3},{"$f":"SUM($F$28:HS28)","v":3},{"$f":"SUM($F$28:HT28)","v":3},{"$f":"SUM($F$28:HU28)","v":3},{"$f":"SUM($F$28:HV28)","v":3},{"$f":"SUM($F$28:HW28)","v":3},{"$f":"SUM($F$28:HX28)","v":3},{"$f":"SUM($F$28:HY28)","v":3},{"$f":"SUM($F$28:HZ28)","v":3},{"$f":"SUM($F$28:IA28)","v":3},{"$f":"SUM($F$28:IB28)","v":3},{"$f":"SUM($F$28:IC28)","v":3},{"$f":"SUM($F$28:ID28)","v":3},{"$f":"SUM($F$28:IE28)","v":3},{"$f":"SUM($F$28:IF28)","v":3},{"$f":"SUM($F$28:IG28)","v":3},{"$f":"SUM($F$28:IH28)","v":3},{"$f":"SUM($F$28:II28)","v":3},{"$f":"SUM($F$28:IJ28)","v":3},{"$f":"SUM($F$28:IK28)","v":3},{"$f":"SUM($F$28:IL28)","v":3},{"$f":"SUM($F$28:IM28)","v":3},{"$f":"SUM($F$28:IN28)","v":3},{"$f":"SUM($F$28:IO28)","v":3},{"$f":"SUM($F$28:IP28)","v":3},{"$f":"SUM($F$28:IQ28)","v":3},{"$f":"SUM($F$28:IR28)","v":3},{"$f":"SUM($F$28:IS28)","v":3},{"$f":"SUM($F$28:IT28)","v":3},{"$f":"SUM($F$28:IU28)","v":3},{"$f":"SUM($F$28:IV28)","v":3},{"$f":"SUM($F$28:IW28)","v":3},{"$f":"SUM($F$28:IX28)","v":3},{"$f":"SUM($F$28:IY28)","v":3},{"$f":"SUM($F$28:IZ28)","v":3},{"$f":"SUM($F$28:JA28)","v":3},{"$f":"SUM($F$28:JB28)","v":3},{"$f":"SUM($F$28:JC28)","v":3},{"$f":"SUM($F$28:JD28)","v":3},{"$f":"SUM($F$28:JE28)","v":3},{"$f":"SUM($F$28:JF28)","v":3},{"$f":"SUM($F$28:JG28)","v":3},{"$f":"SUM($F$28:JH28)","v":3},{"$f":"SUM($F$28:JI28)","v":3},{"$f":"SUM($F$28:JJ28)","v":3},{"$f":"SUM($F$28:JK28)","v":3},{"$f":"SUM($F$28:JL28)","v":3},{"$f":"SUM($F$28:JM28)","v":3},{"$f":"SUM($F$28:JN28)","v":3},{"$f":"SUM($F$28:JO28)","v":3},{"$f":"SUM($F$28:JP28)","v":3},{"$f":"SUM($F$28:JQ28)","v":3},{"$f":"SUM($F$28:JR28)","v":3},{"$f":"SUM($F$28:JS28)","v":3},{"$f":"SUM($F$28:JT28)","v":3},{"$f":"SUM($F$28:JU28)","v":3},{"$f":"SUM($F$28:JV28)","v":3},{"$f":"SUM($F$28:JW28)","v":3},{"$f":"SUM($F$28:JX28)","v":3},{"$f":"SUM($F$28:JY28)","v":3},{"$f":"SUM($F$28:JZ28)","v":3},{"$f":"SUM($F$28:KA28)","v":3},{"$f":"SUM($F$28:KB28)","v":3},{"$f":"SUM($F$28:KC28)","v":3},{"$f":"SUM($F$28:KD28)","v":3},{"$f":"SUM($F$28:KE28)","v":3},{"$f":"SUM($F$28:KF28)","v":3},{"$f":"SUM($F$28:KG28)","v":3},{"$f":"SUM($F$28:KH28)","v":3},{"$f":"SUM($F$28:KI28)","v":3},{"$f":"SUM($F$28:KJ28)","v":3},{"$f":"SUM($F$28:KK28)","v":3},{"$f":"SUM($F$28:KL28)","v":3},{"$f":"SUM($F$28:KM28)","v":3},{"$f":"SUM($F$28:KN28)","v":3},{"$f":"SUM($F$28:KO28)","v":3},{"$f":"SUM($F$28:KP28)","v":3},{"$f":"SUM($F$28:KQ28)","v":3},{"$f":"SUM($F$28:KR28)","v":3},{"$f":"SUM($F$28:KS28)","v":3},{"$f":"SUM($F$28:KT28)","v":3},{"$f":"SUM($F$28:KU28)","v":3},{"$f":"SUM($F$28:KV28)","v":3},{"$f":"SUM($F$28:KW28)","v":3},{"$f":"SUM($F$28:KX28)","v":3},{"$f":"SUM($F$28:KY28)","v":3},{"$f":"SUM($F$28:KZ28)","v":3},{"$f":"SUM($F$28:LA28)","v":3},{"$f":"SUM($F$28:LB28)","v":3},{"$f":"SUM($F$28:LC28)","v":3},{"$f":"SUM($F$28:LD28)","v":3},{"$f":"SUM($F$28:LE28)","v":3},{"$f":"SUM($F$28:LF28)","v":3},{"$f":"SUM($F$28:LG28)","v":3},{"$f":"SUM($F$28:LH28)","v":3},{"$f":"SUM($F$28:LI28)","v":3},{"$f":"SUM($F$28:LJ28)","v":3},{"$f":"SUM($F$28:LK28)","v":3},{"$f":"SUM($F$28:LL28)","v":3},{"$f":"SUM($F$28:LM28)","v":3},{"$f":"SUM($F$28:LN28)","v":3},{"$f":"SUM($F$28:LO28)","v":3},{"$f":"SUM($F$28:LP28)","v":3},{"$f":"SUM($F$28:LQ28)","v":3},{"$f":"SUM($F$28:LR28)","v":3},{"$f":"SUM($F$28:LS28)","v":3},{"$f":"SUM($F$28:LT28)","v":3},{"$f":"SUM($F$28:LU28)","v":3},{"$f":"SUM($F$28:LV28)","v":3},{"$f":"SUM($F$28:LW28)","v":3},{"$f":"SUM($F$28:LX28)","v":3},{"$f":"SUM($F$28:LY28)","v":3},{"$f":"SUM($F$28:LZ28)","v":3},{"$f":"SUM($F$28:MA28)","v":3},{"$f":"SUM($F$28:MB28)","v":3},{"$f":"SUM($F$28:MC28)","v":3},{"$f":"SUM($F$28:MD28)","v":3},{"$f":"SUM($F$28:ME28)","v":3},{"$f":"SUM($F$28:MF28)","v":3},{"$f":"SUM($F$28:MG28)","v":3},{"$f":"SUM($F$28:MH28)","v":3},{"$f":"SUM($F$28:MI28)","v":3},{"$f":"SUM($F$28:MJ28)","v":3},{"$f":"SUM($F$28:MK28)","v":3},{"$f":"SUM($F$28:ML28)","v":3},{"$f":"SUM($F$28:MM28)","v":3},{"$f":"SUM($F$28:MN28)","v":3},{"$f":"SUM($F$28:MO28)","v":3},{"$f":"SUM($F$28:MP28)","v":3},{"$f":"SUM($F$28:MQ28)","v":3},{"$f":"SUM($F$28:MR28)","v":3},{"$f":"SUM($F$28:MS28)","v":3},{"$f":"SUM($F$28:MT28)","v":3},{"$f":"SUM($F$28:MU28)","v":3},{"$f":"SUM($F$28:MV28)","v":3},{"$f":"SUM($F$28:MW28)","v":3},{"$f":"SUM($F$28:MX28)","v":3},{"$f":"SUM($F$28:MY28)","v":3},{"$f":"SUM($F$28:MZ28)","v":3},{"$f":"SUM($F$28:NA28)","v":3},{"$f":"SUM($F$28:NB28)","v":3},{"$f":"SUM($F$28:NC28)","v":3},{"$f":"SUM($F$28:ND28)","v":3},{"$f":"SUM($F$28:NE28)","v":3},{"$f":"SUM($F$28:NF28)","v":3},{"$f":"SUM($F$28:NG28)","v":3},{"$f":"SUM($F$28:NH28)","v":3},{"$f":"SUM($F$28:NI28)","v":3},{"$f":"SUM($F$28:NJ28)","v":3},{"$f":"SUM($F$28:NK28)","v":3},{"$f":"SUM($F$28:NL28)","v":3},{"$f":"SUM($F$28:NM28)","v":3},{"$f":"SUM($F$28:NN28)","v":3},{"$f":"SUM($F$28:NO28)","v":3},{"$f":"SUM($F$28:NP28)","v":3},{"$f":"SUM($F$28:NQ28)","v":3},{"$f":"SUM($F$28:NR28)","v":3},{"$f":"SUM($F$28:NS28)","v":3},{"$f":"SUM($F$28:NT28)","v":3},{"$f":"SUM($F$28:NU28)","v":3},{"$f":"SUM($F$28:NV28)","v":3},{"$f":"SUM($F$28:NW28)","v":3},{"$f":"SUM($F$28:NX28)","v":3},{"$f":"SUM($F$28:NY28)","v":3},{"$f":"SUM($F$28:NZ28)","v":3},{"$f":"SUM($F$28:OA28)","v":3},{"$f":"SUM($F$28:OB28)","v":3},{"$f":"SUM($F$28:OC28)","v":3},{"$f":"SUM($F$28:OD28)","v":3},{"$f":"SUM($F$28:OE28)","v":3},{"$f":"SUM($F$28:OF28)","v":3},{"$f":"SUM($F$28:OG28)","v":3},{"$f":"SUM($F$28:OH28)","v":3},{"$f":"SUM($F$28:OI28)","v":3},{"$f":"SUM($F$28:OJ28)","v":3},{"$f":"SUM($F$28:OK28)","v":3},{"$f":"SUM($F$28:OL28)","v":3},{"$f":"SUM($F$28:OM28)","v":3},{"$f":"SUM($F$28:ON28)","v":3},{"$f":"SUM($F$28:OO28)","v":3},{"$f":"SUM($F$28:OP28)","v":3},{"$f":"SUM($F$28:OQ28)","v":3},{"$f":"SUM($F$28:OR28)","v":3},{"$f":"SUM($F$28:OS28)","v":3},{"$f":"SUM($F$28:OT28)","v":3},{"$f":"SUM($F$28:OU28)","v":3},{"$f":"SUM($F$28:OV28)","v":3},{"$f":"SUM($F$28:OW28)","v":3},{"$f":"SUM($F$28:OX28)","v":3},{"$f":"SUM($F$28:OY28)","v":3},{"$f":"SUM($F$28:OZ28)","v":3},{"$f":"SUM($F$28:PA28)","v":3},{"$f":"SUM($F$28:PB28)","v":3},{"$f":"SUM($F$28:PC28)","v":3},{"$f":"SUM($F$28:PD28)","v":3},{"$f":"SUM($F$28:PE28)","v":3},{"$f":"SUM($F$28:PF28)","v":3},{"$f":"SUM($F$28:PG28)","v":3},{"$f":"SUM($F$28:PH28)","v":3},{"$f":"SUM($F$28:PI28)","v":3},{"$f":"SUM($F$28:PJ28)","v":3},{"$f":"SUM($F$28:PK28)","v":3},{"$f":"SUM($F$28:PL28)","v":3},{"$f":"SUM($F$28:PM28)","v":3},{"$f":"SUM($F$28:PN28)","v":3},{"$f":"SUM($F$28:PO28)","v":3},{"$f":"SUM($F$28:PP28)","v":3},{"$f":"SUM($F$28:PQ28)","v":3},{"$f":"SUM($F$28:PR28)","v":3},{"$f":"SUM($F$28:PS28)","v":3},{"$f":"SUM($F$28:PT28)","v":3},{"$f":"SUM($F$28:PU28)","v":3},{"$f":"SUM($F$28:PV28)","v":3},{"$f":"SUM($F$28:PW28)","v":3},{"$f":"SUM($F$28:PX28)","v":3},{"$f":"SUM($F$28:PY28)","v":3},{"$f":"SUM($F$28:PZ28)","v":3},{"$f":"SUM($F$28:QA28)","v":3},{"$f":"SUM($F$28:QB28)","v":3},{"$f":"SUM($F$28:QC28)","v":3},{"$f":"SUM($F$28:QD28)","v":3},{"$f":"SUM($F$28:QE28)","v":3},{"$f":"SUM($F$28:QF28)","v":3},{"$f":"SUM($F$28:QG28)","v":3},{"$f":"SUM($F$28:QH28)","v":3},{"$f":"SUM($F$28:QI28)","v":3},{"$f":"SUM($F$28:QJ28)","v":3},{"$f":"SUM($F$28:QK28)","v":3},{"$f":"SUM($F$28:QL28)","v":3},{"$f":"SUM($F$28:QM28)","v":3},{"$f":"SUM($F$28:QN28)","v":3},{"$f":"SUM($F$28:QO28)","v":3},{"$f":"SUM($F$28:QP28)","v":3},{"$f":"SUM($F$28:QQ28)","v":3},{"$f":"SUM($F$28:QR28)","v":3},{"$f":"SUM($F$28:QS28)","v":3},{"$f":"SUM($F$28:QT28)","v":3},{"$f":"SUM($F$28:QU28)","v":3},{"$f":"SUM($F$28:QV28)","v":3},{"$f":"SUM($F$28:QW28)","v":3},{"$f":"SUM($F$28:QX28)","v":3},{"$f":"SUM($F$28:QY28)","v":3},{"$f":"SUM($F$28:QZ28)","v":3},{"$f":"SUM($F$28:RA28)","v":3},{"$f":"SUM($F$28:RB28)","v":3},{"$f":"SUM($F$28:RC28)","v":3},{"$f":"SUM($F$28:RD28)","v":3},{"$f":"SUM($F$28:RE28)","v":3},{"$f":"SUM($F$28:RF28)","v":3},{"$f":"SUM($F$28:RG28)","v":3},{"$f":"SUM($F$28:RH28)","v":3},{"$f":"SUM($F$28:RI28)","v":3},{"$f":"SUM($F$28:RJ28)","v":3},{"$f":"SUM($F$28:RK28)","v":3},{"$f":"SUM($F$28:RL28)","v":3},{"$f":"SUM($F$28:RM28)","v":3},{"$f":"SUM($F$28:RN28)","v":3},{"$f":"SUM($F$28:RO28)","v":3},{"$f":"SUM($F$28:RP28)","v":3},{"$f":"SUM($F$28:RQ28)","v":3},{"$f":"SUM($F$28:RR28)","v":3},{"$f":"SUM($F$28:RS28)","v":3},{"$f":"SUM($F$28:RT28)","v":3},{"$f":"SUM($F$28:RU28)","v":3},{"$f":"SUM($F$28:RV28)","v":3},{"$f":"SUM($F$28:RW28)","v":3},{"$f":"SUM($F$28:RX28)","v":3},{"$f":"SUM($F$28:RY28)","v":3},{"$f":"SUM($F$28:RZ28)","v":3},{"$f":"SUM($F$28:SA28)","v":3},{"$f":"SUM($F$28:SB28)","v":3},{"$f":"SUM($F$28:SC28)","v":3},{"$f":"SUM($F$28:SD28)","v":3},{"$f":"SUM($F$28:SE28)","v":3},{"$f":"SUM($F$28:SF28)","v":3},{"$f":"SUM($F$28:SG28)","v":3},{"$f":"SUM($F$28:SH28)","v":3},{"$f":"SUM($F$28:SI28)","v":3},{"$f":"SUM($F$28:SJ28)","v":3},{"$f":"SUM($F$28:SK28)","v":3},{"$f":"SUM($F$28:SL28)","v":3},{"$f":"SUM($F$28:SM28)","v":3},{"$f":"SUM($F$28:SN28)","v":3},{"$f":"SUM($F$28:SO28)","v":3},{"$f":"SUM($F$28:SP28)","v":3},{"$f":"SUM($F$28:SQ28)","v":3},{"$f":"SUM($F$28:SR28)","v":3},{"$f":"SUM($F$28:SS28)","v":3},{"$f":"SUM($F$28:ST28)","v":3},{"$f":"SUM($F$28:SU28)","v":3},{"$f":"SUM($F$28:SV28)","v":3},{"$f":"SUM($F$28:SW28)","v":3},{"$f":"SUM($F$28:SX28)","v":3},{"$f":"SUM($F$28:SY28)","v":3},{"$f":"SUM($F$28:SZ28)","v":3},{"$f":"SUM($F$28:TA28)","v":3},{"$f":"SUM($F$28:TB28)","v":3},{"$f":"SUM($F$28:TC28)","v":3},{"$f":"SUM($F$28:TD28)","v":3},{"$f":"SUM($F$28:TE28)","v":3},{"$f":"SUM($F$28:TF28)","v":3},{"$f":"SUM($F$28:TG28)","v":3},{"$f":"SUM($F$28:TH28)","v":3},{"$f":"SUM($F$28:TI28)","v":3},{"$f":"SUM($F$28:TJ28)","v":3},{"$f":"SUM($F$28:TK28)","v":3},{"$f":"SUM($F$28:TL28)","v":3},{"$f":"SUM($F$28:TM28)","v":3},{"$f":"SUM($F$28:TN28)","v":3},{"$f":"SUM($F$28:TO28)","v":3},{"$f":"SUM($F$28:TP28)","v":3},{"$f":"SUM($F$28:TQ28)","v":3},{"$f":"SUM($F$28:TR28)","v":3},{"$f":"SUM($F$28:TS28)","v":3},{"$f":"SUM($F$28:TT28)","v":3},{"$f":"SUM($F$28:TU28)","v":3},{"$f":"SUM($F$28:TV28)","v":3},{"$f":"SUM($F$28:TW28)","v":3},{"$f":"SUM($F$28:TX28)","v":3},{"$f":"SUM($F$28:TY28)","v":3},{"$f":"SUM($F$28:TZ28)","v":3},{"$f":"SUM($F$28:UA28)","v":3},{"$f":"SUM($F$28:UB28)","v":3},{"$f":"SUM($F$28:UC28)","v":3},{"$f":"SUM($F$28:UD28)","v":3},{"$f":"SUM($F$28:UE28)","v":3},{"$f":"SUM($F$28:UF28)","v":3},{"$f":"SUM($F$28:UG28)","v":3},{"$f":"SUM($F$28:UH28)","v":3},{"$f":"SUM($F$28:UI28)","v":3},{"$f":"SUM($F$28:UJ28)","v":3},{"$f":"SUM($F$28:UK28)","v":3},{"$f":"SUM($F$28:UL28)","v":3},{"$f":"SUM($F$28:UM28)","v":3},{"$f":"SUM($F$28:UN28)","v":3},{"$f":"SUM($F$28:UO28)","v":3},{"$f":"SUM($F$28:UP28)","v":3},{"$f":"SUM($F$28:UQ28)","v":3},{"$f":"SUM($F$28:UR28)","v":3},{"$f":"SUM($F$28:US28)","v":3},{"$f":"SUM($F$28:UT28)","v":3},{"$f":"SUM($F$28:UU28)","v":3},{"$f":"SUM($F$28:UV28)","v":3},{"$f":"SUM($F$28:UW28)","v":3},{"$f":"SUM($F$28:UX28)","v":3},{"$f":"SUM($F$28:UY28)","v":3},{"$f":"SUM($F$28:UZ28)","v":3},{"$f":"SUM($F$28:VA28)","v":3},{"$f":"SUM($F$28:VB28)","v":3},{"$f":"SUM($F$28:VC28)","v":3},{"$f":"SUM($F$28:VD28)","v":3},{"$f":"SUM($F$28:VE28)","v":3},{"$f":"SUM($F$28:VF28)","v":3},{"$f":"SUM($F$28:VG28)","v":3},{"$f":"SUM($F$28:VH28)","v":3},{"$f":"SUM($F$28:VI28)","v":3},{"$f":"SUM($F$28:VJ28)","v":3},{"$f":"SUM($F$28:VK28)","v":3},{"$f":"SUM($F$28:VL28)","v":3},{"$f":"SUM($F$28:VM28)","v":3},{"$f":"SUM($F$28:VN28)","v":3},{"$f":"SUM($F$28:VO28)","v":3},{"$f":"SUM($F$28:VP28)","v":3},{"$f":"SUM($F$28:VQ28)","v":3},{"$f":"SUM($F$28:VR28)","v":3},{"$f":"SUM($F$28:VS28)","v":3},{"$f":"SUM($F$28:VT28)","v":3},{"$f":"SUM($F$28:VU28)","v":3},{"$f":"SUM($F$28:VV28)","v":3},{"$f":"SUM($F$28:VW28)","v":3},{"$f":"SUM($F$28:VX28)","v":3},{"$f":"SUM($F$28:VY28)","v":3},{"$f":"SUM($F$28:VZ28)","v":3},{"$f":"SUM($F$28:WA28)","v":3},{"$f":"SUM($F$28:WB28)","v":3},{"$f":"SUM($F$28:WC28)","v":3},{"$f":"SUM($F$28:WD28)","v":3},{"$f":"SUM($F$28:WE28)","v":3},{"$f":"SUM($F$28:WF28)","v":3},{"$f":"SUM($F$28:WG28)","v":3},{"$f":"SUM($F$28:WH28)","v":3},{"$f":"SUM($F$28:WI28)","v":3},{"$f":"SUM($F$28:WJ28)","v":3},{"$f":"SUM($F$28:WK28)","v":3},{"$f":"SUM($F$28:WL28)","v":3},{"$f":"SUM($F$28:WM28)","v":3},{"$f":"SUM($F$28:WN28)","v":3},{"$f":"SUM($F$28:WO28)","v":3},{"$f":"SUM($F$28:WP28)","v":3},{"$f":"SUM($F$28:WQ28)","v":3},{"$f":"SUM($F$28:WR28)","v":3},{"$f":"SUM($F$28:WS28)","v":3},{"$f":"SUM($F$28:WT28)","v":3},{"$f":"SUM($F$28:WU28)","v":3},{"$f":"SUM($F$28:WV28)","v":3},{"$f":"SUM($F$28:WW28)","v":3},{"$f":"SUM($F$28:WX28)","v":3},{"$f":"SUM($F$28:WY28)","v":3},{"$f":"SUM($F$28:WZ28)","v":3},{"$f":"SUM($F$28:XA28)","v":3},{"$f":"SUM($F$28:XB28)","v":3},{"$f":"SUM($F$28:XC28)","v":3},{"$f":"SUM($F$28:XD28)","v":3},{"$f":"SUM($F$28:XE28)","v":3},{"$f":"SUM($F$28:XF28)","v":3},{"$f":"SUM($F$28:XG28)","v":3},{"$f":"SUM($F$28:XH28)","v":3},{"$f":"SUM($F$28:XI28)","v":3},{"$f":"SUM($F$28:XJ28)","v":3},{"$f":"SUM($F$28:XK28)","v":3},{"$f":"SUM($F$28:XL28)","v":3},{"$f":"SUM($F$28:XM28)","v":3},{"$f":"SUM($F$28:XN28)","v":3},{"$f":"SUM($F$28:XO28)","v":3},{"$f":"SUM($F$28:XP28)","v":3},{"$f":"SUM($F$28:XQ28)","v":3},{"$f":"SUM($F$28:XR28)","v":3},{"$f":"SUM($F$28:XS28)","v":3},{"$f":"SUM($F$28:XT28)","v":3},{"$f":"SUM($F$28:XU28)","v":3},{"$f":"SUM($F$28:XV28)","v":3},{"$f":"SUM($F$28:XW28)","v":3},{"$f":"SUM($F$28:XX28)","v":3},{"$f":"SUM($F$28:XY28)","v":3},{"$f":"SUM($F$28:XZ28)","v":3},{"$f":"SUM($F$28:YA28)","v":3},{"$f":"SUM($F$28:YB28)","v":3},{"$f":"SUM($F$28:YC28)","v":3},{"$f":"SUM($F$28:YD28)","v":3},{"$f":"SUM($F$28:YE28)","v":3},{"$f":"SUM($F$28:YF28)","v":3},{"$f":"SUM($F$28:YG28)","v":3},{"$f":"SUM($F$28:YH28)","v":3},{"$f":"SUM($F$28:YI28)","v":3},{"$f":"SUM($F$28:YJ28)","v":3},{"$f":"SUM($F$28:YK28)","v":3},{"$f":"SUM($F$28:YL28)","v":3},{"$f":"SUM($F$28:YM28)","v":3},{"$f":"SUM($F$28:YN28)","v":3},{"$f":"SUM($F$28:YO28)","v":3},{"$f":"SUM($F$28:YP28)","v":3},{"$f":"SUM($F$28:YQ28)","v":3},{"$f":"SUM($F$28:YR28)","v":3},{"$f":"SUM($F$28:YS28)","v":3},{"$f":"SUM($F$28:YT28)","v":3},{"$f":"SUM($F$28:YU28)","v":3},{"$f":"SUM($F$28:YV28)","v":3},{"$f":"SUM($F$28:YW28)","v":3},{"$f":"SUM($F$28:YX28)","v":3},{"$f":"SUM($F$28:YY28)","v":3},{"$f":"SUM($F$28:YZ28)","v":3},{"$f":"SUM($F$28:ZA28)","v":3},{"$f":"SUM($F$28:ZB28)","v":3},{"$f":"SUM($F$28:ZC28)","v":3},{"$f":"SUM($F$28:ZD28)","v":3},{"$f":"SUM($F$28:ZE28)","v":3},{"$f":"SUM($F$28:ZF28)","v":3},{"$f":"SUM($F$28:ZG28)","v":3},{"$f":"SUM($F$28:ZH28)","v":3},{"$f":"SUM($F$28:ZI28)","v":3},{"$f":"SUM($F$28:ZJ28)","v":3},{"$f":"SUM($F$28:ZK28)","v":3},{"$f":"SUM($F$28:ZL28)","v":3},{"$f":"SUM($F$28:ZM28)","v":3},{"$f":"SUM($F$28:ZN28)","v":3},{"$f":"SUM($F$28:ZO28)","v":3},{"$f":"SUM($F$28:ZP28)","v":3},{"$f":"SUM($F$28:ZQ28)","v":3},{"$f":"SUM($F$28:ZR28)","v":3},{"$f":"SUM($F$28:ZS28)","v":3},{"$f":"SUM($F$28:ZT28)","v":3},{"$f":"SUM($F$28:ZU28)","v":3},{"$f":"SUM($F$28:ZV28)","v":3},{"$f":"SUM($F$28:ZW28)","v":3},{"$f":"SUM($F$28:ZX28)","v":3},{"$f":"SUM($F$28:ZY28)","v":3},{"$f":"SUM($F$28:ZZ28)","v":3},{"$f":"SUM($F$28:AAA28)","v":3},{"$f":"SUM($F$28:AAB28)","v":3},{"$f":"SUM($F$28:AAC28)","v":3},{"$f":"SUM($F$28:AAD28)","v":3},{"$f":"SUM($F$28:AAE28)","v":3},{"$f":"SUM($F$28:AAF28)","v":3},{"$f":"SUM($F$28:AAG28)","v":3},{"$f":"SUM($F$28:AAH28)","v":3},{"$f":"SUM($F$28:AAI28)","v":3},{"$f":"SUM($F$28:AAJ28)","v":3},{"$f":"SUM($F$28:AAK28)","v":3},{"$f":"SUM($F$28:AAL28)","v":3},{"$f":"SUM($F$28:AAM28)","v":3},{"$f":"SUM($F$28:AAN28)","v":3},{"$f":"SUM($F$28:AAO28)","v":3},{"$f":"SUM($F$28:AAP28)","v":3},{"$f":"SUM($F$28:AAQ28)","v":3},{"$f":"SUM($F$28:AAR28)","v":3},{"$f":"SUM($F$28:AAS28)","v":3},{"$f":"SUM($F$28:AAT28)","v":3},{"$f":"SUM($F$28:AAU28)","v":3},{"$f":"SUM($F$28:AAV28)","v":3},{"$f":"SUM($F$28:AAW28)","v":3},{"$f":"SUM($F$28:AAX28)","v":3},{"$f":"SUM($F$28:AAY28)","v":3},{"$f":"SUM($F$28:AAZ28)","v":3},{"$f":"SUM($F$28:ABA28)","v":3},{"$f":"SUM($F$28:ABB28)","v":3},{"$f":"SUM($F$28:ABC28)","v":3},{"$f":"SUM($F$28:ABD28)","v":3},{"$f":"SUM($F$28:ABE28)","v":3},{"$f":"SUM($F$28:ABF28)","v":3},{"$f":"SUM($F$28:ABG28)","v":3},{"$f":"SUM($F$28:ABH28)","v":3},{"$f":"SUM($F$28:ABI28)","v":3},{"$f":"SUM($F$28:ABJ28)","v":3},{"$f":"SUM($F$28:ABK28)","v":3},{"$f":"SUM($F$28:ABL28)","v":3},{"$f":"SUM($F$28:ABM28)","v":3},{"$f":"SUM($F$28:ABN28)","v":3},{"$f":"SUM($F$28:ABO28)","v":3},{"$f":"SUM($F$28:ABP28)","v":3},{"$f":"SUM($F$28:ABQ28)","v":3},{"$f":"SUM($F$28:ABR28)","v":3},{"$f":"SUM($F$28:ABS28)","v":3},{"$f":"SUM($F$28:ABT28)","v":3},{"$f":"SUM($F$28:ABU28)","v":3},{"$f":"SUM($F$28:ABV28)","v":3},{"$f":"SUM($F$28:ABW28)","v":3},{"$f":"SUM($F$28:ABX28)","v":3},{"$f":"SUM($F$28:ABY28)","v":3},{"$f":"SUM($F$28:ABZ28)","v":3},{"$f":"SUM($F$28:ACA28)","v":3},{"$f":"SUM($F$28:ACB28)","v":3},{"$f":"SUM($F$28:ACC28)","v":3},{"$f":"SUM($F$28:ACD28)","v":3},{"$f":"SUM($F$28:ACE28)","v":3},{"$f":"SUM($F$28:ACF28)","v":3},{"$f":"SUM($F$28:ACG28)","v":3},{"$f":"SUM($F$28:ACH28)","v":3},{"$f":"SUM($F$28:ACI28)","v":3},{"$f":"SUM($F$28:ACJ28)","v":3},{"$f":"SUM($F$28:ACK28)","v":3},{"$f":"SUM($F$28:ACL28)","v":3},{"$f":"SUM($F$28:ACM28)","v":3},{"$f":"SUM($F$28:ACN28)","v":3},{"$f":"SUM($F$28:ACO28)","v":3},{"$f":"SUM($F$28:ACP28)","v":3},{"$f":"SUM($F$28:ACQ28)","v":3},{"$f":"SUM($F$28:ACR28)","v":3},{"$f":"SUM($F$28:ACS28)","v":3},{"$f":"SUM($F$28:ACT28)","v":3},{"$f":"SUM($F$28:ACU28)","v":3},{"$f":"SUM($F$28:ACV28)","v":3},{"$f":"SUM($F$28:ACW28)","v":3},{"$f":"SUM($F$28:ACX28)","v":3},{"$f":"SUM($F$28:ACY28)","v":3},{"$f":"SUM($F$28:ACZ28)","v":3},{"$f":"SUM($F$28:ADA28)","v":3},{"$f":"SUM($F$28:ADB28)","v":3},{"$f":"SUM($F$28:ADC28)","v":3},{"$f":"SUM($F$28:ADD28)","v":3},{"$f":"SUM($F$28:ADE28)","v":3},{"$f":"SUM($F$28:ADF28)","v":3},{"$f":"SUM($F$28:ADG28)","v":3},{"$f":"SUM($F$28:ADH28)","v":3},{"$f":"SUM($F$28:ADI28)","v":3},{"$f":"SUM($F$28:ADJ28)","v":3},{"$f":"SUM($F$28:ADK28)","v":3},{"$f":"SUM($F$28:ADL28)","v":3},{"$f":"SUM($F$28:ADM28)","v":3},{"$f":"SUM($F$28:ADN28)","v":3},{"$f":"SUM($F$28:ADO28)","v":3},{"$f":"SUM($F$28:ADP28)","v":3},{"$f":"SUM($F$28:ADQ28)","v":3},{"$f":"SUM($F$28:ADR28)","v":3},{"$f":"SUM($F$28:ADS28)","v":3},{"$f":"SUM($F$28:ADT28)","v":3},{"$f":"SUM($F$28:ADU28)","v":3},{"$f":"SUM($F$28:ADV28)","v":3},{"$f":"SUM($F$28:ADW28)","v":3},{"$f":"SUM($F$28:ADX28)","v":3},{"$f":"SUM($F$28:ADY28)","v":3},{"$f":"SUM($F$28:ADZ28)","v":3},{"$f":"SUM($F$28:AEA28)","v":3},{"$f":"SUM($F$28:AEB28)","v":3},{"$f":"SUM($F$28:AEC28)","v":3},{"$f":"SUM($F$28:AED28)","v":3},{"$f":"SUM($F$28:AEE28)","v":3},{"$f":"SUM($F$28:AEF28)","v":3},{"$f":"SUM($F$28:AEG28)","v":3},{"$f":"SUM($F$28:AEH28)","v":3},{"$f":"SUM($F$28:AEI28)","v":3},{"$f":"SUM($F$28:AEJ28)","v":3},{"$f":"SUM($F$28:AEK28)","v":3},{"$f":"SUM($F$28:AEL28)","v":3},{"$f":"SUM($F$28:AEM28)","v":3},{"$f":"SUM($F$28:AEN28)","v":3},{"$f":"SUM($F$28:AEO28)","v":3},{"$f":"SUM($F$28:AEP28)","v":3},{"$f":"SUM($F$28:AEQ28)","v":3},{"$f":"SUM($F$28:AER28)","v":3},{"$f":"SUM($F$28:AES28)","v":3},{"$f":"SUM($F$28:AET28)","v":3},{"$f":"SUM($F$28:AEU28)","v":3},{"$f":"SUM($F$28:AEV28)","v":3},{"$f":"SUM($F$28:AEW28)","v":3},{"$f":"SUM($F$28:AEX28)","v":3},{"$f":"SUM($F$28:AEY28)","v":3},{"$f":"SUM($F$28:AEZ28)","v":3},{"$f":"SUM($F$28:AFA28)","v":3},{"$f":"SUM($F$28:AFB28)","v":3},{"$f":"SUM($F$28:AFC28)","v":3},{"$f":"SUM($F$28:AFD28)","v":3},{"$f":"SUM($F$28:AFE28)","v":3},{"$f":"SUM($F$28:AFF28)","v":3},{"$f":"SUM($F$28:AFG28)","v":3},{"$f":"SUM($F$28:AFH28)","v":3},{"$f":"SUM($F$28:AFI28)","v":3},{"$f":"SUM($F$28:AFJ28)","v":3},{"$f":"SUM($F$28:AFK28)","v":3},{"$f":"SUM($F$28:AFL28)","v":3},{"$f":"SUM($F$28:AFM28)","v":3},{"$f":"SUM($F$28:AFN28)","v":3},{"$f":"SUM($F$28:AFO28)","v":3},{"$f":"SUM($F$28:AFP28)","v":3},{"$f":"SUM($F$28:AFQ28)","v":3},{"$f":"SUM($F$28:AFR28)","v":3},{"$f":"SUM($F$28:AFS28)","v":3},{"$f":"SUM($F$28:AFT28)","v":3},{"$f":"SUM($F$28:AFU28)","v":3},{"$f":"SUM($F$28:AFV28)","v":3},{"$f":"SUM($F$28:AFW28)","v":3},{"$f":"SUM($F$28:AFX28)","v":3},{"$f":"SUM($F$28:AFY28)","v":3},{"$f":"SUM($F$28:AFZ28)","v":3},{"$f":"SUM($F$28:AGA28)","v":3},{"$f":"SUM($F$28:AGB28)","v":3},{"$f":"SUM($F$28:AGC28)","v":3},{"$f":"SUM($F$28:AGD28)","v":3},{"$f":"SUM($F$28:AGE28)","v":3},{"$f":"SUM($F$28:AGF28)","v":3},{"$f":"SUM($F$28:AGG28)","v":3},{"$f":"SUM($F$28:AGH28)","v":3},{"$f":"SUM($F$28:AGI28)","v":3},{"$f":"SUM($F$28:AGJ28)","v":3},{"$f":"SUM($F$28:AGK28)","v":3},{"$f":"SUM($F$28:AGL28)","v":3},{"$f":"SUM($F$28:AGM28)","v":3},{"$f":"SUM($F$28:AGN28)","v":3},{"$f":"SUM($F$28:AGO28)","v":3},{"$f":"SUM($F$28:AGP28)","v":3},{"$f":"SUM($F$28:AGQ28)","v":3},{"$f":"SUM($F$28:AGR28)","v":3},{"$f":"SUM($F$28:AGS28)","v":3},{"$f":"SUM($F$28:AGT28)","v":3},{"$f":"SUM($F$28:AGU28)","v":3},{"$f":"SUM($F$28:AGV28)","v":3},{"$f":"SUM($F$28:AGW28)","v":3},{"$f":"SUM($F$28:AGX28)","v":3},{"$f":"SUM($F$28:AGY28)","v":3},{"$f":"SUM($F$28:AGZ28)","v":3},{"$f":"SUM($F$28:AHA28)","v":3},{"$f":"SUM($F$28:AHB28)","v":3},{"$f":"SUM($F$28:AHC28)","v":3},{"$f":"SUM($F$28:AHD28)","v":3},{"$f":"SUM($F$28:AHE28)","v":3},{"$f":"SUM($F$28:AHF28)","v":3},{"$f":"SUM($F$28:AHG28)","v":3},{"$f":"SUM($F$28:AHH28)","v":3},{"$f":"SUM($F$28:AHI28)","v":3},{"$f":"SUM($F$28:AHJ28)","v":3},{"$f":"SUM($F$28:AHK28)","v":3},{"$f":"SUM($F$28:AHL28)","v":3},{"$f":"SUM($F$28:AHM28)","v":3},{"$f":"SUM($F$28:AHN28)","v":3},{"$f":"SUM($F$28:AHO28)","v":3},{"$f":"SUM($F$28:AHP28)","v":3},{"$f":"SUM($F$28:AHQ28)","v":3},{"$f":"SUM($F$28:AHR28)","v":3},{"$f":"SUM($F$28:AHS28)","v":3},{"$f":"SUM($F$28:AHT28)","v":3},{"$f":"SUM($F$28:AHU28)","v":3},{"$f":"SUM($F$28:AHV28)","v":3},{"$f":"SUM($F$28:AHW28)","v":3},{"$f":"SUM($F$28:AHX28)","v":3},{"$f":"SUM($F$28:AHY28)","v":3},{"$f":"SUM($F$28:AHZ28)","v":3},{"$f":"SUM($F$28:AIA28)","v":3},{"$f":"SUM($F$28:AIB28)","v":3},{"$f":"SUM($F$28:AIC28)","v":3},{"$f":"SUM($F$28:AID28)","v":3},{"$f":"SUM($F$28:AIE28)","v":3},{"$f":"SUM($F$28:AIF28)","v":3},{"$f":"SUM($F$28:AIG28)","v":3},{"$f":"SUM($F$28:AIH28)","v":3},{"$f":"SUM($F$28:AII28)","v":3},{"$f":"SUM($F$28:AIJ28)","v":3},{"$f":"SUM($F$28:AIK28)","v":3},{"$f":"SUM($F$28:AIL28)","v":3},{"$f":"SUM($F$28:AIM28)","v":3},{"$f":"SUM($F$28:AIN28)","v":3},{"$f":"SUM($F$28:AIO28)","v":3},{"$f":"SUM($F$28:AIP28)","v":3},{"$f":"SUM($F$28:AIQ28)","v":3},{"$f":"SUM($F$28:AIR28)","v":3},{"$f":"SUM($F$28:AIS28)","v":3},{"$f":"SUM($F$28:AIT28)","v":3},{"$f":"SUM($F$28:AIU28)","v":3},{"$f":"SUM($F$28:AIV28)","v":3},{"$f":"SUM($F$28:AIW28)","v":3},{"$f":"SUM($F$28:AIX28)","v":3},{"$f":"SUM($F$28:AIY28)","v":3},{"$f":"SUM($F$28:AIZ28)","v":3},{"$f":"SUM($F$28:AJA28)","v":3},{"$f":"SUM($F$28:AJB28)","v":3},{"$f":"SUM($F$28:AJC28)","v":3},{"$f":"SUM($F$28:AJD28)","v":3},{"$f":"SUM($F$28:AJE28)","v":3},{"$f":"SUM($F$28:AJF28)","v":3},{"$f":"SUM($F$28:AJG28)","v":3},{"$f":"SUM($F$28:AJH28)","v":3},{"$f":"SUM($F$28:AJI28)","v":3},{"$f":"SUM($F$28:AJJ28)","v":3},{"$f":"SUM($F$28:AJK28)","v":3},{"$f":"SUM($F$28:AJL28)","v":3},{"$f":"SUM($F$28:AJM28)","v":3},{"$f":"SUM($F$28:AJN28)","v":3},{"$f":"SUM($F$28:AJO28)","v":3},{"$f":"SUM($F$28:AJP28)","v":3},{"$f":"SUM($F$28:AJQ28)","v":3},{"$f":"SUM($F$28:AJR28)","v":3},{"$f":"SUM($F$28:AJS28)","v":3},{"$f":"SUM($F$28:AJT28)","v":3},{"$f":"SUM($F$28:AJU28)","v":3},{"$f":"SUM($F$28:AJV28)","v":3},{"$f":"SUM($F$28:AJW28)","v":3},{"$f":"SUM($F$28:AJX28)","v":3},{"$f":"SUM($F$28:AJY28)","v":3},{"$f":"SUM($F$28:AJZ28)","v":3},{"$f":"SUM($F$28:AKA28)","v":3},{"$f":"SUM($F$28:AKB28)","v":3},{"$f":"SUM($F$28:AKC28)","v":3},{"$f":"SUM($F$28:AKD28)","v":3},{"$f":"SUM($F$28:AKE28)","v":3},{"$f":"SUM($F$28:AKF28)","v":3},{"$f":"SUM($F$28:AKG28)","v":3},{"$f":"SUM($F$28:AKH28)","v":3},{"$f":"SUM($F$28:AKI28)","v":3},{"$f":"SUM($F$28:AKJ28)","v":3},{"$f":"SUM($F$28:AKK28)","v":3},{"$f":"SUM($F$28:AKL28)","v":3},{"$f":"SUM($F$28:AKM28)","v":3},{"$f":"SUM($F$28:AKN28)","v":3},{"$f":"SUM($F$28:AKO28)","v":3},{"$f":"SUM($F$28:AKP28)","v":3},{"$f":"SUM($F$28:AKQ28)","v":3},{"$f":"SUM($F$28:AKR28)","v":3},{"$f":"SUM($F$28:AKS28)","v":3},{"$f":"SUM($F$28:AKT28)","v":3},{"$f":"SUM($F$28:AKU28)","v":3},{"$f":"SUM($F$28:AKV28)","v":3},{"$f":"SUM($F$28:AKW28)","v":3},{"$f":"SUM($F$28:AKX28)","v":3},{"$f":"SUM($F$28:AKY28)","v":3},{"$f":"SUM($F$28:AKZ28)","v":3},{"$f":"SUM($F$28:ALA28)","v":3},{"$f":"SUM($F$28:ALB28)","v":3},{"$f":"SUM($F$28:ALC28)","v":3},{"$f":"SUM($F$28:ALD28)","v":3},{"$f":"SUM($F$28:ALE28)","v":3},{"$f":"SUM($F$28:ALF28)","v":3},{"$f":"SUM($F$28:ALG28)","v":3},{"$f":"SUM($F$28:ALH28)","v":3},{"$f":"SUM($F$28:ALI28)","v":3},{"$f":"SUM($F$28:ALJ28)","v":3},{"$f":"SUM($F$28:ALK28)","v":3},{"$f":"SUM($F$28:ALL28)","v":3},{"$f":"SUM($F$28:ALM28)","v":3},{"$f":"SUM($F$28:ALN28)","v":3},{"$f":"SUM($F$28:ALO28)","v":3},{"$f":"SUM($F$28:ALP28)","v":3},{"$f":"SUM($F$28:ALQ28)","v":3}]
[11,{"$error":"#N/A"},{"$error":"#N/A"},0,{"$f":"IF(D27=0,IF(SUM(D28:$D$30)=0,\"\",E28),D27)","v":""},{"$f":"IF(F28=0,\"\",F29&IF(F28=1,\"\",LOOKUP(F28,$A$96:$A$113,$B$96:$B$113)))","v":""},{"$f":"IF(G28=0,\"\",G29&IF(G28=1,\"\",LOOKUP(G28,$A$96:$A$113,$B$96:$B$113)))","v":"3²"},"","","","","","","","","","","","","47","","","","","","","","","","","","","","","","","","","","","","","","","","","","","","","","","","","","","","","","","","","","","","","","","","",{"$f":"IF(BS28=0,\"\",BS29&IF(BS28=1,\"\",LOOKUP(BS28,$A$96:$A$113,$B$96:$B$113)))","v":""},"","","","","","","","","","","","","","","","","","","","","","","","","","","","","","","","","","","","","","","","","","","","","","","","","","","","","","","","","","","","","","","",{"$f":"IF(EE28=0,\"\",EE29&IF(EE28=1,\"\",LOOKUP(EE28,$A$96:$A$113,$B$96:$B$113)))","v":""},"","","","","","","","","","","","","","","","","","","","","","","","","","","","","","","","","","","","","","","","","","","","","","","","","","","","","","","","","","","","","","","",{"$f":"IF(GQ28=0,\"\",GQ29&IF(GQ28=1,\"\",LOOKUP(GQ28,$A$96:$A$113,$B$96:$B$113)))","v":""},"","","","","","","","","","","","","","","","","","","","","","","","","","","","","","","","","","","","","","","","","","","","","","","","","","","","","","","","","","","","","","","",{"$f":"IF(JC28=0,\"\",JC29&IF(JC28=1,\"\",LOOKUP(JC28,$A$96:$A$113,$B$96:$B$113)))","v":""},"","","","","","","","","","","","","","","","","","","","","","","","","","","","","","","","","","","","","","","","","","","","","","","","","","","","","","","","","","","","","","","",{"$f":"IF(LO28=0,\"\",LO29&IF(LO28=1,\"\",LOOKUP(LO28,$A$96:$A$113,$B$96:$B$113)))","v":""},"","","","","","","","","","","","","","","","","","","","","","","","","","","","","","","","","","","","","","","","","","","","","","","","","","","","","","","","","","","","","","","",{"$f":"IF(OA28=0,\"\",OA29&IF(OA28=1,\"\",LOOKUP(OA28,$A$96:$A$113,$B$96:$B$113)))","v":""},"","","","","","","","","","","","","","","","","","","","","","","","","","","","","","","","","","","","","","","","","","","","","","","","","","","","","","","","","","","","","","","",{"$f":"IF(QM28=0,\"\",QM29&IF(QM28=1,\"\",LOOKUP(QM28,$A$96:$A$113,$B$96:$B$113)))","v":""},"","","","","","","","","","","","","","","","","","","","","","","","","","","","","","","","","","","","","","","","","","","","","","","","","","","","","","","","","","","","","","","",{"$f":"IF(SY28=0,\"\",SY29&IF(SY28=1,\"\",LOOKUP(SY28,$A$96:$A$113,$B$96:$B$113)))","v":""},"","","","","","","","","","","","","","","","","","","","","","","","","","","","","","","","","","","","","","","","","","","","","","","","","","","","","","","","","","","","","","","",{"$f":"IF(VK28=0,\"\",VK29&IF(VK28=1,\"\",LOOKUP(VK28,$A$96:$A$113,$B$96:$B$113)))","v":""},"","","","","","","","","","","","","","","","","","","","","","","","","","","","","","","","","","","","","","","","","","","","","","","","","","","","","","","","","","","","","","","",{"$f":"IF(XW28=0,\"\",XW29&IF(XW28=1,\"\",LOOKUP(XW28,$A$96:$A$113,$B$96:$B$113)))","v":""},"","","","","","","","","","","","","","","","","","","","","","","","","","","","","","","","","","","","","","","","","","","","","","","","","","","","","","","","","","","","","","","",{"$f":"IF(AAI28=0,\"\",AAI29&IF(AAI28=1,\"\",LOOKUP(AAI28,$A$96:$A$113,$B$96:$B$113)))","v":""},"","","","","","","","","","","","","","","","","","","","","","","","","","","","","","","","","","","","","","","","","","","","","","","","","","","","","","","","","","","","","","","",{"$f":"IF(ACU28=0,\"\",ACU29&IF(ACU28=1,\"\",LOOKUP(ACU28,$A$96:$A$113,$B$96:$B$113)))","v":""},"","","","","","","","","","","","","","","","","","","","","","","","","","","","","","","","","","","","","","","","","","","","","","","","","","","","","","","","","","","","","","","",{"$f":"IF(AFG28=0,\"\",AFG29&IF(AFG28=1,\"\",LOOKUP(AFG28,$A$96:$A$113,$B$96:$B$113)))","v":""},"","","","","","","","","","","","","","","","","","","","","","","","","","","","","","","","","","","","","","","","","","","","","","","","","","","","","","","","","","","","","","","",{"$f":"IF(AHS28=0,\"\",AHS29&IF(AHS28=1,\"\",LOOKUP(AHS28,$A$96:$A$113,$B$96:$B$113)))","v":""},"","","","","","","","","","","","","","","","","","","","","","","","","","","","","","","","","","","","","","","","","","","","","","","","","","","","","","","","","","","","","","","",{"$f":"IF(AKE28=0,\"\",AKE29&IF(AKE28=1,\"\",LOOKUP(AKE28,$A$96:$A$113,$B$96:$B$113)))","v":""},"","","","","","","","","","","","","","","","","","","","","","","","","","","","","","","","","","","","","",""]
[12,{"$error":"#N/A"},{"$error":"#N/A"},0,{"$f":"IF(D28=0,IF(SUM(D29:$D$30)=0,\"\",E29),D28)","v":""},{"$f":"14-COUNTIF(F30:F43,0)","v":0},{"$f":"14-COUNTIF(G30:G43,0)","v":2},0,0,0,0,0,0,0,0,0,0,0,0,1,0,0,0,0,0,0,0,0,0,0,0,0,0,0,0,0,0,0,0,0,0,0,0,0,0,0,0,0,0,0,0,0,0,0,0,0,0,0,0,0,0,0,0,0,0,0,0,0,0,0,{"$f":"14-COUNTIF(BS30:BS43,0)","v":0},0,0,0,0,0,0,0,0,0,0,0,0,0,0,0,0,0,0,0,0,0,0,0,0,0,0,0,0,0,0,0,0,0,0,0,0,0,0,0,0,0,0,0,0,0,0,0,0,0,0,0,0,0,0,0,0,0,0,0,0,0,0,0,{"$f":"14-COUNTIF(EE30:EE43,0)","v":0},0,0,0,0,0,0,0,0,0,0,0,0,0,0,0,0,0,0,0,0,0,0,0,0,0,0,0,0,0,0,0,0,0,0,0,0,0,0,0,0,0,0,0,0,0,0,0,0,0,0,0,0,0,0,0,0,0,0,0,0,0,0,0,{"$f":"14-COUNTIF(GQ30:GQ43,0)","v":0},0,0,0,0,0,0,0,0,0,0,0,0,0,0,0,0,0,0,0,0,0,0,0,0,0,0,0,0,0,0,0,0,0,0,0,0,0,0,0,0,0,0,0,0,0,0,0,0,0,0,0,0,0,0,0,0,0,0,0,0,0,0,0,{"$f":"14-COUNTIF(JC30:JC43,0)","v":0},0,0,0,0,0,0,0,0,0,0,0,0,0,0,0,0,0,0,0,0,0,0,0,0,0,0,0,0,0,0,0,0,0,0,0,0,0,0,0,0,0,0,0,0,0,0,0,0,0,0,0,0,0,0,0,0,0,0,0,0,0,0,0,{"$f":"14-COUNTIF(LO30:LO43,0)","v":0},0,0,0,0,0,0,0,0,0,0,0,0,0,0,0,0,0,0,0,0,0,0,0,0,0,0,0,0,0,0,0,0,0,0,0,0,0,0,0,0,0,0,0,0,0,0,0,0,0,0,0,0,0,0,0,0,0,0,0,0,0,0,0,{"$f":"14-COUNTIF(OA30:OA43,0)","v":0},0,0,0,0,0,0,0,0,0,0,0,0,0,0,0,0,0,0,0,0,0,0,0,0,0,0,0,0,0,0,0,0,0,0,0,0,0,0,0,0,0,0,0,0,0,0,0,0,0,0,0,0,0,0,0,0,0,0,0,0,0,0,0,{"$f":"14-COUNTIF(QM30:QM43,0)","v":0},0,0,0,0,0,0,0,0,0,0,0,0,0,0,0,0,0,0,0,0,0,0,0,0,0,0,0,0,0,0,0,0,0,0,0,0,0,0,0,0,0,0,0,0,0,0,0,0,0,0,0,0,0,0,0,0,0,0,0,0,0,0,0,{"$f":"14-COUNTIF(SY30:SY43,0)","v":0},0,0,0,0,0,0,0,0,0,0,0,0,0,0,0,0,0,0,0,0,0,0,0,0,0,0,0,0,0,0,0,0,0,0,0,0,0,0,0,0,0,0,0,0,0,0,0,0,0,0,0,0,0,0,0,0,0,0,0,0,0,0,0,{"$f":"14-COUNTIF(VK30:VK43,0)","v":0},0,0,0,0,0,0,0,0,0,0,0,0,0,0,0,0,0,0,0,0,0,0,0,0,0,0,0,0,0,0,0,0,0,0,0,0,0,0,0,0,0,0,0,0,0,0,0,0,0,0,0,0,0,0,0,0,0,0,0,0,0,0,0,{"$f":"14-COUNTIF(XW30:XW43,0)","v":0},0,0,0,0,0,0,0,0,0,0,0,0,0,0,0,0,0,0,0,0,0,0,0,0,0,0,0,0,0,0,0,0,0,0,0,0,0,0,0,0,0,0,0,0,0,0,0,0,0,0,0,0,0,0,0,0,0,0,0,0,0,0,0,{"$f":"14-COUNTIF(AAI30:AAI43,0)","v":0},0,0,0,0,0,0,0,0,0,0,0,0,0,0,0,0,0,0,0,0,0,0,0,0,0,0,0,0,0,0,0,0,0,0,0,0,0,0,0,0,0,0,0,0,0,0,0,0,0,0,0,0,0,0,0,0,0,0,0,0,0,0,0,{"$f":"14-COUNTIF(ACU30:ACU43,0)","v":0},0,0,0,0,0,0,0,0,0,0,0,0,0,0,0,0,0,0,0,0,0,0,0,0,0,0,0,0,0,0,0,0,0,0,0,0,0,0,0,0,0,0,0,0,0,0,0,0,0,0,0,0,0,0,0,0,0,0,0,0,0,0,0,{"$f":"14-COUNTIF(AFG30:AFG43,0)","v":0},0,0,0,0,0,0,0,0,0,0,0,0,0,0,0,0,0,0,0,0,0,0,0,0,0,0,0,0,0,0,0,0,0,0,0,0,0,0,0,0,0,0,0,0,0,0,0,0,0,0,0,0,0,0,0,0,0,0,0,0,0,0,0,{"$f":"14-COUNTIF(AHS30:AHS43,0)","v":0},0,0,0,0,0,0,0,0,0,0,0,0,0,0,0,0,0,0,0,0,0,0,0,0,0,0,0,0,0,0,0,0,0,0,0,0,0,0,0,0,0,0,0,0,0,0,0,0,0,0,0,0,0,0,0,0,0,0,0,0,0,0,0,{"$f":"14-COUNTIF(AKE30:AKE43,0)","v":0},0,0,0,0,0,0,0,0,0,0,0,0,0,0,0,0,0,0,0,0,0,0,0,0,0,0,0,0,0,0,0,0,0,0,0,0,0,0]
[13,{"$error":"#N/A"},{"$error":"#N/A"},0,{"$f":"IF(D29=0,IF(SUM(D30:$D$30)=0,\"\",E30),D29)","v":""},2,3,5,7,11,13,17,19,23,29,31,37,41,43,47,53,59,61,67,71,73,79,83,89,97,101,103,107,109,113,127,131,137,139,149,151,157,163,167,173,179,181,191,193,197,199,211,223,227,229,233,239,241,251,257,263,269,271,277,281,283,293,307,311,313,317,331,337,347,349,353,359,367,373,379,383,389,397,401,409,419,421,431,433,439,443,449,457,461,463,467,479,487,491,499,503,509,521,523,541,547,557,563,569,571,577,587,593,599,601,607,613,617,619,631,641,643,647,653,659,661,673,677,683,691,701,709,719,727,733,739,743,751,757,761,769,773,787,797,809,811,821,823,827,829,839,853,857,859,863,877,881,883,887,907,911,919,929,937,941,947,953,967,971,977,983,991,997,1009,1013,1019,1021,1031,1033,1039,1049,1051,1061,1063,1069,1087,1091,1093,1097,1103,1109,1117,1123,1129,1151,1153,1163,1171,1181,1187,1193,1201,1213,1217,1223,1229,1231,1237,1249,1259,1277,1279,1283,1289,1291,1297,1301,1303,1307,1319,1321,1327,1361,1367,1373,1381,1399,1409,1423,1427,1429,1433,1439,1447,1451,1453,1459,1471,1481,1483,1487,1489,1493,1499,1511,1523,1531,1543,1549,1553,1559,1567,1571,1579,1583,1597,1601,1607,1609,1613,1619,1621,1627,1637,1657,1663,1667,1669,1693,1697,1699,1709,1721,1723,1733,1741,1747,1753,1759,1777,1783,1787,1789,1801,1811,1823,1831,1847,1861,1867,1871,1873,1877,1879,1889,1901,1907,1913,1931,1933,1949,1951,1973,1979,1987,1993,1997,1999,2003,2011,2017,2027,2029,2039,2053,2063,2069,2081,2083,2087,2089,2099,2111,2113,2129,2131,2137,2141,2143,2153,2161,2179,2203,2207,2213,2221,2237,2239,2243,2251,2267,2269,2273,2281,2287,2293,2297,2309,2311,2333,2339,2341,2347,2351,2357,2371,2377,2381,2383,2389,2393,2399,2411,2417,2423,2437,2441,2447,2459,2467,2473,2477,2503,2521,2531,2539,2543,2549,2551,2557,2579,2591,2593,2609,2617,2621,2633,2647,2657,2659,2663,2671,2677,2683,2687,2689,2693,2699,2707,2711,2713,2719,2729,2731,2741,2749,2753,2767,2777,2789,2791,2797,2801,2803,2819,2833,2837,2843,2851,2857,2861,2879,2887,2897,2903,2909,2917,2927,2939,2953,2957,2963,2969,2971,2999,3001,3011,3019,3023,3037,3041,3049,3061,3067,3079,3083,3089,3109,3119,3121,3137,3163,3167,3169,3181,3187,3191,3203,3209,3217,3221,3229,3251,3253,3257,3259,3271,3299,3301,3307,3313,3319,3323,3329,3331,3343,3347,3359,3361,3371,3373,3389,3391,3407,3413,3433,3449,3457,3461,3463,3467,3469,3491,3499,3511,3517,3527,3529,3533,3539,3541,3547,3557,3559,3571,3581,3583,3593,3607,3613,3617,3623,3631,3637,3643,3659,3671,3673,3677,3691,3697,3701,3709,3719,3727,3733,3739,3761,3767,3769,3779,3793,3797,3803,3821,3823,3833,3847,3851,3853,3863,3877,3881,3889,3907,3911,3917,3919,3923,3929,3931,3943,3947,3967,3989,4001,4003,4007,4013,4019,4021,4027,4049,4051,4057,4073,4079,4091,4093,4099,4111,4127,4129,4133,4139,4153,4157,4159,4177,4201,4211,4217,4219,4229,4231,4241,4243,4253,4259,4261,4271,4273,4283,4289,4297,4327,4337,4339,4349,4357,4363,4373,4391,4397,4409,4421,4423,4441,4447,4451,4457,4463,4481,4483,4493,4507,4513,4517,4519,4523,4547,4549,4561,4567,4583,4591,4597,4603,4621,4637,4639,4643,4649,4651,4657,4663,4673,4679,4691,4703,4721,4723,4729,4733,4751,4759,4783,4787,4789,4793,4799,4801,4813,4817,4831,4861,4871,4877,4889,4903,4909,4919,4931,4933,4937,4943,4951,4957,4967,4969,4973,4987,4993,4999,5003,5009,5011,5021,5023,5039,5051,5059,5077,5081,5087,5099,5101,5107,5113,5119,5147,5153,5167,5171,5179,5189,5197,5209,5227,5231,5233,5237,5261,5273,5279,5281,5297,5303,5309,5323,5333,5347,5351,5381,5387,5393,5399,5407,5413,5417,5419,5431,5437,5441,5443,5449,5471,5477,5479,5483,5501,5503,5507,5519,5521,5527,5531,5557,5563,5569,5573,5581,5591,5623,5639,5641,5647,5651,5653,5657,5659,5669,5683,5689,5693,5701,5711,5717,5737,5741,5743,5749,5779,5783,5791,5801,5807,5813,5821,5827,5839,5843,5849,5851,5857,5861,5867,5869,5879,5881,5897,5903,5923,5927,5939,5953,5981,5987,6007,6011,6029,6037,6043,6047,6053,6067,6073,6079,6089,6091,6101,6113,6121,6131,6133,6143,6151,6163,6173,6197,6199,6203,6211,6217,6221,6229,6247,6257,6263,6269,6271,6277,6287,6299,6301,6311,6317,6323,6329,6337,6343,6353,6359,6361,6367,6373,6379,6389,6397,6421,6427,6449,6451,6469,6473,6481,6491,6521,6529,6547,6551,6553,6563,6569,6571,6577,6581,6599,6607,6619,6637,6653,6659,6661,6673,6679,6689,6691,6701,6703,6709,6719,6733,6737,6761,6763,6779,6781,6791,6793,6803,6823,6827,6829,6833,6841,6857,6863,6869,6871,6883,6899,6907,6911,6917,6947,6949,6959,6961,6967,6971,6977,6983,6991,6997,7001,7013,7019,7027,7039,7043,7057,7069,7079,7103,7109,7121,7127,7129,7151,7159,7177,7187,7193,7207,7211,7213,7219,7229,7237,7243,7247,7253,7283,7297,7307,7309,7321,7331,7333,7349,7351,7369,7393,7411,7417,7433,7451,7457,7459,7477,7481,7487,7489,7499,7507,7517,7523,7529,7537,7541,7547,7549,7559,7561,7573,7577,7583,7589,7591,7603,7607,7621,7639,7643,7649,7669,7673,7681,7687,7691,7699,7703,7717,7723,7727,7741,7753,7757,7759,7789,7793,7817,7823,7829,7841,7853,7867,7873,7877,7879,7883,7901,7907,7919]
[14,{"$error":"#N/A"},{"$error":"#N/A"},0,{"$f":"IF(D30=0,\"\",D30)","v":""},{"$f":"IF($B6/F$6=ROUND($B6/F$6,0),$B6/F$6,0)","v":0},141,0,0,0,0,0,0,0,0,0,0,0,0,9,0,0,0,0,0,0,0,0,0,0,0,0,0,0,0,0,0,0,0,0,0,0,0,0,0,0,0,0,0,0,0,0,0,0,0,0,0,0,0,0,0,0,0,0,0,0,0,0,0,{"$f":"IF($B6/BR$6=ROUND($B6/BR$6,0),$B6/BR$6,0)","v":0},0,0,0,0,0,0,0,0,0,0,0,0,0,0,0,0,0,0,0,0,0,0,0,0,0,0,0,0,0,0,0,0,0,0,0,0,0,0,0,0,0,0,0,0,0,0,0,0,0,0,0,0,0,0,0,0,0,0,0,0,0,0,0,{"$f":"IF($B6/ED$6=ROUND($B6/ED$6,0),$B6/ED$6,0)","v":0},0,0,0,0,0,0,0,0,0,0,0,0,0,0,0,0,0,0,0,0,0,0,0,0,0,0,0,0,0,0,0,0,0,0,0,0,0,0,0,0,0,0,0,0,0,0,0,0,0,0,0,0,0,0,0,0,0,0,0,0,0,0,0,{"$f":"IF($B6/GP$6=ROUND($B6/GP$6,0),$B6/GP$6,0)","v":0},0,0,0,0,0,0,0,0,0,0,0,0,0,0,0,0,0,0,0,0,0,0,0,0,0,0,0,0,0,0,0,0,0,0,0,0,0,0,0,0,0,0,0,0,0,0,0,0,0,0,0,0,0,0,0,0,0,0,0,0,0,0,0,{"$f":"IF($B6/JB$6=ROUND($B6/JB$6,0),$B6/JB$6,0)","v":0},0,0,0,0,0,0,0,0,0,0,0,0,0,0,0,0,0,0,0,0,0,0,0,0,0,0,0,0,0,0,0,0,0,0,0,0,0,0,0,0,0,0,0,0,0,0,0,0,0,0,0,0,0,0,0,0,0,0,0,0,0,0,0,{"$f":"IF($B6/LN$6=ROUND($B6/LN$6,0),$B6/LN$6,0)","v":0},0,0,0,0,0,0,0,0,0,0,0,0,0,0,0,0,0,0,0,0,0,0,0,0,0,0,0,0,0,0,0,0,0,0,0,0,0,0,0,0,0,0,0,0,0,0,0,0,0,0,0,0,0,0,0,0,0,0,0,0,0,0,0,{"$f":"IF($B6/NZ$6=ROUND($B6/NZ$6,0),$B6/NZ$6,0)","v":0},0,0,0,0,0,0,0,0,0,0,0,0,0,0,0,0,0,0,0,0,0,0,0,0,0,0,0,0,0,0,0,0,0,0,0,0,0,0,0,0,0,0,0,0,0,0,0,0,0,0,0,0,0,0,0,0,0,0,0,0,0,0,0,{"$f":"IF($B6/QL$6=ROUND($B6/QL$6,0),$B6/QL$6,0)","v":0},0,0,0,0,0,0,0,0,0,0,0,0,0,0,0,0,0,0,0,0,0,0,0,0,0,0,0,0,0,0,0,0,0,0,0,0,0,0,0,0,0,0,0,0,0,0,0,0,0,0,0,0,0,0,0,0,0,0,0,0,0,0,0,{"$f":"IF($B6/SX$6=ROUND($B6/SX$6,0),$B6/SX$6,0)","v":0},0,0,0,0,0,0,0,0,0,0,0,0,0,0,0,0,0,0,0,0,0,0,0,0,0,0,0,0,0,0,0,0,0,0,0,0,0,0,0,0,0,0,0,0,0,0,0,0,0,0,0,0,0,0,0,0,0,0,0,0,0,0,0,{"$f":"IF($B6/VJ$6=ROUND($B6/VJ$6,0),$B6/VJ$6,0)","v":0},0,0,0,0,0,0,0,0,0,0,0,0,0,0,0,0,0,0,0,0,0,0,0,0,0,0,0,0,0,0,0,0,0,0,0,0,0,0,0,0,0,0,0,0,0,0,0,0,0,0,0,0,0,0,0,0,0,0,0,0,0,0,0,{"$f":"IF($B6/XV$6=ROUND($B6/XV$6,0),$B6/XV$6,0)","v":0},0,0,0,0,0,0,0,0,0,0,0,0,0,0,0,0,0,0,0,0,0,0,0,0,0,0,0,0,0,0,0,0,0,0,0,0,0,0,0,0,0,0,0,0,0,0,0,0,0,0,0,0,0,0,0,0,0,0,0,0,0,0,0,{"$f":"IF($B6/AAH$6=ROUND($B6/AAH$6,0),$B6/AAH$6,0)","v":0},0,0,0,0,0,0,0,0,0,0,0,0,0,0,0,0,0,0,0,0,0,0,0,0,0,0,0,0,0,0,0,0,0,0,0,0,0,0,0,0,0,0,0,0,0,0,0,0,0,0,0,0,0,0,0,0,0,0,0,0,0,0,0,{"$f":"IF($B6/ACT$6=ROUND($B6/ACT$6,0),$B6/ACT$6,0)","v":0},0,0,0,0,0,0,0,0,0,0,0,0,0,0,0,0,0,0,0,0,0,0,0,0,0,0,0,0,0,0,0,0,0,0,0,0,0,0,0,0,0,0,0,0,0,0,0,0,0,0,0,0,0,0,0,0,0,0,0,0,0,0,0,{"$f":"IF($B6/AFF$6=ROUND($B6/AFF$6,0),$B6/AFF$6,0)","v":0},0,0,0,0,0,0,0,0,0,0,0,0,0,0,0,0,0,0,0,0,0,0,0,0,0,0,0,0,0,0,0,0,0,0,0,0,0,0,0,0,0,0,0,0,0,0,0,0,0,0,0,0,0,0,0,0,0,0,0,0,0,0,0,{"$f":"IF($B6/AHR$6=ROUND($B6/AHR$6,0),$B6/AHR$6,0)","v":0},0,0,0,0,0,0,0,0,0,0,0,0,0,0,0,0,0,0,0,0,0,0,0,0,0,0,0,0,0,0,0,0,0,0,0,0,0,0,0,0,0,0,0,0,0,0,0,0,0,0,0,0,0,0,0,0,0,0,0,0,0,0,0,{"$f":"IF($B6/AKD$6=ROUND($B6/AKD$6,0),$B6/AKD$6,0)","v":0},0,0,0,0,0,0,0,0,0,0,0,0,0,0,0,0,0,0,0,0,0,0,0,0,0,0,0,0,0,0,0,0,0,0,0,0,0,0,0]
[null,null,null,null,null,{"$f":"IF(AND(F30/F$6=ROUND(F30/F$6,0),NOT(F30=0)),F30/F$6,0)","v":0},{"$f":"IF(AND(G30/G$6=ROUND(G30/G$6,0),NOT(G30=0)),G30/G$6,0)","v":47},{"$f":"IF(AND(H30/H$6=ROUND(H30/H$6,0),NOT(H30=0)),H30/H$6,0)","v":0},{"$f":"IF(AND(I30/I$6=ROUND(I30/I$6,0),NOT(I30=0)),I30/I$6,0)","v":0},{"$f":"IF(AND(J30/J$6=ROUND(J30/J$6,0),NOT(J30=0)),J30/J$6,0)","v":0},{"$f":"IF(AND(K30/K$6=ROUND(K30/K$6,0),NOT(K30=0)),K30/K$6,0)","v":0},{"$f":"IF(AND(L30/L$6=ROUND(L30/L$6,0),NOT(L30=0)),L30/L$6,0)","v":0},{"$f":"IF(AND(M30/M$6=ROUND(M30/M$6,0),NOT(M30=0)),M30/M$6,0)","v":0},{"$f":"IF(AND(N30/N$6=ROUND(N30/N$6,0),NOT(N30=0)),N30/N$6,0)","v":0},{"$f":"IF(AND(O30/O$6=ROUND(O30/O$6,0),NOT(O30=0)),O30/O$6,0)","v":0},{"$f":"IF(AND(P30/P$6=ROUND(P30/P$6,0),NOT(P30=0)),P30/P$6,0)","v":0},{"$f":"IF(AND(Q30/Q$6=ROUND(Q30/Q$6,0),NOT(Q30=0)),Q30/Q$6,0)","v":0},{"$f":"IF(AND(R30/R$6=ROUND(R30/R$6,0),NOT(R30=0)),R30/R$6,0)","v":0},{"$f":"IF(AND(S30/S$6=ROUND(S30/S$6,0),NOT(S30=0)),S30/S$6,0)","v":0},{"$f":"IF(AND(T30/T$6=ROUND(T30/T$6,0),NOT(T30=0)),T30/T$6,0)","v":0},{"$f":"IF(AND(U30/U$6=ROUND(U30/U$6,0),NOT(U30=0)),U30/U$6,0)","v":0},{"$f":"IF(AND(V30/V$6=ROUND(V30/V$6,0),NOT(V30=0)),V30/V$6,0)","v":0},{"$f":"IF(AND(W30/W$6=ROUND(W30/W$6,0),NOT(W30=0)),W30/W$6,0)","v":0},{"$f":"IF(AND(X30/X$6=ROUND(X30/X$6,0),NOT(X30=0)),X30/X$6,0)","v":0},{"$f":"IF(AND(Y30/Y$6=ROUND(Y30/Y$6,0),NOT(Y30=0)),Y30/Y$6,0)","v":0},{"$f":"IF(AND(Z30/Z$6=ROUND(Z30/Z$6,0),NOT(Z30=0)),Z30/Z$6,0)","v":0},{"$f":"IF(AND(AA30/AA$6=ROUND(AA30/AA$6,0),NOT(AA30=0)),AA30/AA$6,0)","v":0},{"$f":"IF(AND(AB30/AB$6=ROUND(AB30/AB$6,0),NOT(AB30=0)),AB30/AB$6,0)","v":0},{"$f":"IF(AND(AC30/AC$6=ROUND(AC30/AC$6,0),NOT(AC30=0)),AC30/AC$6,0)","v":0},{"$f":"IF(AND(AD30/AD$6=ROUND(AD30/AD$6,0),NOT(AD30=0)),AD30/AD$6,0)","v":0},{"$f":"IF(AND(AE30/AE$6=ROUND(AE30/AE$6,0),NOT(AE30=0)),AE30/AE$6,0)","v":0},{"$f":"IF(AND(AF30/AF$6=ROUND(AF30/AF$6,0),NOT(AF30=0)),AF30/AF$6,0)","v":0},{"$f":"IF(AND(AG30/AG$6=ROUND(AG30/AG$6,0),NOT(AG30=0)),AG30/AG$6,0)","v":0},{"$f":"IF(AND(AH30/AH$6=ROUND(AH30/AH$6,0),NOT(AH30=0)),AH30/AH$6,0)","v":0},{"$f":"IF(AND(AI30/AI$6=ROUND(AI30/AI$6,0),NOT(AI30=0)),AI30/AI$6,0)","v":0},{"$f":"IF(AND(AJ30/AJ$6=ROUND(AJ30/AJ$6,0),NOT(AJ30=0)),AJ30/AJ$6,0)","v":0},{"$f":"IF(AND(AK30/AK$6=ROUND(AK30/AK$6,0),NOT(AK30=0)),AK30/AK$6,0)","v":0},{"$f":"IF(AND(AL30/AL$6=ROUND(AL30/AL$6,0),NOT(AL30=0)),AL30/AL$6,0)","v":0},{"$f":"IF(AND(AM30/AM$6=ROUND(AM30/AM$6,0),NOT(AM30=0)),AM30/AM$6,0)","v":0},{"$f":"IF(AND(AN30/AN$6=ROUND(AN30/AN$6,0),NOT(AN30=0)),AN30/AN$6,0)","v":0},{"$f":"IF(AND(AO30/AO$6=ROUND(AO30/AO$6,0),NOT(AO30=0)),AO30/AO$6,0)","v":0},{"$f":"IF(AND(AP30/AP$6=ROUND(AP30/AP$6,0),NOT(AP30=0)),AP30/AP$6,0)","v":0},{"$f":"IF(AND(AQ30/AQ$6=ROUND(AQ30/AQ$6,0),NOT(AQ30=0)),AQ30/AQ$6,0)","v":0},{"$f":"IF(AND(AR30/AR$6=ROUND(AR30/AR$6,0),NOT(AR30=0)),AR30/AR$6,0)","v":0},{"$f":"IF(AND(AS30/AS$6=ROUND(AS30/AS$6,0),NOT(AS30=0)),AS30/AS$6,0)","v":0},{"$f":"IF(AND(AT30/AT$6=ROUND(AT30/AT$6,0),NOT(AT30=0)),AT30/AT$6,0)","v":0},{"$f":"IF(AND(AU30/AU$6=ROUND(AU30/AU$6,0),NOT(AU30=0)),AU30/AU$6,0)","v":0},{"$f":"IF(AND(AV30/AV$6=ROUND(AV30/AV$6,0),NOT(AV30=0)),AV30/AV$6,0)","v":0},{"$f":"IF(AND(AW30/AW$6=ROUND(AW30/AW$6,0),NOT(AW30=0)),AW30/AW$6,0)","v":0},{"$f":"IF(AND(AX30/AX$6=ROUND(AX30/AX$6,0),NOT(AX30=0)),AX30/AX$6,0)","v":0},{"$f":"IF(AND(AY30/AY$6=ROUND(AY30/AY$6,0),NOT(AY30=0)),AY30/AY$6,0)","v":0},{"$f":"IF(AND(AZ30/AZ$6=ROUND(AZ30/AZ$6,0),NOT(AZ30=0)),AZ30/AZ$6,0)","v":0},{"$f":"IF(AND(BA30/BA$6=ROUND(BA30/BA$6,0),NOT(BA30=0)),BA30/BA$6,0)","v":0},{"$f":"IF(AND(BB30/BB$6=ROUND(BB30/BB$6,0),NOT(BB30=0)),BB30/BB$6,0)","v":0},{"$f":"IF(AND(BC30/BC$6=ROUND(BC30/BC$6,0),NOT(BC30=0)),BC30/BC$6,0)","v":0},{"$f":"IF(AND(BD30/BD$6=ROUND(BD30/BD$6,0),NOT(BD30=0)),BD30/BD$6,0)","v":0},{"$f":"IF(AND(BE30/BE$6=ROUND(BE30/BE$6,0),NOT(BE30=0)),BE30/BE$6,0)","v":0},{"$f":"IF(AND(BF30/BF$6=ROUND(BF30/BF$6,0),NOT(BF30=0)),BF30/BF$6,0)","v":0},{"$f":"IF(AND(BG30/BG$6=ROUND(BG30/BG$6,0),NOT(BG30=0)),BG30/BG$6,0)","v":0},{"$f":"IF(AND(BH30/BH$6=ROUND(BH30/BH$6,0),NOT(BH30=0)),BH30/BH$6,0)","v":0},{"$f":"IF(AND(BI30/BI$6=ROUND(BI30/BI$6,0),NOT(BI30=0)),BI30/BI$6,0)","v":0},{"$f":"IF(AND(BJ30/BJ$6=ROUND(BJ30/BJ$6,0),NOT(BJ30=0)),BJ30/BJ$6,0)","v":0},{"$f":"IF(AND(BK30/BK$6=ROUND(BK30/BK$6,0),NOT(BK30=0)),BK30/BK$6,0)","v":0},{"$f":"IF(AND(BL30/BL$6=ROUND(BL30/BL$6,0),NOT(BL30=0)),BL30/BL$6,0)","v":0},{"$f":"IF(AND(BM30/BM$6=ROUND(BM30/BM$6,0),NOT(BM30=0)),BM30/BM$6,0)","v":0},{"$f":"IF(AND(BN30/BN$6=ROUND(BN30/BN$6,0),NOT(BN30=0)),BN30/BN$6,0)","v":0},{"$f":"IF(AND(BO30/BO$6=ROUND(BO30/BO$6,0),NOT(BO30=0)),BO30/BO$6,0)","v":0},{"$f":"IF(AND(BP30/BP$6=ROUND(BP30/BP$6,0),NOT(BP30=0)),BP30/BP$6,0)","v":0},{"$f":"IF(AND(BQ30/BQ$6=ROUND(BQ30/BQ$6,0),NOT(BQ30=0)),BQ30/BQ$6,0)","v":0},{"$f":"IF(AND(BR30/BR$6=ROUND(BR30/BR$6,0),NOT(BR30=0)),BR30/BR$6,0)","v":0},{"$f":"IF(AND(BS30/BS$6=ROUND(BS30/BS$6,0),NOT(BS30=0)),BS30/BS$6,0)","v":0},{"$f":"IF(AND(BT30/BT$6=ROUND(BT30/BT$6,0),NOT(BT30=0)),BT30/BT$6,0)","v":0},{"$f":"IF(AND(BU30/BU$6=ROUND(BU30/BU$6,0),NOT(BU30=0)),BU30/BU$6,0)","v":0},{"$f":"IF(AND(BV30/BV$6=ROUND(BV30/BV$6,0),NOT(BV30=0)),BV30/BV$6,0)","v":0},{"$f":"IF(AND(BW30/BW$6=ROUND(BW30/BW$6,0),NOT(BW30=0)),BW30/BW$6,0)","v":0},{"$f":"IF(AND(BX30/BX$6=ROUND(BX30/BX$6,0),NOT(BX30=0)),BX30/BX$6,0)","v":0},{"$f":"IF(AND(BY30/BY$6=ROUND(BY30/BY$6,0),NOT(BY30=0)),BY30/BY$6,0)","v":0},{"$f":"IF(AND(BZ30/BZ$6=ROUND(BZ30/BZ$6,0),NOT(BZ30=0)),BZ30/BZ$6,0)","v":0},{"$f":"IF(AND(CA30/CA$6=ROUND(CA30/CA$6,0),NOT(CA30=0)),CA30/CA$6,0)","v":0},{"$f":"IF(AND(CB30/CB$6=ROUND(CB30/CB$6,0),NOT(CB30=0)),CB30/CB$6,0)","v":0},{"$f":"IF(AND(CC30/CC$6=ROUND(CC30/CC$6,0),NOT(CC30=0)),CC30/CC$6,0)","v":0},{"$f":"IF(AND(CD30/CD$6=ROUND(CD30/CD$6,0),NOT(CD30=0)),CD30/CD$6,0)","v":0},{"$f":"IF(AND(CE30/CE$6=ROUND(CE30/CE$6,0),NOT(CE30=0)),CE30/CE$6,0)","v":0},{"$f":"IF(AND(CF30/CF$6=ROUND(CF30/CF$6,0),NOT(CF30=0)),CF30/CF$6,0)","v":0},{"$f":"IF(AND(CG30/CG$6=ROUND(CG30/CG$6,0),NOT(CG30=0)),CG30/CG$6,0)","v":0},{"$f":"IF(AND(CH30/CH$6=ROUND(CH30/CH$6,0),NOT(CH30=0)),CH30/CH$6,0)","v":0},{"$f":"IF(AND(CI30/CI$6=ROUND(CI30/CI$6,0),NOT(CI30=0)),CI30/CI$6,0)","v":0},{"$f":"IF(AND(CJ30/CJ$6=ROUND(CJ30/CJ$6,0),NOT(CJ30=0)),CJ30/CJ$6,0)","v":0},{"$f":"IF(AND(CK30/CK$6=ROUND(CK30/CK$6,0),NOT(CK30=0)),CK30/CK$6,0)","v":0},{"$f":"IF(AND(CL30/CL$6=ROUND(CL30/CL$6,0),NOT(CL30=0)),CL30/CL$6,0)","v":0},{"$f":"IF(AND(CM30/CM$6=ROUND(CM30/CM$6,0),NOT(CM30=0)),CM30/CM$6,0)","v":0},{"$f":"IF(AND(CN30/CN$6=ROUND(CN30/CN$6,0),NOT(CN30=0)),CN30/CN$6,0)","v":0},{"$f":"IF(AND(CO30/CO$6=ROUND(CO30/CO$6,0),NOT(CO30=0)),CO30/CO$6,0)","v":0},{"$f":"IF(AND(CP30/CP$6=ROUND(CP30/CP$6,0),NOT(CP30=0)),CP30/CP$6,0)","v":0},{"$f":"IF(AND(CQ30/CQ$6=ROUND(CQ30/CQ$6,0),NOT(CQ30=0)),CQ30/CQ$6,0)","v":0},{"$f":"IF(AND(CR30/CR$6=ROUND(CR30/CR$6,0),NOT(CR30=0)),CR30/CR$6,0)","v":0},{"$f":"IF(AND(CS30/CS$6=ROUND(CS30/CS$6,0),NOT(CS30=0)),CS30/CS$6,0)","v":0},{"$f":"IF(AND(CT30/CT$6=ROUND(CT30/CT$6,0),NOT(CT30=0)),CT30/CT$6,0)","v":0},{"$f":"IF(AND(CU30/CU$6=ROUND(CU30/CU$6,0),NOT(CU30=0)),CU30/CU$6,0)","v":0},{"$f":"IF(AND(CV30/CV$6=ROUND(CV30/CV$6,0),NOT(CV30=0)),CV30/CV$6,0)","v":0},{"$f":"IF(AND(CW30/CW$6=ROUND(CW30/CW$6,0),NOT(CW30=0)),CW30/CW$6,0)","v":0},{"$f":"IF(AND(CX30/CX$6=ROUND(CX30/CX$6,0),NOT(CX30=0)),CX30/CX$6,0)","v":0},{"$f":"IF(AND(CY30/CY$6=ROUND(CY30/CY$6,0),NOT(CY30=0)),CY30/CY$6,0)","v":0},{"$f":"IF(AND(CZ30/CZ$6=ROUND(CZ30/CZ$6,0),NOT(CZ30=0)),CZ30/CZ$6,0)","v":0},{"$f":"IF(AND(DA30/DA$6=ROUND(DA30/DA$6,0),NOT(DA30=0)),DA30/DA$6,0)","v":0},{"$f":"IF(AND(DB30/DB$6=ROUND(DB30/DB$6,0),NOT(DB30=0)),DB30/DB$6,0)","v":0},{"$f":"IF(AND(DC30/DC$6=ROUND(DC30/DC$6,0),NOT(DC30=0)),DC30/DC$6,0)","v":0},{"$f":"IF(AND(DD30/DD$6=ROUND(DD30/DD$6,0),NOT(DD30=0)),DD30/DD$6,0)","v":0},{"$f":"IF(AND(DE30/DE$6=ROUND(DE30/DE$6,0),NOT(DE30=0)),DE30/DE$6,0)","v":0},{"$f":"IF(AND(DF30/DF$6=ROUND(DF30/DF$6,0),NOT(DF30=0)),DF30/DF$6,0)","v":0},{"$f":"IF(AND(DG30/DG$6=ROUND(DG30/DG$6,0),NOT(DG30=0)),DG30/DG$6,0)","v":0},{"$f":"IF(AND(DH30/DH$6=ROUND(DH30/DH$6,0),NOT(DH30=0)),DH30/DH$6,0)","v":0},{"$f":"IF(AND(DI30/DI$6=ROUND(DI30/DI$6,0),NOT(DI30=0)),DI30/DI$6,0)","v":0},{"$f":"IF(AND(DJ30/DJ$6=ROUND(DJ30/DJ$6,0),NOT(DJ30=0)),DJ30/DJ$6,0)","v":0},{"$f":"IF(AND(DK30/DK$6=ROUND(DK30/DK$6,0),NOT(DK30=0)),DK30/DK$6,0)","v":0},{"$f":"IF(AND(DL30/DL$6=ROUND(DL30/DL$6,0),NOT(DL30=0)),DL30/DL$6,0)","v":0},{"$f":"IF(AND(DM30/DM$6=ROUND(DM30/DM$6,0),NOT(DM30=0)),DM30/DM$6,0)","v":0},{"$f":"IF(AND(DN30/DN$6=ROUND(DN30/DN$6,0),NOT(DN30=0)),DN30/DN$6,0)","v":0},{"$f":"IF(AND(DO30/DO$6=ROUND(DO30/DO$6,0),NOT(DO30=0)),DO30/DO$6,0)","v":0},{"$f":"IF(AND(DP30/DP$6=ROUND(DP30/DP$6,0),NOT(DP30=0)),DP30/DP$6,0)","v":0},{"$f":"IF(AND(DQ30/DQ$6=ROUND(DQ30/DQ$6,0),NOT(DQ30=0)),DQ30/DQ$6,0)","v":0},{"$f":"IF(AND(DR30/DR$6=ROUND(DR30/DR$6,0),NOT(DR30=0)),DR30/DR$6,0)","v":0},{"$f":"IF(AND(DS30/DS$6=ROUND(DS30/DS$6,0),NOT(DS30=0)),DS30/DS$6,0)","v":0},{"$f":"IF(AND(DT30/DT$6=ROUND(DT30/DT$6,0),NOT(DT30=0)),DT30/DT$6,0)","v":0},{"$f":"IF(AND(DU30/DU$6=ROUND(DU30/DU$6,0),NOT(DU30=0)),DU30/DU$6,0)","v":0},{"$f":"IF(AND(DV30/DV$6=ROUND(DV30/DV$6,0),NOT(DV30=0)),DV30/DV$6,0)","v":0},{"$f":"IF(AND(DW30/DW$6=ROUND(DW30/DW$6,0),NOT(DW30=0)),DW30/DW$6,0)","v":0},{"$f":"IF(AND(DX30/DX$6=ROUND(DX30/DX$6,0),NOT(DX30=0)),DX30/DX$6,0)","v":0},{"$f":"IF(AND(DY30/DY$6=ROUND(DY30/DY$6,0),NOT(DY30=0)),DY30/DY$6,0)","v":0},{"$f":"IF(AND(DZ30/DZ$6=ROUND(DZ30/DZ$6,0),NOT(DZ30=0)),DZ30/DZ$6,0)","v":0},{"$f":"IF(AND(EA30/EA$6=ROUND(EA30/EA$6,0),NOT(EA30=0)),EA30/EA$6,0)","v":0},{"$f":"IF(AND(EB30/EB$6=ROUND(EB30/EB$6,0),NOT(EB30=0)),EB30/EB$6,0)","v":0},{"$f":"IF(AND(EC30/EC$6=ROUND(EC30/EC$6,0),NOT(EC30=0)),EC30/EC$6,0)","v":0},{"$f":"IF(AND(ED30/ED$6=ROUND(ED30/ED$6,0),NOT(ED30=0)),ED30/ED$6,0)","v":0},{"$f":"IF(AND(EE30/EE$6=ROUND(EE30/EE$6,0),NOT(EE30=0)),EE30/EE$6,0)","v":0},{"$f":"IF(AND(EF30/EF$6=ROUND(EF30/EF$6,0),NOT(EF30=0)),EF30/EF$6,0)","v":0},{"$f":"IF(AND(EG30/EG$6=ROUND(EG30/EG$6,0),NOT(EG30=0)),EG30/EG$6,0)","v":0},{"$f":"IF(AND(EH30/EH$6=ROUND(EH30/EH$6,0),NOT(EH30=0)),EH30/EH$6,0)","v":0},{"$f":"IF(AND(EI30/EI$6=ROUND(EI30/EI$6,0),NOT(EI30=0)),EI30/EI$6,0)","v":0},{"$f":"IF(AND(EJ30/EJ$6=ROUND(EJ30/EJ$6,0),NOT(EJ30=0)),EJ30/EJ$6,0)","v":0},{"$f":"IF(AND(EK30/EK$6=ROUND(EK30/EK$6,0),NOT(EK30=0)),EK30/EK$6,0)","v":0},{"$f":"IF(AND(EL30/EL$6=ROUND(EL30/EL$6,0),NOT(EL30=0)),EL30/EL$6,0)","v":0},{"$f":"IF(AND(EM30/EM$6=ROUND(EM30/EM$6,0),NOT(EM30=0)),EM30/EM$6,0)","v":0},{"$f":"IF(AND(EN30/EN$6=ROUND(EN30/EN$6,0),NOT(EN30=0)),EN30/EN$6,0)","v":0},{"$f":"IF(AND(EO30/EO$6=ROUND(EO30/EO$6,0),NOT(EO30=0)),EO30/EO$6,0)","v":0},{"$f":"IF(AND(EP30/EP$6=ROUND(EP30/EP$6,0),NOT(EP30=0)),EP30/EP$6,0)","v":0},{"$f":"IF(AND(EQ30/EQ$6=ROUND(EQ30/EQ$6,0),NOT(EQ30=0)),EQ30/EQ$6,0)","v":0},{"$f":"IF(AND(ER30/ER$6=ROUND(ER30/ER$6,0),NOT(ER30=0)),ER30/ER$6,0)","v":0},{"$f":"IF(AND(ES30/ES$6=ROUND(ES30/ES$6,0),NOT(ES30=0)),ES30/ES$6,0)","v":0},{"$f":"IF(AND(ET30/ET$6=ROUND(ET30/ET$6,0),NOT(ET30=0)),ET30/ET$6,0)","v":0},{"$f":"IF(AND(EU30/EU$6=ROUND(EU30/EU$6,0),NOT(EU30=0)),EU30/EU$6,0)","v":0},{"$f":"IF(AND(EV30/EV$6=ROUND(EV30/EV$6,0),NOT(EV30=0)),EV30/EV$6,0)","v":0},{"$f":"IF(AND(EW30/EW$6=ROUND(EW30/EW$6,0),NOT(EW30=0)),EW30/EW$6,0)","v":0},{"$f":"IF(AND(EX30/EX$6=ROUND(EX30/EX$6,0),NOT(EX30=0)),EX30/EX$6,0)","v":0},{"$f":"IF(AND(EY30/EY$6=ROUND(EY30/EY$6,0),NOT(EY30=0)),EY30/EY$6,0)","v":0},{"$f":"IF(AND(EZ30/EZ$6=ROUND(EZ30/EZ$6,0),NOT(EZ30=0)),EZ30/EZ$6,0)","v":0},{"$f":"IF(AND(FA30/FA$6=ROUND(FA30/FA$6,0),NOT(FA30=0)),FA30/FA$6,0)","v":0},{"$f":"IF(AND(FB30/FB$6=ROUND(FB30/FB$6,0),NOT(FB30=0)),FB30/FB$6,0)","v":0},{"$f":"IF(AND(FC30/FC$6=ROUND(FC30/FC$6,0),NOT(FC30=0)),FC30/FC$6,0)","v":0},{"$f":"IF(AND(FD30/FD$6=ROUND(FD30/FD$6,0),NOT(FD30=0)),FD30/FD$6,0)","v":0},{"$f":"IF(AND(FE30/FE$6=ROUND(FE30/FE$6,0),NOT(FE30=0)),FE30/FE$6,0)","v":0},{"$f":"IF(AND(FF30/FF$6=ROUND(FF30/FF$6,0),NOT(FF30=0)),FF30/FF$6,0)","v":0},{"$f":"IF(AND(FG30/FG$6=ROUND(FG30/FG$6,0),NOT(FG30=0)),FG30/FG$6,0)","v":0},{"$f":"IF(AND(FH30/FH$6=ROUND(FH30/FH$6,0),NOT(FH30=0)),FH30/FH$6,0)","v":0},{"$f":"IF(AND(FI30/FI$6=ROUND(FI30/FI$6,0),NOT(FI30=0)),FI30/FI$6,0)","v":0},{"$f":"IF(AND(FJ30/FJ$6=ROUND(FJ30/FJ$6,0),NOT(FJ30=0)),FJ30/FJ$6,0)","v":0},{"$f":"IF(AND(FK30/FK$6=ROUND(FK30/FK$6,0),NOT(FK30=0)),FK30/FK$6,0)","v":0},{"$f":"IF(AND(FL30/FL$6=ROUND(FL30/FL$6,0),NOT(FL30=0)),FL30/FL$6,0)","v":0},{"$f":"IF(AND(FM30/FM$6=ROUND(FM30/FM$6,0),NOT(FM30=0)),FM30/FM$6,0)","v":0},{"$f":"IF(AND(FN30/FN$6=ROUND(FN30/FN$6,0),NOT(FN30=0)),FN30/FN$6,0)","v":0},{"$f":"IF(AND(FO30/FO$6=ROUND(FO30/FO$6,0),NOT(FO30=0)),FO30/FO$6,0)","v":0},{"$f":"IF(AND(FP30/FP$6=ROUND(FP30/FP$6,0),NOT(FP30=0)),FP30/FP$6,0)","v":0},{"$f":"IF(AND(FQ30/FQ$6=ROUND(FQ30/FQ$6,0),NOT(FQ30=0)),FQ30/FQ$6,0)","v":0},{"$f":"IF(AND(FR30/FR$6=ROUND(FR30/FR$6,0),NOT(FR30=0)),FR30/FR$6,0)","v":0},{"$f":"IF(AND(FS30/FS$6=ROUND(FS30/FS$6,0),NOT(FS30=0)),FS30/FS$6,0)","v":0},{"$f":"IF(AND(FT30/FT$6=ROUND(FT30/FT$6,0),NOT(FT30=0)),FT30/FT$6,0)","v":0},{"$f":"IF(AND(FU30/FU$6=ROUND(FU30/FU$6,0),NOT(FU30=0)),FU30/FU$6,0)","v":0},{"$f":"IF(AND(FV30/FV$6=ROUND(FV30/FV$6,0),NOT(FV30=0)),FV30/FV$6,0)","v":0},{"$f":"IF(AND(FW30/FW$6=ROUND(FW30/FW$6,0),NOT(FW30=0)),FW30/FW$6,0)","v":0},{"$f":"IF(AND(FX30/FX$6=ROUND(FX30/FX$6,0),NOT(FX30=0)),FX30/FX$6,0)","v":0},{"$f":"IF(AND(FY30/FY$6=ROUND(FY30/FY$6,0),NOT(FY30=0)),FY30/FY$6,0)","v":0},{"$f":"IF(AND(FZ30/FZ$6=ROUND(FZ30/FZ$6,0),NOT(FZ30=0)),FZ30/FZ$6,0)","v":0},{"$f":"IF(AND(GA30/GA$6=ROUND(GA30/GA$6,0),NOT(GA30=0)),GA30/GA$6,0)","v":0},{"$f":"IF(AND(GB30/GB$6=ROUND(GB30/GB$6,0),NOT(GB30=0)),GB30/GB$6,0)","v":0},{"$f":"IF(AND(GC30/GC$6=ROUND(GC30/GC$6,0),NOT(GC30=0)),GC30/GC$6,0)","v":0},{"$f":"IF(AND(GD30/GD$6=ROUND(GD30/GD$6,0),NOT(GD30=0)),GD30/GD$6,0)","v":0},{"$f":"IF(AND(GE30/GE$6=ROUND(GE30/GE$6,0),NOT(GE30=0)),GE30/GE$6,0)","v":0},{"$f":"IF(AND(GF30/GF$6=ROUND(GF30/GF$6,0),NOT(GF30=0)),GF30/GF$6,0)","v":0},{"$f":"IF(AND(GG30/GG$6=ROUND(GG30/GG$6,0),NOT(GG30=0)),GG30/GG$6,0)","v":0},{"$f":"IF(AND(GH30/GH$6=ROUND(GH30/GH$6,0),NOT(GH30=0)),GH30/GH$6,0)","v":0},{"$f":"IF(AND(GI30/GI$6=ROUND(GI30/GI$6,0),NOT(GI30=0)),GI30/GI$6,0)","v":0},{"$f":"IF(AND(GJ30/GJ$6=ROUND(GJ30/GJ$6,0),NOT(GJ30=0)),GJ30/GJ$6,0)","v":0},{"$f":"IF(AND(GK30/GK$6=ROUND(GK30/GK$6,0),NOT(GK30=0)),GK30/GK$6,0)","v":0},{"$f":"IF(AND(GL30/GL$6=ROUND(GL30/GL$6,0),NOT(GL30=0)),GL30/GL$6,0)","v":0},{"$f":"IF(AND(GM30/GM$6=ROUND(GM30/GM$6,0),NOT(GM30=0)),GM30/GM$6,0)","v":0},{"$f":"IF(AND(GN30/GN$6=ROUND(GN30/GN$6,0),NOT(GN30=0)),GN30/GN$6,0)","v":0},{"$f":"IF(AND(GO30/GO$6=ROUND(GO30/GO$6,0),NOT(GO30=0)),GO30/GO$6,0)","v":0},{"$f":"IF(AND(GP30/GP$6=ROUND(GP30/GP$6,0),NOT(GP30=0)),GP30/GP$6,0)","v":0},{"$f":"IF(AND(GQ30/GQ$6=ROUND(GQ30/GQ$6,0),NOT(GQ30=0)),GQ30/GQ$6,0)","v":0},{"$f":"IF(AND(GR30/GR$6=ROUND(GR30/GR$6,0),NOT(GR30=0)),GR30/GR$6,0)","v":0},{"$f":"IF(AND(GS30/GS$6=ROUND(GS30/GS$6,0),NOT(GS30=0)),GS30/GS$6,0)","v":0},{"$f":"IF(AND(GT30/GT$6=ROUND(GT30/GT$6,0),NOT(GT30=0)),GT30/GT$6,0)","v":0},{"$f":"IF(AND(GU30/GU$6=ROUND(GU30/GU$6,0),NOT(GU30=0)),GU30/GU$6,0)","v":0},{"$f":"IF(AND(GV30/GV$6=ROUND(GV30/GV$6,0),NOT(GV30=0)),GV30/GV$6,0)","v":0},{"$f":"IF(AND(GW30/GW$6=ROUND(GW30/GW$6,0),NOT(GW30=0)),GW30/GW$6,0)","v":0},{"$f":"IF(AND(GX30/GX$6=ROUND(GX30/GX$6,0),NOT(GX30=0)),GX30/GX$6,0)","v":0},{"$f":"IF(AND(GY30/GY$6=ROUND(GY30/GY$6,0),NOT(GY30=0)),GY30/GY$6,0)","v":0},{"$f":"IF(AND(GZ30/GZ$6=ROUND(GZ30/GZ$6,0),NOT(GZ30=0)),GZ30/GZ$6,0)","v":0},{"$f":"IF(AND(HA30/HA$6=ROUND(HA30/HA$6,0),NOT(HA30=0)),HA30/HA$6,0)","v":0},{"$f":"IF(AND(HB30/HB$6=ROUND(HB30/HB$6,0),NOT(HB30=0)),HB30/HB$6,0)","v":0},{"$f":"IF(AND(HC30/HC$6=ROUND(HC30/HC$6,0),NOT(HC30=0)),HC30/HC$6,0)","v":0},{"$f":"IF(AND(HD30/HD$6=ROUND(HD30/HD$6,0),NOT(HD30=0)),HD30/HD$6,0)","v":0},{"$f":"IF(AND(HE30/HE$6=ROUND(HE30/HE$6,0),NOT(HE30=0)),HE30/HE$6,0)","v":0},{"$f":"IF(AND(HF30/HF$6=ROUND(HF30/HF$6,0),NOT(HF30=0)),HF30/HF$6,0)","v":0},{"$f":"IF(AND(HG30/HG$6=ROUND(HG30/HG$6,0),NOT(HG30=0)),HG30/HG$6,0)","v":0},{"$f":"IF(AND(HH30/HH$6=ROUND(HH30/HH$6,0),NOT(HH30=0)),HH30/HH$6,0)","v":0},{"$f":"IF(AND(HI30/HI$6=ROUND(HI30/HI$6,0),NOT(HI30=0)),HI30/HI$6,0)","v":0},{"$f":"IF(AND(HJ30/HJ$6=ROUND(HJ30/HJ$6,0),NOT(HJ30=0)),HJ30/HJ$6,0)","v":0},{"$f":"IF(AND(HK30/HK$6=ROUND(HK30/HK$6,0),NOT(HK30=0)),HK30/HK$6,0)","v":0},{"$f":"IF(AND(HL30/HL$6=ROUND(HL30/HL$6,0),NOT(HL30=0)),HL30/HL$6,0)","v":0},{"$f":"IF(AND(HM30/HM$6=ROUND(HM30/HM$6,0),NOT(HM30=0)),HM30/HM$6,0)","v":0},{"$f":"IF(AND(HN30/HN$6=ROUND(HN30/HN$6,0),NOT(HN30=0)),HN30/HN$6,0)","v":0},{"$f":"IF(AND(HO30/HO$6=ROUND(HO30/HO$6,0),NOT(HO30=0)),HO30/HO$6,0)","v":0},{"$f":"IF(AND(HP30/HP$6=ROUND(HP30/HP$6,0),NOT(HP30=0)),HP30/HP$6,0)","v":0},{"$f":"IF(AND(HQ30/HQ$6=ROUND(HQ30/HQ$6,0),NOT(HQ30=0)),HQ30/HQ$6,0)","v":0},{"$f":"IF(AND(HR30/HR$6=ROUND(HR30/HR$6,0),NOT(HR30=0)),HR30/HR$6,0)","v":0},{"$f":"IF(AND(HS30/HS$6=ROUND(HS30/HS$6,0),NOT(HS30=0)),HS30/HS$6,0)","v":0},{"$f":"IF(AND(HT30/HT$6=ROUND(HT30/HT$6,0),NOT(HT30=0)),HT30/HT$6,0)","v":0},{"$f":"IF(AND(HU30/HU$6=ROUND(HU30/HU$6,0),NOT(HU30=0)),HU30/HU$6,0)","v":0},{"$f":"IF(AND(HV30/HV$6=ROUND(HV30/HV$6,0),NOT(HV30=0)),HV30/HV$6,0)","v":0},{"$f":"IF(AND(HW30/HW$6=ROUND(HW30/HW$6,0),NOT(HW30=0)),HW30/HW$6,0)","v":0},{"$f":"IF(AND(HX30/HX$6=ROUND(HX30/HX$6,0),NOT(HX30=0)),HX30/HX$6,0)","v":0},{"$f":"IF(AND(HY30/HY$6=ROUND(HY30/HY$6,0),NOT(HY30=0)),HY30/HY$6,0)","v":0},{"$f":"IF(AND(HZ30/HZ$6=ROUND(HZ30/HZ$6,0),NOT(HZ30=0)),HZ30/HZ$6,0)","v":0},{"$f":"IF(AND(IA30/IA$6=ROUND(IA30/IA$6,0),NOT(IA30=0)),IA30/IA$6,0)","v":0},{"$f":"IF(AND(IB30/IB$6=ROUND(IB30/IB$6,0),NOT(IB30=0)),IB30/IB$6,0)","v":0},{"$f":"IF(AND(IC30/IC$6=ROUND(IC30/IC$6,0),NOT(IC30=0)),IC30/IC$6,0)","v":0},{"$f":"IF(AND(ID30/ID$6=ROUND(ID30/ID$6,0),NOT(ID30=0)),ID30/ID$6,0)","v":0},{"$f":"IF(AND(IE30/IE$6=ROUND(IE30/IE$6,0),NOT(IE30=0)),IE30/IE$6,0)","v":0},{"$f":"IF(AND(IF30/IF$6=ROUND(IF30/IF$6,0),NOT(IF30=0)),IF30/IF$6,0)","v":0},{"$f":"IF(AND(IG30/IG$6=ROUND(IG30/IG$6,0),NOT(IG30=0)),IG30/IG$6,0)","v":0},{"$f":"IF(AND(IH30/IH$6=ROUND(IH30/IH$6,0),NOT(IH30=0)),IH30/IH$6,0)","v":0},{"$f":"IF(AND(II30/II$6=ROUND(II30/II$6,0),NOT(II30=0)),II30/II$6,0)","v":0},{"$f":"IF(AND(IJ30/IJ$6=ROUND(IJ30/IJ$6,0),NOT(IJ30=0)),IJ30/IJ$6,0)","v":0},{"$f":"IF(AND(IK30/IK$6=ROUND(IK30/IK$6,0),NOT(IK30=0)),IK30/IK$6,0)","v":0},{"$f":"IF(AND(IL30/IL$6=ROUND(IL30/IL$6,0),NOT(IL30=0)),IL30/IL$6,0)","v":0},{"$f":"IF(AND(IM30/IM$6=ROUND(IM30/IM$6,0),NOT(IM30=0)),IM30/IM$6,0)","v":0},{"$f":"IF(AND(IN30/IN$6=ROUND(IN30/IN$6,0),NOT(IN30=0)),IN30/IN$6,0)","v":0},{"$f":"IF(AND(IO30/IO$6=ROUND(IO30/IO$6,0),NOT(IO30=0)),IO30/IO$6,0)","v":0},{"$f":"IF(AND(IP30/IP$6=ROUND(IP30/IP$6,0),NOT(IP30=0)),IP30/IP$6,0)","v":0},{"$f":"IF(AND(IQ30/IQ$6=ROUND(IQ30/IQ$6,0),NOT(IQ30=0)),IQ30/IQ$6,0)","v":0},{"$f":"IF(AND(IR30/IR$6=ROUND(IR30/IR$6,0),NOT(IR30=0)),IR30/IR$6,0)","v":0},{"$f":"IF(AND(IS30/IS$6=ROUND(IS30/IS$6,0),NOT(IS30=0)),IS30/IS$6,0)","v":0},{"$f":"IF(AND(IT30/IT$6=ROUND(IT30/IT$6,0),NOT(IT30=0)),IT30/IT$6,0)","v":0},{"$f":"IF(AND(IU30/IU$6=ROUND(IU30/IU$6,0),NOT(IU30=0)),IU30/IU$6,0)","v":0},{"$f":"IF(AND(IV30/IV$6=ROUND(IV30/IV$6,0),NOT(IV30=0)),IV30/IV$6,0)","v":0},{"$f":"IF(AND(IW30/IW$6=ROUND(IW30/IW$6,0),NOT(IW30=0)),IW30/IW$6,0)","v":0},{"$f":"IF(AND(IX30/IX$6=ROUND(IX30/IX$6,0),NOT(IX30=0)),IX30/IX$6,0)","v":0},{"$f":"IF(AND(IY30/IY$6=ROUND(IY30/IY$6,0),NOT(IY30=0)),IY30/IY$6,0)","v":0},{"$f":"IF(AND(IZ30/IZ$6=ROUND(IZ30/IZ$6,0),NOT(IZ30=0)),IZ30/IZ$6,0)","v":0},{"$f":"IF(AND(JA30/JA$6=ROUND(JA30/JA$6,0),NOT(JA30=0)),JA30/JA$6,0)","v":0},{"$f":"IF(AND(JB30/JB$6=ROUND(JB30/JB$6,0),NOT(JB30=0)),JB30/JB$6,0)","v":0},{"$f":"IF(AND(JC30/JC$6=ROUND(JC30/JC$6,0),NOT(JC30=0)),JC30/JC$6,0)","v":0},{"$f":"IF(AND(JD30/JD$6=ROUND(JD30/JD$6,0),NOT(JD30=0)),JD30/JD$6,0)","v":0},{"$f":"IF(AND(JE30/JE$6=ROUND(JE30/JE$6,0),NOT(JE30=0)),JE30/JE$6,0)","v":0},{"$f":"IF(AND(JF30/JF$6=ROUND(JF30/JF$6,0),NOT(JF30=0)),JF30/JF$6,0)","v":0},{"$f":"IF(AND(JG30/JG$6=ROUND(JG30/JG$6,0),NOT(JG30=0)),JG30/JG$6,0)","v":0},{"$f":"IF(AND(JH30/JH$6=ROUND(JH30/JH$6,0),NOT(JH30=0)),JH30/JH$6,0)","v":0},{"$f":"IF(AND(JI30/JI$6=ROUND(JI30/JI$6,0),NOT(JI30=0)),JI30/JI$6,0)","v":0},{"$f":"IF(AND(JJ30/JJ$6=ROUND(JJ30/JJ$6,0),NOT(JJ30=0)),JJ30/JJ$6,0)","v":0},{"$f":"IF(AND(JK30/JK$6=ROUND(JK30/JK$6,0),NOT(JK30=0)),JK30/JK$6,0)","v":0},{"$f":"IF(AND(JL30/JL$6=ROUND(JL30/JL$6,0),NOT(JL30=0)),JL30/JL$6,0)","v":0},{"$f":"IF(AND(JM30/JM$6=ROUND(JM30/JM$6,0),NOT(JM30=0)),JM30/JM$6,0)","v":0},{"$f":"IF(AND(JN30/JN$6=ROUND(JN30/JN$6,0),NOT(JN30=0)),JN30/JN$6,0)","v":0},{"$f":"IF(AND(JO30/JO$6=ROUND(JO30/JO$6,0),NOT(JO30=0)),JO30/JO$6,0)","v":0},{"$f":"IF(AND(JP30/JP$6=ROUND(JP30/JP$6,0),NOT(JP30=0)),JP30/JP$6,0)","v":0},{"$f":"IF(AND(JQ30/JQ$6=ROUND(JQ30/JQ$6,0),NOT(JQ30=0)),JQ30/JQ$6,0)","v":0},{"$f":"IF(AND(JR30/JR$6=ROUND(JR30/JR$6,0),NOT(JR30=0)),JR30/JR$6,0)","v":0},{"$f":"IF(AND(JS30/JS$6=ROUND(JS30/JS$6,0),NOT(JS30=0)),JS30/JS$6,0)","v":0},{"$f":"IF(AND(JT30/JT$6=ROUND(JT30/JT$6,0),NOT(JT30=0)),JT30/JT$6,0)","v":0},{"$f":"IF(AND(JU30/JU$6=ROUND(JU30/JU$6,0),NOT(JU30=0)),JU30/JU$6,0)","v":0},{"$f":"IF(AND(JV30/JV$6=ROUND(JV30/JV$6,0),NOT(JV30=0)),JV30/JV$6,0)","v":0},{"$f":"IF(AND(JW30/JW$6=ROUND(JW30/JW$6,0),NOT(JW30=0)),JW30/JW$6,0)","v":0},{"$f":"IF(AND(JX30/JX$6=ROUND(JX30/JX$6,0),NOT(JX30=0)),JX30/JX$6,0)","v":0},{"$f":"IF(AND(JY30/JY$6=ROUND(JY30/JY$6,0),NOT(JY30=0)),JY30/JY$6,0)","v":0},{"$f":"IF(AND(JZ30/JZ$6=ROUND(JZ30/JZ$6,0),NOT(JZ30=0)),JZ30/JZ$6,0)","v":0},{"$f":"IF(AND(KA30/KA$6=ROUND(KA30/KA$6,0),NOT(KA30=0)),KA30/KA$6,0)","v":0},{"$f":"IF(AND(KB30/KB$6=ROUND(KB30/KB$6,0),NOT(KB30=0)),KB30/KB$6,0)","v":0},{"$f":"IF(AND(KC30/KC$6=ROUND(KC30/KC$6,0),NOT(KC30=0)),KC30/KC$6,0)","v":0},{"$f":"IF(AND(KD30/KD$6=ROUND(KD30/KD$6,0),NOT(KD30=0)),KD30/KD$6,0)","v":0},{"$f":"IF(AND(KE30/KE$6=ROUND(KE30/KE$6,0),NOT(KE30=0)),KE30/KE$6,0)","v":0},{"$f":"IF(AND(KF30/KF$6=ROUND(KF30/KF$6,0),NOT(KF30=0)),KF30/KF$6,0)","v":0},{"$f":"IF(AND(KG30/KG$6=ROUND(KG30/KG$6,0),NOT(KG30=0)),KG30/KG$6,0)","v":0},{"$f":"IF(AND(KH30/KH$6=ROUND(KH30/KH$6,0),NOT(KH30=0)),KH30/KH$6,0)","v":0},{"$f":"IF(AND(KI30/KI$6=ROUND(KI30/KI$6,0),NOT(KI30=0)),KI30/KI$6,0)","v":0},{"$f":"IF(AND(KJ30/KJ$6=ROUND(KJ30/KJ$6,0),NOT(KJ30=0)),KJ30/KJ$6,0)","v":0},{"$f":"IF(AND(KK30/KK$6=ROUND(KK30/KK$6,0),NOT(KK30=0)),KK30/KK$6,0)","v":0},{"$f":"IF(AND(KL30/KL$6=ROUND(KL30/KL$6,0),NOT(KL30=0)),KL30/KL$6,0)","v":0},{"$f":"IF(AND(KM30/KM$6=ROUND(KM30/KM$6,0),NOT(KM30=0)),KM30/KM$6,0)","v":0},{"$f":"IF(AND(KN30/KN$6=ROUND(KN30/KN$6,0),NOT(KN30=0)),KN30/KN$6,0)","v":0},{"$f":"IF(AND(KO30/KO$6=ROUND(KO30/KO$6,0),NOT(KO30=0)),KO30/KO$6,0)","v":0},{"$f":"IF(AND(KP30/KP$6=ROUND(KP30/KP$6,0),NOT(KP30=0)),KP30/KP$6,0)","v":0},{"$f":"IF(AND(KQ30/KQ$6=ROUND(KQ30/KQ$6,0),NOT(KQ30=0)),KQ30/KQ$6,0)","v":0},{"$f":"IF(AND(KR30/KR$6=ROUND(KR30/KR$6,0),NOT(KR30=0)),KR30/KR$6,0)","v":0},{"$f":"IF(AND(KS30/KS$6=ROUND(KS30/KS$6,0),NOT(KS30=0)),KS30/KS$6,0)","v":0},{"$f":"IF(AND(KT30/KT$6=ROUND(KT30/KT$6,0),NOT(KT30=0)),KT30/KT$6,0)","v":0},{"$f":"IF(AND(KU30/KU$6=ROUND(KU30/KU$6,0),NOT(KU30=0)),KU30/KU$6,0)","v":0},{"$f":"IF(AND(KV30/KV$6=ROUND(KV30/KV$6,0),NOT(KV30=0)),KV30/KV$6,0)","v":0},{"$f":"IF(AND(KW30/KW$6=ROUND(KW30/KW$6,0),NOT(KW30=0)),KW30/KW$6,0)","v":0},{"$f":"IF(AND(KX30/KX$6=ROUND(KX30/KX$6,0),NOT(KX30=0)),KX30/KX$6,0)","v":0},{"$f":"IF(AND(KY30/KY$6=ROUND(KY30/KY$6,0),NOT(KY30=0)),KY30/KY$6,0)","v":0},{"$f":"IF(AND(KZ30/KZ$6=ROUND(KZ30/KZ$6,0),NOT(KZ30=0)),KZ30/KZ$6,0)","v":0},{"$f":"IF(AND(LA30/LA$6=ROUND(LA30/LA$6,0),NOT(LA30=0)),LA30/LA$6,0)","v":0},{"$f":"IF(AND(LB30/LB$6=ROUND(LB30/LB$6,0),NOT(LB30=0)),LB30/LB$6,0)","v":0},{"$f":"IF(AND(LC30/LC$6=ROUND(LC30/LC$6,0),NOT(LC30=0)),LC30/LC$6,0)","v":0},{"$f":"IF(AND(LD30/LD$6=ROUND(LD30/LD$6,0),NOT(LD30=0)),LD30/LD$6,0)","v":0},{"$f":"IF(AND(LE30/LE$6=ROUND(LE30/LE$6,0),NOT(LE30=0)),LE30/LE$6,0)","v":0},{"$f":"IF(AND(LF30/LF$6=ROUND(LF30/LF$6,0),NOT(LF30=0)),LF30/LF$6,0)","v":0},{"$f":"IF(AND(LG30/LG$6=ROUND(LG30/LG$6,0),NOT(LG30=0)),LG30/LG$6,0)","v":0},{"$f":"IF(AND(LH30/LH$6=ROUND(LH30/LH$6,0),NOT(LH30=0)),LH30/LH$6,0)","v":0},{"$f":"IF(AND(LI30/LI$6=ROUND(LI30/LI$6,0),NOT(LI30=0)),LI30/LI$6,0)","v":0},{"$f":"IF(AND(LJ30/LJ$6=ROUND(LJ30/LJ$6,0),NOT(LJ30=0)),LJ30/LJ$6,0)","v":0},{"$f":"IF(AND(LK30/LK$6=ROUND(LK30/LK$6,0),NOT(LK30=0)),LK30/LK$6,0)","v":0},{"$f":"IF(AND(LL30/LL$6=ROUND(LL30/LL$6,0),NOT(LL30=0)),LL30/LL$6,0)","v":0},{"$f":"IF(AND(LM30/LM$6=ROUND(LM30/LM$6,0),NOT(LM30=0)),LM30/LM$6,0)","v":0},{"$f":"IF(AND(LN30/LN$6=ROUND(LN30/LN$6,0),NOT(LN30=0)),LN30/LN$6,0)","v":0},{"$f":"IF(AND(LO30/LO$6=ROUND(LO30/LO$6,0),NOT(LO30=0)),LO30/LO$6,0)","v":0},{"$f":"IF(AND(LP30/LP$6=ROUND(LP30/LP$6,0),NOT(LP30=0)),LP30/LP$6,0)","v":0},{"$f":"IF(AND(LQ30/LQ$6=ROUND(LQ30/LQ$6,0),NOT(LQ30=0)),LQ30/LQ$6,0)","v":0},{"$f":"IF(AND(LR30/LR$6=ROUND(LR30/LR$6,0),NOT(LR30=0)),LR30/LR$6,0)","v":0},{"$f":"IF(AND(LS30/LS$6=ROUND(LS30/LS$6,0),NOT(LS30=0)),LS30/LS$6,0)","v":0},{"$f":"IF(AND(LT30/LT$6=ROUND(LT30/LT$6,0),NOT(LT30=0)),LT30/LT$6,0)","v":0},{"$f":"IF(AND(LU30/LU$6=ROUND(LU30/LU$6,0),NOT(LU30=0)),LU30/LU$6,0)","v":0},{"$f":"IF(AND(LV30/LV$6=ROUND(LV30/LV$6,0),NOT(LV30=0)),LV30/LV$6,0)","v":0},{"$f":"IF(AND(LW30/LW$6=ROUND(LW30/LW$6,0),NOT(LW30=0)),LW30/LW$6,0)","v":0},{"$f":"IF(AND(LX30/LX$6=ROUND(LX30/LX$6,0),NOT(LX30=0)),LX30/LX$6,0)","v":0},{"$f":"IF(AND(LY30/LY$6=ROUND(LY30/LY$6,0),NOT(LY30=0)),LY30/LY$6,0)","v":0},{"$f":"IF(AND(LZ30/LZ$6=ROUND(LZ30/LZ$6,0),NOT(LZ30=0)),LZ30/LZ$6,0)","v":0},{"$f":"IF(AND(MA30/MA$6=ROUND(MA30/MA$6,0),NOT(MA30=0)),MA30/MA$6,0)","v":0},{"$f":"IF(AND(MB30/MB$6=ROUND(MB30/MB$6,0),NOT(MB30=0)),MB30/MB$6,0)","v":0},{"$f":"IF(AND(MC30/MC$6=ROUND(MC30/MC$6,0),NOT(MC30=0)),MC30/MC$6,0)","v":0},{"$f":"IF(AND(MD30/MD$6=ROUND(MD30/MD$6,0),NOT(MD30=0)),MD30/MD$6,0)","v":0},{"$f":"IF(AND(ME30/ME$6=ROUND(ME30/ME$6,0),NOT(ME30=0)),ME30/ME$6,0)","v":0},{"$f":"IF(AND(MF30/MF$6=ROUND(MF30/MF$6,0),NOT(MF30=0)),MF30/MF$6,0)","v":0},{"$f":"IF(AND(MG30/MG$6=ROUND(MG30/MG$6,0),NOT(MG30=0)),MG30/MG$6,0)","v":0},{"$f":"IF(AND(MH30/MH$6=ROUND(MH30/MH$6,0),NOT(MH30=0)),MH30/MH$6,0)","v":0},{"$f":"IF(AND(MI30/MI$6=ROUND(MI30/MI$6,0),NOT(MI30=0)),MI30/MI$6,0)","v":0},{"$f":"IF(AND(MJ30/MJ$6=ROUND(MJ30/MJ$6,0),NOT(MJ30=0)),MJ30/MJ$6,0)","v":0},{"$f":"IF(AND(MK30/MK$6=ROUND(MK30/MK$6,0),NOT(MK30=0)),MK30/MK$6,0)","v":0},{"$f":"IF(AND(ML30/ML$6=ROUND(ML30/ML$6,0),NOT(ML30=0)),ML30/ML$6,0)","v":0},{"$f":"IF(AND(MM30/MM$6=ROUND(MM30/MM$6,0),NOT(MM30=0)),MM30/MM$6,0)","v":0},{"$f":"IF(AND(MN30/MN$6=ROUND(MN30/MN$6,0),NOT(MN30=0)),MN30/MN$6,0)","v":0},{"$f":"IF(AND(MO30/MO$6=ROUND(MO30/MO$6,0),NOT(MO30=0)),MO30/MO$6,0)","v":0},{"$f":"IF(AND(MP30/MP$6=ROUND(MP30/MP$6,0),NOT(MP30=0)),MP30/MP$6,0)","v":0},{"$f":"IF(AND(MQ30/MQ$6=ROUND(MQ30/MQ$6,0),NOT(MQ30=0)),MQ30/MQ$6,0)","v":0},{"$f":"IF(AND(MR30/MR$6=ROUND(MR30/MR$6,0),NOT(MR30=0)),MR30/MR$6,0)","v":0},{"$f":"IF(AND(MS30/MS$6=ROUND(MS30/MS$6,0),NOT(MS30=0)),MS30/MS$6,0)","v":0},{"$f":"IF(AND(MT30/MT$6=ROUND(MT30/MT$6,0),NOT(MT30=0)),MT30/MT$6,0)","v":0},{"$f":"IF(AND(MU30/MU$6=ROUND(MU30/MU$6,0),NOT(MU30=0)),MU30/MU$6,0)","v":0},{"$f":"IF(AND(MV30/MV$6=ROUND(MV30/MV$6,0),NOT(MV30=0)),MV30/MV$6,0)","v":0},{"$f":"IF(AND(MW30/MW$6=ROUND(MW30/MW$6,0),NOT(MW30=0)),MW30/MW$6,0)","v":0},{"$f":"IF(AND(MX30/MX$6=ROUND(MX30/MX$6,0),NOT(MX30=0)),MX30/MX$6,0)","v":0},{"$f":"IF(AND(MY30/MY$6=ROUND(MY30/MY$6,0),NOT(MY30=0)),MY30/MY$6,0)","v":0},{"$f":"IF(AND(MZ30/MZ$6=ROUND(MZ30/MZ$6,0),NOT(MZ30=0)),MZ30/MZ$6,0)","v":0},{"$f":"IF(AND(NA30/NA$6=ROUND(NA30/NA$6,0),NOT(NA30=0)),NA30/NA$6,0)","v":0},{"$f":"IF(AND(NB30/NB$6=ROUND(NB30/NB$6,0),NOT(NB30=0)),NB30/NB$6,0)","v":0},{"$f":"IF(AND(NC30/NC$6=ROUND(NC30/NC$6,0),NOT(NC30=0)),NC30/NC$6,0)","v":0},{"$f":"IF(AND(ND30/ND$6=ROUND(ND30/ND$6,0),NOT(ND30=0)),ND30/ND$6,0)","v":0},{"$f":"IF(AND(NE30/NE$6=ROUND(NE30/NE$6,0),NOT(NE30=0)),NE30/NE$6,0)","v":0},{"$f":"IF(AND(NF30/NF$6=ROUND(NF30/NF$6,0),NOT(NF30=0)),NF30/NF$6,0)","v":0},{"$f":"IF(AND(NG30/NG$6=ROUND(NG30/NG$6,0),NOT(NG30=0)),NG30/NG$6,0)","v":0},{"$f":"IF(AND(NH30/NH$6=ROUND(NH30/NH$6,0),NOT(NH30=0)),NH30/NH$6,0)","v":0},{"$f":"IF(AND(NI30/NI$6=ROUND(NI30/NI$6,0),NOT(NI30=0)),NI30/NI$6,0)","v":0},{"$f":"IF(AND(NJ30/NJ$6=ROUND(NJ30/NJ$6,0),NOT(NJ30=0)),NJ30/NJ$6,0)","v":0},{"$f":"IF(AND(NK30/NK$6=ROUND(NK30/NK$6,0),NOT(NK30=0)),NK30/NK$6,0)","v":0},{"$f":"IF(AND(NL30/NL$6=ROUND(NL30/NL$6,0),NOT(NL30=0)),NL30/NL$6,0)","v":0},{"$f":"IF(AND(NM30/NM$6=ROUND(NM30/NM$6,0),NOT(NM30=0)),NM30/NM$6,0)","v":0},{"$f":"IF(AND(NN30/NN$6=ROUND(NN30/NN$6,0),NOT(NN30=0)),NN30/NN$6,0)","v":0},{"$f":"IF(AND(NO30/NO$6=ROUND(NO30/NO$6,0),NOT(NO30=0)),NO30/NO$6,0)","v":0},{"$f":"IF(AND(NP30/NP$6=ROUND(NP30/NP$6,0),NOT(NP30=0)),NP30/NP$6,0)","v":0},{"$f":"IF(AND(NQ30/NQ$6=ROUND(NQ30/NQ$6,0),NOT(NQ30=0)),NQ30/NQ$6,0)","v":0},{"$f":"IF(AND(NR30/NR$6=ROUND(NR30/NR$6,0),NOT(NR30=0)),NR30/NR$6,0)","v":0},{"$f":"IF(AND(NS30/NS$6=ROUND(NS30/NS$6,0),NOT(NS30=0)),NS30/NS$6,0)","v":0},{"$f":"IF(AND(NT30/NT$6=ROUND(NT30/NT$6,0),NOT(NT30=0)),NT30/NT$6,0)","v":0},{"$f":"IF(AND(NU30/NU$6=ROUND(NU30/NU$6,0),NOT(NU30=0)),NU30/NU$6,0)","v":0},{"$f":"IF(AND(NV30/NV$6=ROUND(NV30/NV$6,0),NOT(NV30=0)),NV30/NV$6,0)","v":0},{"$f":"IF(AND(NW30/NW$6=ROUND(NW30/NW$6,0),NOT(NW30=0)),NW30/NW$6,0)","v":0},{"$f":"IF(AND(NX30/NX$6=ROUND(NX30/NX$6,0),NOT(NX30=0)),NX30/NX$6,0)","v":0},{"$f":"IF(AND(NY30/NY$6=ROUND(NY30/NY$6,0),NOT(NY30=0)),NY30/NY$6,0)","v":0},{"$f":"IF(AND(NZ30/NZ$6=ROUND(NZ30/NZ$6,0),NOT(NZ30=0)),NZ30/NZ$6,0)","v":0},{"$f":"IF(AND(OA30/OA$6=ROUND(OA30/OA$6,0),NOT(OA30=0)),OA30/OA$6,0)","v":0},{"$f":"IF(AND(OB30/OB$6=ROUND(OB30/OB$6,0),NOT(OB30=0)),OB30/OB$6,0)","v":0},{"$f":"IF(AND(OC30/OC$6=ROUND(OC30/OC$6,0),NOT(OC30=0)),OC30/OC$6,0)","v":0},{"$f":"IF(AND(OD30/OD$6=ROUND(OD30/OD$6,0),NOT(OD30=0)),OD30/OD$6,0)","v":0},{"$f":"IF(AND(OE30/OE$6=ROUND(OE30/OE$6,0),NOT(OE30=0)),OE30/OE$6,0)","v":0},{"$f":"IF(AND(OF30/OF$6=ROUND(OF30/OF$6,0),NOT(OF30=0)),OF30/OF$6,0)","v":0},{"$f":"IF(AND(OG30/OG$6=ROUND(OG30/OG$6,0),NOT(OG30=0)),OG30/OG$6,0)","v":0},{"$f":"IF(AND(OH30/OH$6=ROUND(OH30/OH$6,0),NOT(OH30=0)),OH30/OH$6,0)","v":0},{"$f":"IF(AND(OI30/OI$6=ROUND(OI30/OI$6,0),NOT(OI30=0)),OI30/OI$6,0)","v":0},{"$f":"IF(AND(OJ30/OJ$6=ROUND(OJ30/OJ$6,0),NOT(OJ30=0)),OJ30/OJ$6,0)","v":0},{"$f":"IF(AND(OK30/OK$6=ROUND(OK30/OK$6,0),NOT(OK30=0)),OK30/OK$6,0)","v":0},{"$f":"IF(AND(OL30/OL$6=ROUND(OL30/OL$6,0),NOT(OL30=0)),OL30/OL$6,0)","v":0},{"$f":"IF(AND(OM30/OM$6=ROUND(OM30/OM$6,0),NOT(OM30=0)),OM30/OM$6,0)","v":0},{"$f":"IF(AND(ON30/ON$6=ROUND(ON30/ON$6,0),NOT(ON30=0)),ON30/ON$6,0)","v":0},{"$f":"IF(AND(OO30/OO$6=ROUND(OO30/OO$6,0),NOT(OO30=0)),OO30/OO$6,0)","v":0},{"$f":"IF(AND(OP30/OP$6=ROUND(OP30/OP$6,0),NOT(OP30=0)),OP30/OP$6,0)","v":0},{"$f":"IF(AND(OQ30/OQ$6=ROUND(OQ30/OQ$6,0),NOT(OQ30=0)),OQ30/OQ$6,0)","v":0},{"$f":"IF(AND(OR30/OR$6=ROUND(OR30/OR$6,0),NOT(OR30=0)),OR30/OR$6,0)","v":0},{"$f":"IF(AND(OS30/OS$6=ROUND(OS30/OS$6,0),NOT(OS30=0)),OS30/OS$6,0)","v":0},{"$f":"IF(AND(OT30/OT$6=ROUND(OT30/OT$6,0),NOT(OT30=0)),OT30/OT$6,0)","v":0},{"$f":"IF(AND(OU30/OU$6=ROUND(OU30/OU$6,0),NOT(OU30=0)),OU30/OU$6,0)","v":0},{"$f":"IF(AND(OV30/OV$6=ROUND(OV30/OV$6,0),NOT(OV30=0)),OV30/OV$6,0)","v":0},{"$f":"IF(AND(OW30/OW$6=ROUND(OW30/OW$6,0),NOT(OW30=0)),OW30/OW$6,0)","v":0},{"$f":"IF(AND(OX30/OX$6=ROUND(OX30/OX$6,0),NOT(OX30=0)),OX30/OX$6,0)","v":0},{"$f":"IF(AND(OY30/OY$6=ROUND(OY30/OY$6,0),NOT(OY30=0)),OY30/OY$6,0)","v":0},{"$f":"IF(AND(OZ30/OZ$6=ROUND(OZ30/OZ$6,0),NOT(OZ30=0)),OZ30/OZ$6,0)","v":0},{"$f":"IF(AND(PA30/PA$6=ROUND(PA30/PA$6,0),NOT(PA30=0)),PA30/PA$6,0)","v":0},{"$f":"IF(AND(PB30/PB$6=ROUND(PB30/PB$6,0),NOT(PB30=0)),PB30/PB$6,0)","v":0},{"$f":"IF(AND(PC30/PC$6=ROUND(PC30/PC$6,0),NOT(PC30=0)),PC30/PC$6,0)","v":0},{"$f":"IF(AND(PD30/PD$6=ROUND(PD30/PD$6,0),NOT(PD30=0)),PD30/PD$6,0)","v":0},{"$f":"IF(AND(PE30/PE$6=ROUND(PE30/PE$6,0),NOT(PE30=0)),PE30/PE$6,0)","v":0},{"$f":"IF(AND(PF30/PF$6=ROUND(PF30/PF$6,0),NOT(PF30=0)),PF30/PF$6,0)","v":0},{"$f":"IF(AND(PG30/PG$6=ROUND(PG30/PG$6,0),NOT(PG30=0)),PG30/PG$6,0)","v":0},{"$f":"IF(AND(PH30/PH$6=ROUND(PH30/PH$6,0),NOT(PH30=0)),PH30/PH$6,0)","v":0},{"$f":"IF(AND(PI30/PI$6=ROUND(PI30/PI$6,0),NOT(PI30=0)),PI30/PI$6,0)","v":0},{"$f":"IF(AND(PJ30/PJ$6=ROUND(PJ30/PJ$6,0),NOT(PJ30=0)),PJ30/PJ$6,0)","v":0},{"$f":"IF(AND(PK30/PK$6=ROUND(PK30/PK$6,0),NOT(PK30=0)),PK30/PK$6,0)","v":0},{"$f":"IF(AND(PL30/PL$6=ROUND(PL30/PL$6,0),NOT(PL30=0)),PL30/PL$6,0)","v":0},{"$f":"IF(AND(PM30/PM$6=ROUND(PM30/PM$6,0),NOT(PM30=0)),PM30/PM$6,0)","v":0},{"$f":"IF(AND(PN30/PN$6=ROUND(PN30/PN$6,0),NOT(PN30=0)),PN30/PN$6,0)","v":0},{"$f":"IF(AND(PO30/PO$6=ROUND(PO30/PO$6,0),NOT(PO30=0)),PO30/PO$6,0)","v":0},{"$f":"IF(AND(PP30/PP$6=ROUND(PP30/PP$6,0),NOT(PP30=0)),PP30/PP$6,0)","v":0},{"$f":"IF(AND(PQ30/PQ$6=ROUND(PQ30/PQ$6,0),NOT(PQ30=0)),PQ30/PQ$6,0)","v":0},{"$f":"IF(AND(PR30/PR$6=ROUND(PR30/PR$6,0),NOT(PR30=0)),PR30/PR$6,0)","v":0},{"$f":"IF(AND(PS30/PS$6=ROUND(PS30/PS$6,0),NOT(PS30=0)),PS30/PS$6,0)","v":0},{"$f":"IF(AND(PT30/PT$6=ROUND(PT30/PT$6,0),NOT(PT30=0)),PT30/PT$6,0)","v":0},{"$f":"IF(AND(PU30/PU$6=ROUND(PU30/PU$6,0),NOT(PU30=0)),PU30/PU$6,0)","v":0},{"$f":"IF(AND(PV30/PV$6=ROUND(PV30/PV$6,0),NOT(PV30=0)),PV30/PV$6,0)","v":0},{"$f":"IF(AND(PW30/PW$6=ROUND(PW30/PW$6,0),NOT(PW30=0)),PW30/PW$6,0)","v":0},{"$f":"IF(AND(PX30/PX$6=ROUND(PX30/PX$6,0),NOT(PX30=0)),PX30/PX$6,0)","v":0},{"$f":"IF(AND(PY30/PY$6=ROUND(PY30/PY$6,0),NOT(PY30=0)),PY30/PY$6,0)","v":0},{"$f":"IF(AND(PZ30/PZ$6=ROUND(PZ30/PZ$6,0),NOT(PZ30=0)),PZ30/PZ$6,0)","v":0},{"$f":"IF(AND(QA30/QA$6=ROUND(QA30/QA$6,0),NOT(QA30=0)),QA30/QA$6,0)","v":0},{"$f":"IF(AND(QB30/QB$6=ROUND(QB30/QB$6,0),NOT(QB30=0)),QB30/QB$6,0)","v":0},{"$f":"IF(AND(QC30/QC$6=ROUND(QC30/QC$6,0),NOT(QC30=0)),QC30/QC$6,0)","v":0},{"$f":"IF(AND(QD30/QD$6=ROUND(QD30/QD$6,0),NOT(QD30=0)),QD30/QD$6,0)","v":0},{"$f":"IF(AND(QE30/QE$6=ROUND(QE30/QE$6,0),NOT(QE30=0)),QE30/QE$6,0)","v":0},{"$f":"IF(AND(QF30/QF$6=ROUND(QF30/QF$6,0),NOT(QF30=0)),QF30/QF$6,0)","v":0},{"$f":"IF(AND(QG30/QG$6=ROUND(QG30/QG$6,0),NOT(QG30=0)),QG30/QG$6,0)","v":0},{"$f":"IF(AND(QH30/QH$6=ROUND(QH30/QH$6,0),NOT(QH30=0)),QH30/QH$6,0)","v":0},{"$f":"IF(AND(QI30/QI$6=ROUND(QI30/QI$6,0),NOT(QI30=0)),QI30/QI$6,0)","v":0},{"$f":"IF(AND(QJ30/QJ$6=ROUND(QJ30/QJ$6,0),NOT(QJ30=0)),QJ30/QJ$6,0)","v":0},{"$f":"IF(AND(QK30/QK$6=ROUND(QK30/QK$6,0),NOT(QK30=0)),QK30/QK$6,0)","v":0},{"$f":"IF(AND(QL30/QL$6=ROUND(QL30/QL$6,0),NOT(QL30=0)),QL30/QL$6,0)","v":0},{"$f":"IF(AND(QM30/QM$6=ROUND(QM30/QM$6,0),NOT(QM30=0)),QM30/QM$6,0)","v":0},{"$f":"IF(AND(QN30/QN$6=ROUND(QN30/QN$6,0),NOT(QN30=0)),QN30/QN$6,0)","v":0},{"$f":"IF(AND(QO30/QO$6=ROUND(QO30/QO$6,0),NOT(QO30=0)),QO30/QO$6,0)","v":0},{"$f":"IF(AND(QP30/QP$6=ROUND(QP30/QP$6,0),NOT(QP30=0)),QP30/QP$6,0)","v":0},{"$f":"IF(AND(QQ30/QQ$6=ROUND(QQ30/QQ$6,0),NOT(QQ30=0)),QQ30/QQ$6,0)","v":0},{"$f":"IF(AND(QR30/QR$6=ROUND(QR30/QR$6,0),NOT(QR30=0)),QR30/QR$6,0)","v":0},{"$f":"IF(AND(QS30/QS$6=ROUND(QS30/QS$6,0),NOT(QS30=0)),QS30/QS$6,0)","v":0},{"$f":"IF(AND(QT30/QT$6=ROUND(QT30/QT$6,0),NOT(QT30=0)),QT30/QT$6,0)","v":0},{"$f":"IF(AND(QU30/QU$6=ROUND(QU30/QU$6,0),NOT(QU30=0)),QU30/QU$6,0)","v":0},{"$f":"IF(AND(QV30/QV$6=ROUND(QV30/QV$6,0),NOT(QV30=0)),QV30/QV$6,0)","v":0},{"$f":"IF(AND(QW30/QW$6=ROUND(QW30/QW$6,0),NOT(QW30=0)),QW30/QW$6,0)","v":0},{"$f":"IF(AND(QX30/QX$6=ROUND(QX30/QX$6,0),NOT(QX30=0)),QX30/QX$6,0)","v":0},{"$f":"IF(AND(QY30/QY$6=ROUND(QY30/QY$6,0),NOT(QY30=0)),QY30/QY$6,0)","v":0},{"$f":"IF(AND(QZ30/QZ$6=ROUND(QZ30/QZ$6,0),NOT(QZ30=0)),QZ30/QZ$6,0)","v":0},{"$f":"IF(AND(RA30/RA$6=ROUND(RA30/RA$6,0),NOT(RA30=0)),RA30/RA$6,0)","v":0},{"$f":"IF(AND(RB30/RB$6=ROUND(RB30/RB$6,0),NOT(RB30=0)),RB30/RB$6,0)","v":0},{"$f":"IF(AND(RC30/RC$6=ROUND(RC30/RC$6,0),NOT(RC30=0)),RC30/RC$6,0)","v":0},{"$f":"IF(AND(RD30/RD$6=ROUND(RD30/RD$6,0),NOT(RD30=0)),RD30/RD$6,0)","v":0},{"$f":"IF(AND(RE30/RE$6=ROUND(RE30/RE$6,0),NOT(RE30=0)),RE30/RE$6,0)","v":0},{"$f":"IF(AND(RF30/RF$6=ROUND(RF30/RF$6,0),NOT(RF30=0)),RF30/RF$6,0)","v":0},{"$f":"IF(AND(RG30/RG$6=ROUND(RG30/RG$6,0),NOT(RG30=0)),RG30/RG$6,0)","v":0},{"$f":"IF(AND(RH30/RH$6=ROUND(RH30/RH$6,0),NOT(RH30=0)),RH30/RH$6,0)","v":0},{"$f":"IF(AND(RI30/RI$6=ROUND(RI30/RI$6,0),NOT(RI30=0)),RI30/RI$6,0)","v":0},{"$f":"IF(AND(RJ30/RJ$6=ROUND(RJ30/RJ$6,0),NOT(RJ30=0)),RJ30/RJ$6,0)","v":0},{"$f":"IF(AND(RK30/RK$6=ROUND(RK30/RK$6,0),NOT(RK30=0)),RK30/RK$6,0)","v":0},{"$f":"IF(AND(RL30/RL$6=ROUND(RL30/RL$6,0),NOT(RL30=0)),RL30/RL$6,0)","v":0},{"$f":"IF(AND(RM30/RM$6=ROUND(RM30/RM$6,0),NOT(RM30=0)),RM30/RM$6,0)","v":0},{"$f":"IF(AND(RN30/RN$6=ROUND(RN30/RN$6,0),NOT(RN30=0)),RN30/RN$6,0)","v":0},{"$f":"IF(AND(RO30/RO$6=ROUND(RO30/RO$6,0),NOT(RO30=0)),RO30/RO$6,0)","v":0},{"$f":"IF(AND(RP30/RP$6=ROUND(RP30/RP$6,0),NOT(RP30=0)),RP30/RP$6,0)","v":0},{"$f":"IF(AND(RQ30/RQ$6=ROUND(RQ30/RQ$6,0),NOT(RQ30=0)),RQ30/RQ$6,0)","v":0},{"$f":"IF(AND(RR30/RR$6=ROUND(RR30/RR$6,0),NOT(RR30=0)),RR30/RR$6,0)","v":0},{"$f":"IF(AND(RS30/RS$6=ROUND(RS30/RS$6,0),NOT(RS30=0)),RS30/RS$6,0)","v":0},{"$f":"IF(AND(RT30/RT$6=ROUND(RT30/RT$6,0),NOT(RT30=0)),RT30/RT$6,0)","v":0},{"$f":"IF(AND(RU30/RU$6=ROUND(RU30/RU$6,0),NOT(RU30=0)),RU30/RU$6,0)","v":0},{"$f":"IF(AND(RV30/RV$6=ROUND(RV30/RV$6,0),NOT(RV30=0)),RV30/RV$6,0)","v":0},{"$f":"IF(AND(RW30/RW$6=ROUND(RW30/RW$6,0),NOT(RW30=0)),RW30/RW$6,0)","v":0},{"$f":"IF(AND(RX30/RX$6=ROUND(RX30/RX$6,0),NOT(RX30=0)),RX30/RX$6,0)","v":0},{"$f":"IF(AND(RY30/RY$6=ROUND(RY30/RY$6,0),NOT(RY30=0)),RY30/RY$6,0)","v":0},{"$f":"IF(AND(RZ30/RZ$6=ROUND(RZ30/RZ$6,0),NOT(RZ30=0)),RZ30/RZ$6,0)","v":0},{"$f":"IF(AND(SA30/SA$6=ROUND(SA30/SA$6,0),NOT(SA30=0)),SA30/SA$6,0)","v":0},{"$f":"IF(AND(SB30/SB$6=ROUND(SB30/SB$6,0),NOT(SB30=0)),SB30/SB$6,0)","v":0},{"$f":"IF(AND(SC30/SC$6=ROUND(SC30/SC$6,0),NOT(SC30=0)),SC30/SC$6,0)","v":0},{"$f":"IF(AND(SD30/SD$6=ROUND(SD30/SD$6,0),NOT(SD30=0)),SD30/SD$6,0)","v":0},{"$f":"IF(AND(SE30/SE$6=ROUND(SE30/SE$6,0),NOT(SE30=0)),SE30/SE$6,0)","v":0},{"$f":"IF(AND(SF30/SF$6=ROUND(SF30/SF$6,0),NOT(SF30=0)),SF30/SF$6,0)","v":0},{"$f":"IF(AND(SG30/SG$6=ROUND(SG30/SG$6,0),NOT(SG30=0)),SG30/SG$6,0)","v":0},{"$f":"IF(AND(SH30/SH$6=ROUND(SH30/SH$6,0),NOT(SH30=0)),SH30/SH$6,0)","v":0},{"$f":"IF(AND(SI30/SI$6=ROUND(SI30/SI$6,0),NOT(SI30=0)),SI30/SI$6,0)","v":0},{"$f":"IF(AND(SJ30/SJ$6=ROUND(SJ30/SJ$6,0),NOT(SJ30=0)),SJ30/SJ$6,0)","v":0},{"$f":"IF(AND(SK30/SK$6=ROUND(SK30/SK$6,0),NOT(SK30=0)),SK30/SK$6,0)","v":0},{"$f":"IF(AND(SL30/SL$6=ROUND(SL30/SL$6,0),NOT(SL30=0)),SL30/SL$6,0)","v":0},{"$f":"IF(AND(SM30/SM$6=ROUND(SM30/SM$6,0),NOT(SM30=0)),SM30/SM$6,0)","v":0},{"$f":"IF(AND(SN30/SN$6=ROUND(SN30/SN$6,0),NOT(SN30=0)),SN30/SN$6,0)","v":0},{"$f":"IF(AND(SO30/SO$6=ROUND(SO30/SO$6,0),NOT(SO30=0)),SO30/SO$6,0)","v":0},{"$f":"IF(AND(SP30/SP$6=ROUND(SP30/SP$6,0),NOT(SP30=0)),SP30/SP$6,0)","v":0},{"$f":"IF(AND(SQ30/SQ$6=ROUND(SQ30/SQ$6,0),NOT(SQ30=0)),SQ30/SQ$6,0)","v":0},{"$f":"IF(AND(SR30/SR$6=ROUND(SR30/SR$6,0),NOT(SR30=0)),SR30/SR$6,0)","v":0},{"$f":"IF(AND(SS30/SS$6=ROUND(SS30/SS$6,0),NOT(SS30=0)),SS30/SS$6,0)","v":0},{"$f":"IF(AND(ST30/ST$6=ROUND(ST30/ST$6,0),NOT(ST30=0)),ST30/ST$6,0)","v":0},{"$f":"IF(AND(SU30/SU$6=ROUND(SU30/SU$6,0),NOT(SU30=0)),SU30/SU$6,0)","v":0},{"$f":"IF(AND(SV30/SV$6=ROUND(SV30/SV$6,0),NOT(SV30=0)),SV30/SV$6,0)","v":0},{"$f":"IF(AND(SW30/SW$6=ROUND(SW30/SW$6,0),NOT(SW30=0)),SW30/SW$6,0)","v":0},{"$f":"IF(AND(SX30/SX$6=ROUND(SX30/SX$6,0),NOT(SX30=0)),SX30/SX$6,0)","v":0},{"$f":"IF(AND(SY30/SY$6=ROUND(SY30/SY$6,0),NOT(SY30=0)),SY30/SY$6,0)","v":0},{"$f":"IF(AND(SZ30/SZ$6=ROUND(SZ30/SZ$6,0),NOT(SZ30=0)),SZ30/SZ$6,0)","v":0},{"$f":"IF(AND(TA30/TA$6=ROUND(TA30/TA$6,0),NOT(TA30=0)),TA30/TA$6,0)","v":0},{"$f":"IF(AND(TB30/TB$6=ROUND(TB30/TB$6,0),NOT(TB30=0)),TB30/TB$6,0)","v":0},{"$f":"IF(AND(TC30/TC$6=ROUND(TC30/TC$6,0),NOT(TC30=0)),TC30/TC$6,0)","v":0},{"$f":"IF(AND(TD30/TD$6=ROUND(TD30/TD$6,0),NOT(TD30=0)),TD30/TD$6,0)","v":0},{"$f":"IF(AND(TE30/TE$6=ROUND(TE30/TE$6,0),NOT(TE30=0)),TE30/TE$6,0)","v":0},{"$f":"IF(AND(TF30/TF$6=ROUND(TF30/TF$6,0),NOT(TF30=0)),TF30/TF$6,0)","v":0},{"$f":"IF(AND(TG30/TG$6=ROUND(TG30/TG$6,0),NOT(TG30=0)),TG30/TG$6,0)","v":0},{"$f":"IF(AND(TH30/TH$6=ROUND(TH30/TH$6,0),NOT(TH30=0)),TH30/TH$6,0)","v":0},{"$f":"IF(AND(TI30/TI$6=ROUND(TI30/TI$6,0),NOT(TI30=0)),TI30/TI$6,0)","v":0},{"$f":"IF(AND(TJ30/TJ$6=ROUND(TJ30/TJ$6,0),NOT(TJ30=0)),TJ30/TJ$6,0)","v":0},{"$f":"IF(AND(TK30/TK$6=ROUND(TK30/TK$6,0),NOT(TK30=0)),TK30/TK$6,0)","v":0},{"$f":"IF(AND(TL30/TL$6=ROUND(TL30/TL$6,0),NOT(TL30=0)),TL30/TL$6,0)","v":0},{"$f":"IF(AND(TM30/TM$6=ROUND(TM30/TM$6,0),NOT(TM30=0)),TM30/TM$6,0)","v":0},{"$f":"IF(AND(TN30/TN$6=ROUND(TN30/TN$6,0),NOT(TN30=0)),TN30/TN$6,0)","v":0},{"$f":"IF(AND(TO30/TO$6=ROUND(TO30/TO$6,0),NOT(TO30=0)),TO30/TO$6,0)","v":0},{"$f":"IF(AND(TP30/TP$6=ROUND(TP30/TP$6,0),NOT(TP30=0)),TP30/TP$6,0)","v":0},{"$f":"IF(AND(TQ30/TQ$6=ROUND(TQ30/TQ$6,0),NOT(TQ30=0)),TQ30/TQ$6,0)","v":0},{"$f":"IF(AND(TR30/TR$6=ROUND(TR30/TR$6,0),NOT(TR30=0)),TR30/TR$6,0)","v":0},{"$f":"IF(AND(TS30/TS$6=ROUND(TS30/TS$6,0),NOT(TS30=0)),TS30/TS$6,0)","v":0},{"$f":"IF(AND(TT30/TT$6=ROUND(TT30/TT$6,0),NOT(TT30=0)),TT30/TT$6,0)","v":0},{"$f":"IF(AND(TU30/TU$6=ROUND(TU30/TU$6,0),NOT(TU30=0)),TU30/TU$6,0)","v":0},{"$f":"IF(AND(TV30/TV$6=ROUND(TV30/TV$6,0),NOT(TV30=0)),TV30/TV$6,0)","v":0},{"$f":"IF(AND(TW30/TW$6=ROUND(TW30/TW$6,0),NOT(TW30=0)),TW30/TW$6,0)","v":0},{"$f":"IF(AND(TX30/TX$6=ROUND(TX30/TX$6,0),NOT(TX30=0)),TX30/TX$6,0)","v":0},{"$f":"IF(AND(TY30/TY$6=ROUND(TY30/TY$6,0),NOT(TY30=0)),TY30/TY$6,0)","v":0},{"$f":"IF(AND(TZ30/TZ$6=ROUND(TZ30/TZ$6,0),NOT(TZ30=0)),TZ30/TZ$6,0)","v":0},{"$f":"IF(AND(UA30/UA$6=ROUND(UA30/UA$6,0),NOT(UA30=0)),UA30/UA$6,0)","v":0},{"$f":"IF(AND(UB30/UB$6=ROUND(UB30/UB$6,0),NOT(UB30=0)),UB30/UB$6,0)","v":0},{"$f":"IF(AND(UC30/UC$6=ROUND(UC30/UC$6,0),NOT(UC30=0)),UC30/UC$6,0)","v":0},{"$f":"IF(AND(UD30/UD$6=ROUND(UD30/UD$6,0),NOT(UD30=0)),UD30/UD$6,0)","v":0},{"$f":"IF(AND(UE30/UE$6=ROUND(UE30/UE$6,0),NOT(UE30=0)),UE30/UE$6,0)","v":0},{"$f":"IF(AND(UF30/UF$6=ROUND(UF30/UF$6,0),NOT(UF30=0)),UF30/UF$6,0)","v":0},{"$f":"IF(AND(UG30/UG$6=ROUND(UG30/UG$6,0),NOT(UG30=0)),UG30/UG$6,0)","v":0},{"$f":"IF(AND(UH30/UH$6=ROUND(UH30/UH$6,0),NOT(UH30=0)),UH30/UH$6,0)","v":0},{"$f":"IF(AND(UI30/UI$6=ROUND(UI30/UI$6,0),NOT(UI30=0)),UI30/UI$6,0)","v":0},{"$f":"IF(AND(UJ30/UJ$6=ROUND(UJ30/UJ$6,0),NOT(UJ30=0)),UJ30/UJ$6,0)","v":0},{"$f":"IF(AND(UK30/UK$6=ROUND(UK30/UK$6,0),NOT(UK30=0)),UK30/UK$6,0)","v":0},{"$f":"IF(AND(UL30/UL$6=ROUND(UL30/UL$6,0),NOT(UL30=0)),UL30/UL$6,0)","v":0},{"$f":"IF(AND(UM30/UM$6=ROUND(UM30/UM$6,0),NOT(UM30=0)),UM30/UM$6,0)","v":0},{"$f":"IF(AND(UN30/UN$6=ROUND(UN30/UN$6,0),NOT(UN30=0)),UN30/UN$6,0)","v":0},{"$f":"IF(AND(UO30/UO$6=ROUND(UO30/UO$6,0),NOT(UO30=0)),UO30/UO$6,0)","v":0},{"$f":"IF(AND(UP30/UP$6=ROUND(UP30/UP$6,0),NOT(UP30=0)),UP30/UP$6,0)","v":0},{"$f":"IF(AND(UQ30/UQ$6=ROUND(UQ30/UQ$6,0),NOT(UQ30=0)),UQ30/UQ$6,0)","v":0},{"$f":"IF(AND(UR30/UR$6=ROUND(UR30/UR$6,0),NOT(UR30=0)),UR30/UR$6,0)","v":0},{"$f":"IF(AND(US30/US$6=ROUND(US30/US$6,0),NOT(US30=0)),US30/US$6,0)","v":0},{"$f":"IF(AND(UT30/UT$6=ROUND(UT30/UT$6,0),NOT(UT30=0)),UT30/UT$6,0)","v":0},{"$f":"IF(AND(UU30/UU$6=ROUND(UU30/UU$6,0),NOT(UU30=0)),UU30/UU$6,0)","v":0},{"$f":"IF(AND(UV30/UV$6=ROUND(UV30/UV$6,0),NOT(UV30=0)),UV30/UV$6,0)","v":0},{"$f":"IF(AND(UW30/UW$6=ROUND(UW30/UW$6,0),NOT(UW30=0)),UW30/UW$6,0)","v":0},{"$f":"IF(AND(UX30/UX$6=ROUND(UX30/UX$6,0),NOT(UX30=0)),UX30/UX$6,0)","v":0},{"$f":"IF(AND(UY30/UY$6=ROUND(UY30/UY$6,0),NOT(UY30=0)),UY30/UY$6,0)","v":0},{"$f":"IF(AND(UZ30/UZ$6=ROUND(UZ30/UZ$6,0),NOT(UZ30=0)),UZ30/UZ$6,0)","v":0},{"$f":"IF(AND(VA30/VA$6=ROUND(VA30/VA$6,0),NOT(VA30=0)),VA30/VA$6,0)","v":0},{"$f":"IF(AND(VB30/VB$6=ROUND(VB30/VB$6,0),NOT(VB30=0)),VB30/VB$6,0)","v":0},{"$f":"IF(AND(VC30/VC$6=ROUND(VC30/VC$6,0),NOT(VC30=0)),VC30/VC$6,0)","v":0},{"$f":"IF(AND(VD30/VD$6=ROUND(VD30/VD$6,0),NOT(VD30=0)),VD30/VD$6,0)","v":0},{"$f":"IF(AND(VE30/VE$6=ROUND(VE30/VE$6,0),NOT(VE30=0)),VE30/VE$6,0)","v":0},{"$f":"IF(AND(VF30/VF$6=ROUND(VF30/VF$6,0),NOT(VF30=0)),VF30/VF$6,0)","v":0},{"$f":"IF(AND(VG30/VG$6=ROUND(VG30/VG$6,0),NOT(VG30=0)),VG30/VG$6,0)","v":0},{"$f":"IF(AND(VH30/VH$6=ROUND(VH30/VH$6,0),NOT(VH30=0)),VH30/VH$6,0)","v":0},{"$f":"IF(AND(VI30/VI$6=ROUND(VI30/VI$6,0),NOT(VI30=0)),VI30/VI$6,0)","v":0},{"$f":"IF(AND(VJ30/VJ$6=ROUND(VJ30/VJ$6,0),NOT(VJ30=0)),VJ30/VJ$6,0)","v":0},{"$f":"IF(AND(VK30/VK$6=ROUND(VK30/VK$6,0),NOT(VK30=0)),VK30/VK$6,0)","v":0},{"$f":"IF(AND(VL30/VL$6=ROUND(VL30/VL$6,0),NOT(VL30=0)),VL30/VL$6,0)","v":0},{"$f":"IF(AND(VM30/VM$6=ROUND(VM30/VM$6,0),NOT(VM30=0)),VM30/VM$6,0)","v":0},{"$f":"IF(AND(VN30/VN$6=ROUND(VN30/VN$6,0),NOT(VN30=0)),VN30/VN$6,0)","v":0},{"$f":"IF(AND(VO30/VO$6=ROUND(VO30/VO$6,0),NOT(VO30=0)),VO30/VO$6,0)","v":0},{"$f":"IF(AND(VP30/VP$6=ROUND(VP30/VP$6,0),NOT(VP30=0)),VP30/VP$6,0)","v":0},{"$f":"IF(AND(VQ30/VQ$6=ROUND(VQ30/VQ$6,0),NOT(VQ30=0)),VQ30/VQ$6,0)","v":0},{"$f":"IF(AND(VR30/VR$6=ROUND(VR30/VR$6,0),NOT(VR30=0)),VR30/VR$6,0)","v":0},{"$f":"IF(AND(VS30/VS$6=ROUND(VS30/VS$6,0),NOT(VS30=0)),VS30/VS$6,0)","v":0},{"$f":"IF(AND(VT30/VT$6=ROUND(VT30/VT$6,0),NOT(VT30=0)),VT30/VT$6,0)","v":0},{"$f":"IF(AND(VU30/VU$6=ROUND(VU30/VU$6,0),NOT(VU30=0)),VU30/VU$6,0)","v":0},{"$f":"IF(AND(VV30/VV$6=ROUND(VV30/VV$6,0),NOT(VV30=0)),VV30/VV$6,0)","v":0},{"$f":"IF(AND(VW30/VW$6=ROUND(VW30/VW$6,0),NOT(VW30=0)),VW30/VW$6,0)","v":0},{"$f":"IF(AND(VX30/VX$6=ROUND(VX30/VX$6,0),NOT(VX30=0)),VX30/VX$6,0)","v":0},{"$f":"IF(AND(VY30/VY$6=ROUND(VY30/VY$6,0),NOT(VY30=0)),VY30/VY$6,0)","v":0},{"$f":"IF(AND(VZ30/VZ$6=ROUND(VZ30/VZ$6,0),NOT(VZ30=0)),VZ30/VZ$6,0)","v":0},{"$f":"IF(AND(WA30/WA$6=ROUND(WA30/WA$6,0),NOT(WA30=0)),WA30/WA$6,0)","v":0},{"$f":"IF(AND(WB30/WB$6=ROUND(WB30/WB$6,0),NOT(WB30=0)),WB30/WB$6,0)","v":0},{"$f":"IF(AND(WC30/WC$6=ROUND(WC30/WC$6,0),NOT(WC30=0)),WC30/WC$6,0)","v":0},{"$f":"IF(AND(WD30/WD$6=ROUND(WD30/WD$6,0),NOT(WD30=0)),WD30/WD$6,0)","v":0},{"$f":"IF(AND(WE30/WE$6=ROUND(WE30/WE$6,0),NOT(WE30=0)),WE30/WE$6,0)","v":0},{"$f":"IF(AND(WF30/WF$6=ROUND(WF30/WF$6,0),NOT(WF30=0)),WF30/WF$6,0)","v":0},{"$f":"IF(AND(WG30/WG$6=ROUND(WG30/WG$6,0),NOT(WG30=0)),WG30/WG$6,0)","v":0},{"$f":"IF(AND(WH30/WH$6=ROUND(WH30/WH$6,0),NOT(WH30=0)),WH30/WH$6,0)","v":0},{"$f":"IF(AND(WI30/WI$6=ROUND(WI30/WI$6,0),NOT(WI30=0)),WI30/WI$6,0)","v":0},{"$f":"IF(AND(WJ30/WJ$6=ROUND(WJ30/WJ$6,0),NOT(WJ30=0)),WJ30/WJ$6,0)","v":0},{"$f":"IF(AND(WK30/WK$6=ROUND(WK30/WK$6,0),NOT(WK30=0)),WK30/WK$6,0)","v":0},{"$f":"IF(AND(WL30/WL$6=ROUND(WL30/WL$6,0),NOT(WL30=0)),WL30/WL$6,0)","v":0},{"$f":"IF(AND(WM30/WM$6=ROUND(WM30/WM$6,0),NOT(WM30=0)),WM30/WM$6,0)","v":0},{"$f":"IF(AND(WN30/WN$6=ROUND(WN30/WN$6,0),NOT(WN30=0)),WN30/WN$6,0)","v":0},{"$f":"IF(AND(WO30/WO$6=ROUND(WO30/WO$6,0),NOT(WO30=0)),WO30/WO$6,0)","v":0},{"$f":"IF(AND(WP30/WP$6=ROUND(WP30/WP$6,0),NOT(WP30=0)),WP30/WP$6,0)","v":0},{"$f":"IF(AND(WQ30/WQ$6=ROUND(WQ30/WQ$6,0),NOT(WQ30=0)),WQ30/WQ$6,0)","v":0},{"$f":"IF(AND(WR30/WR$6=ROUND(WR30/WR$6,0),NOT(WR30=0)),WR30/WR$6,0)","v":0},{"$f":"IF(AND(WS30/WS$6=ROUND(WS30/WS$6,0),NOT(WS30=0)),WS30/WS$6,0)","v":0},{"$f":"IF(AND(WT30/WT$6=ROUND(WT30/WT$6,0),NOT(WT30=0)),WT30/WT$6,0)","v":0},{"$f":"IF(AND(WU30/WU$6=ROUND(WU30/WU$6,0),NOT(WU30=0)),WU30/WU$6,0)","v":0},{"$f":"IF(AND(WV30/WV$6=ROUND(WV30/WV$6,0),NOT(WV30=0)),WV30/WV$6,0)","v":0},{"$f":"IF(AND(WW30/WW$6=ROUND(WW30/WW$6,0),NOT(WW30=0)),WW30/WW$6,0)","v":0},{"$f":"IF(AND(WX30/WX$6=ROUND(WX30/WX$6,0),NOT(WX30=0)),WX30/WX$6,0)","v":0},{"$f":"IF(AND(WY30/WY$6=ROUND(WY30/WY$6,0),NOT(WY30=0)),WY30/WY$6,0)","v":0},{"$f":"IF(AND(WZ30/WZ$6=ROUND(WZ30/WZ$6,0),NOT(WZ30=0)),WZ30/WZ$6,0)","v":0},{"$f":"IF(AND(XA30/XA$6=ROUND(XA30/XA$6,0),NOT(XA30=0)),XA30/XA$6,0)","v":0},{"$f":"IF(AND(XB30/XB$6=ROUND(XB30/XB$6,0),NOT(XB30=0)),XB30/XB$6,0)","v":0},{"$f":"IF(AND(XC30/XC$6=ROUND(XC30/XC$6,0),NOT(XC30=0)),XC30/XC$6,0)","v":0},{"$f":"IF(AND(XD30/XD$6=ROUND(XD30/XD$6,0),NOT(XD30=0)),XD30/XD$6,0)","v":0},{"$f":"IF(AND(XE30/XE$6=ROUND(XE30/XE$6,0),NOT(XE30=0)),XE30/XE$6,0)","v":0},{"$f":"IF(AND(XF30/XF$6=ROUND(XF30/XF$6,0),NOT(XF30=0)),XF30/XF$6,0)","v":0},{"$f":"IF(AND(XG30/XG$6=ROUND(XG30/XG$6,0),NOT(XG30=0)),XG30/XG$6,0)","v":0},{"$f":"IF(AND(XH30/XH$6=ROUND(XH30/XH$6,0),NOT(XH30=0)),XH30/XH$6,0)","v":0},{"$f":"IF(AND(XI30/XI$6=ROUND(XI30/XI$6,0),NOT(XI30=0)),XI30/XI$6,0)","v":0},{"$f":"IF(AND(XJ30/XJ$6=ROUND(XJ30/XJ$6,0),NOT(XJ30=0)),XJ30/XJ$6,0)","v":0},{"$f":"IF(AND(XK30/XK$6=ROUND(XK30/XK$6,0),NOT(XK30=0)),XK30/XK$6,0)","v":0},{"$f":"IF(AND(XL30/XL$6=ROUND(XL30/XL$6,0),NOT(XL30=0)),XL30/XL$6,0)","v":0},{"$f":"IF(AND(XM30/XM$6=ROUND(XM30/XM$6,0),NOT(XM30=0)),XM30/XM$6,0)","v":0},{"$f":"IF(AND(XN30/XN$6=ROUND(XN30/XN$6,0),NOT(XN30=0)),XN30/XN$6,0)","v":0},{"$f":"IF(AND(XO30/XO$6=ROUND(XO30/XO$6,0),NOT(XO30=0)),XO30/XO$6,0)","v":0},{"$f":"IF(AND(XP30/XP$6=ROUND(XP30/XP$6,0),NOT(XP30=0)),XP30/XP$6,0)","v":0},{"$f":"IF(AND(XQ30/XQ$6=ROUND(XQ30/XQ$6,0),NOT(XQ30=0)),XQ30/XQ$6,0)","v":0},{"$f":"IF(AND(XR30/XR$6=ROUND(XR30/XR$6,0),NOT(XR30=0)),XR30/XR$6,0)","v":0},{"$f":"IF(AND(XS30/XS$6=ROUND(XS30/XS$6,0),NOT(XS30=0)),XS30/XS$6,0)","v":0},{"$f":"IF(AND(XT30/XT$6=ROUND(XT30/XT$6,0),NOT(XT30=0)),XT30/XT$6,0)","v":0},{"$f":"IF(AND(XU30/XU$6=ROUND(XU30/XU$6,0),NOT(XU30=0)),XU30/XU$6,0)","v":0},{"$f":"IF(AND(XV30/XV$6=ROUND(XV30/XV$6,0),NOT(XV30=0)),XV30/XV$6,0)","v":0},{"$f":"IF(AND(XW30/XW$6=ROUND(XW30/XW$6,0),NOT(XW30=0)),XW30/XW$6,0)","v":0},{"$f":"IF(AND(XX30/XX$6=ROUND(XX30/XX$6,0),NOT(XX30=0)),XX30/XX$6,0)","v":0},{"$f":"IF(AND(XY30/XY$6=ROUND(XY30/XY$6,0),NOT(XY30=0)),XY30/XY$6,0)","v":0},{"$f":"IF(AND(XZ30/XZ$6=ROUND(XZ30/XZ$6,0),NOT(XZ30=0)),XZ30/XZ$6,0)","v":0},{"$f":"IF(AND(YA30/YA$6=ROUND(YA30/YA$6,0),NOT(YA30=0)),YA30/YA$6,0)","v":0},{"$f":"IF(AND(YB30/YB$6=ROUND(YB30/YB$6,0),NOT(YB30=0)),YB30/YB$6,0)","v":0},{"$f":"IF(AND(YC30/YC$6=ROUND(YC30/YC$6,0),NOT(YC30=0)),YC30/YC$6,0)","v":0},{"$f":"IF(AND(YD30/YD$6=ROUND(YD30/YD$6,0),NOT(YD30=0)),YD30/YD$6,0)","v":0},{"$f":"IF(AND(YE30/YE$6=ROUND(YE30/YE$6,0),NOT(YE30=0)),YE30/YE$6,0)","v":0},{"$f":"IF(AND(YF30/YF$6=ROUND(YF30/YF$6,0),NOT(YF30=0)),YF30/YF$6,0)","v":0},{"$f":"IF(AND(YG30/YG$6=ROUND(YG30/YG$6,0),NOT(YG30=0)),YG30/YG$6,0)","v":0},{"$f":"IF(AND(YH30/YH$6=ROUND(YH30/YH$6,0),NOT(YH30=0)),YH30/YH$6,0)","v":0},{"$f":"IF(AND(YI30/YI$6=ROUND(YI30/YI$6,0),NOT(YI30=0)),YI30/YI$6,0)","v":0},{"$f":"IF(AND(YJ30/YJ$6=ROUND(YJ30/YJ$6,0),NOT(YJ30=0)),YJ30/YJ$6,0)","v":0},{"$f":"IF(AND(YK30/YK$6=ROUND(YK30/YK$6,0),NOT(YK30=0)),YK30/YK$6,0)","v":0},{"$f":"IF(AND(YL30/YL$6=ROUND(YL30/YL$6,0),NOT(YL30=0)),YL30/YL$6,0)","v":0},{"$f":"IF(AND(YM30/YM$6=ROUND(YM30/YM$6,0),NOT(YM30=0)),YM30/YM$6,0)","v":0},{"$f":"IF(AND(YN30/YN$6=ROUND(YN30/YN$6,0),NOT(YN30=0)),YN30/YN$6,0)","v":0},{"$f":"IF(AND(YO30/YO$6=ROUND(YO30/YO$6,0),NOT(YO30=0)),YO30/YO$6,0)","v":0},{"$f":"IF(AND(YP30/YP$6=ROUND(YP30/YP$6,0),NOT(YP30=0)),YP30/YP$6,0)","v":0},{"$f":"IF(AND(YQ30/YQ$6=ROUND(YQ30/YQ$6,0),NOT(YQ30=0)),YQ30/YQ$6,0)","v":0},{"$f":"IF(AND(YR30/YR$6=ROUND(YR30/YR$6,0),NOT(YR30=0)),YR30/YR$6,0)","v":0},{"$f":"IF(AND(YS30/YS$6=ROUND(YS30/YS$6,0),NOT(YS30=0)),YS30/YS$6,0)","v":0},{"$f":"IF(AND(YT30/YT$6=ROUND(YT30/YT$6,0),NOT(YT30=0)),YT30/YT$6,0)","v":0},{"$f":"IF(AND(YU30/YU$6=ROUND(YU30/YU$6,0),NOT(YU30=0)),YU30/YU$6,0)","v":0},{"$f":"IF(AND(YV30/YV$6=ROUND(YV30/YV$6,0),NOT(YV30=0)),YV30/YV$6,0)","v":0},{"$f":"IF(AND(YW30/YW$6=ROUND(YW30/YW$6,0),NOT(YW30=0)),YW30/YW$6,0)","v":0},{"$f":"IF(AND(YX30/YX$6=ROUND(YX30/YX$6,0),NOT(YX30=0)),YX30/YX$6,0)","v":0},{"$f":"IF(AND(YY30/YY$6=ROUND(YY30/YY$6,0),NOT(YY30=0)),YY30/YY$6,0)","v":0},{"$f":"IF(AND(YZ30/YZ$6=ROUND(YZ30/YZ$6,0),NOT(YZ30=0)),YZ30/YZ$6,0)","v":0},{"$f":"IF(AND(ZA30/ZA$6=ROUND(ZA30/ZA$6,0),NOT(ZA30=0)),ZA30/ZA$6,0)","v":0},{"$f":"IF(AND(ZB30/ZB$6=ROUND(ZB30/ZB$6,0),NOT(ZB30=0)),ZB30/ZB$6,0)","v":0},{"$f":"IF(AND(ZC30/ZC$6=ROUND(ZC30/ZC$6,0),NOT(ZC30=0)),ZC30/ZC$6,0)","v":0},{"$f":"IF(AND(ZD30/ZD$6=ROUND(ZD30/ZD$6,0),NOT(ZD30=0)),ZD30/ZD$6,0)","v":0},{"$f":"IF(AND(ZE30/ZE$6=ROUND(ZE30/ZE$6,0),NOT(ZE30=0)),ZE30/ZE$6,0)","v":0},{"$f":"IF(AND(ZF30/ZF$6=ROUND(ZF30/ZF$6,0),NOT(ZF30=0)),ZF30/ZF$6,0)","v":0},{"$f":"IF(AND(ZG30/ZG$6=ROUND(ZG30/ZG$6,0),NOT(ZG30=0)),ZG30/ZG$6,0)","v":0},{"$f":"IF(AND(ZH30/ZH$6=ROUND(ZH30/ZH$6,0),NOT(ZH30=0)),ZH30/ZH$6,0)","v":0},{"$f":"IF(AND(ZI30/ZI$6=ROUND(ZI30/ZI$6,0),NOT(ZI30=0)),ZI30/ZI$6,0)","v":0},{"$f":"IF(AND(ZJ30/ZJ$6=ROUND(ZJ30/ZJ$6,0),NOT(ZJ30=0)),ZJ30/ZJ$6,0)","v":0},{"$f":"IF(AND(ZK30/ZK$6=ROUND(ZK30/ZK$6,0),NOT(ZK30=0)),ZK30/ZK$6,0)","v":0},{"$f":"IF(AND(ZL30/ZL$6=ROUND(ZL30/ZL$6,0),NOT(ZL30=0)),ZL30/ZL$6,0)","v":0},{"$f":"IF(AND(ZM30/ZM$6=ROUND(ZM30/ZM$6,0),NOT(ZM30=0)),ZM30/ZM$6,0)","v":0},{"$f":"IF(AND(ZN30/ZN$6=ROUND(ZN30/ZN$6,0),NOT(ZN30=0)),ZN30/ZN$6,0)","v":0},{"$f":"IF(AND(ZO30/ZO$6=ROUND(ZO30/ZO$6,0),NOT(ZO30=0)),ZO30/ZO$6,0)","v":0},{"$f":"IF(AND(ZP30/ZP$6=ROUND(ZP30/ZP$6,0),NOT(ZP30=0)),ZP30/ZP$6,0)","v":0},{"$f":"IF(AND(ZQ30/ZQ$6=ROUND(ZQ30/ZQ$6,0),NOT(ZQ30=0)),ZQ30/ZQ$6,0)","v":0},{"$f":"IF(AND(ZR30/ZR$6=ROUND(ZR30/ZR$6,0),NOT(ZR30=0)),ZR30/ZR$6,0)","v":0},{"$f":"IF(AND(ZS30/ZS$6=ROUND(ZS30/ZS$6,0),NOT(ZS30=0)),ZS30/ZS$6,0)","v":0},{"$f":"IF(AND(ZT30/ZT$6=ROUND(ZT30/ZT$6,0),NOT(ZT30=0)),ZT30/ZT$6,0)","v":0},{"$f":"IF(AND(ZU30/ZU$6=ROUND(ZU30/ZU$6,0),NOT(ZU30=0)),ZU30/ZU$6,0)","v":0},{"$f":"IF(AND(ZV30/ZV$6=ROUND(ZV30/ZV$6,0),NOT(ZV30=0)),ZV30/ZV$6,0)","v":0},{"$f":"IF(AND(ZW30/ZW$6=ROUND(ZW30/ZW$6,0),NOT(ZW30=0)),ZW30/ZW$6,0)","v":0},{"$f":"IF(AND(ZX30/ZX$6=ROUND(ZX30/ZX$6,0),NOT(ZX30=0)),ZX30/ZX$6,0)","v":0},{"$f":"IF(AND(ZY30/ZY$6=ROUND(ZY30/ZY$6,0),NOT(ZY30=0)),ZY30/ZY$6,0)","v":0},{"$f":"IF(AND(ZZ30/ZZ$6=ROUND(ZZ30/ZZ$6,0),NOT(ZZ30=0)),ZZ30/ZZ$6,0)","v":0},{"$f":"IF(AND(AAA30/AAA$6=ROUND(AAA30/AAA$6,0),NOT(AAA30=0)),AAA30/AAA$6,0)","v":0},{"$f":"IF(AND(AAB30/AAB$6=ROUND(AAB30/AAB$6,0),NOT(AAB30=0)),AAB30/AAB$6,0)","v":0},{"$f":"IF(AND(AAC30/AAC$6=ROUND(AAC30/AAC$6,0),NOT(AAC30=0)),AAC30/AAC$6,0)","v":0},{"$f":"IF(AND(AAD30/AAD$6=ROUND(AAD30/AAD$6,0),NOT(AAD30=0)),AAD30/AAD$6,0)","v":0},{"$f":"IF(AND(AAE30/AAE$6=ROUND(AAE30/AAE$6,0),NOT(AAE30=0)),AAE30/AAE$6,0)","v":0},{"$f":"IF(AND(AAF30/AAF$6=ROUND(AAF30/AAF$6,0),NOT(AAF30=0)),AAF30/AAF$6,0)","v":0},{"$f":"IF(AND(AAG30/AAG$6=ROUND(AAG30/AAG$6,0),NOT(AAG30=0)),AAG30/AAG$6,0)","v":0},{"$f":"IF(AND(AAH30/AAH$6=ROUND(AAH30/AAH$6,0),NOT(AAH30=0)),AAH30/AAH$6,0)","v":0},{"$f":"IF(AND(AAI30/AAI$6=ROUND(AAI30/AAI$6,0),NOT(AAI30=0)),AAI30/AAI$6,0)","v":0},{"$f":"IF(AND(AAJ30/AAJ$6=ROUND(AAJ30/AAJ$6,0),NOT(AAJ30=0)),AAJ30/AAJ$6,0)","v":0},{"$f":"IF(AND(AAK30/AAK$6=ROUND(AAK30/AAK$6,0),NOT(AAK30=0)),AAK30/AAK$6,0)","v":0},{"$f":"IF(AND(AAL30/AAL$6=ROUND(AAL30/AAL$6,0),NOT(AAL30=0)),AAL30/AAL$6,0)","v":0},{"$f":"IF(AND(AAM30/AAM$6=ROUND(AAM30/AAM$6,0),NOT(AAM30=0)),AAM30/AAM$6,0)","v":0},{"$f":"IF(AND(AAN30/AAN$6=ROUND(AAN30/AAN$6,0),NOT(AAN30=0)),AAN30/AAN$6,0)","v":0},{"$f":"IF(AND(AAO30/AAO$6=ROUND(AAO30/AAO$6,0),NOT(AAO30=0)),AAO30/AAO$6,0)","v":0},{"$f":"IF(AND(AAP30/AAP$6=ROUND(AAP30/AAP$6,0),NOT(AAP30=0)),AAP30/AAP$6,0)","v":0},{"$f":"IF(AND(AAQ30/AAQ$6=ROUND(AAQ30/AAQ$6,0),NOT(AAQ30=0)),AAQ30/AAQ$6,0)","v":0},{"$f":"IF(AND(AAR30/AAR$6=ROUND(AAR30/AAR$6,0),NOT(AAR30=0)),AAR30/AAR$6,0)","v":0},{"$f":"IF(AND(AAS30/AAS$6=ROUND(AAS30/AAS$6,0),NOT(AAS30=0)),AAS30/AAS$6,0)","v":0},{"$f":"IF(AND(AAT30/AAT$6=ROUND(AAT30/AAT$6,0),NOT(AAT30=0)),AAT30/AAT$6,0)","v":0},{"$f":"IF(AND(AAU30/AAU$6=ROUND(AAU30/AAU$6,0),NOT(AAU30=0)),AAU30/AAU$6,0)","v":0},{"$f":"IF(AND(AAV30/AAV$6=ROUND(AAV30/AAV$6,0),NOT(AAV30=0)),AAV30/AAV$6,0)","v":0},{"$f":"IF(AND(AAW30/AAW$6=ROUND(AAW30/AAW$6,0),NOT(AAW30=0)),AAW30/AAW$6,0)","v":0},{"$f":"IF(AND(AAX30/AAX$6=ROUND(AAX30/AAX$6,0),NOT(AAX30=0)),AAX30/AAX$6,0)","v":0},{"$f":"IF(AND(AAY30/AAY$6=ROUND(AAY30/AAY$6,0),NOT(AAY30=0)),AAY30/AAY$6,0)","v":0},{"$f":"IF(AND(AAZ30/AAZ$6=ROUND(AAZ30/AAZ$6,0),NOT(AAZ30=0)),AAZ30/AAZ$6,0)","v":0},{"$f":"IF(AND(ABA30/ABA$6=ROUND(ABA30/ABA$6,0),NOT(ABA30=0)),ABA30/ABA$6,0)","v":0},{"$f":"IF(AND(ABB30/ABB$6=ROUND(ABB30/ABB$6,0),NOT(ABB30=0)),ABB30/ABB$6,0)","v":0},{"$f":"IF(AND(ABC30/ABC$6=ROUND(ABC30/ABC$6,0),NOT(ABC30=0)),ABC30/ABC$6,0)","v":0},{"$f":"IF(AND(ABD30/ABD$6=ROUND(ABD30/ABD$6,0),NOT(ABD30=0)),ABD30/ABD$6,0)","v":0},{"$f":"IF(AND(ABE30/ABE$6=ROUND(ABE30/ABE$6,0),NOT(ABE30=0)),ABE30/ABE$6,0)","v":0},{"$f":"IF(AND(ABF30/ABF$6=ROUND(ABF30/ABF$6,0),NOT(ABF30=0)),ABF30/ABF$6,0)","v":0},{"$f":"IF(AND(ABG30/ABG$6=ROUND(ABG30/ABG$6,0),NOT(ABG30=0)),ABG30/ABG$6,0)","v":0},{"$f":"IF(AND(ABH30/ABH$6=ROUND(ABH30/ABH$6,0),NOT(ABH30=0)),ABH30/ABH$6,0)","v":0},{"$f":"IF(AND(ABI30/ABI$6=ROUND(ABI30/ABI$6,0),NOT(ABI30=0)),ABI30/ABI$6,0)","v":0},{"$f":"IF(AND(ABJ30/ABJ$6=ROUND(ABJ30/ABJ$6,0),NOT(ABJ30=0)),ABJ30/ABJ$6,0)","v":0},{"$f":"IF(AND(ABK30/ABK$6=ROUND(ABK30/ABK$6,0),NOT(ABK30=0)),ABK30/ABK$6,0)","v":0},{"$f":"IF(AND(ABL30/ABL$6=ROUND(ABL30/ABL$6,0),NOT(ABL30=0)),ABL30/ABL$6,0)","v":0},{"$f":"IF(AND(ABM30/ABM$6=ROUND(ABM30/ABM$6,0),NOT(ABM30=0)),ABM30/ABM$6,0)","v":0},{"$f":"IF(AND(ABN30/ABN$6=ROUND(ABN30/ABN$6,0),NOT(ABN30=0)),ABN30/ABN$6,0)","v":0},{"$f":"IF(AND(ABO30/ABO$6=ROUND(ABO30/ABO$6,0),NOT(ABO30=0)),ABO30/ABO$6,0)","v":0},{"$f":"IF(AND(ABP30/ABP$6=ROUND(ABP30/ABP$6,0),NOT(ABP30=0)),ABP30/ABP$6,0)","v":0},{"$f":"IF(AND(ABQ30/ABQ$6=ROUND(ABQ30/ABQ$6,0),NOT(ABQ30=0)),ABQ30/ABQ$6,0)","v":0},{"$f":"IF(AND(ABR30/ABR$6=ROUND(ABR30/ABR$6,0),NOT(ABR30=0)),ABR30/ABR$6,0)","v":0},{"$f":"IF(AND(ABS30/ABS$6=ROUND(ABS30/ABS$6,0),NOT(ABS30=0)),ABS30/ABS$6,0)","v":0},{"$f":"IF(AND(ABT30/ABT$6=ROUND(ABT30/ABT$6,0),NOT(ABT30=0)),ABT30/ABT$6,0)","v":0},{"$f":"IF(AND(ABU30/ABU$6=ROUND(ABU30/ABU$6,0),NOT(ABU30=0)),ABU30/ABU$6,0)","v":0},{"$f":"IF(AND(ABV30/ABV$6=ROUND(ABV30/ABV$6,0),NOT(ABV30=0)),ABV30/ABV$6,0)","v":0},{"$f":"IF(AND(ABW30/ABW$6=ROUND(ABW30/ABW$6,0),NOT(ABW30=0)),ABW30/ABW$6,0)","v":0},{"$f":"IF(AND(ABX30/ABX$6=ROUND(ABX30/ABX$6,0),NOT(ABX30=0)),ABX30/ABX$6,0)","v":0},{"$f":"IF(AND(ABY30/ABY$6=ROUND(ABY30/ABY$6,0),NOT(ABY30=0)),ABY30/ABY$6,0)","v":0},{"$f":"IF(AND(ABZ30/ABZ$6=ROUND(ABZ30/ABZ$6,0),NOT(ABZ30=0)),ABZ30/ABZ$6,0)","v":0},{"$f":"IF(AND(ACA30/ACA$6=ROUND(ACA30/ACA$6,0),NOT(ACA30=0)),ACA30/ACA$6,0)","v":0},{"$f":"IF(AND(ACB30/ACB$6=ROUND(ACB30/ACB$6,0),NOT(ACB30=0)),ACB30/ACB$6,0)","v":0},{"$f":"IF(AND(ACC30/ACC$6=ROUND(ACC30/ACC$6,0),NOT(ACC30=0)),ACC30/ACC$6,0)","v":0},{"$f":"IF(AND(ACD30/ACD$6=ROUND(ACD30/ACD$6,0),NOT(ACD30=0)),ACD30/ACD$6,0)","v":0},{"$f":"IF(AND(ACE30/ACE$6=ROUND(ACE30/ACE$6,0),NOT(ACE30=0)),ACE30/ACE$6,0)","v":0},{"$f":"IF(AND(ACF30/ACF$6=ROUND(ACF30/ACF$6,0),NOT(ACF30=0)),ACF30/ACF$6,0)","v":0},{"$f":"IF(AND(ACG30/ACG$6=ROUND(ACG30/ACG$6,0),NOT(ACG30=0)),ACG30/ACG$6,0)","v":0},{"$f":"IF(AND(ACH30/ACH$6=ROUND(ACH30/ACH$6,0),NOT(ACH30=0)),ACH30/ACH$6,0)","v":0},{"$f":"IF(AND(ACI30/ACI$6=ROUND(ACI30/ACI$6,0),NOT(ACI30=0)),ACI30/ACI$6,0)","v":0},{"$f":"IF(AND(ACJ30/ACJ$6=ROUND(ACJ30/ACJ$6,0),NOT(ACJ30=0)),ACJ30/ACJ$6,0)","v":0},{"$f":"IF(AND(ACK30/ACK$6=ROUND(ACK30/ACK$6,0),NOT(ACK30=0)),ACK30/ACK$6,0)","v":0},{"$f":"IF(AND(ACL30/ACL$6=ROUND(ACL30/ACL$6,0),NOT(ACL30=0)),ACL30/ACL$6,0)","v":0},{"$f":"IF(AND(ACM30/ACM$6=ROUND(ACM30/ACM$6,0),NOT(ACM30=0)),ACM30/ACM$6,0)","v":0},{"$f":"IF(AND(ACN30/ACN$6=ROUND(ACN30/ACN$6,0),NOT(ACN30=0)),ACN30/ACN$6,0)","v":0},{"$f":"IF(AND(ACO30/ACO$6=ROUND(ACO30/ACO$6,0),NOT(ACO30=0)),ACO30/ACO$6,0)","v":0},{"$f":"IF(AND(ACP30/ACP$6=ROUND(ACP30/ACP$6,0),NOT(ACP30=0)),ACP30/ACP$6,0)","v":0},{"$f":"IF(AND(ACQ30/ACQ$6=ROUND(ACQ30/ACQ$6,0),NOT(ACQ30=0)),ACQ30/ACQ$6,0)","v":0},{"$f":"IF(AND(ACR30/ACR$6=ROUND(ACR30/ACR$6,0),NOT(ACR30=0)),ACR30/ACR$6,0)","v":0},{"$f":"IF(AND(ACS30/ACS$6=ROUND(ACS30/ACS$6,0),NOT(ACS30=0)),ACS30/ACS$6,0)","v":0},{"$f":"IF(AND(ACT30/ACT$6=ROUND(ACT30/ACT$6,0),NOT(ACT30=0)),ACT30/ACT$6,0)","v":0},{"$f":"IF(AND(ACU30/ACU$6=ROUND(ACU30/ACU$6,0),NOT(ACU30=0)),ACU30/ACU$6,0)","v":0},{"$f":"IF(AND(ACV30/ACV$6=ROUND(ACV30/ACV$6,0),NOT(ACV30=0)),ACV30/ACV$6,0)","v":0},{"$f":"IF(AND(ACW30/ACW$6=ROUND(ACW30/ACW$6,0),NOT(ACW30=0)),ACW30/ACW$6,0)","v":0},{"$f":"IF(AND(ACX30/ACX$6=ROUND(ACX30/ACX$6,0),NOT(ACX30=0)),ACX30/ACX$6,0)","v":0},{"$f":"IF(AND(ACY30/ACY$6=ROUND(ACY30/ACY$6,0),NOT(ACY30=0)),ACY30/ACY$6,0)","v":0},{"$f":"IF(AND(ACZ30/ACZ$6=ROUND(ACZ30/ACZ$6,0),NOT(ACZ30=0)),ACZ30/ACZ$6,0)","v":0},{"$f":"IF(AND(ADA30/ADA$6=ROUND(ADA30/ADA$6,0),NOT(ADA30=0)),ADA30/ADA$6,0)","v":0},{"$f":"IF(AND(ADB30/ADB$6=ROUND(ADB30/ADB$6,0),NOT(ADB30=0)),ADB30/ADB$6,0)","v":0},{"$f":"IF(AND(ADC30/ADC$6=ROUND(ADC30/ADC$6,0),NOT(ADC30=0)),ADC30/ADC$6,0)","v":0},{"$f":"IF(AND(ADD30/ADD$6=ROUND(ADD30/ADD$6,0),NOT(ADD30=0)),ADD30/ADD$6,0)","v":0},{"$f":"IF(AND(ADE30/ADE$6=ROUND(ADE30/ADE$6,0),NOT(ADE30=0)),ADE30/ADE$6,0)","v":0},{"$f":"IF(AND(ADF30/ADF$6=ROUND(ADF30/ADF$6,0),NOT(ADF30=0)),ADF30/ADF$6,0)","v":0},{"$f":"IF(AND(ADG30/ADG$6=ROUND(ADG30/ADG$6,0),NOT(ADG30=0)),ADG30/ADG$6,0)","v":0},{"$f":"IF(AND(ADH30/ADH$6=ROUND(ADH30/ADH$6,0),NOT(ADH30=0)),ADH30/ADH$6,0)","v":0},{"$f":"IF(AND(ADI30/ADI$6=ROUND(ADI30/ADI$6,0),NOT(ADI30=0)),ADI30/ADI$6,0)","v":0},{"$f":"IF(AND(ADJ30/ADJ$6=ROUND(ADJ30/ADJ$6,0),NOT(ADJ30=0)),ADJ30/ADJ$6,0)","v":0},{"$f":"IF(AND(ADK30/ADK$6=ROUND(ADK30/ADK$6,0),NOT(ADK30=0)),ADK30/ADK$6,0)","v":0},{"$f":"IF(AND(ADL30/ADL$6=ROUND(ADL30/ADL$6,0),NOT(ADL30=0)),ADL30/ADL$6,0)","v":0},{"$f":"IF(AND(ADM30/ADM$6=ROUND(ADM30/ADM$6,0),NOT(ADM30=0)),ADM30/ADM$6,0)","v":0},{"$f":"IF(AND(ADN30/ADN$6=ROUND(ADN30/ADN$6,0),NOT(ADN30=0)),ADN30/ADN$6,0)","v":0},{"$f":"IF(AND(ADO30/ADO$6=ROUND(ADO30/ADO$6,0),NOT(ADO30=0)),ADO30/ADO$6,0)","v":0},{"$f":"IF(AND(ADP30/ADP$6=ROUND(ADP30/ADP$6,0),NOT(ADP30=0)),ADP30/ADP$6,0)","v":0},{"$f":"IF(AND(ADQ30/ADQ$6=ROUND(ADQ30/ADQ$6,0),NOT(ADQ30=0)),ADQ30/ADQ$6,0)","v":0},{"$f":"IF(AND(ADR30/ADR$6=ROUND(ADR30/ADR$6,0),NOT(ADR30=0)),ADR30/ADR$6,0)","v":0},{"$f":"IF(AND(ADS30/ADS$6=ROUND(ADS30/ADS$6,0),NOT(ADS30=0)),ADS30/ADS$6,0)","v":0},{"$f":"IF(AND(ADT30/ADT$6=ROUND(ADT30/ADT$6,0),NOT(ADT30=0)),ADT30/ADT$6,0)","v":0},{"$f":"IF(AND(ADU30/ADU$6=ROUND(ADU30/ADU$6,0),NOT(ADU30=0)),ADU30/ADU$6,0)","v":0},{"$f":"IF(AND(ADV30/ADV$6=ROUND(ADV30/ADV$6,0),NOT(ADV30=0)),ADV30/ADV$6,0)","v":0},{"$f":"IF(AND(ADW30/ADW$6=ROUND(ADW30/ADW$6,0),NOT(ADW30=0)),ADW30/ADW$6,0)","v":0},{"$f":"IF(AND(ADX30/ADX$6=ROUND(ADX30/ADX$6,0),NOT(ADX30=0)),ADX30/ADX$6,0)","v":0},{"$f":"IF(AND(ADY30/ADY$6=ROUND(ADY30/ADY$6,0),NOT(ADY30=0)),ADY30/ADY$6,0)","v":0},{"$f":"IF(AND(ADZ30/ADZ$6=ROUND(ADZ30/ADZ$6,0),NOT(ADZ30=0)),ADZ30/ADZ$6,0)","v":0},{"$f":"IF(AND(AEA30/AEA$6=ROUND(AEA30/AEA$6,0),NOT(AEA30=0)),AEA30/AEA$6,0)","v":0},{"$f":"IF(AND(AEB30/AEB$6=ROUND(AEB30/AEB$6,0),NOT(AEB30=0)),AEB30/AEB$6,0)","v":0},{"$f":"IF(AND(AEC30/AEC$6=ROUND(AEC30/AEC$6,0),NOT(AEC30=0)),AEC30/AEC$6,0)","v":0},{"$f":"IF(AND(AED30/AED$6=ROUND(AED30/AED$6,0),NOT(AED30=0)),AED30/AED$6,0)","v":0},{"$f":"IF(AND(AEE30/AEE$6=ROUND(AEE30/AEE$6,0),NOT(AEE30=0)),AEE30/AEE$6,0)","v":0},{"$f":"IF(AND(AEF30/AEF$6=ROUND(AEF30/AEF$6,0),NOT(AEF30=0)),AEF30/AEF$6,0)","v":0},{"$f":"IF(AND(AEG30/AEG$6=ROUND(AEG30/AEG$6,0),NOT(AEG30=0)),AEG30/AEG$6,0)","v":0},{"$f":"IF(AND(AEH30/AEH$6=ROUND(AEH30/AEH$6,0),NOT(AEH30=0)),AEH30/AEH$6,0)","v":0},{"$f":"IF(AND(AEI30/AEI$6=ROUND(AEI30/AEI$6,0),NOT(AEI30=0)),AEI30/AEI$6,0)","v":0},{"$f":"IF(AND(AEJ30/AEJ$6=ROUND(AEJ30/AEJ$6,0),NOT(AEJ30=0)),AEJ30/AEJ$6,0)","v":0},{"$f":"IF(AND(AEK30/AEK$6=ROUND(AEK30/AEK$6,0),NOT(AEK30=0)),AEK30/AEK$6,0)","v":0},{"$f":"IF(AND(AEL30/AEL$6=ROUND(AEL30/AEL$6,0),NOT(AEL30=0)),AEL30/AEL$6,0)","v":0},{"$f":"IF(AND(AEM30/AEM$6=ROUND(AEM30/AEM$6,0),NOT(AEM30=0)),AEM30/AEM$6,0)","v":0},{"$f":"IF(AND(AEN30/AEN$6=ROUND(AEN30/AEN$6,0),NOT(AEN30=0)),AEN30/AEN$6,0)","v":0},{"$f":"IF(AND(AEO30/AEO$6=ROUND(AEO30/AEO$6,0),NOT(AEO30=0)),AEO30/AEO$6,0)","v":0},{"$f":"IF(AND(AEP30/AEP$6=ROUND(AEP30/AEP$6,0),NOT(AEP30=0)),AEP30/AEP$6,0)","v":0},{"$f":"IF(AND(AEQ30/AEQ$6=ROUND(AEQ30/AEQ$6,0),NOT(AEQ30=0)),AEQ30/AEQ$6,0)","v":0},{"$f":"IF(AND(AER30/AER$6=ROUND(AER30/AER$6,0),NOT(AER30=0)),AER30/AER$6,0)","v":0},{"$f":"IF(AND(AES30/AES$6=ROUND(AES30/AES$6,0),NOT(AES30=0)),AES30/AES$6,0)","v":0},{"$f":"IF(AND(AET30/AET$6=ROUND(AET30/AET$6,0),NOT(AET30=0)),AET30/AET$6,0)","v":0},{"$f":"IF(AND(AEU30/AEU$6=ROUND(AEU30/AEU$6,0),NOT(AEU30=0)),AEU30/AEU$6,0)","v":0},{"$f":"IF(AND(AEV30/AEV$6=ROUND(AEV30/AEV$6,0),NOT(AEV30=0)),AEV30/AEV$6,0)","v":0},{"$f":"IF(AND(AEW30/AEW$6=ROUND(AEW30/AEW$6,0),NOT(AEW30=0)),AEW30/AEW$6,0)","v":0},{"$f":"IF(AND(AEX30/AEX$6=ROUND(AEX30/AEX$6,0),NOT(AEX30=0)),AEX30/AEX$6,0)","v":0},{"$f":"IF(AND(AEY30/AEY$6=ROUND(AEY30/AEY$6,0),NOT(AEY30=0)),AEY30/AEY$6,0)","v":0},{"$f":"IF(AND(AEZ30/AEZ$6=ROUND(AEZ30/AEZ$6,0),NOT(AEZ30=0)),AEZ30/AEZ$6,0)","v":0},{"$f":"IF(AND(AFA30/AFA$6=ROUND(AFA30/AFA$6,0),NOT(AFA30=0)),AFA30/AFA$6,0)","v":0},{"$f":"IF(AND(AFB30/AFB$6=ROUND(AFB30/AFB$6,0),NOT(AFB30=0)),AFB30/AFB$6,0)","v":0},{"$f":"IF(AND(AFC30/AFC$6=ROUND(AFC30/AFC$6,0),NOT(AFC30=0)),AFC30/AFC$6,0)","v":0},{"$f":"IF(AND(AFD30/AFD$6=ROUND(AFD30/AFD$6,0),NOT(AFD30=0)),AFD30/AFD$6,0)","v":0},{"$f":"IF(AND(AFE30/AFE$6=ROUND(AFE30/AFE$6,0),NOT(AFE30=0)),AFE30/AFE$6,0)","v":0},{"$f":"IF(AND(AFF30/AFF$6=ROUND(AFF30/AFF$6,0),NOT(AFF30=0)),AFF30/AFF$6,0)","v":0},{"$f":"IF(AND(AFG30/AFG$6=ROUND(AFG30/AFG$6,0),NOT(AFG30=0)),AFG30/AFG$6,0)","v":0},{"$f":"IF(AND(AFH30/AFH$6=ROUND(AFH30/AFH$6,0),NOT(AFH30=0)),AFH30/AFH$6,0)","v":0},{"$f":"IF(AND(AFI30/AFI$6=ROUND(AFI30/AFI$6,0),NOT(AFI30=0)),AFI30/AFI$6,0)","v":0},{"$f":"IF(AND(AFJ30/AFJ$6=ROUND(AFJ30/AFJ$6,0),NOT(AFJ30=0)),AFJ30/AFJ$6,0)","v":0},{"$f":"IF(AND(AFK30/AFK$6=ROUND(AFK30/AFK$6,0),NOT(AFK30=0)),AFK30/AFK$6,0)","v":0},{"$f":"IF(AND(AFL30/AFL$6=ROUND(AFL30/AFL$6,0),NOT(AFL30=0)),AFL30/AFL$6,0)","v":0},{"$f":"IF(AND(AFM30/AFM$6=ROUND(AFM30/AFM$6,0),NOT(AFM30=0)),AFM30/AFM$6,0)","v":0},{"$f":"IF(AND(AFN30/AFN$6=ROUND(AFN30/AFN$6,0),NOT(AFN30=0)),AFN30/AFN$6,0)","v":0},{"$f":"IF(AND(AFO30/AFO$6=ROUND(AFO30/AFO$6,0),NOT(AFO30=0)),AFO30/AFO$6,0)","v":0},{"$f":"IF(AND(AFP30/AFP$6=ROUND(AFP30/AFP$6,0),NOT(AFP30=0)),AFP30/AFP$6,0)","v":0},{"$f":"IF(AND(AFQ30/AFQ$6=ROUND(AFQ30/AFQ$6,0),NOT(AFQ30=0)),AFQ30/AFQ$6,0)","v":0},{"$f":"IF(AND(AFR30/AFR$6=ROUND(AFR30/AFR$6,0),NOT(AFR30=0)),AFR30/AFR$6,0)","v":0},{"$f":"IF(AND(AFS30/AFS$6=ROUND(AFS30/AFS$6,0),NOT(AFS30=0)),AFS30/AFS$6,0)","v":0},{"$f":"IF(AND(AFT30/AFT$6=ROUND(AFT30/AFT$6,0),NOT(AFT30=0)),AFT30/AFT$6,0)","v":0},{"$f":"IF(AND(AFU30/AFU$6=ROUND(AFU30/AFU$6,0),NOT(AFU30=0)),AFU30/AFU$6,0)","v":0},{"$f":"IF(AND(AFV30/AFV$6=ROUND(AFV30/AFV$6,0),NOT(AFV30=0)),AFV30/AFV$6,0)","v":0},{"$f":"IF(AND(AFW30/AFW$6=ROUND(AFW30/AFW$6,0),NOT(AFW30=0)),AFW30/AFW$6,0)","v":0},{"$f":"IF(AND(AFX30/AFX$6=ROUND(AFX30/AFX$6,0),NOT(AFX30=0)),AFX30/AFX$6,0)","v":0},{"$f":"IF(AND(AFY30/AFY$6=ROUND(AFY30/AFY$6,0),NOT(AFY30=0)),AFY30/AFY$6,0)","v":0},{"$f":"IF(AND(AFZ30/AFZ$6=ROUND(AFZ30/AFZ$6,0),NOT(AFZ30=0)),AFZ30/AFZ$6,0)","v":0},{"$f":"IF(AND(AGA30/AGA$6=ROUND(AGA30/AGA$6,0),NOT(AGA30=0)),AGA30/AGA$6,0)","v":0},{"$f":"IF(AND(AGB30/AGB$6=ROUND(AGB30/AGB$6,0),NOT(AGB30=0)),AGB30/AGB$6,0)","v":0},{"$f":"IF(AND(AGC30/AGC$6=ROUND(AGC30/AGC$6,0),NOT(AGC30=0)),AGC30/AGC$6,0)","v":0},{"$f":"IF(AND(AGD30/AGD$6=ROUND(AGD30/AGD$6,0),NOT(AGD30=0)),AGD30/AGD$6,0)","v":0},{"$f":"IF(AND(AGE30/AGE$6=ROUND(AGE30/AGE$6,0),NOT(AGE30=0)),AGE30/AGE$6,0)","v":0},{"$f":"IF(AND(AGF30/AGF$6=ROUND(AGF30/AGF$6,0),NOT(AGF30=0)),AGF30/AGF$6,0)","v":0},{"$f":"IF(AND(AGG30/AGG$6=ROUND(AGG30/AGG$6,0),NOT(AGG30=0)),AGG30/AGG$6,0)","v":0},{"$f":"IF(AND(AGH30/AGH$6=ROUND(AGH30/AGH$6,0),NOT(AGH30=0)),AGH30/AGH$6,0)","v":0},{"$f":"IF(AND(AGI30/AGI$6=ROUND(AGI30/AGI$6,0),NOT(AGI30=0)),AGI30/AGI$6,0)","v":0},{"$f":"IF(AND(AGJ30/AGJ$6=ROUND(AGJ30/AGJ$6,0),NOT(AGJ30=0)),AGJ30/AGJ$6,0)","v":0},{"$f":"IF(AND(AGK30/AGK$6=ROUND(AGK30/AGK$6,0),NOT(AGK30=0)),AGK30/AGK$6,0)","v":0},{"$f":"IF(AND(AGL30/AGL$6=ROUND(AGL30/AGL$6,0),NOT(AGL30=0)),AGL30/AGL$6,0)","v":0},{"$f":"IF(AND(AGM30/AGM$6=ROUND(AGM30/AGM$6,0),NOT(AGM30=0)),AGM30/AGM$6,0)","v":0},{"$f":"IF(AND(AGN30/AGN$6=ROUND(AGN30/AGN$6,0),NOT(AGN30=0)),AGN30/AGN$6,0)","v":0},{"$f":"IF(AND(AGO30/AGO$6=ROUND(AGO30/AGO$6,0),NOT(AGO30=0)),AGO30/AGO$6,0)","v":0},{"$f":"IF(AND(AGP30/AGP$6=ROUND(AGP30/AGP$6,0),NOT(AGP30=0)),AGP30/AGP$6,0)","v":0},{"$f":"IF(AND(AGQ30/AGQ$6=ROUND(AGQ30/AGQ$6,0),NOT(AGQ30=0)),AGQ30/AGQ$6,0)","v":0},{"$f":"IF(AND(AGR30/AGR$6=ROUND(AGR30/AGR$6,0),NOT(AGR30=0)),AGR30/AGR$6,0)","v":0},{"$f":"IF(AND(AGS30/AGS$6=ROUND(AGS30/AGS$6,0),NOT(AGS30=0)),AGS30/AGS$6,0)","v":0},{"$f":"IF(AND(AGT30/AGT$6=ROUND(AGT30/AGT$6,0),NOT(AGT30=0)),AGT30/AGT$6,0)","v":0},{"$f":"IF(AND(AGU30/AGU$6=ROUND(AGU30/AGU$6,0),NOT(AGU30=0)),AGU30/AGU$6,0)","v":0},{"$f":"IF(AND(AGV30/AGV$6=ROUND(AGV30/AGV$6,0),NOT(AGV30=0)),AGV30/AGV$6,0)","v":0},{"$f":"IF(AND(AGW30/AGW$6=ROUND(AGW30/AGW$6,0),NOT(AGW30=0)),AGW30/AGW$6,0)","v":0},{"$f":"IF(AND(AGX30/AGX$6=ROUND(AGX30/AGX$6,0),NOT(AGX30=0)),AGX30/AGX$6,0)","v":0},{"$f":"IF(AND(AGY30/AGY$6=ROUND(AGY30/AGY$6,0),NOT(AGY30=0)),AGY30/AGY$6,0)","v":0},{"$f":"IF(AND(AGZ30/AGZ$6=ROUND(AGZ30/AGZ$6,0),NOT(AGZ30=0)),AGZ30/AGZ$6,0)","v":0},{"$f":"IF(AND(AHA30/AHA$6=ROUND(AHA30/AHA$6,0),NOT(AHA30=0)),AHA30/AHA$6,0)","v":0},{"$f":"IF(AND(AHB30/AHB$6=ROUND(AHB30/AHB$6,0),NOT(AHB30=0)),AHB30/AHB$6,0)","v":0},{"$f":"IF(AND(AHC30/AHC$6=ROUND(AHC30/AHC$6,0),NOT(AHC30=0)),AHC30/AHC$6,0)","v":0},{"$f":"IF(AND(AHD30/AHD$6=ROUND(AHD30/AHD$6,0),NOT(AHD30=0)),AHD30/AHD$6,0)","v":0},{"$f":"IF(AND(AHE30/AHE$6=ROUND(AHE30/AHE$6,0),NOT(AHE30=0)),AHE30/AHE$6,0)","v":0},{"$f":"IF(AND(AHF30/AHF$6=ROUND(AHF30/AHF$6,0),NOT(AHF30=0)),AHF30/AHF$6,0)","v":0},{"$f":"IF(AND(AHG30/AHG$6=ROUND(AHG30/AHG$6,0),NOT(AHG30=0)),AHG30/AHG$6,0)","v":0},{"$f":"IF(AND(AHH30/AHH$6=ROUND(AHH30/AHH$6,0),NOT(AHH30=0)),AHH30/AHH$6,0)","v":0},{"$f":"IF(AND(AHI30/AHI$6=ROUND(AHI30/AHI$6,0),NOT(AHI30=0)),AHI30/AHI$6,0)","v":0},{"$f":"IF(AND(AHJ30/AHJ$6=ROUND(AHJ30/AHJ$6,0),NOT(AHJ30=0)),AHJ30/AHJ$6,0)","v":0},{"$f":"IF(AND(AHK30/AHK$6=ROUND(AHK30/AHK$6,0),NOT(AHK30=0)),AHK30/AHK$6,0)","v":0},{"$f":"IF(AND(AHL30/AHL$6=ROUND(AHL30/AHL$6,0),NOT(AHL30=0)),AHL30/AHL$6,0)","v":0},{"$f":"IF(AND(AHM30/AHM$6=ROUND(AHM30/AHM$6,0),NOT(AHM30=0)),AHM30/AHM$6,0)","v":0},{"$f":"IF(AND(AHN30/AHN$6=ROUND(AHN30/AHN$6,0),NOT(AHN30=0)),AHN30/AHN$6,0)","v":0},{"$f":"IF(AND(AHO30/AHO$6=ROUND(AHO30/AHO$6,0),NOT(AHO30=0)),AHO30/AHO$6,0)","v":0},{"$f":"IF(AND(AHP30/AHP$6=ROUND(AHP30/AHP$6,0),NOT(AHP30=0)),AHP30/AHP$6,0)","v":0},{"$f":"IF(AND(AHQ30/AHQ$6=ROUND(AHQ30/AHQ$6,0),NOT(AHQ30=0)),AHQ30/AHQ$6,0)","v":0},{"$f":"IF(AND(AHR30/AHR$6=ROUND(AHR30/AHR$6,0),NOT(AHR30=0)),AHR30/AHR$6,0)","v":0},{"$f":"IF(AND(AHS30/AHS$6=ROUND(AHS30/AHS$6,0),NOT(AHS30=0)),AHS30/AHS$6,0)","v":0},{"$f":"IF(AND(AHT30/AHT$6=ROUND(AHT30/AHT$6,0),NOT(AHT30=0)),AHT30/AHT$6,0)","v":0},{"$f":"IF(AND(AHU30/AHU$6=ROUND(AHU30/AHU$6,0),NOT(AHU30=0)),AHU30/AHU$6,0)","v":0},{"$f":"IF(AND(AHV30/AHV$6=ROUND(AHV30/AHV$6,0),NOT(AHV30=0)),AHV30/AHV$6,0)","v":0},{"$f":"IF(AND(AHW30/AHW$6=ROUND(AHW30/AHW$6,0),NOT(AHW30=0)),AHW30/AHW$6,0)","v":0},{"$f":"IF(AND(AHX30/AHX$6=ROUND(AHX30/AHX$6,0),NOT(AHX30=0)),AHX30/AHX$6,0)","v":0},{"$f":"IF(AND(AHY30/AHY$6=ROUND(AHY30/AHY$6,0),NOT(AHY30=0)),AHY30/AHY$6,0)","v":0},{"$f":"IF(AND(AHZ30/AHZ$6=ROUND(AHZ30/AHZ$6,0),NOT(AHZ30=0)),AHZ30/AHZ$6,0)","v":0},{"$f":"IF(AND(AIA30/AIA$6=ROUND(AIA30/AIA$6,0),NOT(AIA30=0)),AIA30/AIA$6,0)","v":0},{"$f":"IF(AND(AIB30/AIB$6=ROUND(AIB30/AIB$6,0),NOT(AIB30=0)),AIB30/AIB$6,0)","v":0},{"$f":"IF(AND(AIC30/AIC$6=ROUND(AIC30/AIC$6,0),NOT(AIC30=0)),AIC30/AIC$6,0)","v":0},{"$f":"IF(AND(AID30/AID$6=ROUND(AID30/AID$6,0),NOT(AID30=0)),AID30/AID$6,0)","v":0},{"$f":"IF(AND(AIE30/AIE$6=ROUND(AIE30/AIE$6,0),NOT(AIE30=0)),AIE30/AIE$6,0)","v":0},{"$f":"IF(AND(AIF30/AIF$6=ROUND(AIF30/AIF$6,0),NOT(AIF30=0)),AIF30/AIF$6,0)","v":0},{"$f":"IF(AND(AIG30/AIG$6=ROUND(AIG30/AIG$6,0),NOT(AIG30=0)),AIG30/AIG$6,0)","v":0},{"$f":"IF(AND(AIH30/AIH$6=ROUND(AIH30/AIH$6,0),NOT(AIH30=0)),AIH30/AIH$6,0)","v":0},{"$f":"IF(AND(AII30/AII$6=ROUND(AII30/AII$6,0),NOT(AII30=0)),AII30/AII$6,0)","v":0},{"$f":"IF(AND(AIJ30/AIJ$6=ROUND(AIJ30/AIJ$6,0),NOT(AIJ30=0)),AIJ30/AIJ$6,0)","v":0},{"$f":"IF(AND(AIK30/AIK$6=ROUND(AIK30/AIK$6,0),NOT(AIK30=0)),AIK30/AIK$6,0)","v":0},{"$f":"IF(AND(AIL30/AIL$6=ROUND(AIL30/AIL$6,0),NOT(AIL30=0)),AIL30/AIL$6,0)","v":0},{"$f":"IF(AND(AIM30/AIM$6=ROUND(AIM30/AIM$6,0),NOT(AIM30=0)),AIM30/AIM$6,0)","v":0},{"$f":"IF(AND(AIN30/AIN$6=ROUND(AIN30/AIN$6,0),NOT(AIN30=0)),AIN30/AIN$6,0)","v":0},{"$f":"IF(AND(AIO30/AIO$6=ROUND(AIO30/AIO$6,0),NOT(AIO30=0)),AIO30/AIO$6,0)","v":0},{"$f":"IF(AND(AIP30/AIP$6=ROUND(AIP30/AIP$6,0),NOT(AIP30=0)),AIP30/AIP$6,0)","v":0},{"$f":"IF(AND(AIQ30/AIQ$6=ROUND(AIQ30/AIQ$6,0),NOT(AIQ30=0)),AIQ30/AIQ$6,0)","v":0},{"$f":"IF(AND(AIR30/AIR$6=ROUND(AIR30/AIR$6,0),NOT(AIR30=0)),AIR30/AIR$6,0)","v":0},{"$f":"IF(AND(AIS30/AIS$6=ROUND(AIS30/AIS$6,0),NOT(AIS30=0)),AIS30/AIS$6,0)","v":0},{"$f":"IF(AND(AIT30/AIT$6=ROUND(AIT30/AIT$6,0),NOT(AIT30=0)),AIT30/AIT$6,0)","v":0},{"$f":"IF(AND(AIU30/AIU$6=ROUND(AIU30/AIU$6,0),NOT(AIU30=0)),AIU30/AIU$6,0)","v":0},{"$f":"IF(AND(AIV30/AIV$6=ROUND(AIV30/AIV$6,0),NOT(AIV30=0)),AIV30/AIV$6,0)","v":0},{"$f":"IF(AND(AIW30/AIW$6=ROUND(AIW30/AIW$6,0),NOT(AIW30=0)),AIW30/AIW$6,0)","v":0},{"$f":"IF(AND(AIX30/AIX$6=ROUND(AIX30/AIX$6,0),NOT(AIX30=0)),AIX30/AIX$6,0)","v":0},{"$f":"IF(AND(AIY30/AIY$6=ROUND(AIY30/AIY$6,0),NOT(AIY30=0)),AIY30/AIY$6,0)","v":0},{"$f":"IF(AND(AIZ30/AIZ$6=ROUND(AIZ30/AIZ$6,0),NOT(AIZ30=0)),AIZ30/AIZ$6,0)","v":0},{"$f":"IF(AND(AJA30/AJA$6=ROUND(AJA30/AJA$6,0),NOT(AJA30=0)),AJA30/AJA$6,0)","v":0},{"$f":"IF(AND(AJB30/AJB$6=ROUND(AJB30/AJB$6,0),NOT(AJB30=0)),AJB30/AJB$6,0)","v":0},{"$f":"IF(AND(AJC30/AJC$6=ROUND(AJC30/AJC$6,0),NOT(AJC30=0)),AJC30/AJC$6,0)","v":0},{"$f":"IF(AND(AJD30/AJD$6=ROUND(AJD30/AJD$6,0),NOT(AJD30=0)),AJD30/AJD$6,0)","v":0},{"$f":"IF(AND(AJE30/AJE$6=ROUND(AJE30/AJE$6,0),NOT(AJE30=0)),AJE30/AJE$6,0)","v":0},{"$f":"IF(AND(AJF30/AJF$6=ROUND(AJF30/AJF$6,0),NOT(AJF30=0)),AJF30/AJF$6,0)","v":0},{"$f":"IF(AND(AJG30/AJG$6=ROUND(AJG30/AJG$6,0),NOT(AJG30=0)),AJG30/AJG$6,0)","v":0},{"$f":"IF(AND(AJH30/AJH$6=ROUND(AJH30/AJH$6,0),NOT(AJH30=0)),AJH30/AJH$6,0)","v":0},{"$f":"IF(AND(AJI30/AJI$6=ROUND(AJI30/AJI$6,0),NOT(AJI30=0)),AJI30/AJI$6,0)","v":0},{"$f":"IF(AND(AJJ30/AJJ$6=ROUND(AJJ30/AJJ$6,0),NOT(AJJ30=0)),AJJ30/AJJ$6,0)","v":0},{"$f":"IF(AND(AJK30/AJK$6=ROUND(AJK30/AJK$6,0),NOT(AJK30=0)),AJK30/AJK$6,0)","v":0},{"$f":"IF(AND(AJL30/AJL$6=ROUND(AJL30/AJL$6,0),NOT(AJL30=0)),AJL30/AJL$6,0)","v":0},{"$f":"IF(AND(AJM30/AJM$6=ROUND(AJM30/AJM$6,0),NOT(AJM30=0)),AJM30/AJM$6,0)","v":0},{"$f":"IF(AND(AJN30/AJN$6=ROUND(AJN30/AJN$6,0),NOT(AJN30=0)),AJN30/AJN$6,0)","v":0},{"$f":"IF(AND(AJO30/AJO$6=ROUND(AJO30/AJO$6,0),NOT(AJO30=0)),AJO30/AJO$6,0)","v":0},{"$f":"IF(AND(AJP30/AJP$6=ROUND(AJP30/AJP$6,0),NOT(AJP30=0)),AJP30/AJP$6,0)","v":0},{"$f":"IF(AND(AJQ30/AJQ$6=ROUND(AJQ30/AJQ$6,0),NOT(AJQ30=0)),AJQ30/AJQ$6,0)","v":0},{"$f":"IF(AND(AJR30/AJR$6=ROUND(AJR30/AJR$6,0),NOT(AJR30=0)),AJR30/AJR$6,0)","v":0},{"$f":"IF(AND(AJS30/AJS$6=ROUND(AJS30/AJS$6,0),NOT(AJS30=0)),AJS30/AJS$6,0)","v":0},{"$f":"IF(AND(AJT30/AJT$6=ROUND(AJT30/AJT$6,0),NOT(AJT30=0)),AJT30/AJT$6,0)","v":0},{"$f":"IF(AND(AJU30/AJU$6=ROUND(AJU30/AJU$6,0),NOT(AJU30=0)),AJU30/AJU$6,0)","v":0},{"$f":"IF(AND(AJV30/AJV$6=ROUND(AJV30/AJV$6,0),NOT(AJV30=0)),AJV30/AJV$6,0)","v":0},{"$f":"IF(AND(AJW30/AJW$6=ROUND(AJW30/AJW$6,0),NOT(AJW30=0)),AJW30/AJW$6,0)","v":0},{"$f":"IF(AND(AJX30/AJX$6=ROUND(AJX30/AJX$6,0),NOT(AJX30=0)),AJX30/AJX$6,0)","v":0},{"$f":"IF(AND(AJY30/AJY$6=ROUND(AJY30/AJY$6,0),NOT(AJY30=0)),AJY30/AJY$6,0)","v":0},{"$f":"IF(AND(AJZ30/AJZ$6=ROUND(AJZ30/AJZ$6,0),NOT(AJZ30=0)),AJZ30/AJZ$6,0)","v":0},{"$f":"IF(AND(AKA30/AKA$6=ROUND(AKA30/AKA$6,0),NOT(AKA30=0)),AKA30/AKA$6,0)","v":0},{"$f":"IF(AND(AKB30/AKB$6=ROUND(AKB30/AKB$6,0),NOT(AKB30=0)),AKB30/AKB$6,0)","v":0},{"$f":"IF(AND(AKC30/AKC$6=ROUND(AKC30/AKC$6,0),NOT(AKC30=0)),AKC30/AKC$6,0)","v":0},{"$f":"IF(AND(AKD30/AKD$6=ROUND(AKD30/AKD$6,0),NOT(AKD30=0)),AKD30/AKD$6,0)","v":0},{"$f":"IF(AND(AKE30/AKE$6=ROUND(AKE30/AKE$6,0),NOT(AKE30=0)),AKE30/AKE$6,0)","v":0},{"$f":"IF(AND(AKF30/AKF$6=ROUND(AKF30/AKF$6,0),NOT(AKF30=0)),AKF30/AKF$6,0)","v":0},{"$f":"IF(AND(AKG30/AKG$6=ROUND(AKG30/AKG$6,0),NOT(AKG30=0)),AKG30/AKG$6,0)","v":0},{"$f":"IF(AND(AKH30/AKH$6=ROUND(AKH30/AKH$6,0),NOT(AKH30=0)),AKH30/AKH$6,0)","v":0},{"$f":"IF(AND(AKI30/AKI$6=ROUND(AKI30/AKI$6,0),NOT(AKI30=0)),AKI30/AKI$6,0)","v":0},{"$f":"IF(AND(AKJ30/AKJ$6=ROUND(AKJ30/AKJ$6,0),NOT(AKJ30=0)),AKJ30/AKJ$6,0)","v":0},{"$f":"IF(AND(AKK30/AKK$6=ROUND(AKK30/AKK$6,0),NOT(AKK30=0)),AKK30/AKK$6,0)","v":0},{"$f":"IF(AND(AKL30/AKL$6=ROUND(AKL30/AKL$6,0),NOT(AKL30=0)),AKL30/AKL$6,0)","v":0},{"$f":"IF(AND(AKM30/AKM$6=ROUND(AKM30/AKM$6,0),NOT(AKM30=0)),AKM30/AKM$6,0)","v":0},{"$f":"IF(AND(AKN30/AKN$6=ROUND(AKN30/AKN$6,0),NOT(AKN30=0)),AKN30/AKN$6,0)","v":0},{"$f":"IF(AND(AKO30/AKO$6=ROUND(AKO30/AKO$6,0),NOT(AKO30=0)),AKO30/AKO$6,0)","v":0},{"$f":"IF(AND(AKP30/AKP$6=ROUND(AKP30/AKP$6,0),NOT(AKP30=0)),AKP30/AKP$6,0)","v":0},{"$f":"IF(AND(AKQ30/AKQ$6=ROUND(AKQ30/AKQ$6,0),NOT(AKQ30=0)),AKQ30/AKQ$6,0)","v":0},{"$f":"IF(AND(AKR30/AKR$6=ROUND(AKR30/AKR$6,0),NOT(AKR30=0)),AKR30/AKR$6,0)","v":0},{"$f":"IF(AND(AKS30/AKS$6=ROUND(AKS30/AKS$6,0),NOT(AKS30=0)),AKS30/AKS$6,0)","v":0},{"$f":"IF(AND(AKT30/AKT$6=ROUND(AKT30/AKT$6,0),NOT(AKT30=0)),AKT30/AKT$6,0)","v":0},{"$f":"IF(AND(AKU30/AKU$6=ROUND(AKU30/AKU$6,0),NOT(AKU30=0)),AKU30/AKU$6,0)","v":0},{"$f":"IF(AND(AKV30/AKV$6=ROUND(AKV30/AKV$6,0),NOT(AKV30=0)),AKV30/AKV$6,0)","v":0},{"$f":"IF(AND(AKW30/AKW$6=ROUND(AKW30/AKW$6,0),NOT(AKW30=0)),AKW30/AKW$6,0)","v":0},{"$f":"IF(AND(AKX30/AKX$6=ROUND(AKX30/AKX$6,0),NOT(AKX30=0)),AKX30/AKX$6,0)","v":0},{"$f":"IF(AND(AKY30/AKY$6=ROUND(AKY30/AKY$6,0),NOT(AKY30=0)),AKY30/AKY$6,0)","v":0},{"$f":"IF(AND(AKZ30/AKZ$6=ROUND(AKZ30/AKZ$6,0),NOT(AKZ30=0)),AKZ30/AKZ$6,0)","v":0},{"$f":"IF(AND(ALA30/ALA$6=ROUND(ALA30/ALA$6,0),NOT(ALA30=0)),ALA30/ALA$6,0)","v":0},{"$f":"IF(AND(ALB30/ALB$6=ROUND(ALB30/ALB$6,0),NOT(ALB30=0)),ALB30/ALB$6,0)","v":0},{"$f":"IF(AND(ALC30/ALC$6=ROUND(ALC30/ALC$6,0),NOT(ALC30=0)),ALC30/ALC$6,0)","v":0},{"$f":"IF(AND(ALD30/ALD$6=ROUND(ALD30/ALD$6,0),NOT(ALD30=0)),ALD30/ALD$6,0)","v":0},{"$f":"IF(AND(ALE30/ALE$6=ROUND(ALE30/ALE$6,0),NOT(ALE30=0)),ALE30/ALE$6,0)","v":0},{"$f":"IF(AND(ALF30/ALF$6=ROUND(ALF30/ALF$6,0),NOT(ALF30=0)),ALF30/ALF$6,0)","v":0},{"$f":"IF(AND(ALG30/ALG$6=ROUND(ALG30/ALG$6,0),NOT(ALG30=0)),ALG30/ALG$6,0)","v":0},{"$f":"IF(AND(ALH30/ALH$6=ROUND(ALH30/ALH$6,0),NOT(ALH30=0)),ALH30/ALH$6,0)","v":0},{"$f":"IF(AND(ALI30/ALI$6=ROUND(ALI30/ALI$6,0),NOT(ALI30=0)),ALI30/ALI$6,0)","v":0},{"$f":"IF(AND(ALJ30/ALJ$6=ROUND(ALJ30/ALJ$6,0),NOT(ALJ30=0)),ALJ30/ALJ$6,0)","v":0},{"$f":"IF(AND(ALK30/ALK$6=ROUND(ALK30/ALK$6,0),NOT(ALK30=0)),ALK30/ALK$6,0)","v":0},{"$f":"IF(AND(ALL30/ALL$6=ROUND(ALL30/ALL$6,0),NOT(ALL30=0)),ALL30/ALL$6,0)","v":0},{"$f":"IF(AND(ALM30/ALM$6=ROUND(ALM30/ALM$6,0),NOT(ALM30=0)),ALM30/ALM$6,0)","v":0},{"$f":"IF(AND(ALN30/ALN$6=ROUND(ALN30/ALN$6,0),NOT(ALN30=0)),ALN30/ALN$6,0)","v":0},{"$f":"IF(AND(ALO30/ALO$6=ROUND(ALO30/ALO$6,0),NOT(ALO30=0)),ALO30/ALO$6,0)","v":0},{"$f":"IF(AND(ALP30/ALP$6=ROUND(ALP30/ALP$6,0),NOT(ALP30=0)),ALP30/ALP$6,0)","v":0},{"$f":"IF(AND(ALQ30/ALQ$6=ROUND(ALQ30/ALQ$6,0),NOT(ALQ30=0)),ALQ30/ALQ$6,0)","v":0}]
["#2:",null,null,null,null,0,0,0,0,0,0,0,0,0,0,0,0,0,0,0,0,0,0,0,0,0,0,0,0,0,0,0,0,0,0,0,0,0,0,0,0,0,0,0,0,0,0,0,0,0,0,0,0,0,0,0,0,0,0,0,0,0,0,0,0,0,0,0,0,0,0,0,0,0,0,0,0,0,0,0,0,0,0,0,0,0,0,0,0,0,0,0,0,0,0,0,0,0,0,0,0,0,0,0,0,0,0,0,0,0,0,0,0,0,0,0,0,0,0,0,0,0,0,0,0,0,0,0,0,0,0,0,0,0,0,0,0,0,0,0,0,0,0,0,0,0,0,0,0,0,0,0,0,0,0,0,0,0,0,0,0,0,0,0,0,0,0,0,0,0,0,0,0,0,0,0,0,0,0,0,0,0,0,0,0,0,0,0,0,0,0,0,0,0,0,0,0,0,0,0,0,0,0,0,0,0,0,0,0,0,0,0,0,0,0,0,0,0,0,0,0,0,0,0,0,0,0,0,0,0,0,0,0,0,0,0,0,0,0,0,0,0,0,0,0,0,0,0,0,0,0,0,0,0,0,0,0,0,0,0,0,0,0,0,0,0,0,0,0,0,0,0,0,0,0,0,0,0,0,0,0,0,0,0,0,0,0,0,0,0,0,0,0,0,0,0,0,0,0,0,0,0,0,0,0,0,0,0,0,0,0,0,0,0,0,0,0,0,0,0,0,0,0,0,0,0,0,0,0,0,0,0,0,0,0,0,0,0,0,0,0,0,0,0,0,0,0,0,0,0,0,0,0,0,0,0,0,0,0,0,0,0,0,0,0,0,0,0,0,0,0,0,0,0,0,0,0,0,0,0,0,0,0,0,0,0,0,0,0,0,0,0,0,0,0,0,0,0,0,0,0,0,0,0,0,0,0,0,0,0,0,0,0,0,0,0,0,0,0,0,0,0,0,0,0,0,0,0,0,0,0,0,0,0,0,0,0,0,0,0,0,0,0,0,0,0,0,0,0,0,0,0,0,0,0,0,0,0,0,0,0,0,0,0,0,0,0,0,0,0,0,0,0,0,0,0,0,0,0,0,0,0,0,0,0,0,0,0,0,0,0,0,0,0,0,0,0,0,0,0,0,0,0,0,0,0,0,0,0,0,0,0,0,0,0,0,0,0,0,0,0,0,0,0,0,0,0,0,0,0,0,0,0,0,0,0,0,0,0,0,0,0,0,0,0,0,0,0,0,0,0,0,0,0,0,0,0,0,0,0,0,0,0,0,0,0,0,0,0,0,0,0,0,0,0,0,0,0,0,0,0,0,0,0,0,0,0,0,0,0,0,0,0,0,0,0,0,0,0,0,0,0,0,0,0,0,0,0,0,0,0,0,0,0,0,0,0,0,0,0,0,0,0,0,0,0,0,0,0,0,0,0,0,0,0,0,0,0,0,0,0,0,0,0,0,0,0,0,0,0,0,0,0,0,0,0,0,0,0,0,0,0,0,0,0,0,0,0,0,0,0,0,0,0,0,0,0,0,0,0,0,0,0,0,0,0,0,0,0,0,0,0,0,0,0,0,0,0,0,0,0,0,0,0,0,0,0,0,0,0,0,0,0,0,0,0,0,0,0,0,0,0,0,0,0,0,0,0,0,0,0,0,0,0,0,0,0,0,0,0,0,0,0,0,0,0,0,0,0,0,0,0,0,0,0,0,0,0,0,0,0,0,0,0,0,0,0,0,0,0,0,0,0,0,0,0,0,0,0,0,0,0,0,0,0,0,0,0,0,0,0,0,0,0,0,0,0,0,0,0,0,0,0,0,0,0,0,0,0,0,0,0,0,0,0,0,0,0,0,0,0,0,0,0,0,0,0,0,0,0,0,0,0,0,0,0,0,0,0,0,0,0,0,0,0,0,0,0,0,0,0,0,0,0,0,0,0,0,0,0,0,0,0,0,0,0,0,0,0,0,0,0,0,0,0,0,0,0,0,0,0,0,0,0,0,0,0,0,0,0,0,0,0,0,0,0,0,0,0,0,0,0,0,0,0,0,0,0,0,0,0,0,0,0,0,0,0,0,0,0,0,0,0,0,0,0,0,0,0,0,0,0,0,0,0,0,0,0,0,0,0,0,0,0,0,0,0,0,0,0,0,0,0,0,0,0,0,0,0,0,0,0,0,0,0,0,0,0,0,0,0,0,0,0,0,0,0,0,0,0,0,0,0,0,0,0,0,0,0,0,0,0,0,0,0,0,0,0,0,0,0,0,0,0,0]
[1,{"$f":"MATCH(A33,$F$26:$ALQ$26,0)","v":{"$error":"#N/A"}},{"$f":"LOOKUP(B33,$F$1:$ALQ$1,$F$6:$ALQ$6)","v":{"$error":"#N/A"}},{"$f":"IF(ISERROR(C33),0,C33)","v":0},{"$f":"IF(D33=0,IF(SUM(D34:$D$46)=0,\"\",E34),D33)","v":3},0,0,0,0,0,0,0,0,0,0,0,0,0,0,0,0,0,0,0,0,0,0,0,0,0,0,0,0,0,0,0,0,0,0,0,0,0,0,0,0,0,0,0,0,0,0,0,0,0,0,0,0,0,0,0,0,0,0,0,0,0,0,0,0,0,0,0,0,0,0,0,0,0,0,0,0,0,0,0,0,0,0,0,0,0,0,0,0,0,0,0,0,0,0,0,0,0,0,0,0,0,0,0,0,0,0,0,0,0,0,0,0,0,0,0,0,0,0,0,0,0,0,0,0,0,0,0,0,0,0,0,0,0,0,0,0,0,0,0,0,0,0,0,0,0,0,0,0,0,0,0,0,0,0,0,0,0,0,0,0,0,0,0,0,0,0,0,0,0,0,0,0,0,0,0,0,0,0,0,0,0,0,0,0,0,0,0,0,0,0,0,0,0,0,0,0,0,0,0,0,0,0,0,0,0,0,0,0,0,0,0,0,0,0,0,0,0,0,0,0,0,0,0,0,0,0,0,0,0,0,0,0,0,0,0,0,0,0,0,0,0,0,0,0,0,0,0,0,0,0,0,0,0,0,0,0,0,0,0,0,0,0,0,0,0,0,0,0,0,0,0,0,0,0,0,0,0,0,0,0,0,0,0,0,0,0,0,0,0,0,0,0,0,0,0,0,0,0,0,0,0,0,0,0,0,0,0,0,0,0,0,0,0,0,0,0,0,0,0,0,0,0,0,0,0,0,0,0,0,0,0,0,0,0,0,0,0,0,0,0,0,0,0,0,0,0,0,0,0,0,0,0,0,0,0,0,0,0,0,0,0,0,0,0,0,0,0,0,0,0,0,0,0,0,0,0,0,0,0,0,0,0,0,0,0,0,0,0,0,0,0,0,0,0,0,0,0,0,0,0,0,0,0,0,0,0,0,0,0,0,0,0,0,0,0,0,0,0,0,0,0,0,0,0,0,0,0,0,0,0,0,0,0,0,0,0,0,0,0,0,0,0,0,0,0,0,0,0,0,0,0,0,0,0,0,0,0,0,0,0,0,0,0,0,0,0,0,0,0,0,0,0,0,0,0,0,0,0,0,0,0,0,0,0,0,0,0,0,0,0,0,0,0,0,0,0,0,0,0,0,0,0,0,0,0,0,0,0,0,0,0,0,0,0,0,0,0,0,0,0,0,0,0,0,0,0,0,0,0,0,0,0,0,0,0,0,0,0,0,0,0,0,0,0,0,0,0,0,0,0,0,0,0,0,0,0,0,0,0,0,0,0,0,0,0,0,0,0,0,0,0,0,0,0,0,0,0,0,0,0,0,0,0,0,0,0,0,0,0,0,0,0,0,0,0,0,0,0,0,0,0,0,0,0,0,0,0,0,0,0,0,0,0,0,0,0,0,0,0,0,0,0,0,0,0,0,0,0,0,0,0,0,0,0,0,0,0,0,0,0,0,0,0,0,0,0,0,0,0,0,0,0,0,0,0,0,0,0,0,0,0,0,0,0,0,0,0,0,0,0,0,0,0,0,0,0,0,0,0,0,0,0,0,0,0,0,0,0,0,0,0,0,0,0,0,0,0,0,0,0,0,0,0,0,0,0,0,0,0,0,0,0,0,0,0,0,0,0,0,0,0,0,0,0,0,0,0,0,0,0,0,0,0,0,0,0,0,0,0,0,0,0,0,0,0,0,0,0,0,0,0,0,0,0,0,0,0,0,0,0,0,0,0,0,0,0,0,0,0,0,0,0,0,0,0,0,0,0,0,0,0,0,0,0,0,0,0,0,0,0,0,0,0,0,0,0,0,0,0,0,0,0,0,0,0,0,0,0,0,0,0,0,0,0,0,0,0,0,0,0,0,0,0,0,0,0,0,0,0,0,0,0,0,0,0,0,0,0,0,0,0,0,0,0,0,0,0,0,0,0,0,0,0,0,0,0,0,0,0,0,0,0,0,0,0,0,0,0,0,0,0,0,0,0,0,0,0,0,0,0,0,0,0,0,0,0,0,0,0,0,0,0,0,0,0,0,0,0,0,0,0,0,0,0,0,0,0,0,0,0,0,0,0,0,0,0,0,0,0,0,0,0,0,0,0,0,0,0,0,0,0,0,0,0,0,0,0,0,0,0,0,0,0,0,0,0,0,0,0,0,0,0,0,0,0,0,0,0,0,0,0,0,0,0,0,0,0,0,0,0,0,0,0,0,0,0,0,0,0,0,0,0,0,0,0,0,0,0,0,0,0,0,0,0,0,0,0,0,0,0]
[2,{"$f":"MATCH(A34,$F$26:$ALQ$26,0)","v":2},{"$f":"LOOKUP(B34,$F$1:$ALQ$1,$F$6:$ALQ$6)","v":3},{"$f":"IF(ISERROR(C34),0,C34)","v":3},{"$f":"IF(D34=0,IF(SUM(D35:$D$46)=0,\"\",E35),D34)","v":3},0,0,0,0,0,0,0,0,0,0,0,0,0,0,0,0,0,0,0,0,0,0,0,0,0,0,0,0,0,0,0,0,0,0,0,0,0,0,0,0,0,0,0,0,0,0,0,0,0,0,0,0,0,0,0,0,0,0,0,0,0,0,0,0,0,0,0,0,0,0,0,0,0,0,0,0,0,0,0,0,0,0,0,0,0,0,0,0,0,0,0,0,0,0,0,0,0,0,0,0,0,0,0,0,0,0,0,0,0,0,0,0,0,0,0,0,0,0,0,0,0,0,0,0,0,0,0,0,0,0,0,0,0,0,0,0,0,0,0,0,0,0,0,0,0,0,0,0,0,0,0,0,0,0,0,0,0,0,0,0,0,0,0,0,0,0,0,0,0,0,0,0,0,0,0,0,0,0,0,0,0,0,0,0,0,0,0,0,0,0,0,0,0,0,0,0,0,0,0,0,0,0,0,0,0,0,0,0,0,0,0,0,0,0,0,0,0,0,0,0,0,0,0,0,0,0,0,0,0,0,0,0,0,0,0,0,0,0,0,0,0,0,0,0,0,0,0,0,0,0,0,0,0,0,0,0,0,0,0,0,0,0,0,0,0,0,0,0,0,0,0,0,0,0,0,0,0,0,0,0,0,0,0,0,0,0,0,0,0,0,0,0,0,0,0,0,0,0,0,0,0,0,0,0,0,0,0,0,0,0,0,0,0,0,0,0,0,0,0,0,0,0,0,0,0,0,0,0,0,0,0,0,0,0,0,0,0,0,0,0,0,0,0,0,0,0,0,0,0,0,0,0,0,0,0,0,0,0,0,0,0,0,0,0,0,0,0,0,0,0,0,0,0,0,0,0,0,0,0,0,0,0,0,0,0,0,0,0,0,0,0,0,0,0,0,0,0,0,0,0,0,0,0,0,0,0,0,0,0,0,0,0,0,0,0,0,0,0,0,0,0,0,0,0,0,0,0,0,0,0,0,0,0,0,0,0,0,0,0,0,0,0,0,0,0,0,0,0,0,0,0,0,0,0,0,0,0,0,0,0,0,0,0,0,0,0,0,0,0,0,0,0,0,0,0,0,0,0,0,0,0,0,0,0,0,0,0,0,0,0,0,0,0,0,0,0,0,0,0,0,0,0,0,0,0,0,0,0,0,0,0,0,0,0,0,0,0,0,0,0,0,0,0,0,0,0,0,0,0,0,0,0,0,0,0,0,0,0,0,0,0,0,0,0,0,0,0,0,0,0,0,0,0,0,0,0,0,0,0,0,0,0,0,0,0,0,0,0,0,0,0,0,0,0,0,0,0,0,0,0,0,0,0,0,0,0,0,0,0,0,0,0,0,0,0,0,0,0,0,0,0,0,0,0,0,0,0,0,0,0,0,0,0,0,0,0,0,0,0,0,0,0,0,0,0,0,0,0,0,0,0,0,0,0,0,0,0,0,0,0,0,0,0,0,0,0,0,0,0,0,0,0,0,0,0,0,0,0,0,0,0,0,0,0,0,0,0,0,0,0,0,0,0,0,0,0,0,0,0,0,0,0,0,0,0,0,0,0,0,0,0,0,0,0,0,0,0,0,0,0,0,0,0,0,0,0,0,0,0,0,0,0,0,0,0,0,0,0,0,0,0,0,0,0,0,0,0,0,0,0,0,0,0,0,0,0,0,0,0,0,0,0,0,0,0,0,0,0,0,0,0,0,0,0,0,0,0,0,0,0,0,0,0,0,0,0,0,0,0,0,0,0,0,0,0,0,0,0,0,0,0,0,0,0,0,0,0,0,0,0,0,0,0,0,0,0,0,0,0,0,0,0,0,0,0,0,0,0,0,0,0,0,0,0,0,0,0,0,0,0,0,0,0,0,0,0,0,0,0,0,0,0,0,0,0,0,0,0,0,0,0,0,0,0,0,0,0,0,0,0,0,0,0,0,0,0,0,0,0,0,0,0,0,0,0,0,0,0,0,0,0,0,0,0,0,0,0,0,0,0,0,0,0,0,0,0,0,0,0,0,0,0,0,0,0,0,0,0,0,0,0,0,0,0,0,0,0,0,0,0,0,0,0,0,0,0,0,0,0,0,0,0,0,0,0,0,0,0,0,0,0,0,0,0,0,0,0,0,0,0,0,0,0,0,0,0,0,0,0,0,0,0,0,0,0,0,0,0,0,0,0,0,0,0,0,0,0,0,0,0,0,0,0,0,0,0,0,0,0,0,0,0,0,0,0,0,0,0,0,0,0,0,0,0,0,0,0,0,0,0]
[3,15,47,47,{"$f":"IF(D35=0,IF(SUM(D36:$D$46)=0,\"\",E36),D35)","v":47},0,0,0,0,0,0,0,0,0,0,0,0,0,0,0,0,0,0,0,0,0,0,0,0,0,0,0,0,0,0,0,0,0,0,0,0,0,0,0,0,0,0,0,0,0,0,0,0,0,0,0,0,0,0,0,0,0,0,0,0,0,0,0,0,0,0,0,0,0,0,0,0,0,0,0,0,0,0,0,0,0,0,0,0,0,0,0,0,0,0,0,0,0,0,0,0,0,0,0,0,0,0,0,0,0,0,0,0,0,0,0,0,0,0,0,0,0,0,0,0,0,0,0,0,0,0,0,0,0,0,0,0,0,0,0,0,0,0,0,0,0,0,0,0,0,0,0,0,0,0,0,0,0,0,0,0,0,0,0,0,0,0,0,0,0,0,0,0,0,0,0,0,0,0,0,0,0,0,0,0,0,0,0,0,0,0,0,0,0,0,0,0,0,0,0,0,0,0,0,0,0,0,0,0,0,0,0,0,0,0,0,0,0,0,0,0,0,0,0,0,0,0,0,0,0,0,0,0,0,0,0,0,0,0,0,0,0,0,0,0,0,0,0,0,0,0,0,0,0,0,0,0,0,0,0,0,0,0,0,0,0,0,0,0,0,0,0,0,0,0,0,0,0,0,0,0,0,0,0,0,0,0,0,0,0,0,0,0,0,0,0,0,0,0,0,0,0,0,0,0,0,0,0,0,0,0,0,0,0,0,0,0,0,0,0,0,0,0,0,0,0,0,0,0,0,0,0,0,0,0,0,0,0,0,0,0,0,0,0,0,0,0,0,0,0,0,0,0,0,0,0,0,0,0,0,0,0,0,0,0,0,0,0,0,0,0,0,0,0,0,0,0,0,0,0,0,0,0,0,0,0,0,0,0,0,0,0,0,0,0,0,0,0,0,0,0,0,0,0,0,0,0,0,0,0,0,0,0,0,0,0,0,0,0,0,0,0,0,0,0,0,0,0,0,0,0,0,0,0,0,0,0,0,0,0,0,0,0,0,0,0,0,0,0,0,0,0,0,0,0,0,0,0,0,0,0,0,0,0,0,0,0,0,0,0,0,0,0,0,0,0,0,0,0,0,0,0,0,0,0,0,0,0,0,0,0,0,0,0,0,0,0,0,0,0,0,0,0,0,0,0,0,0,0,0,0,0,0,0,0,0,0,0,0,0,0,0,0,0,0,0,0,0,0,0,0,0,0,0,0,0,0,0,0,0,0,0,0,0,0,0,0,0,0,0,0,0,0,0,0,0,0,0,0,0,0,0,0,0,0,0,0,0,0,0,0,0,0,0,0,0,0,0,0,0,0,0,0,0,0,0,0,0,0,0,0,0,0,0,0,0,0,0,0,0,0,0,0,0,0,0,0,0,0,0,0,0,0,0,0,0,0,0,0,0,0,0,0,0,0,0,0,0,0,0,0,0,0,0,0,0,0,0,0,0,0,0,0,0,0,0,0,0,0,0,0,0,0,0,0,0,0,0,0,0,0,0,0,0,0,0,0,0,0,0,0,0,0,0,0,0,0,0,0,0,0,0,0,0,0,0,0,0,0,0,0,0,0,0,0,0,0,0,0,0,0,0,0,0,0,0,0,0,0,0,0,0,0,0,0,0,0,0,0,0,0,0,0,0,0,0,0,0,0,0,0,0,0,0,0,0,0,0,0,0,0,0,0,0,0,0,0,0,0,0,0,0,0,0,0,0,0,0,0,0,0,0,0,0,0,0,0,0,0,0,0,0,0,0,0,0,0,0,0,0,0,0,0,0,0,0,0,0,0,0,0,0,0,0,0,0,0,0,0,0,0,0,0,0,0,0,0,0,0,0,0,0,0,0,0,0,0,0,0,0,0,0,0,0,0,0,0,0,0,0,0,0,0,0,0,0,0,0,0,0,0,0,0,0,0,0,0,0,0,0,0,0,0,0,0,0,0,0,0,0,0,0,0,0,0,0,0,0,0,0,0,0,0,0,0,0,0,0,0,0,0,0,0,0,0,0,0,0,0,0,0,0,0,0,0,0,0,0,0,0,0,0,0,0,0,0,0,0,0,0,0,0,0,0,0,0,0,0,0,0,0,0,0,0,0,0,0,0,0,0,0,0,0,0,0,0,0,0,0,0,0,0,0,0,0,0,0,0,0,0,0,0,0,0,0,0,0,0,0,0,0,0,0,0,0,0,0,0,0,0,0,0,0,0,0,0,0,0,0,0,0,0,0,0,0,0,0,0,0,0,0,0,0,0,0,0,0,0,0,0,0,0,0,0,0]
[4,{"$error":"#N/A"},{"$error":"#N/A"},0,{"$f":"IF(D36=0,IF(SUM(D37:$D$46)=0,\"\",E37),D36)","v":""},0,0,0,0,0,0,0,0,0,0,0,0,0,0,0,0,0,0,0,0,0,0,0,0,0,0,0,0,0,0,0,0,0,0,0,0,0,0,0,0,0,0,0,0,0,0,0,0,0,0,0,0,0,0,0,0,0,0,0,0,0,0,0,0,0,0,0,0,0,0,0,0,0,0,0,0,0,0,0,0,0,0,0,0,0,0,0,0,0,0,0,0,0,0,0,0,0,0,0,0,0,0,0,0,0,0,0,0,0,0,0,0,0,0,0,0,0,0,0,0,0,0,0,0,0,0,0,0,0,0,0,0,0,0,0,0,0,0,0,0,0,0,0,0,0,0,0,0,0,0,0,0,0,0,0,0,0,0,0,0,0,0,0,0,0,0,0,0,0,0,0,0,0,0,0,0,0,0,0,0,0,0,0,0,0,0,0,0,0,0,0,0,0,0,0,0,0,0,0,0,0,0,0,0,0,0,0,0,0,0,0,0,0,0,0,0,0,0,0,0,0,0,0,0,0,0,0,0,0,0,0,0,0,0,0,0,0,0,0,0,0,0,0,0,0,0,0,0,0,0,0,0,0,0,0,0,0,0,0,0,0,0,0,0,0,0,0,0,0,0,0,0,0,0,0,0,0,0,0,0,0,0,0,0,0,0,0,0,0,0,0,0,0,0,0,0,0,0,0,0,0,0,0,0,0,0,0,0,0,0,0,0,0,0,0,0,0,0,0,0,0,0,0,0,0,0,0,0,0,0,0,0,0,0,0,0,0,0,0,0,0,0,0,0,0,0,0,0,0,0,0,0,0,0,0,0,0,0,0,0,0,0,0,0,0,0,0,0,0,0,0,0,0,0,0,0,0,0,0,0,0,0,0,0,0,0,0,0,0,0,0,0,0,0,0,0,0,0,0,0,0,0,0,0,0,0,0,0,0,0,0,0,0,0,0,0,0,0,0,0,0,0,0,0,0,0,0,0,0,0,0,0,0,0,0,0,0,0,0,0,0,0,0,0,0,0,0,0,0,0,0,0,0,0,0,0,0,0,0,0,0,0,0,0,0,0,0,0,0,0,0,0,0,0,0,0,0,0,0,0,0,0,0,0,0,0,0,0,0,0,0,0,0,0,0,0,0,0,0,0,0,0,0,0,0,0,0,0,0,0,0,0,0,0,0,0,0,0,0,0,0,0,0,0,0,0,0,0,0,0,0,0,0,0,0,0,0,0,0,0,0,0,0,0,0,0,0,0,0,0,0,0,0,0,0,0,0,0,0,0,0,0,0,0,0,0,0,0,0,0,0,0,0,0,0,0,0,0,0,0,0,0,0,0,0,0,0,0,0,0,0,0,0,0,0,0,0,0,0,0,0,0,0,0,0,0,0,0,0,0,0,0,0,0,0,0,0,0,0,0,0,0,0,0,0,0,0,0,0,0,0,0,0,0,0,0,0,0,0,0,0,0,0,0,0,0,0,0,0,0,0,0,0,0,0,0,0,0,0,0,0,0,0,0,0,0,0,0,0,0,0,0,0,0,0,0,0,0,0,0,0,0,0,0,0,0,0,0,0,0,0,0,0,0,0,0,0,0,0,0,0,0,0,0,0,0,0,0,0,0,0,0,0,0,0,0,0,0,0,0,0,0,0,0,0,0,0,0,0,0,0,0,0,0,0,0,0,0,0,0,0,0,0,0,0,0,0,0,0,0,0,0,0,0,0,0,0,0,0,0,0,0,0,0,0,0,0,0,0,0,0,0,0,0,0,0,0,0,0,0,0,0,0,0,0,0,0,0,0,0,0,0,0,0,0,0,0,0,0,0,0,0,0,0,0,0,0,0,0,0,0,0,0,0,0,0,0,0,0,0,0,0,0,0,0,0,0,0,0,0,0,0,0,0,0,0,0,0,0,0,0,0,0,0,0,0,0,0,0,0,0,0,0,0,0,0,0,0,0,0,0,0,0,0,0,0,0,0,0,0,0,0,0,0,0,0,0,0,0,0,0,0,0,0,0,0,0,0,0,0,0,0,0,0,0,0,0,0,0,0,0,0,0,0,0,0,0,0,0,0,0,0,0,0,0,0,0,0,0,0,0,0,0,0,0,0,0,0,0,0,0,0,0,0,0,0,0,0,0,0,0,0,0,0,0,0,0,0,0,0,0,0,0,0,0,0,0,0,0,0,0,0,0,0,0,0,0,0,0,0,0,0,0,0,0,0,0,0,0,0,0,0,0,0,0,0,0,0,0,0,0,0,0,0,0,0,0,0,0,0]
[5,{"$error":"#N/A"},{"$error":"#N/A"},0,{"$f":"IF(D37=0,IF(SUM(D38:$D$46)=0,\"\",E38),D37)","v":""},0,0,0,0,0,0,0,0,0,0,0,0,0,0,0,0,0,0,0,0,0,0,0,0,0,0,0,0,0,0,0,0,0,0,0,0,0,0,0,0,0,0,0,0,0,0,0,0,0,0,0,0,0,0,0,0,0,0,0,0,0,0,0,0,0,0,0,0,0,0,0,0,0,0,0,0,0,0,0,0,0,0,0,0,0,0,0,0,0,0,0,0,0,0,0,0,0,0,0,0,0,0,0,0,0,0,0,0,0,0,0,0,0,0,0,0,0,0,0,0,0,0,0,0,0,0,0,0,0,0,0,0,0,0,0,0,0,0,0,0,0,0,0,0,0,0,0,0,0,0,0,0,0,0,0,0,0,0,0,0,0,0,0,0,0,0,0,0,0,0,0,0,0,0,0,0,0,0,0,0,0,0,0,0,0,0,0,0,0,0,0,0,0,0,0,0,0,0,0,0,0,0,0,0,0,0,0,0,0,0,0,0,0,0,0,0,0,0,0,0,0,0,0,0,0,0,0,0,0,0,0,0,0,0,0,0,0,0,0,0,0,0,0,0,0,0,0,0,0,0,0,0,0,0,0,0,0,0,0,0,0,0,0,0,0,0,0,0,0,0,0,0,0,0,0,0,0,0,0,0,0,0,0,0,0,0,0,0,0,0,0,0,0,0,0,0,0,0,0,0,0,0,0,0,0,0,0,0,0,0,0,0,0,0,0,0,0,0,0,0,0,0,0,0,0,0,0,0,0,0,0,0,0,0,0,0,0,0,0,0,0,0,0,0,0,0,0,0,0,0,0,0,0,0,0,0,0,0,0,0,0,0,0,0,0,0,0,0,0,0,0,0,0,0,0,0,0,0,0,0,0,0,0,0,0,0,0,0,0,0,0,0,0,0,0,0,0,0,0,0,0,0,0,0,0,0,0,0,0,0,0,0,0,0,0,0,0,0,0,0,0,0,0,0,0,0,0,0,0,0,0,0,0,0,0,0,0,0,0,0,0,0,0,0,0,0,0,0,0,0,0,0,0,0,0,0,0,0,0,0,0,0,0,0,0,0,0,0,0,0,0,0,0,0,0,0,0,0,0,0,0,0,0,0,0,0,0,0,0,0,0,0,0,0,0,0,0,0,0,0,0,0,0,0,0,0,0,0,0,0,0,0,0,0,0,0,0,0,0,0,0,0,0,0,0,0,0,0,0,0,0,0,0,0,0,0,0,0,0,0,0,0,0,0,0,0,0,0,0,0,0,0,0,0,0,0,0,0,0,0,0,0,0,0,0,0,0,0,0,0,0,0,0,0,0,0,0,0,0,0,0,0,0,0,0,0,0,0,0,0,0,0,0,0,0,0,0,0,0,0,0,0,0,0,0,0,0,0,0,0,0,0,0,0,0,0,0,0,0,0,0,0,0,0,0,0,0,0,0,0,0,0,0,0,0,0,0,0,0,0,0,0,0,0,0,0,0,0,0,0,0,0,0,0,0,0,0,0,0,0,0,0,0,0,0,0,0,0,0,0,0,0,0,0,0,0,0,0,0,0,0,0,0,0,0,0,0,0,0,0,0,0,0,0,0,0,0,0,0,0,0,0,0,0,0,0,0,0,0,0,0,0,0,0,0,0,0,0,0,0,0,0,0,0,0,0,0,0,0,0,0,0,0,0,0,0,0,0,0,0,0,0,0,0,0,0,0,0,0,0,0,0,0,0,0,0,0,0,0,0,0,0,0,0,0,0,0,0,0,0,0,0,0,0,0,0,0,0,0,0,0,0,0,0,0,0,0,0,0,0,0,0,0,0,0,0,0,0,0,0,0,0,0,0,0,0,0,0,0,0,0,0,0,0,0,0,0,0,0,0,0,0,0,0,0,0,0,0,0,0,0,0,0,0,0,0,0,0,0,0,0,0,0,0,0,0,0,0,0,0,0,0,0,0,0,0,0,0,0,0,0,0,0,0,0,0,0,0,0,0,0,0,0,0,0,0,0,0,0,0,0,0,0,0,0,0,0,0,0,0,0,0,0,0,0,0,0,0,0,0,0,0,0,0,0,0,0,0,0,0,0,0,0,0,0,0,0,0,0,0,0,0,0,0,0,0,0,0,0,0,0,0,0,0,0,0,0,0,0,0,0,0,0,0,0,0,0,0,0,0,0,0,0,0,0,0,0,0,0,0,0,0,0,0,0,0,0,0,0,0,0,0,0,0,0,0,0,0,0,0,0,0,0,0,0,0,0,0,0,0,0,0,0,0,0,0,0,0,0,0]
[6,{"$error":"#N/A"},{"$error":"#N/A"},0,{"$f":"IF(D38=0,IF(SUM(D39:$D$46)=0,\"\",E39),D38)","v":""},0,0,0,0,0,0,0,0,0,0,0,0,0,0,0,0,0,0,0,0,0,0,0,0,0,0,0,0,0,0,0,0,0,0,0,0,0,0,0,0,0,0,0,0,0,0,0,0,0,0,0,0,0,0,0,0,0,0,0,0,0,0,0,0,0,0,0,0,0,0,0,0,0,0,0,0,0,0,0,0,0,0,0,0,0,0,0,0,0,0,0,0,0,0,0,0,0,0,0,0,0,0,0,0,0,0,0,0,0,0,0,0,0,0,0,0,0,0,0,0,0,0,0,0,0,0,0,0,0,0,0,0,0,0,0,0,0,0,0,0,0,0,0,0,0,0,0,0,0,0,0,0,0,0,0,0,0,0,0,0,0,0,0,0,0,0,0,0,0,0,0,0,0,0,0,0,0,0,0,0,0,0,0,0,0,0,0,0,0,0,0,0,0,0,0,0,0,0,0,0,0,0,0,0,0,0,0,0,0,0,0,0,0,0,0,0,0,0,0,0,0,0,0,0,0,0,0,0,0,0,0,0,0,0,0,0,0,0,0,0,0,0,0,0,0,0,0,0,0,0,0,0,0,0,0,0,0,0,0,0,0,0,0,0,0,0,0,0,0,0,0,0,0,0,0,0,0,0,0,0,0,0,0,0,0,0,0,0,0,0,0,0,0,0,0,0,0,0,0,0,0,0,0,0,0,0,0,0,0,0,0,0,0,0,0,0,0,0,0,0,0,0,0,0,0,0,0,0,0,0,0,0,0,0,0,0,0,0,0,0,0,0,0,0,0,0,0,0,0,0,0,0,0,0,0,0,0,0,0,0,0,0,0,0,0,0,0,0,0,0,0,0,0,0,0,0,0,0,0,0,0,0,0,0,0,0,0,0,0,0,0,0,0,0,0,0,0,0,0,0,0,0,0,0,0,0,0,0,0,0,0,0,0,0,0,0,0,0,0,0,0,0,0,0,0,0,0,0,0,0,0,0,0,0,0,0,0,0,0,0,0,0,0,0,0,0,0,0,0,0,0,0,0,0,0,0,0,0,0,0,0,0,0,0,0,0,0,0,0,0,0,0,0,0,0,0,0,0,0,0,0,0,0,0,0,0,0,0,0,0,0,0,0,0,0,0,0,0,0,0,0,0,0,0,0,0,0,0,0,0,0,0,0,0,0,0,0,0,0,0,0,0,0,0,0,0,0,0,0,0,0,0,0,0,0,0,0,0,0,0,0,0,0,0,0,0,0,0,0,0,0,0,0,0,0,0,0,0,0,0,0,0,0,0,0,0,0,0,0,0,0,0,0,0,0,0,0,0,0,0,0,0,0,0,0,0,0,0,0,0,0,0,0,0,0,0,0,0,0,0,0,0,0,0,0,0,0,0,0,0,0,0,0,0,0,0,0,0,0,0,0,0,0,0,0,0,0,0,0,0,0,0,0,0,0,0,0,0,0,0,0,0,0,0,0,0,0,0,0,0,0,0,0,0,0,0,0,0,0,0,0,0,0,0,0,0,0,0,0,0,0,0,0,0,0,0,0,0,0,0,0,0,0,0,0,0,0,0,0,0,0,0,0,0,0,0,0,0,0,0,0,0,0,0,0,0,0,0,0,0,0,0,0,0,0,0,0,0,0,0,0,0,0,0,0,0,0,0,0,0,0,0,0,0,0,0,0,0,0,0,0,0,0,0,0,0,0,0,0,0,0,0,0,0,0,0,0,0,0,0,0,0,0,0,0,0,0,0,0,0,0,0,0,0,0,0,0,0,0,0,0,0,0,0,0,0,0,0,0,0,0,0,0,0,0,0,0,0,0,0,0,0,0,0,0,0,0,0,0,0,0,0,0,0,0,0,0,0,0,0,0,0,0,0,0,0,0,0,0,0,0,0,0,0,0,0,0,0,0,0,0,0,0,0,0,0,0,0,0,0,0,0,0,0,0,0,0,0,0,0,0,0,0,0,0,0,0,0,0,0,0,0,0,0,0,0,0,0,0,0,0,0,0,0,0,0,0,0,0,0,0,0,0,0,0,0,0,0,0,0,0,0,0,0,0,0,0,0,0,0,0,0,0,0,0,0,0,0,0,0,0,0,0,0,0,0,0,0,0,0,0,0,0,0,0,0,0,0,0,0,0,0,0,0,0,0,0,0,0,0,0,0,0,0,0,0,0,0,0,0,0,0,0,0,0,0,0,0,0,0,0,0,0,0,0,0,0,0,0,0,0,0,0,0,0,0,0,0,0,0,0,0,0,0,0,0,0,0,0,0]
[7,{"$error":"#N/A"},{"$error":"#N/A"},0,{"$f":"IF(D39=0,IF(SUM(D40:$D$46)=0,\"\",E40),D39)","v":""},0,0,0,0,0,0,0,0,0,0,0,0,0,0,0,0,0,0,0,0,0,0,0,0,0,0,0,0,0,0,0,0,0,0,0,0,0,0,0,0,0,0,0,0,0,0,0,0,0,0,0,0,0,0,0,0,0,0,0,0,0,0,0,0,0,0,0,0,0,0,0,0,0,0,0,0,0,0,0,0,0,0,0,0,0,0,0,0,0,0,0,0,0,0,0,0,0,0,0,0,0,0,0,0,0,0,0,0,0,0,0,0,0,0,0,0,0,0,0,0,0,0,0,0,0,0,0,0,0,0,0,0,0,0,0,0,0,0,0,0,0,0,0,0,0,0,0,0,0,0,0,0,0,0,0,0,0,0,0,0,0,0,0,0,0,0,0,0,0,0,0,0,0,0,0,0,0,0,0,0,0,0,0,0,0,0,0,0,0,0,0,0,0,0,0,0,0,0,0,0,0,0,0,0,0,0,0,0,0,0,0,0,0,0,0,0,0,0,0,0,0,0,0,0,0,0,0,0,0,0,0,0,0,0,0,0,0,0,0,0,0,0,0,0,0,0,0,0,0,0,0,0,0,0,0,0,0,0,0,0,0,0,0,0,0,0,0,0,0,0,0,0,0,0,0,0,0,0,0,0,0,0,0,0,0,0,0,0,0,0,0,0,0,0,0,0,0,0,0,0,0,0,0,0,0,0,0,0,0,0,0,0,0,0,0,0,0,0,0,0,0,0,0,0,0,0,0,0,0,0,0,0,0,0,0,0,0,0,0,0,0,0,0,0,0,0,0,0,0,0,0,0,0,0,0,0,0,0,0,0,0,0,0,0,0,0,0,0,0,0,0,0,0,0,0,0,0,0,0,0,0,0,0,0,0,0,0,0,0,0,0,0,0,0,0,0,0,0,0,0,0,0,0,0,0,0,0,0,0,0,0,0,0,0,0,0,0,0,0,0,0,0,0,0,0,0,0,0,0,0,0,0,0,0,0,0,0,0,0,0,0,0,0,0,0,0,0,0,0,0,0,0,0,0,0,0,0,0,0,0,0,0,0,0,0,0,0,0,0,0,0,0,0,0,0,0,0,0,0,0,0,0,0,0,0,0,0,0,0,0,0,0,0,0,0,0,0,0,0,0,0,0,0,0,0,0,0,0,0,0,0,0,0,0,0,0,0,0,0,0,0,0,0,0,0,0,0,0,0,0,0,0,0,0,0,0,0,0,0,0,0,0,0,0,0,0,0,0,0,0,0,0,0,0,0,0,0,0,0,0,0,0,0,0,0,0,0,0,0,0,0,0,0,0,0,0,0,0,0,0,0,0,0,0,0,0,0,0,0,0,0,0,0,0,0,0,0,0,0,0,0,0,0,0,0,0,0,0,0,0,0,0,0,0,0,0,0,0,0,0,0,0,0,0,0,0,0,0,0,0,0,0,0,0,0,0,0,0,0,0,0,0,0,0,0,0,0,0,0,0,0,0,0,0,0,0,0,0,0,0,0,0,0,0,0,0,0,0,0,0,0,0,0,0,0,0,0,0,0,0,0,0,0,0,0,0,0,0,0,0,0,0,0,0,0,0,0,0,0,0,0,0,0,0,0,0,0,0,0,0,0,0,0,0,0,0,0,0,0,0,0,0,0,0,0,0,0,0,0,0,0,0,0,0,0,0,0,0,0,0,0,0,0,0,0,0,0,0,0,0,0,0,0,0,0,0,0,0,0,0,0,0,0,0,0,0,0,0,0,0,0,0,0,0,0,0,0,0,0,0,0,0,0,0,0,0,0,0,0,0,0,0,0,0,0,0,0,0,0,0,0,0,0,0,0,0,0,0,0,0,0,0,0,0,0,0,0,0,0,0,0,0,0,0,0,0,0,0,0,0,0,0,0,0,0,0,0,0,0,0,0,0,0,0,0,0,0,0,0,0,0,0,0,0,0,0,0,0,0,0,0,0,0,0,0,0,0,0,0,0,0,0,0,0,0,0,0,0,0,0,0,0,0,0,0,0,0,0,0,0,0,0,0,0,0,0,0,0,0,0,0,0,0,0,0,0,0,0,0,0,0,0,0,0,0,0,0,0,0,0,0,0,0,0,0,0,0,0,0,0,0,0,0,0,0,0,0,0,0,0,0,0,0,0,0,0,0,0,0,0,0,0,0,0,0,0,0,0,0,0,0,0,0,0,0,0,0,0,0,0,0,0,0,0,0,0,0,0,0,0,0,0,0,0,0,0,0,0,0,0,0,0,0,0,0,0,0,0,0,0]
[8,{"$error":"#N/A"},{"$error":"#N/A"},0,{"$f":"IF(D40=0,IF(SUM(D41:$D$46)=0,\"\",E41),D40)","v":""},0,0,0,0,0,0,0,0,0,0,0,0,0,0,0,0,0,0,0,0,0,0,0,0,0,0,0,0,0,0,0,0,0,0,0,0,0,0,0,0,0,0,0,0,0,0,0,0,0,0,0,0,0,0,0,0,0,0,0,0,0,0,0,0,0,0,0,0,0,0,0,0,0,0,0,0,0,0,0,0,0,0,0,0,0,0,0,0,0,0,0,0,0,0,0,0,0,0,0,0,0,0,0,0,0,0,0,0,0,0,0,0,0,0,0,0,0,0,0,0,0,0,0,0,0,0,0,0,0,0,0,0,0,0,0,0,0,0,0,0,0,0,0,0,0,0,0,0,0,0,0,0,0,0,0,0,0,0,0,0,0,0,0,0,0,0,0,0,0,0,0,0,0,0,0,0,0,0,0,0,0,0,0,0,0,0,0,0,0,0,0,0,0,0,0,0,0,0,0,0,0,0,0,0,0,0,0,0,0,0,0,0,0,0,0,0,0,0,0,0,0,0,0,0,0,0,0,0,0,0,0,0,0,0,0,0,0,0,0,0,0,0,0,0,0,0,0,0,0,0,0,0,0,0,0,0,0,0,0,0,0,0,0,0,0,0,0,0,0,0,0,0,0,0,0,0,0,0,0,0,0,0,0,0,0,0,0,0,0,0,0,0,0,0,0,0,0,0,0,0,0,0,0,0,0,0,0,0,0,0,0,0,0,0,0,0,0,0,0,0,0,0,0,0,0,0,0,0,0,0,0,0,0,0,0,0,0,0,0,0,0,0,0,0,0,0,0,0,0,0,0,0,0,0,0,0,0,0,0,0,0,0,0,0,0,0,0,0,0,0,0,0,0,0,0,0,0,0,0,0,0,0,0,0,0,0,0,0,0,0,0,0,0,0,0,0,0,0,0,0,0,0,0,0,0,0,0,0,0,0,0,0,0,0,0,0,0,0,0,0,0,0,0,0,0,0,0,0,0,0,0,0,0,0,0,0,0,0,0,0,0,0,0,0,0,0,0,0,0,0,0,0,0,0,0,0,0,0,0,0,0,0,0,0,0,0,0,0,0,0,0,0,0,0,0,0,0,0,0,0,0,0,0,0,0,0,0,0,0,0,0,0,0,0,0,0,0,0,0,0,0,0,0,0,0,0,0,0,0,0,0,0,0,0,0,0,0,0,0,0,0,0,0,0,0,0,0,0,0,0,0,0,0,0,0,0,0,0,0,0,0,0,0,0,0,0,0,0,0,0,0,0,0,0,0,0,0,0,0,0,0,0,0,0,0,0,0,0,0,0,0,0,0,0,0,0,0,0,0,0,0,0,0,0,0,0,0,0,0,0,0,0,0,0,0,0,0,0,0,0,0,0,0,0,0,0,0,0,0,0,0,0,0,0,0,0,0,0,0,0,0,0,0,0,0,0,0,0,0,0,0,0,0,0,0,0,0,0,0,0,0,0,0,0,0,0,0,0,0,0,0,0,0,0,0,0,0,0,0,0,0,0,0,0,0,0,0,0,0,0,0,0,0,0,0,0,0,0,0,0,0,0,0,0,0,0,0,0,0,0,0,0,0,0,0,0,0,0,0,0,0,0,0,0,0,0,0,0,0,0,0,0,0,0,0,0,0,0,0,0,0,0,0,0,0,0,0,0,0,0,0,0,0,0,0,0,0,0,0,0,0,0,0,0,0,0,0,0,0,0,0,0,0,0,0,0,0,0,0,0,0,0,0,0,0,0,0,0,0,0,0,0,0,0,0,0,0,0,0,0,0,0,0,0,0,0,0,0,0,0,0,0,0,0,0,0,0,0,0,0,0,0,0,0,0,0,0,0,0,0,0,0,0,0,0,0,0,0,0,0,0,0,0,0,0,0,0,0,0,0,0,0,0,0,0,0,0,0,0,0,0,0,0,0,0,0,0,0,0,0,0,0,0,0,0,0,0,0,0,0,0,0,0,0,0,0,0,0,0,0,0,0,0,0,0,0,0,0,0,0,0,0,0,0,0,0,0,0,0,0,0,0,0,0,0,0,0,0,0,0,0,0,0,0,0,0,0,0,0,0,0,0,0,0,0,0,0,0,0,0,0,0,0,0,0,0,0,0,0,0,0,0,0,0,0,0,0,0,0,0,0,0,0,0,0,0,0,0,0,0,0,0,0,0,0,0,0,0,0,0,0,0,0,0,0,0,0,0,0,0,0,0,0,0,0,0,0,0,0,0,0,0,0,0,0,0,0,0,0,0,0,0,0,0,0,0,0,0,0,0]
[9,{"$error":"#N/A"},{"$error":"#N/A"},0,{"$f":"IF(D41=0,IF(SUM(D42:$D$46)=0,\"\",E42),D41)","v":""},0,0,0,0,0,0,0,0,0,0,0,0,0,0,0,0,0,0,0,0,0,0,0,0,0,0,0,0,0,0,0,0,0,0,0,0,0,0,0,0,0,0,0,0,0,0,0,0,0,0,0,0,0,0,0,0,0,0,0,0,0,0,0,0,0,0,0,0,0,0,0,0,0,0,0,0,0,0,0,0,0,0,0,0,0,0,0,0,0,0,0,0,0,0,0,0,0,0,0,0,0,0,0,0,0,0,0,0,0,0,0,0,0,0,0,0,0,0,0,0,0,0,0,0,0,0,0,0,0,0,0,0,0,0,0,0,0,0,0,0,0,0,0,0,0,0,0,0,0,0,0,0,0,0,0,0,0,0,0,0,0,0,0,0,0,0,0,0,0,0,0,0,0,0,0,0,0,0,0,0,0,0,0,0,0,0,0,0,0,0,0,0,0,0,0,0,0,0,0,0,0,0,0,0,0,0,0,0,0,0,0,0,0,0,0,0,0,0,0,0,0,0,0,0,0,0,0,0,0,0,0,0,0,0,0,0,0,0,0,0,0,0,0,0,0,0,0,0,0,0,0,0,0,0,0,0,0,0,0,0,0,0,0,0,0,0,0,0,0,0,0,0,0,0,0,0,0,0,0,0,0,0,0,0,0,0,0,0,0,0,0,0,0,0,0,0,0,0,0,0,0,0,0,0,0,0,0,0,0,0,0,0,0,0,0,0,0,0,0,0,0,0,0,0,0,0,0,0,0,0,0,0,0,0,0,0,0,0,0,0,0,0,0,0,0,0,0,0,0,0,0,0,0,0,0,0,0,0,0,0,0,0,0,0,0,0,0,0,0,0,0,0,0,0,0,0,0,0,0,0,0,0,0,0,0,0,0,0,0,0,0,0,0,0,0,0,0,0,0,0,0,0,0,0,0,0,0,0,0,0,0,0,0,0,0,0,0,0,0,0,0,0,0,0,0,0,0,0,0,0,0,0,0,0,0,0,0,0,0,0,0,0,0,0,0,0,0,0,0,0,0,0,0,0,0,0,0,0,0,0,0,0,0,0,0,0,0,0,0,0,0,0,0,0,0,0,0,0,0,0,0,0,0,0,0,0,0,0,0,0,0,0,0,0,0,0,0,0,0,0,0,0,0,0,0,0,0,0,0,0,0,0,0,0,0,0,0,0,0,0,0,0,0,0,0,0,0,0,0,0,0,0,0,0,0,0,0,0,0,0,0,0,0,0,0,0,0,0,0,0,0,0,0,0,0,0,0,0,0,0,0,0,0,0,0,0,0,0,0,0,0,0,0,0,0,0,0,0,0,0,0,0,0,0,0,0,0,0,0,0,0,0,0,0,0,0,0,0,0,0,0,0,0,0,0,0,0,0,0,0,0,0,0,0,0,0,0,0,0,0,0,0,0,0,0,0,0,0,0,0,0,0,0,0,0,0,0,0,0,0,0,0,0,0,0,0,0,0,0,0,0,0,0,0,0,0,0,0,0,0,0,0,0,0,0,0,0,0,0,0,0,0,0,0,0,0,0,0,0,0,0,0,0,0,0,0,0,0,0,0,0,0,0,0,0,0,0,0,0,0,0,0,0,0,0,0,0,0,0,0,0,0,0,0,0,0,0,0,0,0,0,0,0,0,0,0,0,0,0,0,0,0,0,0,0,0,0,0,0,0,0,0,0,0,0,0,0,0,0,0,0,0,0,0,0,0,0,0,0,0,0,0,0,0,0,0,0,0,0,0,0,0,0,0,0,0,0,0,0,0,0,0,0,0,0,0,0,0,0,0,0,0,0,0,0,0,0,0,0,0,0,0,0,0,0,0,0,0,0,0,0,0,0,0,0,0,0,0,0,0,0,0,0,0,0,0,0,0,0,0,0,0,0,0,0,0,0,0,0,0,0,0,0,0,0,0,0,0,0,0,0,0,0,0,0,0,0,0,0,0,0,0,0,0,0,0,0,0,0,0,0,0,0,0,0,0,0,0,0,0,0,0,0,0,0,0,0,0,0,0,0,0,0,0,0,0,0,0,0,0,0,0,0,0,0,0,0,0,0,0,0,0,0,0,0,0,0,0,0,0,0,0,0,0,0,0,0,0,0,0,0,0,0,0,0,0,0,0,0,0,0,0,0,0,0,0,0,0,0,0,0,0,0,0,0,0,0,0,0,0,0,0,0,0,0,0,0,0,0,0,0,0,0,0,0,0,0,0,0,0,0,0,0,0,0,0,0,0,0,0,0,0,0,0,0,0,0,0,0,0]
[10,{"$error":"#N/A"},{"$error":"#N/A"},0,{"$f":"IF(D42=0,IF(SUM(D43:$D$46)=0,\"\",E43),D42)","v":""},0,0,0,0,0,0,0,0,0,0,0,0,0,0,0,0,0,0,0,0,0,0,0,0,0,0,0,0,0,0,0,0,0,0,0,0,0,0,0,0,0,0,0,0,0,0,0,0,0,0,0,0,0,0,0,0,0,0,0,0,0,0,0,0,0,0,0,0,0,0,0,0,0,0,0,0,0,0,0,0,0,0,0,0,0,0,0,0,0,0,0,0,0,0,0,0,0,0,0,0,0,0,0,0,0,0,0,0,0,0,0,0,0,0,0,0,0,0,0,0,0,0,0,0,0,0,0,0,0,0,0,0,0,0,0,0,0,0,0,0,0,0,0,0,0,0,0,0,0,0,0,0,0,0,0,0,0,0,0,0,0,0,0,0,0,0,0,0,0,0,0,0,0,0,0,0,0,0,0,0,0,0,0,0,0,0,0,0,0,0,0,0,0,0,0,0,0,0,0,0,0,0,0,0,0,0,0,0,0,0,0,0,0,0,0,0,0,0,0,0,0,0,0,0,0,0,0,0,0,0,0,0,0,0,0,0,0,0,0,0,0,0,0,0,0,0,0,0,0,0,0,0,0,0,0,0,0,0,0,0,0,0,0,0,0,0,0,0,0,0,0,0,0,0,0,0,0,0,0,0,0,0,0,0,0,0,0,0,0,0,0,0,0,0,0,0,0,0,0,0,0,0,0,0,0,0,0,0,0,0,0,0,0,0,0,0,0,0,0,0,0,0,0,0,0,0,0,0,0,0,0,0,0,0,0,0,0,0,0,0,0,0,0,0,0,0,0,0,0,0,0,0,0,0,0,0,0,0,0,0,0,0,0,0,0,0,0,0,0,0,0,0,0,0,0,0,0,0,0,0,0,0,0,0,0,0,0,0,0,0,0,0,0,0,0,0,0,0,0,0,0,0,0,0,0,0,0,0,0,0,0,0,0,0,0,0,0,0,0,0,0,0,0,0,0,0,0,0,0,0,0,0,0,0,0,0,0,0,0,0,0,0,0,0,0,0,0,0,0,0,0,0,0,0,0,0,0,0,0,0,0,0,0,0,0,0,0,0,0,0,0,0,0,0,0,0,0,0,0,0,0,0,0,0,0,0,0,0,0,0,0,0,0,0,0,0,0,0,0,0,0,0,0,0,0,0,0,0,0,0,0,0,0,0,0,0,0,0,0,0,0,0,0,0,0,0,0,0,0,0,0,0,0,0,0,0,0,0,0,0,0,0,0,0,0,0,0,0,0,0,0,0,0,0,0,0,0,0,0,0,0,0,0,0,0,0,0,0,0,0,0,0,0,0,0,0,0,0,0,0,0,0,0,0,0,0,0,0,0,0,0,0,0,0,0,0,0,0,0,0,0,0,0,0,0,0,0,0,0,0,0,0,0,0,0,0,0,0,0,0,0,0,0,0,0,0,0,0,0,0,0,0,0,0,0,0,0,0,0,0,0,0,0,0,0,0,0,0,0,0,0,0,0,0,0,0,0,0,0,0,0,0,0,0,0,0,0,0,0,0,0,0,0,0,0,0,0,0,0,0,0,0,0,0,0,0,0,0,0,0,0,0,0,0,0,0,0,0,0,0,0,0,0,0,0,0,0,0,0,0,0,0,0,0,0,0,0,0,0,0,0,0,0,0,0,0,0,0,0,0,0,0,0,0,0,0,0,0,0,0,0,0,0,0,0,0,0,0,0,0,0,0,0,0,0,0,0,0,0,0,0,0,0,0,0,0,0,0,0,0,0,0,0,0,0,0,0,0,0,0,0,0,0,0,0,0,0,0,0,0,0,0,0,0,0,0,0,0,0,0,0,0,0,0,0,0,0,0,0,0,0,0,0,0,0,0,0,0,0,0,0,0,0,0,0,0,0,0,0,0,0,0,0,0,0,0,0,0,0,0,0,0,0,0,0,0,0,0,0,0,0,0,0,0,0,0,0,0,0,0,0,0,0,0,0,0,0,0,0,0,0,0,0,0,0,0,0,0,0,0,0,0,0,0,0,0,0,0,0,0,0,0,0,0,0,0,0,0,0,0,0,0,0,0,0,0,0,0,0,0,0,0,0,0,0,0,0,0,0,0,0,0,0,0,0,0,0,0,0,0,0,0,0,0,0,0,0,0,0,0,0,0,0,0,0,0,0,0,0,0,0,0,0,0,0,0,0,0,0,0,0,0,0,0,0,0,0,0,0,0,0,0,0,0,0,0,0,0,0,0,0,0,0,0,0,0,0,0,0,0,0,0,0,0,0,0,0,0,0,0]
[11,{"$error":"#N/A"},{"$error":"#N/A"},0,{"$f":"IF(D43=0,IF(SUM(D44:$D$46)=0,\"\",E44),D43)","v":""},0,0,0,0,0,0,0,0,0,0,0,0,0,0,0,0,0,0,0,0,0,0,0,0,0,0,0,0,0,0,0,0,0,0,0,0,0,0,0,0,0,0,0,0,0,0,0,0,0,0,0,0,0,0,0,0,0,0,0,0,0,0,0,0,0,0,0,0,0,0,0,0,0,0,0,0,0,0,0,0,0,0,0,0,0,0,0,0,0,0,0,0,0,0,0,0,0,0,0,0,0,0,0,0,0,0,0,0,0,0,0,0,0,0,0,0,0,0,0,0,0,0,0,0,0,0,0,0,0,0,0,0,0,0,0,0,0,0,0,0,0,0,0,0,0,0,0,0,0,0,0,0,0,0,0,0,0,0,0,0,0,0,0,0,0,0,0,0,0,0,0,0,0,0,0,0,0,0,0,0,0,0,0,0,0,0,0,0,0,0,0,0,0,0,0,0,0,0,0,0,0,0,0,0,0,0,0,0,0,0,0,0,0,0,0,0,0,0,0,0,0,0,0,0,0,0,0,0,0,0,0,0,0,0,0,0,0,0,0,0,0,0,0,0,0,0,0,0,0,0,0,0,0,0,0,0,0,0,0,0,0,0,0,0,0,0,0,0,0,0,0,0,0,0,0,0,0,0,0,0,0,0,0,0,0,0,0,0,0,0,0,0,0,0,0,0,0,0,0,0,0,0,0,0,0,0,0,0,0,0,0,0,0,0,0,0,0,0,0,0,0,0,0,0,0,0,0,0,0,0,0,0,0,0,0,0,0,0,0,0,0,0,0,0,0,0,0,0,0,0,0,0,0,0,0,0,0,0,0,0,0,0,0,0,0,0,0,0,0,0,0,0,0,0,0,0,0,0,0,0,0,0,0,0,0,0,0,0,0,0,0,0,0,0,0,0,0,0,0,0,0,0,0,0,0,0,0,0,0,0,0,0,0,0,0,0,0,0,0,0,0,0,0,0,0,0,0,0,0,0,0,0,0,0,0,0,0,0,0,0,0,0,0,0,0,0,0,0,0,0,0,0,0,0,0,0,0,0,0,0,0,0,0,0,0,0,0,0,0,0,0,0,0,0,0,0,0,0,0,0,0,0,0,0,0,0,0,0,0,0,0,0,0,0,0,0,0,0,0,0,0,0,0,0,0,0,0,0,0,0,0,0,0,0,0,0,0,0,0,0,0,0,0,0,0,0,0,0,0,0,0,0,0,0,0,0,0,0,0,0,0,0,0,0,0,0,0,0,0,0,0,0,0,0,0,0,0,0,0,0,0,0,0,0,0,0,0,0,0,0,0,0,0,0,0,0,0,0,0,0,0,0,0,0,0,0,0,0,0,0,0,0,0,0,0,0,0,0,0,0,0,0,0,0,0,0,0,0,0,0,0,0,0,0,0,0,0,0,0,0,0,0,0,0,0,0,0,0,0,0,0,0,0,0,0,0,0,0,0,0,0,0,0,0,0,0,0,0,0,0,0,0,0,0,0,0,0,0,0,0,0,0,0,0,0,0,0,0,0,0,0,0,0,0,0,0,0,0,0,0,0,0,0,0,0,0,0,0,0,0,0,0,0,0,0,0,0,0,0,0,0,0,0,0,0,0,0,0,0,0,0,0,0,0,0,0,0,0,0,0,0,0,0,0,0,0,0,0,0,0,0,0,0,0,0,0,0,0,0,0,0,0,0,0,0,0,0,0,0,0,0,0,0,0,0,0,0,0,0,0,0,0,0,0,0,0,0,0,0,0,0,0,0,0,0,0,0,0,0,0,0,0,0,0,0,0,0,0,0,0,0,0,0,0,0,0,0,0,0,0,0,0,0,0,0,0,0,0,0,0,0,0,0,0,0,0,0,0,0,0,0,0,0,0,0,0,0,0,0,0,0,0,0,0,0,0,0,0,0,0,0,0,0,0,0,0,0,0,0,0,0,0,0,0,0,0,0,0,0,0,0,0,0,0,0,0,0,0,0,0,0,0,0,0,0,0,0,0,0,0,0,0,0,0,0,0,0,0,0,0,0,0,0,0,0,0,0,0,0,0,0,0,0,0,0,0,0,0,0,0,0,0,0,0,0,0,0,0,0,0,0,0,0,0,0,0,0,0,0,0,0,0,0,0,0,0,0,0,0,0,0,0,0,0,0,0,0,0,0,0,0,0,0,0,0,0,0,0,0,0,0,0,0,0,0,0,0,0,0,0,0,0,0,0,0,0,0,0,0,0,0,0,0,0,0,0,0,0,0,0,0,0,0,0,0,0,0,0,0,0]
[12,{"$error":"#N/A"},{"$error":"#N/A"},0,{"$f":"IF(D44=0,IF(SUM(D45:$D$46)=0,\"\",E45),D44)","v":""}]
[13,{"$error":"#N/A"},{"$error":"#N/A"},0,{"$f":"IF(D45=0,IF(SUM(D46:$D$46)=0,\"\",E46),D45)","v":""},"Common Factors"]
[14,{"$error":"#N/A"},{"$error":"#N/A"},0,{"$f":"IF(D46=0,IF(SUM(D$46:$D47)=0,\"\",E47),D46)","v":""},2,3,5,7,11,13,17,19,23,29,31,37,41,43,47,53,59,61,67,71,73,79,83,89,97,101,103,107,109,113,127,131,137,139,149,151,157,163,167,173,179,181,191,193,197,199,211,223,227,229,233,239,241,251,257,263,269,271,277,281,283,293,307,311,313,317,331,337,347,349,353,359,367,373,379,383,389,397,401,409,419,421,431,433,439,443,449,457,461,463,467,479,487,491,499,503,509,521,523,541,547,557,563,569,571,577,587,593,599,601,607,613,617,619,631,641,643,647,653,659,661,673,677,683,691,701,709,719,727,733,739,743,751,757,761,769,773,787,797,809,811,821,823,827,829,839,853,857,859,863,877,881,883,887,907,911,919,929,937,941,947,953,967,971,977,983,991,997,1009,1013,1019,1021,1031,1033,1039,1049,1051,1061,1063,1069,1087,1091,1093,1097,1103,1109,1117,1123,1129,1151,1153,1163,1171,1181,1187,1193,1201,1213,1217,1223,1229,1231,1237,1249,1259,1277,1279,1283,1289,1291,1297,1301,1303,1307,1319,1321,1327,1361,1367,1373,1381,1399,1409,1423,1427,1429,1433,1439,1447,1451,1453,1459,1471,1481,1483,1487,1489,1493,1499,1511,1523,1531,1543,1549,1553,1559,1567,1571,1579,1583,1597,1601,1607,1609,1613,1619,1621,1627,1637,1657,1663,1667,1669,1693,1697,1699,1709,1721,1723,1733,1741,1747,1753,1759,1777,1783,1787,1789,1801,1811,1823,1831,1847,1861,1867,1871,1873,1877,1879,1889,1901,1907,1913,1931,1933,1949,1951,1973,1979,1987,1993,1997,1999,2003,2011,2017,2027,2029,2039,2053,2063,2069,2081,2083,2087,2089,2099,2111,2113,2129,2131,2137,2141,2143,2153,2161,2179,2203,2207,2213,2221,2237,2239,2243,2251,2267,2269,2273,2281,2287,2293,2297,2309,2311,2333,2339,2341,2347,2351,2357,2371,2377,2381,2383,2389,2393,2399,2411,2417,2423,2437,2441,2447,2459,2467,2473,2477,2503,2521,2531,2539,2543,2549,2551,2557,2579,2591,2593,2609,2617,2621,2633,2647,2657,2659,2663,2671,2677,2683,2687,2689,2693,2699,2707,2711,2713,2719,2729,2731,2741,2749,2753,2767,2777,2789,2791,2797,2801,2803,2819,2833,2837,2843,2851,2857,2861,2879,2887,2897,2903,2909,2917,2927,2939,2953,2957,2963,2969,2971,2999,3001,3011,3019,3023,3037,3041,3049,3061,3067,3079,3083,3089,3109,3119,3121,3137,3163,3167,3169,3181,3187,3191,3203,3209,3217,3221,3229,3251,3253,3257,3259,3271,3299,3301,3307,3313,3319,3323,3329,3331,3343,3347,3359,3361,3371,3373,3389,3391,3407,3413,3433,3449,3457,3461,3463,3467,3469,3491,3499,3511,3517,3527,3529,3533,3539,3541,3547,3557,3559,3571,3581,3583,3593,3607,3613,3617,3623,3631,3637,3643,3659,3671,3673,3677,3691,3697,3701,3709,3719,3727,3733,3739,3761,3767,3769,3779,3793,3797,3803,3821,3823,3833,3847,3851,3853,3863,3877,3881,3889,3907,3911,3917,3919,3923,3929,3931,3943,3947,3967,3989,4001,4003,4007,4013,4019,4021,4027,4049,4051,4057,4073,4079,4091,4093,4099,4111,4127,4129,4133,4139,4153,4157,4159,4177,4201,4211,4217,4219,4229,4231,4241,4243,4253,4259,4261,4271,4273,4283,4289,4297,4327,4337,4339,4349,4357,4363,4373,4391,4397,4409,4421,4423,4441,4447,4451,4457,4463,4481,4483,4493,4507,4513,4517,4519,4523,4547,4549,4561,4567,4583,4591,4597,4603,4621,4637,4639,4643,4649,4651,4657,4663,4673,4679,4691,4703,4721,4723,4729,4733,4751,4759,4783,4787,4789,4793,4799,4801,4813,4817,4831,4861,4871,4877,4889,4903,4909,4919,4931,4933,4937,4943,4951,4957,4967,4969,4973,4987,4993,4999,5003,5009,5011,5021,5023,5039,5051,5059,5077,5081,5087,5099,5101,5107,5113,5119,5147,5153,5167,5171,5179,5189,5197,5209,5227,5231,5233,5237,5261,5273,5279,5281,5297,5303,5309,5323,5333,5347,5351,5381,5387,5393,5399,5407,5413,5417,5419,5431,5437,5441,5443,5449,5471,5477,5479,5483,5501,5503,5507,5519,5521,5527,5531,5557,5563,5569,5573,5581,5591,5623,5639,5641,5647,5651,5653,5657,5659,5669,5683,5689,5693,5701,5711,5717,5737,5741,5743,5749,5779,5783,5791,5801,5807,5813,5821,5827,5839,5843,5849,5851,5857,5861,5867,5869,5879,5881,5897,5903,5923,5927,5939,5953,5981,5987,6007,6011,6029,6037,6043,6047,6053,6067,6073,6079,6089,6091,6101,6113,6121,6131,6133,6143,6151,6163,6173,6197,6199,6203,6211,6217,6221,6229,6247,6257,6263,6269,6271,6277,6287,6299,6301,6311,6317,6323,6329,6337,6343,6353,6359,6361,6367,6373,6379,6389,6397,6421,6427,6449,6451,6469,6473,6481,6491,6521,6529,6547,6551,6553,6563,6569,6571,6577,6581,6599,6607,6619,6637,6653,6659,6661,6673,6679,6689,6691,6701,6703,6709,6719,6733,6737,6761,6763,6779,6781,6791,6793,6803,6823,6827,6829,6833,6841,6857,6863,6869,6871,6883,6899,6907,6911,6917,6947,6949,6959,6961,6967,6971,6977,6983,6991,6997,7001,7013,7019,7027,7039,7043,7057,7069,7079,7103,7109,7121,7127,7129,7151,7159,7177,7187,7193,7207,7211,7213,7219,7229,7237,7243,7247,7253,7283,7297,7307,7309,7321,7331,7333,7349,7351,7369,7393,7411,7417,7433,7451,7457,7459,7477,7481,7487,7489,7499,7507,7517,7523,7529,7537,7541,7547,7549,7559,7561,7573,7577,7583,7589,7591,7603,7607,7621,7639,7643,7649,7669,7673,7681,7687,7691,7699,7703,7717,7723,7727,7741,7753,7757,7759,7789,7793,7817,7823,7829,7841,7853,7867,7873,7877,7879,7883,7901,7907,7919]
[null,null,null,null,null,{"$f":"MIN(F28,F5)","v":0},2,0,0,0,0,0,0,0,0,0,0,0,0,0,0,0,0,0,0,0,0,0,0,0,0,0,0,0,0,0,0,0,0,0,0,0,0,0,0,0,0,0,0,0,0,0,0,0,0,0,0,0,0,0,0,0,0,0,0,0,0,0,0,{"$f":"MIN(BR28,BR5)","v":0},0,0,0,0,0,0,0,0,0,0,0,0,0,0,0,0,0,0,0,0,0,0,0,0,0,0,0,0,0,0,0,0,0,0,0,0,0,0,0,0,0,0,0,0,0,0,0,0,0,0,0,0,0,0,0,0,0,0,0,0,0,0,0,{"$f":"MIN(ED28,ED5)","v":0},0,0,0,0,0,0,0,0,0,0,0,0,0,0,0,0,0,0,0,0,0,0,0,0,0,0,0,0,0,0,0,0,0,0,0,0,0,0,0,0,0,0,0,0,0,0,0,0,0,0,0,0,0,0,0,0,0,0,0,0,0,0,0,{"$f":"MIN(GP28,GP5)","v":0},0,0,0,0,0,0,0,0,0,0,0,0,0,0,0,0,0,0,0,0,0,0,0,0,0,0,0,0,0,0,0,0,0,0,0,0,0,0,0,0,0,0,0,0,0,0,0,0,0,0,0,0,0,0,0,0,0,0,0,0,0,0,0,{"$f":"MIN(JB28,JB5)","v":0},0,0,0,0,0,0,0,0,0,0,0,0,0,0,0,0,0,0,0,0,0,0,0,0,0,0,0,0,0,0,0,0,0,0,0,0,0,0,0,0,0,0,0,0,0,0,0,0,0,0,0,0,0,0,0,0,0,0,0,0,0,0,0,{"$f":"MIN(LN28,LN5)","v":0},0,0,0,0,0,0,0,0,0,0,0,0,0,0,0,0,0,0,0,0,0,0,0,0,0,0,0,0,0,0,0,0,0,0,0,0,0,0,0,0,0,0,0,0,0,0,0,0,0,0,0,0,0,0,0,0,0,0,0,0,0,0,0,{"$f":"MIN(NZ28,NZ5)","v":0},0,0,0,0,0,0,0,0,0,0,0,0,0,0,0,0,0,0,0,0,0,0,0,0,0,0,0,0,0,0,0,0,0,0,0,0,0,0,0,0,0,0,0,0,0,0,0,0,0,0,0,0,0,0,0,0,0,0,0,0,0,0,0,{"$f":"MIN(QL28,QL5)","v":0},0,0,0,0,0,0,0,0,0,0,0,0,0,0,0,0,0,0,0,0,0,0,0,0,0,0,0,0,0,0,0,0,0,0,0,0,0,0,0,0,0,0,0,0,0,0,0,0,0,0,0,0,0,0,0,0,0,0,0,0,0,0,0,{"$f":"MIN(SX28,SX5)","v":0},0,0,0,0,0,0,0,0,0,0,0,0,0,0,0,0,0,0,0,0,0,0,0,0,0,0,0,0,0,0,0,0,0,0,0,0,0,0,0,0,0,0,0,0,0,0,0,0,0,0,0,0,0,0,0,0,0,0,0,0,0,0,0,{"$f":"MIN(VJ28,VJ5)","v":0},0,0,0,0,0,0,0,0,0,0,0,0,0,0,0,0,0,0,0,0,0,0,0,0,0,0,0,0,0,0,0,0,0,0,0,0,0,0,0,0,0,0,0,0,0,0,0,0,0,0,0,0,0,0,0,0,0,0,0,0,0,0,0,{"$f":"MIN(XV28,XV5)","v":0},0,0,0,0,0,0,0,0,0,0,0,0,0,0,0,0,0,0,0,0,0,0,0,0,0,0,0,0,0,0,0,0,0,0,0,0,0,0,0,0,0,0,0,0,0,0,0,0,0,0,0,0,0,0,0,0,0,0,0,0,0,0,0,{"$f":"MIN(AAH28,AAH5)","v":0},0,0,0,0,0,0,0,0,0,0,0,0,0,0,0,0,0,0,0,0,0,0,0,0,0,0,0,0,0,0,0,0,0,0,0,0,0,0,0,0,0,0,0,0,0,0,0,0,0,0,0,0,0,0,0,0,0,0,0,0,0,0,0,{"$f":"MIN(ACT28,ACT5)","v":0},0,0,0,0,0,0,0,0,0,0,0,0,0,0,0,0,0,0,0,0,0,0,0,0,0,0,0,0,0,0,0,0,0,0,0,0,0,0,0,0,0,0,0,0,0,0,0,0,0,0,0,0,0,0,0,0,0,0,0,0,0,0,0,{"$f":"MIN(AFF28,AFF5)","v":0},0,0,0,0,0,0,0,0,0,0,0,0,0,0,0,0,0,0,0,0,0,0,0,0,0,0,0,0,0,0,0,0,0,0,0,0,0,0,0,0,0,0,0,0,0,0,0,0,0,0,0,0,0,0,0,0,0,0,0,0,0,0,0,{"$f":"MIN(AHR28,AHR5)","v":0},0,0,0,0,0,0,0,0,0,0,0,0,0,0,0,0,0,0,0,0,0,0,0,0,0,0,0,0,0,0,0,0,0,0,0,0,0,0,0,0,0,0,0,0,0,0,0,0,0,0,0,0,0,0,0,0,0,0,0,0,0,0,0,{"$f":"MIN(AKD28,AKD5)","v":0},0,0,0,0,0,0,0,0,0,0,0,0,0,0,0,0,0,0,0,0,0,0,0,0,0,0,0,0,0,0,0,0,0,0,0,0,0,0,0]
["HCF:",null,null,null,null,{"$f":"F46^F47","v":1},{"$f":"G46^G47","v":9},1,1,1,1,1,1,1,1,1,1,1,1,1,1,1,1,1,1,1,1,1,1,1,1,1,1,1,1,1,1,1,1,1,1,1,1,1,1,1,1,1,1,1,1,1,1,1,1,1,1,1,1,1,1,1,1,1,1,1,1,1,1,1,{"$f":"BS46^BS47","v":1},1,1,1,1,1,1,1,1,1,1,1,1,1,1,1,1,1,1,1,1,1,1,1,1,1,1,1,1,1,1,1,1,1,1,1,1,1,1,1,1,1,1,1,1,1,1,1,1,1,1,1,1,1,1,1,1,1,1,1,1,1,1,1,{"$f":"EE46^EE47","v":1},1,1,1,1,1,1,1,1,1,1,1,1,1,1,1,1,1,1,1,1,1,1,1,1,1,1,1,1,1,1,1,1,1,1,1,1,1,1,1,1,1,1,1,1,1,1,1,1,1,1,1,1,1,1,1,1,1,1,1,1,1,1,1,{"$f":"GQ46^GQ47","v":1},1,1,1,1,1,1,1,1,1,1,1,1,1,1,1,1,1,1,1,1,1,1,1,1,1,1,1,1,1,1,1,1,1,1,1,1,1,1,1,1,1,1,1,1,1,1,1,1,1,1,1,1,1,1,1,1,1,1,1,1,1,1,1,{"$f":"JC46^JC47","v":1},1,1,1,1,1,1,1,1,1,1,1,1,1,1,1,1,1,1,1,1,1,1,1,1,1,1,1,1,1,1,1,1,1,1,1,1,1,1,1,1,1,1,1,1,1,1,1,1,1,1,1,1,1,1,1,1,1,1,1,1,1,1,1,{"$f":"LO46^LO47","v":1},1,1,1,1,1,1,1,1,1,1,1,1,1,1,1,1,1,1,1,1,1,1,1,1,1,1,1,1,1,1,1,1,1,1,1,1,1,1,1,1,1,1,1,1,1,1,1,1,1,1,1,1,1,1,1,1,1,1,1,1,1,1,1,{"$f":"OA46^OA47","v":1},1,1,1,1,1,1,1,1,1,1,1,1,1,1,1,1,1,1,1,1,1,1,1,1,1,1,1,1,1,1,1,1,1,1,1,1,1,1,1,1,1,1,1,1,1,1,1,1,1,1,1,1,1,1,1,1,1,1,1,1,1,1,1,{"$f":"QM46^QM47","v":1},1,1,1,1,1,1,1,1,1,1,1,1,1,1,1,1,1,1,1,1,1,1,1,1,1,1,1,1,1,1,1,1,1,1,1,1,1,1,1,1,1,1,1,1,1,1,1,1,1,1,1,1,1,1,1,1,1,1,1,1,1,1,1,{"$f":"SY46^SY47","v":1},1,1,1,1,1,1,1,1,1,1,1,1,1,1,1,1,1,1,1,1,1,1,1,1,1,1,1,1,1,1,1,1,1,1,1,1,1,1,1,1,1,1,1,1,1,1,1,1,1,1,1,1,1,1,1,1,1,1,1,1,1,1,1,{"$f":"VK46^VK47","v":1},1,1,1,1,1,1,1,1,1,1,1,1,1,1,1,1,1,1,1,1,1,1,1,1,1,1,1,1,1,1,1,1,1,1,1,1,1,1,1,1,1,1,1,1,1,1,1,1,1,1,1,1,1,1,1,1,1,1,1,1,1,1,1,{"$f":"XW46^XW47","v":1},1,1,1,1,1,1,1,1,1,1,1,1,1,1,1,1,1,1,1,1,1,1,1,1,1,1,1,1,1,1,1,1,1,1,1,1,1,1,1,1,1,1,1,1,1,1,1,1,1,1,1,1,1,1,1,1,1,1,1,1,1,1,1,{"$f":"AAI46^AAI47","v":1},1,1,1,1,1,1,1,1,1,1,1,1,1,1,1,1,1,1,1,1,1,1,1,1,1,1,1,1,1,1,1,1,1,1,1,1,1,1,1,1,1,1,1,1,1,1,1,1,1,1,1,1,1,1,1,1,1,1,1,1,1,1,1,{"$f":"ACU46^ACU47","v":1},1,1,1,1,1,1,1,1,1,1,1,1,1,1,1,1,1,1,1,1,1,1,1,1,1,1,1,1,1,1,1,1,1,1,1,1,1,1,1,1,1,1,1,1,1,1,1,1,1,1,1,1,1,1,1,1,1,1,1,1,1,1,1,{"$f":"AFG46^AFG47","v":1},1,1,1,1,1,1,1,1,1,1,1,1,1,1,1,1,1,1,1,1,1,1,1,1,1,1,1,1,1,1,1,1,1,1,1,1,1,1,1,1,1,1,1,1,1,1,1,1,1,1,1,1,1,1,1,1,1,1,1,1,1,1,1,{"$f":"AHS46^AHS47","v":1},1,1,1,1,1,1,1,1,1,1,1,1,1,1,1,1,1,1,1,1,1,1,1,1,1,1,1,1,1,1,1,1,1,1,1,1,1,1,1,1,1,1,1,1,1,1,1,1,1,1,1,1,1,1,1,1,1,1,1,1,1,1,1,{"$f":"AKE46^AKE47","v":1},1,1,1,1,1,1,1,1,1,1,1,1,1,1,1,1,1,1,1,1,1,1,1,1,1,1,1,1,1,1,1,1,1,1,1,1,1,1]
[1,{"$f":"MATCH(A49,$F$52:$ALQ$52,0)","v":{"$error":"#N/A"}},{"$f":"LOOKUP(B49,$F$1:$ALQ$1,$F$6:$ALQ$6)","v":{"$error":"#N/A"}},{"$f":"IF(ISERROR(C49),0,C49)","v":0},{"$f":"IF(D49=0,IF(SUM(D50:$D$62)=0,\"\",E50),D49)","v":3},{"$f":"F5-F47","v":2},{"$f":"G5-G47","v":0},1,0,0,0,0,0,0,0,0,0,0,0,0,0,0,0,0,0,0,0,0,0,0,0,0,0,0,0,0,0,0,0,0,0,0,0,0,0,0,0,0,0,0,0,0,0,0,0,0,0,0,0,0,0,0,0,0,0,0,0,0,0,0,{"$f":"BS5-BS47","v":0},0,0,0,0,0,0,0,0,0,0,0,0,0,0,0,0,0,0,0,0,0,0,0,0,0,0,0,0,0,0,0,0,0,0,0,0,0,0,0,0,0,0,0,0,0,0,0,0,0,0,0,0,0,0,0,0,0,0,0,0,0,0,0,{"$f":"EE5-EE47","v":0},0,0,0,0,0,0,0,0,0,0,0,0,0,0,0,0,0,0,0,0,0,0,0,0,0,0,0,0,0,0,0,0,0,0,0,0,0,0,0,0,0,0,0,0,0,0,0,0,0,0,0,0,0,0,0,0,0,0,0,0,0,0,0,{"$f":"GQ5-GQ47","v":0},0,0,0,0,0,0,0,0,0,0,0,0,0,0,0,0,0,0,0,0,0,0,0,0,0,0,0,0,0,0,0,0,0,0,0,0,0,0,0,0,0,0,0,0,0,0,0,0,0,0,0,0,0,0,0,0,0,0,0,0,0,0,0,{"$f":"JC5-JC47","v":0},0,0,0,0,0,0,0,0,0,0,0,0,0,0,0,0,0,0,0,0,0,0,0,0,0,0,0,0,0,0,0,0,0,0,0,0,0,0,0,0,0,0,0,0,0,0,0,0,0,0,0,0,0,0,0,0,0,0,0,0,0,0,0,{"$f":"LO5-LO47","v":0},0,0,0,0,0,0,0,0,0,0,0,0,0,0,0,0,0,0,0,0,0,0,0,0,0,0,0,0,0,0,0,0,0,0,0,0,0,0,0,0,0,0,0,0,0,0,0,0,0,0,0,0,0,0,0,0,0,0,0,0,0,0,0,{"$f":"OA5-OA47","v":0},0,0,0,0,0,0,0,0,0,0,0,0,0,0,0,0,0,0,0,0,0,0,0,0,0,0,0,0,0,0,0,0,0,0,0,0,0,0,0,0,0,0,0,0,0,0,0,0,0,0,0,0,0,0,0,0,0,0,0,0,0,0,0,{"$f":"QM5-QM47","v":0},0,0,0,0,0,0,0,0,0,0,0,0,0,0,0,0,0,0,0,0,0,0,0,0,0,0,0,0,0,0,0,0,0,0,0,0,0,0,0,0,0,0,0,0,0,0,0,0,0,0,0,0,0,0,0,0,0,0,0,0,0,0,0,{"$f":"SY5-SY47","v":0},0,0,0,0,0,0,0,0,0,0,0,0,0,0,0,0,0,0,0,0,0,0,0,0,0,0,0,0,0,0,0,0,0,0,0,0,0,0,0,0,0,0,0,0,0,0,0,0,0,0,0,0,0,0,0,0,0,0,0,0,0,0,0,{"$f":"VK5-VK47","v":0},0,0,0,0,0,0,0,0,0,0,0,0,0,0,0,0,0,0,0,0,0,0,0,0,0,0,0,0,0,0,0,0,0,0,0,0,0,0,0,0,0,0,0,0,0,0,0,0,0,0,0,0,0,0,0,0,0,0,0,0,0,0,0,{"$f":"XW5-XW47","v":0},0,0,0,0,0,0,0,0,0,0,0,0,0,0,0,0,0,0,0,0,0,0,0,0,0,0,0,0,0,0,0,0,0,0,0,0,0,0,0,0,0,0,0,0,0,0,0,0,0,0,0,0,0,0,0,0,0,0,0,0,0,0,0,{"$f":"AAI5-AAI47","v":0},0,0,0,0,0,0,0,0,0,0,0,0,0,0,0,0,0,0,0,0,0,0,0,0,0,0,0,0,0,0,0,0,0,0,0,0,0,0,0,0,0,0,0,0,0,0,0,0,0,0,0,0,0,0,0,0,0,0,0,0,0,0,0,{"$f":"ACU5-ACU47","v":0},0,0,0,0,0,0,0,0,0,0,0,0,0,0,0,0,0,0,0,0,0,0,0,0,0,0,0,0,0,0,0,0,0,0,0,0,0,0,0,0,0,0,0,0,0,0,0,0,0,0,0,0,0,0,0,0,0,0,0,0,0,0,0,{"$f":"AFG5-AFG47","v":0},0,0,0,0,0,0,0,0,0,0,0,0,0,0,0,0,0,0,0,0,0,0,0,0,0,0,0,0,0,0,0,0,0,0,0,0,0,0,0,0,0,0,0,0,0,0,0,0,0,0,0,0,0,0,0,0,0,0,0,0,0,0,0,{"$f":"AHS5-AHS47","v":0},0,0,0,0,0,0,0,0,0,0,0,0,0,0,0,0,0,0,0,0,0,0,0,0,0,0,0,0,0,0,0,0,0,0,0,0,0,0,0,0,0,0,0,0,0,0,0,0,0,0,0,0,0,0,0,0,0,0,0,0,0,0,0,{"$f":"AKE5-AKE47","v":0},0,0,0,0,0,0,0,0,0,0,0,0,0,0,0,0,0,0,0,0,0,0,0,0,0,0,0,0,0,0,0,0,0,0,0,0,0,0]
[2,{"$f":"MATCH(A50,$F$52:$ALQ$52,0)","v":2},{"$f":"LOOKUP(B50,$F$1:$ALQ$1,$F$6:$ALQ$6)","v":3},{"$f":"IF(ISERROR(C50),0,C50)","v":3},{"$f":"IF(D50=0,IF(SUM(D51:$D$62)=0,\"\",E51),D50)","v":3},{"$f":"F28-F47","v":0},{"$f":"G28-G47","v":0},0,0,0,0,0,0,0,0,0,0,0,0,1,0,0,0,0,0,0,0,0,0,0,0,0,0,0,0,0,0,0,0,0,0,0,0,0,0,0,0,0,0,0,0,0,0,0,0,0,0,0,0,0,0,0,0,0,0,0,0,0,0,0,{"$f":"BS28-BS47","v":0},0,0,0,0,0,0,0,0,0,0,0,0,0,0,0,0,0,0,0,0,0,0,0,0,0,0,0,0,0,0,0,0,0,0,0,0,0,0,0,0,0,0,0,0,0,0,0,0,0,0,0,0,0,0,0,0,0,0,0,0,0,0,0,{"$f":"EE28-EE47","v":0},0,0,0,0,0,0,0,0,0,0,0,0,0,0,0,0,0,0,0,0,0,0,0,0,0,0,0,0,0,0,0,0,0,0,0,0,0,0,0,0,0,0,0,0,0,0,0,0,0,0,0,0,0,0,0,0,0,0,0,0,0,0,0,{"$f":"GQ28-GQ47","v":0},0,0,0,0,0,0,0,0,0,0,0,0,0,0,0,0,0,0,0,0,0,0,0,0,0,0,0,0,0,0,0,0,0,0,0,0,0,0,0,0,0,0,0,0,0,0,0,0,0,0,0,0,0,0,0,0,0,0,0,0,0,0,0,{"$f":"JC28-JC47","v":0},0,0,0,0,0,0,0,0,0,0,0,0,0,0,0,0,0,0,0,0,0,0,0,0,0,0,0,0,0,0,0,0,0,0,0,0,0,0,0,0,0,0,0,0,0,0,0,0,0,0,0,0,0,0,0,0,0,0,0,0,0,0,0,{"$f":"LO28-LO47","v":0},0,0,0,0,0,0,0,0,0,0,0,0,0,0,0,0,0,0,0,0,0,0,0,0,0,0,0,0,0,0,0,0,0,0,0,0,0,0,0,0,0,0,0,0,0,0,0,0,0,0,0,0,0,0,0,0,0,0,0,0,0,0,0,{"$f":"OA28-OA47","v":0},0,0,0,0,0,0,0,0,0,0,0,0,0,0,0,0,0,0,0,0,0,0,0,0,0,0,0,0,0,0,0,0,0,0,0,0,0,0,0,0,0,0,0,0,0,0,0,0,0,0,0,0,0,0,0,0,0,0,0,0,0,0,0,{"$f":"QM28-QM47","v":0},0,0,0,0,0,0,0,0,0,0,0,0,0,0,0,0,0,0,0,0,0,0,0,0,0,0,0,0,0,0,0,0,0,0,0,0,0,0,0,0,0,0,0,0,0,0,0,0,0,0,0,0,0,0,0,0,0,0,0,0,0,0,0,{"$f":"SY28-SY47","v":0},0,0,0,0,0,0,0,0,0,0,0,0,0,0,0,0,0,0,0,0,0,0,0,0,0,0,0,0,0,0,0,0,0,0,0,0,0,0,0,0,0,0,0,0,0,0,0,0,0,0,0,0,0,0,0,0,0,0,0,0,0,0,0,{"$f":"VK28-VK47","v":0},0,0,0,0,0,0,0,0,0,0,0,0,0,0,0,0,0,0,0,0,0,0,0,0,0,0,0,0,0,0,0,0,0,0,0,0,0,0,0,0,0,0,0,0,0,0,0,0,0,0,0,0,0,0,0,0,0,0,0,0,0,0,0,{"$f":"XW28-XW47","v":0},0,0,0,0,0,0,0,0,0,0,0,0,0,0,0,0,0,0,0,0,0,0,0,0,0,0,0,0,0,0,0,0,0,0,0,0,0,0,0,0,0,0,0,0,0,0,0,0,0,0,0,0,0,0,0,0,0,0,0,0,0,0,0,{"$f":"AAI28-AAI47","v":0},0,0,0,0,0,0,0,0,0,0,0,0,0,0,0,0,0,0,0,0,0,0,0,0,0,0,0,0,0,0,0,0,0,0,0,0,0,0,0,0,0,0,0,0,0,0,0,0,0,0,0,0,0,0,0,0,0,0,0,0,0,0,0,{"$f":"ACU28-ACU47","v":0},0,0,0,0,0,0,0,0,0,0,0,0,0,0,0,0,0,0,0,0,0,0,0,0,0,0,0,0,0,0,0,0,0,0,0,0,0,0,0,0,0,0,0,0,0,0,0,0,0,0,0,0,0,0,0,0,0,0,0,0,0,0,0,{"$f":"AFG28-AFG47","v":0},0,0,0,0,0,0,0,0,0,0,0,0,0,0,0,0,0,0,0,0,0,0,0,0,0,0,0,0,0,0,0,0,0,0,0,0,0,0,0,0,0,0,0,0,0,0,0,0,0,0,0,0,0,0,0,0,0,0,0,0,0,0,0,{"$f":"AHS28-AHS47","v":0},0,0,0,0,0,0,0,0,0,0,0,0,0,0,0,0,0,0,0,0,0,0,0,0,0,0,0,0,0,0,0,0,0,0,0,0,0,0,0,0,0,0,0,0,0,0,0,0,0,0,0,0,0,0,0,0,0,0,0,0,0,0,0,{"$f":"AKE28-AKE47","v":0},0,0,0,0,0,0,0,0,0,0,0,0,0,0,0,0,0,0,0,0,0,0,0,0,0,0,0,0,0,0,0,0,0,0,0,0,0,0]
[3,{"$error":"#N/A"},{"$error":"#N/A"},0,{"$f":"IF(D51=0,IF(SUM(D52:$D$62)=0,\"\",E52),D51)","v":""},{"$f":"F5","v":2},2,1,0,0,0,0,0,0,0,0,0,0,0,0,0,0,0,0,0,0,0,0,0,0,0,0,0,0,0,0,0,0,0,0,0,0,0,0,0,0,0,0,0,0,0,0,0,0,0,0,0,0,0,0,0,0,0,0,0,0,0,0,0,{"$f":"BR5","v":0},0,0,0,0,0,0,0,0,0,0,0,0,0,0,0,0,0,0,0,0,0,0,0,0,0,0,0,0,0,0,0,0,0,0,0,0,0,0,0,0,0,0,0,0,0,0,0,0,0,0,0,0,0,0,0,0,0,0,0,0,0,0,0,{"$f":"ED5","v":0},0,0,0,0,0,0,0,0,0,0,0,0,0,0,0,0,0,0,0,0,0,0,0,0,0,0,0,0,0,0,0,0,0,0,0,0,0,0,0,0,0,0,0,0,0,0,0,0,0,0,0,0,0,0,0,0,0,0,0,0,0,0,0,{"$f":"GP5","v":0},0,0,0,0,0,0,0,0,0,0,0,0,0,0,0,0,0,0,0,0,0,0,0,0,0,0,0,0,0,0,0,0,0,0,0,0,0,0,0,0,0,0,0,0,0,0,0,0,0,0,0,0,0,0,0,0,0,0,0,0,0,0,0,{"$f":"JB5","v":0},0,0,0,0,0,0,0,0,0,0,0,0,0,0,0,0,0,0,0,0,0,0,0,0,0,0,0,0,0,0,0,0,0,0,0,0,0,0,0,0,0,0,0,0,0,0,0,0,0,0,0,0,0,0,0,0,0,0,0,0,0,0,0,{"$f":"LN5","v":0},0,0,0,0,0,0,0,0,0,0,0,0,0,0,0,0,0,0,0,0,0,0,0,0,0,0,0,0,0,0,0,0,0,0,0,0,0,0,0,0,0,0,0,0,0,0,0,0,0,0,0,0,0,0,0,0,0,0,0,0,0,0,0,{"$f":"NZ5","v":0},0,0,0,0,0,0,0,0,0,0,0,0,0,0,0,0,0,0,0,0,0,0,0,0,0,0,0,0,0,0,0,0,0,0,0,0,0,0,0,0,0,0,0,0,0,0,0,0,0,0,0,0,0,0,0,0,0,0,0,0,0,0,0,{"$f":"QL5","v":0},0,0,0,0,0,0,0,0,0,0,0,0,0,0,0,0,0,0,0,0,0,0,0,0,0,0,0,0,0,0,0,0,0,0,0,0,0,0,0,0,0,0,0,0,0,0,0,0,0,0,0,0,0,0,0,0,0,0,0,0,0,0,0,{"$f":"SX5","v":0},0,0,0,0,0,0,0,0,0,0,0,0,0,0,0,0,0,0,0,0,0,0,0,0,0,0,0,0,0,0,0,0,0,0,0,0,0,0,0,0,0,0,0,0,0,0,0,0,0,0,0,0,0,0,0,0,0,0,0,0,0,0,0,{"$f":"VJ5","v":0},0,0,0,0,0,0,0,0,0,0,0,0,0,0,0,0,0,0,0,0,0,0,0,0,0,0,0,0,0,0,0,0,0,0,0,0,0,0,0,0,0,0,0,0,0,0,0,0,0,0,0,0,0,0,0,0,0,0,0,0,0,0,0,{"$f":"XV5","v":0},0,0,0,0,0,0,0,0,0,0,0,0,0,0,0,0,0,0,0,0,0,0,0,0,0,0,0,0,0,0,0,0,0,0,0,0,0,0,0,0,0,0,0,0,0,0,0,0,0,0,0,0,0,0,0,0,0,0,0,0,0,0,0,{"$f":"AAH5","v":0},0,0,0,0,0,0,0,0,0,0,0,0,0,0,0,0,0,0,0,0,0,0,0,0,0,0,0,0,0,0,0,0,0,0,0,0,0,0,0,0,0,0,0,0,0,0,0,0,0,0,0,0,0,0,0,0,0,0,0,0,0,0,0,{"$f":"ACT5","v":0},0,0,0,0,0,0,0,0,0,0,0,0,0,0,0,0,0,0,0,0,0,0,0,0,0,0,0,0,0,0,0,0,0,0,0,0,0,0,0,0,0,0,0,0,0,0,0,0,0,0,0,0,0,0,0,0,0,0,0,0,0,0,0,{"$f":"AFF5","v":0},0,0,0,0,0,0,0,0,0,0,0,0,0,0,0,0,0,0,0,0,0,0,0,0,0,0,0,0,0,0,0,0,0,0,0,0,0,0,0,0,0,0,0,0,0,0,0,0,0,0,0,0,0,0,0,0,0,0,0,0,0,0,0,{"$f":"AHR5","v":0},0,0,0,0,0,0,0,0,0,0,0,0,0,0,0,0,0,0,0,0,0,0,0,0,0,0,0,0,0,0,0,0,0,0,0,0,0,0,0,0,0,0,0,0,0,0,0,0,0,0,0,0,0,0,0,0,0,0,0,0,0,0,0,{"$f":"AKD5","v":0},0,0,0,0,0,0,0,0,0,0,0,0,0,0,0,0,0,0,0,0,0,0,0,0,0,0,0,0,0,0,0,0,0,0,0,0,0,0,0]
[4,{"$error":"#N/A"},{"$error":"#N/A"},0,{"$f":"IF(D52=0,IF(SUM(D53:$D$62)=0,\"\",E53),D52)","v":""},{"$f":"SUM($F47:F47)","v":0},{"$f":"SUM($F$47:G47)","v":2},{"$f":"SUM($F$47:H47)","v":2},{"$f":"SUM($F$47:I47)","v":2},{"$f":"SUM($F$47:J47)","v":2},{"$f":"SUM($F$47:K47)","v":2},{"$f":"SUM($F$47:L47)","v":2},{"$f":"SUM($F$47:M47)","v":2},{"$f":"SUM($F$47:N47)","v":2},{"$f":"SUM($F$47:O47)","v":2},{"$f":"SUM($F$47:P47)","v":2},{"$f":"SUM($F$47:Q47)","v":2},{"$f":"SUM($F$47:R47)","v":2},{"$f":"SUM($F$47:S47)","v":2},{"$f":"SUM($F$47:T47)","v":2},{"$f":"SUM($F$47:U47)","v":2},{"$f":"SUM($F$47:V47)","v":2},{"$f":"SUM($F$47:W47)","v":2},{"$f":"SUM($F$47:X47)","v":2},{"$f":"SUM($F$47:Y47)","v":2},{"$f":"SUM($F$47:Z47)","v":2},{"$f":"SUM($F$47:AA47)","v":2},{"$f":"SUM($F$47:AB47)","v":2},{"$f":"SUM($F$47:AC47)","v":2},{"$f":"SUM($F$47:AD47)","v":2},{"$f":"SUM($F$47:AE47)","v":2},{"$f":"SUM($F$47:AF47)","v":2},{"$f":"SUM($F$47:AG47)","v":2},{"$f":"SUM($F$47:AH47)","v":2},{"$f":"SUM($F$47:AI47)","v":2},{"$f":"SUM($F$47:AJ47)","v":2},{"$f":"SUM($F$47:AK47)","v":2},{"$f":"SUM($F$47:AL47)","v":2},{"$f":"SUM($F$47:AM47)","v":2},{"$f":"SUM($F$47:AN47)","v":2},{"$f":"SUM($F$47:AO47)","v":2},{"$f":"SUM($F$47:AP47)","v":2},{"$f":"SUM($F$47:AQ47)","v":2},{"$f":"SUM($F$47:AR47)","v":2},{"$f":"SUM($F$47:AS47)","v":2},{"$f":"SUM($F$47:AT47)","v":2},{"$f":"SUM($F$47:AU47)","v":2},{"$f":"SUM($F$47:AV47)","v":2},{"$f":"SUM($F$47:AW47)","v":2},{"$f":"SUM($F$47:AX47)","v":2},{"$f":"SUM($F$47:AY47)","v":2},{"$f":"SUM($F$47:AZ47)","v":2},{"$f":"SUM($F$47:BA47)","v":2},{"$f":"SUM($F$47:BB47)","v":2},{"$f":"SUM($F$47:BC47)","v":2},{"$f":"SUM($F$47:BD47)","v":2},{"$f":"SUM($F$47:BE47)","v":2},{"$f":"SUM($F$47:BF47)","v":2},{"$f":"SUM($F$47:BG47)","v":2},{"$f":"SUM($F$47:BH47)","v":2},{"$f":"SUM($F$47:BI47)","v":2},{"$f":"SUM($F$47:BJ47)","v":2},{"$f":"SUM($F$47:BK47)","v":2},{"$f":"SUM($F$47:BL47)","v":2},{"$f":"SUM($F$47:BM47)","v":2},{"$f":"SUM($F$47:BN47)","v":2},{"$f":"SUM($F$47:BO47)","v":2},{"$f":"SUM($F$47:BP47)","v":2},{"$f":"SUM($F$47:BQ47)","v":2},{"$f":"SUM($F$47:BR47)","v":2},{"$f":"SUM($F$47:BS47)","v":2},{"$f":"SUM($F$47:BT47)","v":2},{"$f":"SUM($F$47:BU47)","v":2},{"$f":"SUM($F$47:BV47)","v":2},{"$f":"SUM($F$47:BW47)","v":2},{"$f":"SUM($F$47:BX47)","v":2},{"$f":"SUM($F$47:BY47)","v":2},{"$f":"SUM($F$47:BZ47)","v":2},{"$f":"SUM($F$47:CA47)","v":2},{"$f":"SUM($F$47:CB47)","v":2},{"$f":"SUM($F$47:CC47)","v":2},{"$f":"SUM($F$47:CD47)","v":2},{"$f":"SUM($F$47:CE47)","v":2},{"$f":"SUM($F$47:CF47)","v":2},{"$f":"SUM($F$47:CG47)","v":2},{"$f":"SUM($F$47:CH47)","v":2},{"$f":"SUM($F$47:CI47)","v":2},{"$f":"SUM($F$47:CJ47)","v":2},{"$f":"SUM($F$47:CK47)","v":2},{"$f":"SUM($F$47:CL47)","v":2},{"$f":"SUM($F$47:CM47)","v":2},{"$f":"SUM($F$47:CN47)","v":2},{"$f":"SUM($F$47:CO47)","v":2},{"$f":"SUM($F$47:CP47)","v":2},{"$f":"SUM($F$47:CQ47)","v":2},{"$f":"SUM($F$47:CR47)","v":2},{"$f":"SUM($F$47:CS47)","v":2},{"$f":"SUM($F$47:CT47)","v":2},{"$f":"SUM($F$47:CU47)","v":2},{"$f":"SUM($F$47:CV47)","v":2},{"$f":"SUM($F$47:CW47)","v":2},{"$f":"SUM($F$47:CX47)","v":2},{"$f":"SUM($F$47:CY47)","v":2},{"$f":"SUM($F$47:CZ47)","v":2},{"$f":"SUM($F$47:DA47)","v":2},{"$f":"SUM($F$47:DB47)","v":2},{"$f":"SUM($F$47:DC47)","v":2},{"$f":"SUM($F$47:DD47)","v":2},{"$f":"SUM($F$47:DE47)","v":2},{"$f":"SUM($F$47:DF47)","v":2},{"$f":"SUM($F$47:DG47)","v":2},{"$f":"SUM($F$47:DH47)","v":2},{"$f":"SUM($F$47:DI47)","v":2},{"$f":"SUM($F$47:DJ47)","v":2},{"$f":"SUM($F$47:DK47)","v":2},{"$f":"SUM($F$47:DL47)","v":2},{"$f":"SUM($F$47:DM47)","v":2},{"$f":"SUM($F$47:DN47)","v":2},{"$f":"SUM($F$47:DO47)","v":2},{"$f":"SUM($F$47:DP47)","v":2},{"$f":"SUM($F$47:DQ47)","v":2},{"$f":"SUM($F$47:DR47)","v":2},{"$f":"SUM($F$47:DS47)","v":2},{"$f":"SUM($F$47:DT47)","v":2},{"$f":"SUM($F$47:DU47)","v":2},{"$f":"SUM($F$47:DV47)","v":2},{"$f":"SUM($F$47:DW47)","v":2},{"$f":"SUM($F$47:DX47)","v":2},{"$f":"SUM($F$47:DY47)","v":2},{"$f":"SUM($F$47:DZ47)","v":2},{"$f":"SUM($F$47:EA47)","v":2},{"$f":"SUM($F$47:EB47)","v":2},{"$f":"SUM($F$47:EC47)","v":2},{"$f":"SUM($F$47:ED47)","v":2},{"$f":"SUM($F$47:EE47)","v":2},{"$f":"SUM($F$47:EF47)","v":2},{"$f":"SUM($F$47:EG47)","v":2},{"$f":"SUM($F$47:EH47)","v":2},{"$f":"SUM($F$47:EI47)","v":2},{"$f":"SUM($F$47:EJ47)","v":2},{"$f":"SUM($F$47:EK47)","v":2},{"$f":"SUM($F$47:EL47)","v":2},{"$f":"SUM($F$47:EM47)","v":2},{"$f":"SUM($F$47:EN47)","v":2},{"$f":"SUM($F$47:EO47)","v":2},{"$f":"SUM($F$47:EP47)","v":2},{"$f":"SUM($F$47:EQ47)","v":2},{"$f":"SUM($F$47:ER47)","v":2},{"$f":"SUM($F$47:ES47)","v":2},{"$f":"SUM($F$47:ET47)","v":2},{"$f":"SUM($F$47:EU47)","v":2},{"$f":"SUM($F$47:EV47)","v":2},{"$f":"SUM($F$47:EW47)","v":2},{"$f":"SUM($F$47:EX47)","v":2},{"$f":"SUM($F$47:EY47)","v":2},{"$f":"SUM($F$47:EZ47)","v":2},{"$f":"SUM($F$47:FA47)","v":2},{"$f":"SUM($F$47:FB47)","v":2},{"$f":"SUM($F$47:FC47)","v":2},{"$f":"SUM($F$47:FD47)","v":2},{"$f":"SUM($F$47:FE47)","v":2},{"$f":"SUM($F$47:FF47)","v":2},{"$f":"SUM($F$47:FG47)","v":2},{"$f":"SUM($F$47:FH47)","v":2},{"$f":"SUM($F$47:FI47)","v":2},{"$f":"SUM($F$47:FJ47)","v":2},{"$f":"SUM($F$47:FK47)","v":2},{"$f":"SUM($F$47:FL47)","v":2},{"$f":"SUM($F$47:FM47)","v":2},{"$f":"SUM($F$47:FN47)","v":2},{"$f":"SUM($F$47:FO47)","v":2},{"$f":"SUM($F$47:FP47)","v":2},{"$f":"SUM($F$47:FQ47)","v":2},{"$f":"SUM($F$47:FR47)","v":2},{"$f":"SUM($F$47:FS47)","v":2},{"$f":"SUM($F$47:FT47)","v":2},{"$f":"SUM($F$47:FU47)","v":2},{"$f":"SUM($F$47:FV47)","v":2},{"$f":"SUM($F$47:FW47)","v":2},{"$f":"SUM($F$47:FX47)","v":2},{"$f":"SUM($F$47:FY47)","v":2},{"$f":"SUM($F$47:FZ47)","v":2},{"$f":"SUM($F$47:GA47)","v":2},{"$f":"SUM($F$47:GB47)","v":2},{"$f":"SUM($F$47:GC47)","v":2},{"$f":"SUM($F$47:GD47)","v":2},{"$f":"SUM($F$47:GE47)","v":2},{"$f":"SUM($F$47:GF47)","v":2},{"$f":"SUM($F$47:GG47)","v":2},{"$f":"SUM($F$47:GH47)","v":2},{"$f":"SUM($F$47:GI47)","v":2},{"$f":"SUM($F$47:GJ47)","v":2},{"$f":"SUM($F$47:GK47)","v":2},{"$f":"SUM($F$47:GL47)","v":2},{"$f":"SUM($F$47:GM47)","v":2},{"$f":"SUM($F$47:GN47)","v":2},{"$f":"SUM($F$47:GO47)","v":2},{"$f":"SUM($F$47:GP47)","v":2},{"$f":"SUM($F$47:GQ47)","v":2},{"$f":"SUM($F$47:GR47)","v":2},{"$f":"SUM($F$47:GS47)","v":2},{"$f":"SUM($F$47:GT47)","v":2},{"$f":"SUM($F$47:GU47)","v":2},{"$f":"SUM($F$47:GV47)","v":2},{"$f":"SUM($F$47:GW47)","v":2},{"$f":"SUM($F$47:GX47)","v":2},{"$f":"SUM($F$47:GY47)","v":2},{"$f":"SUM($F$47:GZ47)","v":2},{"$f":"SUM($F$47:HA47)","v":2},{"$f":"SUM($F$47:HB47)","v":2},{"$f":"SUM($F$47:HC47)","v":2},{"$f":"SUM($F$47:HD47)","v":2},{"$f":"SUM($F$47:HE47)","v":2},{"$f":"SUM($F$47:HF47)","v":2},{"$f":"SUM($F$47:HG47)","v":2},{"$f":"SUM($F$47:HH47)","v":2},{"$f":"SUM($F$47:HI47)","v":2},{"$f":"SUM($F$47:HJ47)","v":2},{"$f":"SUM($F$47:HK47)","v":2},{"$f":"SUM($F$47:HL47)","v":2},{"$f":"SUM($F$47:HM47)","v":2},{"$f":"SUM($F$47:HN47)","v":2},{"$f":"SUM($F$47:HO47)","v":2},{"$f":"SUM($F$47:HP47)","v":2},{"$f":"SUM($F$47:HQ47)","v":2},{"$f":"SUM($F$47:HR47)","v":2},{"$f":"SUM($F$47:HS47)","v":2},{"$f":"SUM($F$47:HT47)","v":2},{"$f":"SUM($F$47:HU47)","v":2},{"$f":"SUM($F$47:HV47)","v":2},{"$f":"SUM($F$47:HW47)","v":2},{"$f":"SUM($F$47:HX47)","v":2},{"$f":"SUM($F$47:HY47)","v":2},{"$f":"SUM($F$47:HZ47)","v":2},{"$f":"SUM($F$47:IA47)","v":2},{"$f":"SUM($F$47:IB47)","v":2},{"$f":"SUM($F$47:IC47)","v":2},{"$f":"SUM($F$47:ID47)","v":2},{"$f":"SUM($F$47:IE47)","v":2},{"$f":"SUM($F$47:IF47)","v":2},{"$f":"SUM($F$47:IG47)","v":2},{"$f":"SUM($F$47:IH47)","v":2},{"$f":"SUM($F$47:II47)","v":2},{"$f":"SUM($F$47:IJ47)","v":2},{"$f":"SUM($F$47:IK47)","v":2},{"$f":"SUM($F$47:IL47)","v":2},{"$f":"SUM($F$47:IM47)","v":2},{"$f":"SUM($F$47:IN47)","v":2},{"$f":"SUM($F$47:IO47)","v":2},{"$f":"SUM($F$47:IP47)","v":2},{"$f":"SUM($F$47:IQ47)","v":2},{"$f":"SUM($F$47:IR47)","v":2},{"$f":"SUM($F$47:IS47)","v":2},{"$f":"SUM($F$47:IT47)","v":2},{"$f":"SUM($F$47:IU47)","v":2},{"$f":"SUM($F$47:IV47)","v":2},{"$f":"SUM($F$47:IW47)","v":2},{"$f":"SUM($F$47:IX47)","v":2},{"$f":"SUM($F$47:IY47)","v":2},{"$f":"SUM($F$47:IZ47)","v":2},{"$f":"SUM($F$47:JA47)","v":2},{"$f":"SUM($F$47:JB47)","v":2},{"$f":"SUM($F$47:JC47)","v":2},{"$f":"SUM($F$47:JD47)","v":2},{"$f":"SUM($F$47:JE47)","v":2},{"$f":"SUM($F$47:JF47)","v":2},{"$f":"SUM($F$47:JG47)","v":2},{"$f":"SUM($F$47:JH47)","v":2},{"$f":"SUM($F$47:JI47)","v":2},{"$f":"SUM($F$47:JJ47)","v":2},{"$f":"SUM($F$47:JK47)","v":2},{"$f":"SUM($F$47:JL47)","v":2},{"$f":"SUM($F$47:JM47)","v":2},{"$f":"SUM($F$47:JN47)","v":2},{"$f":"SUM($F$47:JO47)","v":2},{"$f":"SUM($F$47:JP47)","v":2},{"$f":"SUM($F$47:JQ47)","v":2},{"$f":"SUM($F$47:JR47)","v":2},{"$f":"SUM($F$47:JS47)","v":2},{"$f":"SUM($F$47:JT47)","v":2},{"$f":"SUM($F$47:JU47)","v":2},{"$f":"SUM($F$47:JV47)","v":2},{"$f":"SUM($F$47:JW47)","v":2},{"$f":"SUM($F$47:JX47)","v":2},{"$f":"SUM($F$47:JY47)","v":2},{"$f":"SUM($F$47:JZ47)","v":2},{"$f":"SUM($F$47:KA47)","v":2},{"$f":"SUM($F$47:KB47)","v":2},{"$f":"SUM($F$47:KC47)","v":2},{"$f":"SUM($F$47:KD47)","v":2},{"$f":"SUM($F$47:KE47)","v":2},{"$f":"SUM($F$47:KF47)","v":2},{"$f":"SUM($F$47:KG47)","v":2},{"$f":"SUM($F$47:KH47)","v":2},{"$f":"SUM($F$47:KI47)","v":2},{"$f":"SUM($F$47:KJ47)","v":2},{"$f":"SUM($F$47:KK47)","v":2},{"$f":"SUM($F$47:KL47)","v":2},{"$f":"SUM($F$47:KM47)","v":2},{"$f":"SUM($F$47:KN47)","v":2},{"$f":"SUM($F$47:KO47)","v":2},{"$f":"SUM($F$47:KP47)","v":2},{"$f":"SUM($F$47:KQ47)","v":2},{"$f":"SUM($F$47:KR47)","v":2},{"$f":"SUM($F$47:KS47)","v":2},{"$f":"SUM($F$47:KT47)","v":2},{"$f":"SUM($F$47:KU47)","v":2},{"$f":"SUM($F$47:KV47)","v":2},{"$f":"SUM($F$47:KW47)","v":2},{"$f":"SUM($F$47:KX47)","v":2},{"$f":"SUM($F$47:KY47)","v":2},{"$f":"SUM($F$47:KZ47)","v":2},{"$f":"SUM($F$47:LA47)","v":2},{"$f":"SUM($F$47:LB47)","v":2},{"$f":"SUM($F$47:LC47)","v":2},{"$f":"SUM($F$47:LD47)","v":2},{"$f":"SUM($F$47:LE47)","v":2},{"$f":"SUM($F$47:LF47)","v":2},{"$f":"SUM($F$47:LG47)","v":2},{"$f":"SUM($F$47:LH47)","v":2},{"$f":"SUM($F$47:LI47)","v":2},{"$f":"SUM($F$47:LJ47)","v":2},{"$f":"SUM($F$47:LK47)","v":2},{"$f":"SUM($F$47:LL47)","v":2},{"$f":"SUM($F$47:LM47)","v":2},{"$f":"SUM($F$47:LN47)","v":2},{"$f":"SUM($F$47:LO47)","v":2},{"$f":"SUM($F$47:LP47)","v":2},{"$f":"SUM($F$47:LQ47)","v":2},{"$f":"SUM($F$47:LR47)","v":2},{"$f":"SUM($F$47:LS47)","v":2},{"$f":"SUM($F$47:LT47)","v":2},{"$f":"SUM($F$47:LU47)","v":2},{"$f":"SUM($F$47:LV47)","v":2},{"$f":"SUM($F$47:LW47)","v":2},{"$f":"SUM($F$47:LX47)","v":2},{"$f":"SUM($F$47:LY47)","v":2},{"$f":"SUM($F$47:LZ47)","v":2},{"$f":"SUM($F$47:MA47)","v":2},{"$f":"SUM($F$47:MB47)","v":2},{"$f":"SUM($F$47:MC47)","v":2},{"$f":"SUM($F$47:MD47)","v":2},{"$f":"SUM($F$47:ME47)","v":2},{"$f":"SUM($F$47:MF47)","v":2},{"$f":"SUM($F$47:MG47)","v":2},{"$f":"SUM($F$47:MH47)","v":2},{"$f":"SUM($F$47:MI47)","v":2},{"$f":"SUM($F$47:MJ47)","v":2},{"$f":"SUM($F$47:MK47)","v":2},{"$f":"SUM($F$47:ML47)","v":2},{"$f":"SUM($F$47:MM47)","v":2},{"$f":"SUM($F$47:MN47)","v":2},{"$f":"SUM($F$47:MO47)","v":2},{"$f":"SUM($F$47:MP47)","v":2},{"$f":"SUM($F$47:MQ47)","v":2},{"$f":"SUM($F$47:MR47)","v":2},{"$f":"SUM($F$47:MS47)","v":2},{"$f":"SUM($F$47:MT47)","v":2},{"$f":"SUM($F$47:MU47)","v":2},{"$f":"SUM($F$47:MV47)","v":2},{"$f":"SUM($F$47:MW47)","v":2},{"$f":"SUM($F$47:MX47)","v":2},{"$f":"SUM($F$47:MY47)","v":2},{"$f":"SUM($F$47:MZ47)","v":2},{"$f":"SUM($F$47:NA47)","v":2},{"$f":"SUM($F$47:NB47)","v":2},{"$f":"SUM($F$47:NC47)","v":2},{"$f":"SUM($F$47:ND47)","v":2},{"$f":"SUM($F$47:NE47)","v":2},{"$f":"SUM($F$47:NF47)","v":2},{"$f":"SUM($F$47:NG47)","v":2},{"$f":"SUM($F$47:NH47)","v":2},{"$f":"SUM($F$47:NI47)","v":2},{"$f":"SUM($F$47:NJ47)","v":2},{"$f":"SUM($F$47:NK47)","v":2},{"$f":"SUM($F$47:NL47)","v":2},{"$f":"SUM($F$47:NM47)","v":2},{"$f":"SUM($F$47:NN47)","v":2},{"$f":"SUM($F$47:NO47)","v":2},{"$f":"SUM($F$47:NP47)","v":2},{"$f":"SUM($F$47:NQ47)","v":2},{"$f":"SUM($F$47:NR47)","v":2},{"$f":"SUM($F$47:NS47)","v":2},{"$f":"SUM($F$47:NT47)","v":2},{"$f":"SUM($F$47:NU47)","v":2},{"$f":"SUM($F$47:NV47)","v":2},{"$f":"SUM($F$47:NW47)","v":2},{"$f":"SUM($F$47:NX47)","v":2},{"$f":"SUM($F$47:NY47)","v":2},{"$f":"SUM($F$47:NZ47)","v":2},{"$f":"SUM($F$47:OA47)","v":2},{"$f":"SUM($F$47:OB47)","v":2},{"$f":"SUM($F$47:OC47)","v":2},{"$f":"SUM($F$47:OD47)","v":2},{"$f":"SUM($F$47:OE47)","v":2},{"$f":"SUM($F$47:OF47)","v":2},{"$f":"SUM($F$47:OG47)","v":2},{"$f":"SUM($F$47:OH47)","v":2},{"$f":"SUM($F$47:OI47)","v":2},{"$f":"SUM($F$47:OJ47)","v":2},{"$f":"SUM($F$47:OK47)","v":2},{"$f":"SUM($F$47:OL47)","v":2},{"$f":"SUM($F$47:OM47)","v":2},{"$f":"SUM($F$47:ON47)","v":2},{"$f":"SUM($F$47:OO47)","v":2},{"$f":"SUM($F$47:OP47)","v":2},{"$f":"SUM($F$47:OQ47)","v":2},{"$f":"SUM($F$47:OR47)","v":2},{"$f":"SUM($F$47:OS47)","v":2},{"$f":"SUM($F$47:OT47)","v":2},{"$f":"SUM($F$47:OU47)","v":2},{"$f":"SUM($F$47:OV47)","v":2},{"$f":"SUM($F$47:OW47)","v":2},{"$f":"SUM($F$47:OX47)","v":2},{"$f":"SUM($F$47:OY47)","v":2},{"$f":"SUM($F$47:OZ47)","v":2},{"$f":"SUM($F$47:PA47)","v":2},{"$f":"SUM($F$47:PB47)","v":2},{"$f":"SUM($F$47:PC47)","v":2},{"$f":"SUM($F$47:PD47)","v":2},{"$f":"SUM($F$47:PE47)","v":2},{"$f":"SUM($F$47:PF47)","v":2},{"$f":"SUM($F$47:PG47)","v":2},{"$f":"SUM($F$47:PH47)","v":2},{"$f":"SUM($F$47:PI47)","v":2},{"$f":"SUM($F$47:PJ47)","v":2},{"$f":"SUM($F$47:PK47)","v":2},{"$f":"SUM($F$47:PL47)","v":2},{"$f":"SUM($F$47:PM47)","v":2},{"$f":"SUM($F$47:PN47)","v":2},{"$f":"SUM($F$47:PO47)","v":2},{"$f":"SUM($F$47:PP47)","v":2},{"$f":"SUM($F$47:PQ47)","v":2},{"$f":"SUM($F$47:PR47)","v":2},{"$f":"SUM($F$47:PS47)","v":2},{"$f":"SUM($F$47:PT47)","v":2},{"$f":"SUM($F$47:PU47)","v":2},{"$f":"SUM($F$47:PV47)","v":2},{"$f":"SUM($F$47:PW47)","v":2},{"$f":"SUM($F$47:PX47)","v":2},{"$f":"SUM($F$47:PY47)","v":2},{"$f":"SUM($F$47:PZ47)","v":2},{"$f":"SUM($F$47:QA47)","v":2},{"$f":"SUM($F$47:QB47)","v":2},{"$f":"SUM($F$47:QC47)","v":2},{"$f":"SUM($F$47:QD47)","v":2},{"$f":"SUM($F$47:QE47)","v":2},{"$f":"SUM($F$47:QF47)","v":2},{"$f":"SUM($F$47:QG47)","v":2},{"$f":"SUM($F$47:QH47)","v":2},{"$f":"SUM($F$47:QI47)","v":2},{"$f":"SUM($F$47:QJ47)","v":2},{"$f":"SUM($F$47:QK47)","v":2},{"$f":"SUM($F$47:QL47)","v":2},{"$f":"SUM($F$47:QM47)","v":2},{"$f":"SUM($F$47:QN47)","v":2},{"$f":"SUM($F$47:QO47)","v":2},{"$f":"SUM($F$47:QP47)","v":2},{"$f":"SUM($F$47:QQ47)","v":2},{"$f":"SUM($F$47:QR47)","v":2},{"$f":"SUM($F$47:QS47)","v":2},{"$f":"SUM($F$47:QT47)","v":2},{"$f":"SUM($F$47:QU47)","v":2},{"$f":"SUM($F$47:QV47)","v":2},{"$f":"SUM($F$47:QW47)","v":2},{"$f":"SUM($F$47:QX47)","v":2},{"$f":"SUM($F$47:QY47)","v":2},{"$f":"SUM($F$47:QZ47)","v":2},{"$f":"SUM($F$47:RA47)","v":2},{"$f":"SUM($F$47:RB47)","v":2},{"$f":"SUM($F$47:RC47)","v":2},{"$f":"SUM($F$47:RD47)","v":2},{"$f":"SUM($F$47:RE47)","v":2},{"$f":"SUM($F$47:RF47)","v":2},{"$f":"SUM($F$47:RG47)","v":2},{"$f":"SUM($F$47:RH47)","v":2},{"$f":"SUM($F$47:RI47)","v":2},{"$f":"SUM($F$47:RJ47)","v":2},{"$f":"SUM($F$47:RK47)","v":2},{"$f":"SUM($F$47:RL47)","v":2},{"$f":"SUM($F$47:RM47)","v":2},{"$f":"SUM($F$47:RN47)","v":2},{"$f":"SUM($F$47:RO47)","v":2},{"$f":"SUM($F$47:RP47)","v":2},{"$f":"SUM($F$47:RQ47)","v":2},{"$f":"SUM($F$47:RR47)","v":2},{"$f":"SUM($F$47:RS47)","v":2},{"$f":"SUM($F$47:RT47)","v":2},{"$f":"SUM($F$47:RU47)","v":2},{"$f":"SUM($F$47:RV47)","v":2},{"$f":"SUM($F$47:RW47)","v":2},{"$f":"SUM($F$47:RX47)","v":2},{"$f":"SUM($F$47:RY47)","v":2},{"$f":"SUM($F$47:RZ47)","v":2},{"$f":"SUM($F$47:SA47)","v":2},{"$f":"SUM($F$47:SB47)","v":2},{"$f":"SUM($F$47:SC47)","v":2},{"$f":"SUM($F$47:SD47)","v":2},{"$f":"SUM($F$47:SE47)","v":2},{"$f":"SUM($F$47:SF47)","v":2},{"$f":"SUM($F$47:SG47)","v":2},{"$f":"SUM($F$47:SH47)","v":2},{"$f":"SUM($F$47:SI47)","v":2},{"$f":"SUM($F$47:SJ47)","v":2},{"$f":"SUM($F$47:SK47)","v":2},{"$f":"SUM($F$47:SL47)","v":2},{"$f":"SUM($F$47:SM47)","v":2},{"$f":"SUM($F$47:SN47)","v":2},{"$f":"SUM($F$47:SO47)","v":2},{"$f":"SUM($F$47:SP47)","v":2},{"$f":"SUM($F$47:SQ47)","v":2},{"$f":"SUM($F$47:SR47)","v":2},{"$f":"SUM($F$47:SS47)","v":2},{"$f":"SUM($F$47:ST47)","v":2},{"$f":"SUM($F$47:SU47)","v":2},{"$f":"SUM($F$47:SV47)","v":2},{"$f":"SUM($F$47:SW47)","v":2},{"$f":"SUM($F$47:SX47)","v":2},{"$f":"SUM($F$47:SY47)","v":2},{"$f":"SUM($F$47:SZ47)","v":2},{"$f":"SUM($F$47:TA47)","v":2},{"$f":"SUM($F$47:TB47)","v":2},{"$f":"SUM($F$47:TC47)","v":2},{"$f":"SUM($F$47:TD47)","v":2},{"$f":"SUM($F$47:TE47)","v":2},{"$f":"SUM($F$47:TF47)","v":2},{"$f":"SUM($F$47:TG47)","v":2},{"$f":"SUM($F$47:TH47)","v":2},{"$f":"SUM($F$47:TI47)","v":2},{"$f":"SUM($F$47:TJ47)","v":2},{"$f":"SUM($F$47:TK47)","v":2},{"$f":"SUM($F$47:TL47)","v":2},{"$f":"SUM($F$47:TM47)","v":2},{"$f":"SUM($F$47:TN47)","v":2},{"$f":"SUM($F$47:TO47)","v":2},{"$f":"SUM($F$47:TP47)","v":2},{"$f":"SUM($F$47:TQ47)","v":2},{"$f":"SUM($F$47:TR47)","v":2},{"$f":"SUM($F$47:TS47)","v":2},{"$f":"SUM($F$47:TT47)","v":2},{"$f":"SUM($F$47:TU47)","v":2},{"$f":"SUM($F$47:TV47)","v":2},{"$f":"SUM($F$47:TW47)","v":2},{"$f":"SUM($F$47:TX47)","v":2},{"$f":"SUM($F$47:TY47)","v":2},{"$f":"SUM($F$47:TZ47)","v":2},{"$f":"SUM($F$47:UA47)","v":2},{"$f":"SUM($F$47:UB47)","v":2},{"$f":"SUM($F$47:UC47)","v":2},{"$f":"SUM($F$47:UD47)","v":2},{"$f":"SUM($F$47:UE47)","v":2},{"$f":"SUM($F$47:UF47)","v":2},{"$f":"SUM($F$47:UG47)","v":2},{"$f":"SUM($F$47:UH47)","v":2},{"$f":"SUM($F$47:UI47)","v":2},{"$f":"SUM($F$47:UJ47)","v":2},{"$f":"SUM($F$47:UK47)","v":2},{"$f":"SUM($F$47:UL47)","v":2},{"$f":"SUM($F$47:UM47)","v":2},{"$f":"SUM($F$47:UN47)","v":2},{"$f":"SUM($F$47:UO47)","v":2},{"$f":"SUM($F$47:UP47)","v":2},{"$f":"SUM($F$47:UQ47)","v":2},{"$f":"SUM($F$47:UR47)","v":2},{"$f":"SUM($F$47:US47)","v":2},{"$f":"SUM($F$47:UT47)","v":2},{"$f":"SUM($F$47:UU47)","v":2},{"$f":"SUM($F$47:UV47)","v":2},{"$f":"SUM($F$47:UW47)","v":2},{"$f":"SUM($F$47:UX47)","v":2},{"$f":"SUM($F$47:UY47)","v":2},{"$f":"SUM($F$47:UZ47)","v":2},{"$f":"SUM($F$47:VA47)","v":2},{"$f":"SUM($F$47:VB47)","v":2},{"$f":"SUM($F$47:VC47)","v":2},{"$f":"SUM($F$47:VD47)","v":2},{"$f":"SUM($F$47:VE47)","v":2},{"$f":"SUM($F$47:VF47)","v":2},{"$f":"SUM($F$47:VG47)","v":2},{"$f":"SUM($F$47:VH47)","v":2},{"$f":"SUM($F$47:VI47)","v":2},{"$f":"SUM($F$47:VJ47)","v":2},{"$f":"SUM($F$47:VK47)","v":2},{"$f":"SUM($F$47:VL47)","v":2},{"$f":"SUM($F$47:VM47)","v":2},{"$f":"SUM($F$47:VN47)","v":2},{"$f":"SUM($F$47:VO47)","v":2},{"$f":"SUM($F$47:VP47)","v":2},{"$f":"SUM($F$47:VQ47)","v":2},{"$f":"SUM($F$47:VR47)","v":2},{"$f":"SUM($F$47:VS47)","v":2},{"$f":"SUM($F$47:VT47)","v":2},{"$f":"SUM($F$47:VU47)","v":2},{"$f":"SUM($F$47:VV47)","v":2},{"$f":"SUM($F$47:VW47)","v":2},{"$f":"SUM($F$47:VX47)","v":2},{"$f":"SUM($F$47:VY47)","v":2},{"$f":"SUM($F$47:VZ47)","v":2},{"$f":"SUM($F$47:WA47)","v":2},{"$f":"SUM($F$47:WB47)","v":2},{"$f":"SUM($F$47:WC47)","v":2},{"$f":"SUM($F$47:WD47)","v":2},{"$f":"SUM($F$47:WE47)","v":2},{"$f":"SUM($F$47:WF47)","v":2},{"$f":"SUM($F$47:WG47)","v":2},{"$f":"SUM($F$47:WH47)","v":2},{"$f":"SUM($F$47:WI47)","v":2},{"$f":"SUM($F$47:WJ47)","v":2},{"$f":"SUM($F$47:WK47)","v":2},{"$f":"SUM($F$47:WL47)","v":2},{"$f":"SUM($F$47:WM47)","v":2},{"$f":"SUM($F$47:WN47)","v":2},{"$f":"SUM($F$47:WO47)","v":2},{"$f":"SUM($F$47:WP47)","v":2},{"$f":"SUM($F$47:WQ47)","v":2},{"$f":"SUM($F$47:WR47)","v":2},{"$f":"SUM($F$47:WS47)","v":2},{"$f":"SUM($F$47:WT47)","v":2},{"$f":"SUM($F$47:WU47)","v":2},{"$f":"SUM($F$47:WV47)","v":2},{"$f":"SUM($F$47:WW47)","v":2},{"$f":"SUM($F$47:WX47)","v":2},{"$f":"SUM($F$47:WY47)","v":2},{"$f":"SUM($F$47:WZ47)","v":2},{"$f":"SUM($F$47:XA47)","v":2},{"$f":"SUM($F$47:XB47)","v":2},{"$f":"SUM($F$47:XC47)","v":2},{"$f":"SUM($F$47:XD47)","v":2},{"$f":"SUM($F$47:XE47)","v":2},{"$f":"SUM($F$47:XF47)","v":2},{"$f":"SUM($F$47:XG47)","v":2},{"$f":"SUM($F$47:XH47)","v":2},{"$f":"SUM($F$47:XI47)","v":2},{"$f":"SUM($F$47:XJ47)","v":2},{"$f":"SUM($F$47:XK47)","v":2},{"$f":"SUM($F$47:XL47)","v":2},{"$f":"SUM($F$47:XM47)","v":2},{"$f":"SUM($F$47:XN47)","v":2},{"$f":"SUM($F$47:XO47)","v":2},{"$f":"SUM($F$47:XP47)","v":2},{"$f":"SUM($F$47:XQ47)","v":2},{"$f":"SUM($F$47:XR47)","v":2},{"$f":"SUM($F$47:XS47)","v":2},{"$f":"SUM($F$47:XT47)","v":2},{"$f":"SUM($F$47:XU47)","v":2},{"$f":"SUM($F$47:XV47)","v":2},{"$f":"SUM($F$47:XW47)","v":2},{"$f":"SUM($F$47:XX47)","v":2},{"$f":"SUM($F$47:XY47)","v":2},{"$f":"SUM($F$47:XZ47)","v":2},{"$f":"SUM($F$47:YA47)","v":2},{"$f":"SUM($F$47:YB47)","v":2},{"$f":"SUM($F$47:YC47)","v":2},{"$f":"SUM($F$47:YD47)","v":2},{"$f":"SUM($F$47:YE47)","v":2},{"$f":"SUM($F$47:YF47)","v":2},{"$f":"SUM($F$47:YG47)","v":2},{"$f":"SUM($F$47:YH47)","v":2},{"$f":"SUM($F$47:YI47)","v":2},{"$f":"SUM($F$47:YJ47)","v":2},{"$f":"SUM($F$47:YK47)","v":2},{"$f":"SUM($F$47:YL47)","v":2},{"$f":"SUM($F$47:YM47)","v":2},{"$f":"SUM($F$47:YN47)","v":2},{"$f":"SUM($F$47:YO47)","v":2},{"$f":"SUM($F$47:YP47)","v":2},{"$f":"SUM($F$47:YQ47)","v":2},{"$f":"SUM($F$47:YR47)","v":2},{"$f":"SUM($F$47:YS47)","v":2},{"$f":"SUM($F$47:YT47)","v":2},{"$f":"SUM($F$47:YU47)","v":2},{"$f":"SUM($F$47:YV47)","v":2},{"$f":"SUM($F$47:YW47)","v":2},{"$f":"SUM($F$47:YX47)","v":2},{"$f":"SUM($F$47:YY47)","v":2},{"$f":"SUM($F$47:YZ47)","v":2},{"$f":"SUM($F$47:ZA47)","v":2},{"$f":"SUM($F$47:ZB47)","v":2},{"$f":"SUM($F$47:ZC47)","v":2},{"$f":"SUM($F$47:ZD47)","v":2},{"$f":"SUM($F$47:ZE47)","v":2},{"$f":"SUM($F$47:ZF47)","v":2},{"$f":"SUM($F$47:ZG47)","v":2},{"$f":"SUM($F$47:ZH47)","v":2},{"$f":"SUM($F$47:ZI47)","v":2},{"$f":"SUM($F$47:ZJ47)","v":2},{"$f":"SUM($F$47:ZK47)","v":2},{"$f":"SUM($F$47:ZL47)","v":2},{"$f":"SUM($F$47:ZM47)","v":2},{"$f":"SUM($F$47:ZN47)","v":2},{"$f":"SUM($F$47:ZO47)","v":2},{"$f":"SUM($F$47:ZP47)","v":2},{"$f":"SUM($F$47:ZQ47)","v":2},{"$f":"SUM($F$47:ZR47)","v":2},{"$f":"SUM($F$47:ZS47)","v":2},{"$f":"SUM($F$47:ZT47)","v":2},{"$f":"SUM($F$47:ZU47)","v":2},{"$f":"SUM($F$47:ZV47)","v":2},{"$f":"SUM($F$47:ZW47)","v":2},{"$f":"SUM($F$47:ZX47)","v":2},{"$f":"SUM($F$47:ZY47)","v":2},{"$f":"SUM($F$47:ZZ47)","v":2},{"$f":"SUM($F$47:AAA47)","v":2},{"$f":"SUM($F$47:AAB47)","v":2},{"$f":"SUM($F$47:AAC47)","v":2},{"$f":"SUM($F$47:AAD47)","v":2},{"$f":"SUM($F$47:AAE47)","v":2},{"$f":"SUM($F$47:AAF47)","v":2},{"$f":"SUM($F$47:AAG47)","v":2},{"$f":"SUM($F$47:AAH47)","v":2},{"$f":"SUM($F$47:AAI47)","v":2},{"$f":"SUM($F$47:AAJ47)","v":2},{"$f":"SUM($F$47:AAK47)","v":2},{"$f":"SUM($F$47:AAL47)","v":2},{"$f":"SUM($F$47:AAM47)","v":2},{"$f":"SUM($F$47:AAN47)","v":2},{"$f":"SUM($F$47:AAO47)","v":2},{"$f":"SUM($F$47:AAP47)","v":2},{"$f":"SUM($F$47:AAQ47)","v":2},{"$f":"SUM($F$47:AAR47)","v":2},{"$f":"SUM($F$47:AAS47)","v":2},{"$f":"SUM($F$47:AAT47)","v":2},{"$f":"SUM($F$47:AAU47)","v":2},{"$f":"SUM($F$47:AAV47)","v":2},{"$f":"SUM($F$47:AAW47)","v":2},{"$f":"SUM($F$47:AAX47)","v":2},{"$f":"SUM($F$47:AAY47)","v":2},{"$f":"SUM($F$47:AAZ47)","v":2},{"$f":"SUM($F$47:ABA47)","v":2},{"$f":"SUM($F$47:ABB47)","v":2},{"$f":"SUM($F$47:ABC47)","v":2},{"$f":"SUM($F$47:ABD47)","v":2},{"$f":"SUM($F$47:ABE47)","v":2},{"$f":"SUM($F$47:ABF47)","v":2},{"$f":"SUM($F$47:ABG47)","v":2},{"$f":"SUM($F$47:ABH47)","v":2},{"$f":"SUM($F$47:ABI47)","v":2},{"$f":"SUM($F$47:ABJ47)","v":2},{"$f":"SUM($F$47:ABK47)","v":2},{"$f":"SUM($F$47:ABL47)","v":2},{"$f":"SUM($F$47:ABM47)","v":2},{"$f":"SUM($F$47:ABN47)","v":2},{"$f":"SUM($F$47:ABO47)","v":2},{"$f":"SUM($F$47:ABP47)","v":2},{"$f":"SUM($F$47:ABQ47)","v":2},{"$f":"SUM($F$47:ABR47)","v":2},{"$f":"SUM($F$47:ABS47)","v":2},{"$f":"SUM($F$47:ABT47)","v":2},{"$f":"SUM($F$47:ABU47)","v":2},{"$f":"SUM($F$47:ABV47)","v":2},{"$f":"SUM($F$47:ABW47)","v":2},{"$f":"SUM($F$47:ABX47)","v":2},{"$f":"SUM($F$47:ABY47)","v":2},{"$f":"SUM($F$47:ABZ47)","v":2},{"$f":"SUM($F$47:ACA47)","v":2},{"$f":"SUM($F$47:ACB47)","v":2},{"$f":"SUM($F$47:ACC47)","v":2},{"$f":"SUM($F$47:ACD47)","v":2},{"$f":"SUM($F$47:ACE47)","v":2},{"$f":"SUM($F$47:ACF47)","v":2},{"$f":"SUM($F$47:ACG47)","v":2},{"$f":"SUM($F$47:ACH47)","v":2},{"$f":"SUM($F$47:ACI47)","v":2},{"$f":"SUM($F$47:ACJ47)","v":2},{"$f":"SUM($F$47:ACK47)","v":2},{"$f":"SUM($F$47:ACL47)","v":2},{"$f":"SUM($F$47:ACM47)","v":2},{"$f":"SUM($F$47:ACN47)","v":2},{"$f":"SUM($F$47:ACO47)","v":2},{"$f":"SUM($F$47:ACP47)","v":2},{"$f":"SUM($F$47:ACQ47)","v":2},{"$f":"SUM($F$47:ACR47)","v":2},{"$f":"SUM($F$47:ACS47)","v":2},{"$f":"SUM($F$47:ACT47)","v":2},{"$f":"SUM($F$47:ACU47)","v":2},{"$f":"SUM($F$47:ACV47)","v":2},{"$f":"SUM($F$47:ACW47)","v":2},{"$f":"SUM($F$47:ACX47)","v":2},{"$f":"SUM($F$47:ACY47)","v":2},{"$f":"SUM($F$47:ACZ47)","v":2},{"$f":"SUM($F$47:ADA47)","v":2},{"$f":"SUM($F$47:ADB47)","v":2},{"$f":"SUM($F$47:ADC47)","v":2},{"$f":"SUM($F$47:ADD47)","v":2},{"$f":"SUM($F$47:ADE47)","v":2},{"$f":"SUM($F$47:ADF47)","v":2},{"$f":"SUM($F$47:ADG47)","v":2},{"$f":"SUM($F$47:ADH47)","v":2},{"$f":"SUM($F$47:ADI47)","v":2},{"$f":"SUM($F$47:ADJ47)","v":2},{"$f":"SUM($F$47:ADK47)","v":2},{"$f":"SUM($F$47:ADL47)","v":2},{"$f":"SUM($F$47:ADM47)","v":2},{"$f":"SUM($F$47:ADN47)","v":2},{"$f":"SUM($F$47:ADO47)","v":2},{"$f":"SUM($F$47:ADP47)","v":2},{"$f":"SUM($F$47:ADQ47)","v":2},{"$f":"SUM($F$47:ADR47)","v":2},{"$f":"SUM($F$47:ADS47)","v":2},{"$f":"SUM($F$47:ADT47)","v":2},{"$f":"SUM($F$47:ADU47)","v":2},{"$f":"SUM($F$47:ADV47)","v":2},{"$f":"SUM($F$47:ADW47)","v":2},{"$f":"SUM($F$47:ADX47)","v":2},{"$f":"SUM($F$47:ADY47)","v":2},{"$f":"SUM($F$47:ADZ47)","v":2},{"$f":"SUM($F$47:AEA47)","v":2},{"$f":"SUM($F$47:AEB47)","v":2},{"$f":"SUM($F$47:AEC47)","v":2},{"$f":"SUM($F$47:AED47)","v":2},{"$f":"SUM($F$47:AEE47)","v":2},{"$f":"SUM($F$47:AEF47)","v":2},{"$f":"SUM($F$47:AEG47)","v":2},{"$f":"SUM($F$47:AEH47)","v":2},{"$f":"SUM($F$47:AEI47)","v":2},{"$f":"SUM($F$47:AEJ47)","v":2},{"$f":"SUM($F$47:AEK47)","v":2},{"$f":"SUM($F$47:AEL47)","v":2},{"$f":"SUM($F$47:AEM47)","v":2},{"$f":"SUM($F$47:AEN47)","v":2},{"$f":"SUM($F$47:AEO47)","v":2},{"$f":"SUM($F$47:AEP47)","v":2},{"$f":"SUM($F$47:AEQ47)","v":2},{"$f":"SUM($F$47:AER47)","v":2},{"$f":"SUM($F$47:AES47)","v":2},{"$f":"SUM($F$47:AET47)","v":2},{"$f":"SUM($F$47:AEU47)","v":2},{"$f":"SUM($F$47:AEV47)","v":2},{"$f":"SUM($F$47:AEW47)","v":2},{"$f":"SUM($F$47:AEX47)","v":2},{"$f":"SUM($F$47:AEY47)","v":2},{"$f":"SUM($F$47:AEZ47)","v":2},{"$f":"SUM($F$47:AFA47)","v":2},{"$f":"SUM($F$47:AFB47)","v":2},{"$f":"SUM($F$47:AFC47)","v":2},{"$f":"SUM($F$47:AFD47)","v":2},{"$f":"SUM($F$47:AFE47)","v":2},{"$f":"SUM($F$47:AFF47)","v":2},{"$f":"SUM($F$47:AFG47)","v":2},{"$f":"SUM($F$47:AFH47)","v":2},{"$f":"SUM($F$47:AFI47)","v":2},{"$f":"SUM($F$47:AFJ47)","v":2},{"$f":"SUM($F$47:AFK47)","v":2},{"$f":"SUM($F$47:AFL47)","v":2},{"$f":"SUM($F$47:AFM47)","v":2},{"$f":"SUM($F$47:AFN47)","v":2},{"$f":"SUM($F$47:AFO47)","v":2},{"$f":"SUM($F$47:AFP47)","v":2},{"$f":"SUM($F$47:AFQ47)","v":2},{"$f":"SUM($F$47:AFR47)","v":2},{"$f":"SUM($F$47:AFS47)","v":2},{"$f":"SUM($F$47:AFT47)","v":2},{"$f":"SUM($F$47:AFU47)","v":2},{"$f":"SUM($F$47:AFV47)","v":2},{"$f":"SUM($F$47:AFW47)","v":2},{"$f":"SUM($F$47:AFX47)","v":2},{"$f":"SUM($F$47:AFY47)","v":2},{"$f":"SUM($F$47:AFZ47)","v":2},{"$f":"SUM($F$47:AGA47)","v":2},{"$f":"SUM($F$47:AGB47)","v":2},{"$f":"SUM($F$47:AGC47)","v":2},{"$f":"SUM($F$47:AGD47)","v":2},{"$f":"SUM($F$47:AGE47)","v":2},{"$f":"SUM($F$47:AGF47)","v":2},{"$f":"SUM($F$47:AGG47)","v":2},{"$f":"SUM($F$47:AGH47)","v":2},{"$f":"SUM($F$47:AGI47)","v":2},{"$f":"SUM($F$47:AGJ47)","v":2},{"$f":"SUM($F$47:AGK47)","v":2},{"$f":"SUM($F$47:AGL47)","v":2},{"$f":"SUM($F$47:AGM47)","v":2},{"$f":"SUM($F$47:AGN47)","v":2},{"$f":"SUM($F$47:AGO47)","v":2},{"$f":"SUM($F$47:AGP47)","v":2},{"$f":"SUM($F$47:AGQ47)","v":2},{"$f":"SUM($F$47:AGR47)","v":2},{"$f":"SUM($F$47:AGS47)","v":2},{"$f":"SUM($F$47:AGT47)","v":2},{"$f":"SUM($F$47:AGU47)","v":2},{"$f":"SUM($F$47:AGV47)","v":2},{"$f":"SUM($F$47:AGW47)","v":2},{"$f":"SUM($F$47:AGX47)","v":2},{"$f":"SUM($F$47:AGY47)","v":2},{"$f":"SUM($F$47:AGZ47)","v":2},{"$f":"SUM($F$47:AHA47)","v":2},{"$f":"SUM($F$47:AHB47)","v":2},{"$f":"SUM($F$47:AHC47)","v":2},{"$f":"SUM($F$47:AHD47)","v":2},{"$f":"SUM($F$47:AHE47)","v":2},{"$f":"SUM($F$47:AHF47)","v":2},{"$f":"SUM($F$47:AHG47)","v":2},{"$f":"SUM($F$47:AHH47)","v":2},{"$f":"SUM($F$47:AHI47)","v":2},{"$f":"SUM($F$47:AHJ47)","v":2},{"$f":"SUM($F$47:AHK47)","v":2},{"$f":"SUM($F$47:AHL47)","v":2},{"$f":"SUM($F$47:AHM47)","v":2},{"$f":"SUM($F$47:AHN47)","v":2},{"$f":"SUM($F$47:AHO47)","v":2},{"$f":"SUM($F$47:AHP47)","v":2},{"$f":"SUM($F$47:AHQ47)","v":2},{"$f":"SUM($F$47:AHR47)","v":2},{"$f":"SUM($F$47:AHS47)","v":2},{"$f":"SUM($F$47:AHT47)","v":2},{"$f":"SUM($F$47:AHU47)","v":2},{"$f":"SUM($F$47:AHV47)","v":2},{"$f":"SUM($F$47:AHW47)","v":2},{"$f":"SUM($F$47:AHX47)","v":2},{"$f":"SUM($F$47:AHY47)","v":2},{"$f":"SUM($F$47:AHZ47)","v":2},{"$f":"SUM($F$47:AIA47)","v":2},{"$f":"SUM($F$47:AIB47)","v":2},{"$f":"SUM($F$47:AIC47)","v":2},{"$f":"SUM($F$47:AID47)","v":2},{"$f":"SUM($F$47:AIE47)","v":2},{"$f":"SUM($F$47:AIF47)","v":2},{"$f":"SUM($F$47:AIG47)","v":2},{"$f":"SUM($F$47:AIH47)","v":2},{"$f":"SUM($F$47:AII47)","v":2},{"$f":"SUM($F$47:AIJ47)","v":2},{"$f":"SUM($F$47:AIK47)","v":2},{"$f":"SUM($F$47:AIL47)","v":2},{"$f":"SUM($F$47:AIM47)","v":2},{"$f":"SUM($F$47:AIN47)","v":2},{"$f":"SUM($F$47:AIO47)","v":2},{"$f":"SUM($F$47:AIP47)","v":2},{"$f":"SUM($F$47:AIQ47)","v":2},{"$f":"SUM($F$47:AIR47)","v":2},{"$f":"SUM($F$47:AIS47)","v":2},{"$f":"SUM($F$47:AIT47)","v":2},{"$f":"SUM($F$47:AIU47)","v":2},{"$f":"SUM($F$47:AIV47)","v":2},{"$f":"SUM($F$47:AIW47)","v":2},{"$f":"SUM($F$47:AIX47)","v":2},{"$f":"SUM($F$47:AIY47)","v":2},{"$f":"SUM($F$47:AIZ47)","v":2},{"$f":"SUM($F$47:AJA47)","v":2},{"$f":"SUM($F$47:AJB47)","v":2},{"$f":"SUM($F$47:AJC47)","v":2},{"$f":"SUM($F$47:AJD47)","v":2},{"$f":"SUM($F$47:AJE47)","v":2},{"$f":"SUM($F$47:AJF47)","v":2},{"$f":"SUM($F$47:AJG47)","v":2},{"$f":"SUM($F$47:AJH47)","v":2},{"$f":"SUM($F$47:AJI47)","v":2},{"$f":"SUM($F$47:AJJ47)","v":2},{"$f":"SUM($F$47:AJK47)","v":2},{"$f":"SUM($F$47:AJL47)","v":2},{"$f":"SUM($F$47:AJM47)","v":2},{"$f":"SUM($F$47:AJN47)","v":2},{"$f":"SUM($F$47:AJO47)","v":2},{"$f":"SUM($F$47:AJP47)","v":2},{"$f":"SUM($F$47:AJQ47)","v":2},{"$f":"SUM($F$47:AJR47)","v":2},{"$f":"SUM($F$47:AJS47)","v":2},{"$f":"SUM($F$47:AJT47)","v":2},{"$f":"SUM($F$47:AJU47)","v":2},{"$f":"SUM($F$47:AJV47)","v":2},{"$f":"SUM($F$47:AJW47)","v":2},{"$f":"SUM($F$47:AJX47)","v":2},{"$f":"SUM($F$47:AJY47)","v":2},{"$f":"SUM($F$47:AJZ47)","v":2},{"$f":"SUM($F$47:AKA47)","v":2},{"$f":"SUM($F$47:AKB47)","v":2},{"$f":"SUM($F$47:AKC47)","v":2},{"$f":"SUM($F$47:AKD47)","v":2},{"$f":"SUM($F$47:AKE47)","v":2},{"$f":"SUM($F$47:AKF47)","v":2},{"$f":"SUM($F$47:AKG47)","v":2},{"$f":"SUM($F$47:AKH47)","v":2},{"$f":"SUM($F$47:AKI47)","v":2},{"$f":"SUM($F$47:AKJ47)","v":2},{"$f":"SUM($F$47:AKK47)","v":2},{"$f":"SUM($F$47:AKL47)","v":2},{"$f":"SUM($F$47:AKM47)","v":2},{"$f":"SUM($F$47:AKN47)","v":2},{"$f":"SUM($F$47:AKO47)","v":2},{"$f":"SUM($F$47:AKP47)","v":2},{"$f":"SUM($F$47:AKQ47)","v":2},{"$f":"SUM($F$47:AKR47)","v":2},{"$f":"SUM($F$47:AKS47)","v":2},{"$f":"SUM($F$47:AKT47)","v":2},{"$f":"SUM($F$47:AKU47)","v":2},{"$f":"SUM($F$47:AKV47)","v":2},{"$f":"SUM($F$47:AKW47)","v":2},{"$f":"SUM($F$47:AKX47)","v":2},{"$f":"SUM($F$47:AKY47)","v":2},{"$f":"SUM($F$47:AKZ47)","v":2},{"$f":"SUM($F$47:ALA47)","v":2},{"$f":"SUM($F$47:ALB47)","v":2},{"$f":"SUM($F$47:ALC47)","v":2},{"$f":"SUM($F$47:ALD47)","v":2},{"$f":"SUM($F$47:ALE47)","v":2},{"$f":"SUM($F$47:ALF47)","v":2},{"$f":"SUM($F$47:ALG47)","v":2},{"$f":"SUM($F$47:ALH47)","v":2},{"$f":"SUM($F$47:ALI47)","v":2},{"$f":"SUM($F$47:ALJ47)","v":2},{"$f":"SUM($F$47:ALK47)","v":2},{"$f":"SUM($F$47:ALL47)","v":2},{"$f":"SUM($F$47:ALM47)","v":2},{"$f":"SUM($F$47:ALN47)","v":2},{"$f":"SUM($F$47:ALO47)","v":2},{"$f":"SUM($F$47:ALP47)","v":2},{"$f":"SUM($F$47:ALQ47)","v":2}]
[5,{"$error":"#N/A"},{"$error":"#N/A"},0,{"$f":"IF(D53=0,IF(SUM(D54:$D$62)=0,\"\",E54),D53)","v":""}]
[6,{"$error":"#N/A"},{"$error":"#N/A"},0,{"$f":"IF(D54=0,IF(SUM(D55:$D$62)=0,\"\",E55),D54)","v":""},{"$f":"SUM($F49:F49)","v":2},{"$f":"SUM($F49:G49)","v":2},{"$f":"SUM($F49:H49)","v":3},{"$f":"SUM($F49:I49)","v":3},{"$f":"SUM($F49:J49)","v":3},{"$f":"SUM($F49:K49)","v":3},{"$f":"SUM($F49:L49)","v":3},{"$f":"SUM($F49:M49)","v":3},{"$f":"SUM($F49:N49)","v":3},{"$f":"SUM($F49:O49)","v":3},{"$f":"SUM($F49:P49)","v":3},{"$f":"SUM($F49:Q49)","v":3},{"$f":"SUM($F49:R49)","v":3},{"$f":"SUM($F49:S49)","v":3},{"$f":"SUM($F49:T49)","v":3},{"$f":"SUM($F49:U49)","v":3},{"$f":"SUM($F49:V49)","v":3},{"$f":"SUM($F49:W49)","v":3},{"$f":"SUM($F49:X49)","v":3},{"$f":"SUM($F49:Y49)","v":3},{"$f":"SUM($F49:Z49)","v":3},{"$f":"SUM($F49:AA49)","v":3},{"$f":"SUM($F49:AB49)","v":3},{"$f":"SUM($F49:AC49)","v":3},{"$f":"SUM($F49:AD49)","v":3},{"$f":"SUM($F49:AE49)","v":3},{"$f":"SUM($F49:AF49)","v":3},{"$f":"SUM($F49:AG49)","v":3},{"$f":"SUM($F49:AH49)","v":3},{"$f":"SUM($F49:AI49)","v":3},{"$f":"SUM($F49:AJ49)","v":3},{"$f":"SUM($F49:AK49)","v":3},{"$f":"SUM($F49:AL49)","v":3},{"$f":"SUM($F49:AM49)","v":3},{"$f":"SUM($F49:AN49)","v":3},{"$f":"SUM($F49:AO49)","v":3},{"$f":"SUM($F49:AP49)","v":3},{"$f":"SUM($F49:AQ49)","v":3},{"$f":"SUM($F49:AR49)","v":3},{"$f":"SUM($F49:AS49)","v":3},{"$f":"SUM($F49:AT49)","v":3},{"$f":"SUM($F49:AU49)","v":3},{"$f":"SUM($F49:AV49)","v":3},{"$f":"SUM($F49:AW49)","v":3},{"$f":"SUM($F49:AX49)","v":3},{"$f":"SUM($F49:AY49)","v":3},{"$f":"SUM($F49:AZ49)","v":3},{"$f":"SUM($F49:BA49)","v":3},{"$f":"SUM($F49:BB49)","v":3},{"$f":"SUM($F49:BC49)","v":3},{"$f":"SUM($F49:BD49)","v":3},{"$f":"SUM($F49:BE49)","v":3},{"$f":"SUM($F49:BF49)","v":3},{"$f":"SUM($F49:BG49)","v":3},{"$f":"SUM($F49:BH49)","v":3},{"$f":"SUM($F49:BI49)","v":3},{"$f":"SUM($F49:BJ49)","v":3},{"$f":"SUM($F49:BK49)","v":3},{"$f":"SUM($F49:BL49)","v":3},{"$f":"SUM($F49:BM49)","v":3},{"$f":"SUM($F49:BN49)","v":3},{"$f":"SUM($F49:BO49)","v":3},{"$f":"SUM($F49:BP49)","v":3},{"$f":"SUM($F49:BQ49)","v":3},{"$f":"SUM($F49:BR49)","v":3},{"$f":"SUM($F49:BS49)","v":3},{"$f":"SUM($F49:BT49)","v":3},{"$f":"SUM($F49:BU49)","v":3},{"$f":"SUM($F49:BV49)","v":3},{"$f":"SUM($F49:BW49)","v":3},{"$f":"SUM($F49:BX49)","v":3},{"$f":"SUM($F49:BY49)","v":3},{"$f":"SUM($F49:BZ49)","v":3},{"$f":"SUM($F49:CA49)","v":3},{"$f":"SUM($F49:CB49)","v":3},{"$f":"SUM($F49:CC49)","v":3},{"$f":"SUM($F49:CD49)","v":3},{"$f":"SUM($F49:CE49)","v":3},{"$f":"SUM($F49:CF49)","v":3},{"$f":"SUM($F49:CG49)","v":3},{"$f":"SUM($F49:CH49)","v":3},{"$f":"SUM($F49:CI49)","v":3},{"$f":"SUM($F49:CJ49)","v":3},{"$f":"SUM($F49:CK49)","v":3},{"$f":"SUM($F49:CL49)","v":3},{"$f":"SUM($F49:CM49)","v":3},{"$f":"SUM($F49:CN49)","v":3},{"$f":"SUM($F49:CO49)","v":3},{"$f":"SUM($F49:CP49)","v":3},{"$f":"SUM($F49:CQ49)","v":3},{"$f":"SUM($F49:CR49)","v":3},{"$f":"SUM($F49:CS49)","v":3},{"$f":"SUM($F49:CT49)","v":3},{"$f":"SUM($F49:CU49)","v":3},{"$f":"SUM($F49:CV49)","v":3},{"$f":"SUM($F49:CW49)","v":3},{"$f":"SUM($F49:CX49)","v":3},{"$f":"SUM($F49:CY49)","v":3},{"$f":"SUM($F49:CZ49)","v":3},{"$f":"SUM($F49:DA49)","v":3},{"$f":"SUM($F49:DB49)","v":3},{"$f":"SUM($F49:DC49)","v":3},{"$f":"SUM($F49:DD49)","v":3},{"$f":"SUM($F49:DE49)","v":3},{"$f":"SUM($F49:DF49)","v":3},{"$f":"SUM($F49:DG49)","v":3},{"$f":"SUM($F49:DH49)","v":3},{"$f":"SUM($F49:DI49)","v":3},{"$f":"SUM($F49:DJ49)","v":3},{"$f":"SUM($F49:DK49)","v":3},{"$f":"SUM($F49:DL49)","v":3},{"$f":"SUM($F49:DM49)","v":3},{"$f":"SUM($F49:DN49)","v":3},{"$f":"SUM($F49:DO49)","v":3},{"$f":"SUM($F49:DP49)","v":3},{"$f":"SUM($F49:DQ49)","v":3},{"$f":"SUM($F49:DR49)","v":3},{"$f":"SUM($F49:DS49)","v":3},{"$f":"SUM($F49:DT49)","v":3},{"$f":"SUM($F49:DU49)","v":3},{"$f":"SUM($F49:DV49)","v":3},{"$f":"SUM($F49:DW49)","v":3},{"$f":"SUM($F49:DX49)","v":3},{"$f":"SUM($F49:DY49)","v":3},{"$f":"SUM($F49:DZ49)","v":3},{"$f":"SUM($F49:EA49)","v":3},{"$f":"SUM($F49:EB49)","v":3},{"$f":"SUM($F49:EC49)","v":3},{"$f":"SUM($F49:ED49)","v":3},{"$f":"SUM($F49:EE49)","v":3},{"$f":"SUM($F49:EF49)","v":3},{"$f":"SUM($F49:EG49)","v":3},{"$f":"SUM($F49:EH49)","v":3},{"$f":"SUM($F49:EI49)","v":3},{"$f":"SUM($F49:EJ49)","v":3},{"$f":"SUM($F49:EK49)","v":3},{"$f":"SUM($F49:EL49)","v":3},{"$f":"SUM($F49:EM49)","v":3},{"$f":"SUM($F49:EN49)","v":3},{"$f":"SUM($F49:EO49)","v":3},{"$f":"SUM($F49:EP49)","v":3},{"$f":"SUM($F49:EQ49)","v":3},{"$f":"SUM($F49:ER49)","v":3},{"$f":"SUM($F49:ES49)","v":3},{"$f":"SUM($F49:ET49)","v":3},{"$f":"SUM($F49:EU49)","v":3},{"$f":"SUM($F49:EV49)","v":3},{"$f":"SUM($F49:EW49)","v":3},{"$f":"SUM($F49:EX49)","v":3},{"$f":"SUM($F49:EY49)","v":3},{"$f":"SUM($F49:EZ49)","v":3},{"$f":"SUM($F49:FA49)","v":3},{"$f":"SUM($F49:FB49)","v":3},{"$f":"SUM($F49:FC49)","v":3},{"$f":"SUM($F49:FD49)","v":3},{"$f":"SUM($F49:FE49)","v":3},{"$f":"SUM($F49:FF49)","v":3},{"$f":"SUM($F49:FG49)","v":3},{"$f":"SUM($F49:FH49)","v":3},{"$f":"SUM($F49:FI49)","v":3},{"$f":"SUM($F49:FJ49)","v":3},{"$f":"SUM($F49:FK49)","v":3},{"$f":"SUM($F49:FL49)","v":3},{"$f":"SUM($F49:FM49)","v":3},{"$f":"SUM($F49:FN49)","v":3},{"$f":"SUM($F49:FO49)","v":3},{"$f":"SUM($F49:FP49)","v":3},{"$f":"SUM($F49:FQ49)","v":3},{"$f":"SUM($F49:FR49)","v":3},{"$f":"SUM($F49:FS49)","v":3},{"$f":"SUM($F49:FT49)","v":3},{"$f":"SUM($F49:FU49)","v":3},{"$f":"SUM($F49:FV49)","v":3},{"$f":"SUM($F49:FW49)","v":3},{"$f":"SUM($F49:FX49)","v":3},{"$f":"SUM($F49:FY49)","v":3},{"$f":"SUM($F49:FZ49)","v":3},{"$f":"SUM($F49:GA49)","v":3},{"$f":"SUM($F49:GB49)","v":3},{"$f":"SUM($F49:GC49)","v":3},{"$f":"SUM($F49:GD49)","v":3},{"$f":"SUM($F49:GE49)","v":3},{"$f":"SUM($F49:GF49)","v":3},{"$f":"SUM($F49:GG49)","v":3},{"$f":"SUM($F49:GH49)","v":3},{"$f":"SUM($F49:GI49)","v":3},{"$f":"SUM($F49:GJ49)","v":3},{"$f":"SUM($F49:GK49)","v":3},{"$f":"SUM($F49:GL49)","v":3},{"$f":"SUM($F49:GM49)","v":3},{"$f":"SUM($F49:GN49)","v":3},{"$f":"SUM($F49:GO49)","v":3},{"$f":"SUM($F49:GP49)","v":3},{"$f":"SUM($F49:GQ49)","v":3},{"$f":"SUM($F49:GR49)","v":3},{"$f":"SUM($F49:GS49)","v":3},{"$f":"SUM($F49:GT49)","v":3},{"$f":"SUM($F49:GU49)","v":3},{"$f":"SUM($F49:GV49)","v":3},{"$f":"SUM($F49:GW49)","v":3},{"$f":"SUM($F49:GX49)","v":3},{"$f":"SUM($F49:GY49)","v":3},{"$f":"SUM($F49:GZ49)","v":3},{"$f":"SUM($F49:HA49)","v":3},{"$f":"SUM($F49:HB49)","v":3},{"$f":"SUM($F49:HC49)","v":3},{"$f":"SUM($F49:HD49)","v":3},{"$f":"SUM($F49:HE49)","v":3},{"$f":"SUM($F49:HF49)","v":3},{"$f":"SUM($F49:HG49)","v":3},{"$f":"SUM($F49:HH49)","v":3},{"$f":"SUM($F49:HI49)","v":3},{"$f":"SUM($F49:HJ49)","v":3},{"$f":"SUM($F49:HK49)","v":3},{"$f":"SUM($F49:HL49)","v":3},{"$f":"SUM($F49:HM49)","v":3},{"$f":"SUM($F49:HN49)","v":3},{"$f":"SUM($F49:HO49)","v":3},{"$f":"SUM($F49:HP49)","v":3},{"$f":"SUM($F49:HQ49)","v":3},{"$f":"SUM($F49:HR49)","v":3},{"$f":"SUM($F49:HS49)","v":3},{"$f":"SUM($F49:HT49)","v":3},{"$f":"SUM($F49:HU49)","v":3},{"$f":"SUM($F49:HV49)","v":3},{"$f":"SUM($F49:HW49)","v":3},{"$f":"SUM($F49:HX49)","v":3},{"$f":"SUM($F49:HY49)","v":3},{"$f":"SUM($F49:HZ49)","v":3},{"$f":"SUM($F49:IA49)","v":3},{"$f":"SUM($F49:IB49)","v":3},{"$f":"SUM($F49:IC49)","v":3},{"$f":"SUM($F49:ID49)","v":3},{"$f":"SUM($F49:IE49)","v":3},{"$f":"SUM($F49:IF49)","v":3},{"$f":"SUM($F49:IG49)","v":3},{"$f":"SUM($F49:IH49)","v":3},{"$f":"SUM($F49:II49)","v":3},{"$f":"SUM($F49:IJ49)","v":3},{"$f":"SUM($F49:IK49)","v":3},{"$f":"SUM($F49:IL49)","v":3},{"$f":"SUM($F49:IM49)","v":3},{"$f":"SUM($F49:IN49)","v":3},{"$f":"SUM($F49:IO49)","v":3},{"$f":"SUM($F49:IP49)","v":3},{"$f":"SUM($F49:IQ49)","v":3},{"$f":"SUM($F49:IR49)","v":3},{"$f":"SUM($F49:IS49)","v":3},{"$f":"SUM($F49:IT49)","v":3},{"$f":"SUM($F49:IU49)","v":3},{"$f":"SUM($F49:IV49)","v":3},{"$f":"SUM($F49:IW49)","v":3},{"$f":"SUM($F49:IX49)","v":3},{"$f":"SUM($F49:IY49)","v":3},{"$f":"SUM($F49:IZ49)","v":3},{"$f":"SUM($F49:JA49)","v":3},{"$f":"SUM($F49:JB49)","v":3},{"$f":"SUM($F49:JC49)","v":3},{"$f":"SUM($F49:JD49)","v":3},{"$f":"SUM($F49:JE49)","v":3},{"$f":"SUM($F49:JF49)","v":3},{"$f":"SUM($F49:JG49)","v":3},{"$f":"SUM($F49:JH49)","v":3},{"$f":"SUM($F49:JI49)","v":3},{"$f":"SUM($F49:JJ49)","v":3},{"$f":"SUM($F49:JK49)","v":3},{"$f":"SUM($F49:JL49)","v":3},{"$f":"SUM($F49:JM49)","v":3},{"$f":"SUM($F49:JN49)","v":3},{"$f":"SUM($F49:JO49)","v":3},{"$f":"SUM($F49:JP49)","v":3},{"$f":"SUM($F49:JQ49)","v":3},{"$f":"SUM($F49:JR49)","v":3},{"$f":"SUM($F49:JS49)","v":3},{"$f":"SUM($F49:JT49)","v":3},{"$f":"SUM($F49:JU49)","v":3},{"$f":"SUM($F49:JV49)","v":3},{"$f":"SUM($F49:JW49)","v":3},{"$f":"SUM($F49:JX49)","v":3},{"$f":"SUM($F49:JY49)","v":3},{"$f":"SUM($F49:JZ49)","v":3},{"$f":"SUM($F49:KA49)","v":3},{"$f":"SUM($F49:KB49)","v":3},{"$f":"SUM($F49:KC49)","v":3},{"$f":"SUM($F49:KD49)","v":3},{"$f":"SUM($F49:KE49)","v":3},{"$f":"SUM($F49:KF49)","v":3},{"$f":"SUM($F49:KG49)","v":3},{"$f":"SUM($F49:KH49)","v":3},{"$f":"SUM($F49:KI49)","v":3},{"$f":"SUM($F49:KJ49)","v":3},{"$f":"SUM($F49:KK49)","v":3},{"$f":"SUM($F49:KL49)","v":3},{"$f":"SUM($F49:KM49)","v":3},{"$f":"SUM($F49:KN49)","v":3},{"$f":"SUM($F49:KO49)","v":3},{"$f":"SUM($F49:KP49)","v":3},{"$f":"SUM($F49:KQ49)","v":3},{"$f":"SUM($F49:KR49)","v":3},{"$f":"SUM($F49:KS49)","v":3},{"$f":"SUM($F49:KT49)","v":3},{"$f":"SUM($F49:KU49)","v":3},{"$f":"SUM($F49:KV49)","v":3},{"$f":"SUM($F49:KW49)","v":3},{"$f":"SUM($F49:KX49)","v":3},{"$f":"SUM($F49:KY49)","v":3},{"$f":"SUM($F49:KZ49)","v":3},{"$f":"SUM($F49:LA49)","v":3},{"$f":"SUM($F49:LB49)","v":3},{"$f":"SUM($F49:LC49)","v":3},{"$f":"SUM($F49:LD49)","v":3},{"$f":"SUM($F49:LE49)","v":3},{"$f":"SUM($F49:LF49)","v":3},{"$f":"SUM($F49:LG49)","v":3},{"$f":"SUM($F49:LH49)","v":3},{"$f":"SUM($F49:LI49)","v":3},{"$f":"SUM($F49:LJ49)","v":3},{"$f":"SUM($F49:LK49)","v":3},{"$f":"SUM($F49:LL49)","v":3},{"$f":"SUM($F49:LM49)","v":3},{"$f":"SUM($F49:LN49)","v":3},{"$f":"SUM($F49:LO49)","v":3},{"$f":"SUM($F49:LP49)","v":3},{"$f":"SUM($F49:LQ49)","v":3},{"$f":"SUM($F49:LR49)","v":3},{"$f":"SUM($F49:LS49)","v":3},{"$f":"SUM($F49:LT49)","v":3},{"$f":"SUM($F49:LU49)","v":3},{"$f":"SUM($F49:LV49)","v":3},{"$f":"SUM($F49:LW49)","v":3},{"$f":"SUM($F49:LX49)","v":3},{"$f":"SUM($F49:LY49)","v":3},{"$f":"SUM($F49:LZ49)","v":3},{"$f":"SUM($F49:MA49)","v":3},{"$f":"SUM($F49:MB49)","v":3},{"$f":"SUM($F49:MC49)","v":3},{"$f":"SUM($F49:MD49)","v":3},{"$f":"SUM($F49:ME49)","v":3},{"$f":"SUM($F49:MF49)","v":3},{"$f":"SUM($F49:MG49)","v":3},{"$f":"SUM($F49:MH49)","v":3},{"$f":"SUM($F49:MI49)","v":3},{"$f":"SUM($F49:MJ49)","v":3},{"$f":"SUM($F49:MK49)","v":3},{"$f":"SUM($F49:ML49)","v":3},{"$f":"SUM($F49:MM49)","v":3},{"$f":"SUM($F49:MN49)","v":3},{"$f":"SUM($F49:MO49)","v":3},{"$f":"SUM($F49:MP49)","v":3},{"$f":"SUM($F49:MQ49)","v":3},{"$f":"SUM($F49:MR49)","v":3},{"$f":"SUM($F49:MS49)","v":3},{"$f":"SUM($F49:MT49)","v":3},{"$f":"SUM($F49:MU49)","v":3},{"$f":"SUM($F49:MV49)","v":3},{"$f":"SUM($F49:MW49)","v":3},{"$f":"SUM($F49:MX49)","v":3},{"$f":"SUM($F49:MY49)","v":3},{"$f":"SUM($F49:MZ49)","v":3},{"$f":"SUM($F49:NA49)","v":3},{"$f":"SUM($F49:NB49)","v":3},{"$f":"SUM($F49:NC49)","v":3},{"$f":"SUM($F49:ND49)","v":3},{"$f":"SUM($F49:NE49)","v":3},{"$f":"SUM($F49:NF49)","v":3},{"$f":"SUM($F49:NG49)","v":3},{"$f":"SUM($F49:NH49)","v":3},{"$f":"SUM($F49:NI49)","v":3},{"$f":"SUM($F49:NJ49)","v":3},{"$f":"SUM($F49:NK49)","v":3},{"$f":"SUM($F49:NL49)","v":3},{"$f":"SUM($F49:NM49)","v":3},{"$f":"SUM($F49:NN49)","v":3},{"$f":"SUM($F49:NO49)","v":3},{"$f":"SUM($F49:NP49)","v":3},{"$f":"SUM($F49:NQ49)","v":3},{"$f":"SUM($F49:NR49)","v":3},{"$f":"SUM($F49:NS49)","v":3},{"$f":"SUM($F49:NT49)","v":3},{"$f":"SUM($F49:NU49)","v":3},{"$f":"SUM($F49:NV49)","v":3},{"$f":"SUM($F49:NW49)","v":3},{"$f":"SUM($F49:NX49)","v":3},{"$f":"SUM($F49:NY49)","v":3},{"$f":"SUM($F49:NZ49)","v":3},{"$f":"SUM($F49:OA49)","v":3},{"$f":"SUM($F49:OB49)","v":3},{"$f":"SUM($F49:OC49)","v":3},{"$f":"SUM($F49:OD49)","v":3},{"$f":"SUM($F49:OE49)","v":3},{"$f":"SUM($F49:OF49)","v":3},{"$f":"SUM($F49:OG49)","v":3},{"$f":"SUM($F49:OH49)","v":3},{"$f":"SUM($F49:OI49)","v":3},{"$f":"SUM($F49:OJ49)","v":3},{"$f":"SUM($F49:OK49)","v":3},{"$f":"SUM($F49:OL49)","v":3},{"$f":"SUM($F49:OM49)","v":3},{"$f":"SUM($F49:ON49)","v":3},{"$f":"SUM($F49:OO49)","v":3},{"$f":"SUM($F49:OP49)","v":3},{"$f":"SUM($F49:OQ49)","v":3},{"$f":"SUM($F49:OR49)","v":3},{"$f":"SUM($F49:OS49)","v":3},{"$f":"SUM($F49:OT49)","v":3},{"$f":"SUM($F49:OU49)","v":3},{"$f":"SUM($F49:OV49)","v":3},{"$f":"SUM($F49:OW49)","v":3},{"$f":"SUM($F49:OX49)","v":3},{"$f":"SUM($F49:OY49)","v":3},{"$f":"SUM($F49:OZ49)","v":3},{"$f":"SUM($F49:PA49)","v":3},{"$f":"SUM($F49:PB49)","v":3},{"$f":"SUM($F49:PC49)","v":3},{"$f":"SUM($F49:PD49)","v":3},{"$f":"SUM($F49:PE49)","v":3},{"$f":"SUM($F49:PF49)","v":3},{"$f":"SUM($F49:PG49)","v":3},{"$f":"SUM($F49:PH49)","v":3},{"$f":"SUM($F49:PI49)","v":3},{"$f":"SUM($F49:PJ49)","v":3},{"$f":"SUM($F49:PK49)","v":3},{"$f":"SUM($F49:PL49)","v":3},{"$f":"SUM($F49:PM49)","v":3},{"$f":"SUM($F49:PN49)","v":3},{"$f":"SUM($F49:PO49)","v":3},{"$f":"SUM($F49:PP49)","v":3},{"$f":"SUM($F49:PQ49)","v":3},{"$f":"SUM($F49:PR49)","v":3},{"$f":"SUM($F49:PS49)","v":3},{"$f":"SUM($F49:PT49)","v":3},{"$f":"SUM($F49:PU49)","v":3},{"$f":"SUM($F49:PV49)","v":3},{"$f":"SUM($F49:PW49)","v":3},{"$f":"SUM($F49:PX49)","v":3},{"$f":"SUM($F49:PY49)","v":3},{"$f":"SUM($F49:PZ49)","v":3},{"$f":"SUM($F49:QA49)","v":3},{"$f":"SUM($F49:QB49)","v":3},{"$f":"SUM($F49:QC49)","v":3},{"$f":"SUM($F49:QD49)","v":3},{"$f":"SUM($F49:QE49)","v":3},{"$f":"SUM($F49:QF49)","v":3},{"$f":"SUM($F49:QG49)","v":3},{"$f":"SUM($F49:QH49)","v":3},{"$f":"SUM($F49:QI49)","v":3},{"$f":"SUM($F49:QJ49)","v":3},{"$f":"SUM($F49:QK49)","v":3},{"$f":"SUM($F49:QL49)","v":3},{"$f":"SUM($F49:QM49)","v":3},{"$f":"SUM($F49:QN49)","v":3},{"$f":"SUM($F49:QO49)","v":3},{"$f":"SUM($F49:QP49)","v":3},{"$f":"SUM($F49:QQ49)","v":3},{"$f":"SUM($F49:QR49)","v":3},{"$f":"SUM($F49:QS49)","v":3},{"$f":"SUM($F49:QT49)","v":3},{"$f":"SUM($F49:QU49)","v":3},{"$f":"SUM($F49:QV49)","v":3},{"$f":"SUM($F49:QW49)","v":3},{"$f":"SUM($F49:QX49)","v":3},{"$f":"SUM($F49:QY49)","v":3},{"$f":"SUM($F49:QZ49)","v":3},{"$f":"SUM($F49:RA49)","v":3},{"$f":"SUM($F49:RB49)","v":3},{"$f":"SUM($F49:RC49)","v":3},{"$f":"SUM($F49:RD49)","v":3},{"$f":"SUM($F49:RE49)","v":3},{"$f":"SUM($F49:RF49)","v":3},{"$f":"SUM($F49:RG49)","v":3},{"$f":"SUM($F49:RH49)","v":3},{"$f":"SUM($F49:RI49)","v":3},{"$f":"SUM($F49:RJ49)","v":3},{"$f":"SUM($F49:RK49)","v":3},{"$f":"SUM($F49:RL49)","v":3},{"$f":"SUM($F49:RM49)","v":3},{"$f":"SUM($F49:RN49)","v":3},{"$f":"SUM($F49:RO49)","v":3},{"$f":"SUM($F49:RP49)","v":3},{"$f":"SUM($F49:RQ49)","v":3},{"$f":"SUM($F49:RR49)","v":3},{"$f":"SUM($F49:RS49)","v":3},{"$f":"SUM($F49:RT49)","v":3},{"$f":"SUM($F49:RU49)","v":3},{"$f":"SUM($F49:RV49)","v":3},{"$f":"SUM($F49:RW49)","v":3},{"$f":"SUM($F49:RX49)","v":3},{"$f":"SUM($F49:RY49)","v":3},{"$f":"SUM($F49:RZ49)","v":3},{"$f":"SUM($F49:SA49)","v":3},{"$f":"SUM($F49:SB49)","v":3},{"$f":"SUM($F49:SC49)","v":3},{"$f":"SUM($F49:SD49)","v":3},{"$f":"SUM($F49:SE49)","v":3},{"$f":"SUM($F49:SF49)","v":3},{"$f":"SUM($F49:SG49)","v":3},{"$f":"SUM($F49:SH49)","v":3},{"$f":"SUM($F49:SI49)","v":3},{"$f":"SUM($F49:SJ49)","v":3},{"$f":"SUM($F49:SK49)","v":3},{"$f":"SUM($F49:SL49)","v":3},{"$f":"SUM($F49:SM49)","v":3},{"$f":"SUM($F49:SN49)","v":3},{"$f":"SUM($F49:SO49)","v":3},{"$f":"SUM($F49:SP49)","v":3},{"$f":"SUM($F49:SQ49)","v":3},{"$f":"SUM($F49:SR49)","v":3},{"$f":"SUM($F49:SS49)","v":3},{"$f":"SUM($F49:ST49)","v":3},{"$f":"SUM($F49:SU49)","v":3},{"$f":"SUM($F49:SV49)","v":3},{"$f":"SUM($F49:SW49)","v":3},{"$f":"SUM($F49:SX49)","v":3},{"$f":"SUM($F49:SY49)","v":3},{"$f":"SUM($F49:SZ49)","v":3},{"$f":"SUM($F49:TA49)","v":3},{"$f":"SUM($F49:TB49)","v":3},{"$f":"SUM($F49:TC49)","v":3},{"$f":"SUM($F49:TD49)","v":3},{"$f":"SUM($F49:TE49)","v":3},{"$f":"SUM($F49:TF49)","v":3},{"$f":"SUM($F49:TG49)","v":3},{"$f":"SUM($F49:TH49)","v":3},{"$f":"SUM($F49:TI49)","v":3},{"$f":"SUM($F49:TJ49)","v":3},{"$f":"SUM($F49:TK49)","v":3},{"$f":"SUM($F49:TL49)","v":3},{"$f":"SUM($F49:TM49)","v":3},{"$f":"SUM($F49:TN49)","v":3},{"$f":"SUM($F49:TO49)","v":3},{"$f":"SUM($F49:TP49)","v":3},{"$f":"SUM($F49:TQ49)","v":3},{"$f":"SUM($F49:TR49)","v":3},{"$f":"SUM($F49:TS49)","v":3},{"$f":"SUM($F49:TT49)","v":3},{"$f":"SUM($F49:TU49)","v":3},{"$f":"SUM($F49:TV49)","v":3},{"$f":"SUM($F49:TW49)","v":3},{"$f":"SUM($F49:TX49)","v":3},{"$f":"SUM($F49:TY49)","v":3},{"$f":"SUM($F49:TZ49)","v":3},{"$f":"SUM($F49:UA49)","v":3},{"$f":"SUM($F49:UB49)","v":3},{"$f":"SUM($F49:UC49)","v":3},{"$f":"SUM($F49:UD49)","v":3},{"$f":"SUM($F49:UE49)","v":3},{"$f":"SUM($F49:UF49)","v":3},{"$f":"SUM($F49:UG49)","v":3},{"$f":"SUM($F49:UH49)","v":3},{"$f":"SUM($F49:UI49)","v":3},{"$f":"SUM($F49:UJ49)","v":3},{"$f":"SUM($F49:UK49)","v":3},{"$f":"SUM($F49:UL49)","v":3},{"$f":"SUM($F49:UM49)","v":3},{"$f":"SUM($F49:UN49)","v":3},{"$f":"SUM($F49:UO49)","v":3},{"$f":"SUM($F49:UP49)","v":3},{"$f":"SUM($F49:UQ49)","v":3},{"$f":"SUM($F49:UR49)","v":3},{"$f":"SUM($F49:US49)","v":3},{"$f":"SUM($F49:UT49)","v":3},{"$f":"SUM($F49:UU49)","v":3},{"$f":"SUM($F49:UV49)","v":3},{"$f":"SUM($F49:UW49)","v":3},{"$f":"SUM($F49:UX49)","v":3},{"$f":"SUM($F49:UY49)","v":3},{"$f":"SUM($F49:UZ49)","v":3},{"$f":"SUM($F49:VA49)","v":3},{"$f":"SUM($F49:VB49)","v":3},{"$f":"SUM($F49:VC49)","v":3},{"$f":"SUM($F49:VD49)","v":3},{"$f":"SUM($F49:VE49)","v":3},{"$f":"SUM($F49:VF49)","v":3},{"$f":"SUM($F49:VG49)","v":3},{"$f":"SUM($F49:VH49)","v":3},{"$f":"SUM($F49:VI49)","v":3},{"$f":"SUM($F49:VJ49)","v":3},{"$f":"SUM($F49:VK49)","v":3},{"$f":"SUM($F49:VL49)","v":3},{"$f":"SUM($F49:VM49)","v":3},{"$f":"SUM($F49:VN49)","v":3},{"$f":"SUM($F49:VO49)","v":3},{"$f":"SUM($F49:VP49)","v":3},{"$f":"SUM($F49:VQ49)","v":3},{"$f":"SUM($F49:VR49)","v":3},{"$f":"SUM($F49:VS49)","v":3},{"$f":"SUM($F49:VT49)","v":3},{"$f":"SUM($F49:VU49)","v":3},{"$f":"SUM($F49:VV49)","v":3},{"$f":"SUM($F49:VW49)","v":3},{"$f":"SUM($F49:VX49)","v":3},{"$f":"SUM($F49:VY49)","v":3},{"$f":"SUM($F49:VZ49)","v":3},{"$f":"SUM($F49:WA49)","v":3},{"$f":"SUM($F49:WB49)","v":3},{"$f":"SUM($F49:WC49)","v":3},{"$f":"SUM($F49:WD49)","v":3},{"$f":"SUM($F49:WE49)","v":3},{"$f":"SUM($F49:WF49)","v":3},{"$f":"SUM($F49:WG49)","v":3},{"$f":"SUM($F49:WH49)","v":3},{"$f":"SUM($F49:WI49)","v":3},{"$f":"SUM($F49:WJ49)","v":3},{"$f":"SUM($F49:WK49)","v":3},{"$f":"SUM($F49:WL49)","v":3},{"$f":"SUM($F49:WM49)","v":3},{"$f":"SUM($F49:WN49)","v":3},{"$f":"SUM($F49:WO49)","v":3},{"$f":"SUM($F49:WP49)","v":3},{"$f":"SUM($F49:WQ49)","v":3},{"$f":"SUM($F49:WR49)","v":3},{"$f":"SUM($F49:WS49)","v":3},{"$f":"SUM($F49:WT49)","v":3},{"$f":"SUM($F49:WU49)","v":3},{"$f":"SUM($F49:WV49)","v":3},{"$f":"SUM($F49:WW49)","v":3},{"$f":"SUM($F49:WX49)","v":3},{"$f":"SUM($F49:WY49)","v":3},{"$f":"SUM($F49:WZ49)","v":3},{"$f":"SUM($F49:XA49)","v":3},{"$f":"SUM($F49:XB49)","v":3},{"$f":"SUM($F49:XC49)","v":3},{"$f":"SUM($F49:XD49)","v":3},{"$f":"SUM($F49:XE49)","v":3},{"$f":"SUM($F49:XF49)","v":3},{"$f":"SUM($F49:XG49)","v":3},{"$f":"SUM($F49:XH49)","v":3},{"$f":"SUM($F49:XI49)","v":3},{"$f":"SUM($F49:XJ49)","v":3},{"$f":"SUM($F49:XK49)","v":3},{"$f":"SUM($F49:XL49)","v":3},{"$f":"SUM($F49:XM49)","v":3},{"$f":"SUM($F49:XN49)","v":3},{"$f":"SUM($F49:XO49)","v":3},{"$f":"SUM($F49:XP49)","v":3},{"$f":"SUM($F49:XQ49)","v":3},{"$f":"SUM($F49:XR49)","v":3},{"$f":"SUM($F49:XS49)","v":3},{"$f":"SUM($F49:XT49)","v":3},{"$f":"SUM($F49:XU49)","v":3},{"$f":"SUM($F49:XV49)","v":3},{"$f":"SUM($F49:XW49)","v":3},{"$f":"SUM($F49:XX49)","v":3},{"$f":"SUM($F49:XY49)","v":3},{"$f":"SUM($F49:XZ49)","v":3},{"$f":"SUM($F49:YA49)","v":3},{"$f":"SUM($F49:YB49)","v":3},{"$f":"SUM($F49:YC49)","v":3},{"$f":"SUM($F49:YD49)","v":3},{"$f":"SUM($F49:YE49)","v":3},{"$f":"SUM($F49:YF49)","v":3},{"$f":"SUM($F49:YG49)","v":3},{"$f":"SUM($F49:YH49)","v":3},{"$f":"SUM($F49:YI49)","v":3},{"$f":"SUM($F49:YJ49)","v":3},{"$f":"SUM($F49:YK49)","v":3},{"$f":"SUM($F49:YL49)","v":3},{"$f":"SUM($F49:YM49)","v":3},{"$f":"SUM($F49:YN49)","v":3},{"$f":"SUM($F49:YO49)","v":3},{"$f":"SUM($F49:YP49)","v":3},{"$f":"SUM($F49:YQ49)","v":3},{"$f":"SUM($F49:YR49)","v":3},{"$f":"SUM($F49:YS49)","v":3},{"$f":"SUM($F49:YT49)","v":3},{"$f":"SUM($F49:YU49)","v":3},{"$f":"SUM($F49:YV49)","v":3},{"$f":"SUM($F49:YW49)","v":3},{"$f":"SUM($F49:YX49)","v":3},{"$f":"SUM($F49:YY49)","v":3},{"$f":"SUM($F49:YZ49)","v":3},{"$f":"SUM($F49:ZA49)","v":3},{"$f":"SUM($F49:ZB49)","v":3},{"$f":"SUM($F49:ZC49)","v":3},{"$f":"SUM($F49:ZD49)","v":3},{"$f":"SUM($F49:ZE49)","v":3},{"$f":"SUM($F49:ZF49)","v":3},{"$f":"SUM($F49:ZG49)","v":3},{"$f":"SUM($F49:ZH49)","v":3},{"$f":"SUM($F49:ZI49)","v":3},{"$f":"SUM($F49:ZJ49)","v":3},{"$f":"SUM($F49:ZK49)","v":3},{"$f":"SUM($F49:ZL49)","v":3},{"$f":"SUM($F49:ZM49)","v":3},{"$f":"SUM($F49:ZN49)","v":3},{"$f":"SUM($F49:ZO49)","v":3},{"$f":"SUM($F49:ZP49)","v":3},{"$f":"SUM($F49:ZQ49)","v":3},{"$f":"SUM($F49:ZR49)","v":3},{"$f":"SUM($F49:ZS49)","v":3},{"$f":"SUM($F49:ZT49)","v":3},{"$f":"SUM($F49:ZU49)","v":3},{"$f":"SUM($F49:ZV49)","v":3},{"$f":"SUM($F49:ZW49)","v":3},{"$f":"SUM($F49:ZX49)","v":3},{"$f":"SUM($F49:ZY49)","v":3},{"$f":"SUM($F49:ZZ49)","v":3},{"$f":"SUM($F49:AAA49)","v":3},{"$f":"SUM($F49:AAB49)","v":3},{"$f":"SUM($F49:AAC49)","v":3},{"$f":"SUM($F49:AAD49)","v":3},{"$f":"SUM($F49:AAE49)","v":3},{"$f":"SUM($F49:AAF49)","v":3},{"$f":"SUM($F49:AAG49)","v":3},{"$f":"SUM($F49:AAH49)","v":3},{"$f":"SUM($F49:AAI49)","v":3},{"$f":"SUM($F49:AAJ49)","v":3},{"$f":"SUM($F49:AAK49)","v":3},{"$f":"SUM($F49:AAL49)","v":3},{"$f":"SUM($F49:AAM49)","v":3},{"$f":"SUM($F49:AAN49)","v":3},{"$f":"SUM($F49:AAO49)","v":3},{"$f":"SUM($F49:AAP49)","v":3},{"$f":"SUM($F49:AAQ49)","v":3},{"$f":"SUM($F49:AAR49)","v":3},{"$f":"SUM($F49:AAS49)","v":3},{"$f":"SUM($F49:AAT49)","v":3},{"$f":"SUM($F49:AAU49)","v":3},{"$f":"SUM($F49:AAV49)","v":3},{"$f":"SUM($F49:AAW49)","v":3},{"$f":"SUM($F49:AAX49)","v":3},{"$f":"SUM($F49:AAY49)","v":3},{"$f":"SUM($F49:AAZ49)","v":3},{"$f":"SUM($F49:ABA49)","v":3},{"$f":"SUM($F49:ABB49)","v":3},{"$f":"SUM($F49:ABC49)","v":3},{"$f":"SUM($F49:ABD49)","v":3},{"$f":"SUM($F49:ABE49)","v":3},{"$f":"SUM($F49:ABF49)","v":3},{"$f":"SUM($F49:ABG49)","v":3},{"$f":"SUM($F49:ABH49)","v":3},{"$f":"SUM($F49:ABI49)","v":3},{"$f":"SUM($F49:ABJ49)","v":3},{"$f":"SUM($F49:ABK49)","v":3},{"$f":"SUM($F49:ABL49)","v":3},{"$f":"SUM($F49:ABM49)","v":3},{"$f":"SUM($F49:ABN49)","v":3},{"$f":"SUM($F49:ABO49)","v":3},{"$f":"SUM($F49:ABP49)","v":3},{"$f":"SUM($F49:ABQ49)","v":3},{"$f":"SUM($F49:ABR49)","v":3},{"$f":"SUM($F49:ABS49)","v":3},{"$f":"SUM($F49:ABT49)","v":3},{"$f":"SUM($F49:ABU49)","v":3},{"$f":"SUM($F49:ABV49)","v":3},{"$f":"SUM($F49:ABW49)","v":3},{"$f":"SUM($F49:ABX49)","v":3},{"$f":"SUM($F49:ABY49)","v":3},{"$f":"SUM($F49:ABZ49)","v":3},{"$f":"SUM($F49:ACA49)","v":3},{"$f":"SUM($F49:ACB49)","v":3},{"$f":"SUM($F49:ACC49)","v":3},{"$f":"SUM($F49:ACD49)","v":3},{"$f":"SUM($F49:ACE49)","v":3},{"$f":"SUM($F49:ACF49)","v":3},{"$f":"SUM($F49:ACG49)","v":3},{"$f":"SUM($F49:ACH49)","v":3},{"$f":"SUM($F49:ACI49)","v":3},{"$f":"SUM($F49:ACJ49)","v":3},{"$f":"SUM($F49:ACK49)","v":3},{"$f":"SUM($F49:ACL49)","v":3},{"$f":"SUM($F49:ACM49)","v":3},{"$f":"SUM($F49:ACN49)","v":3},{"$f":"SUM($F49:ACO49)","v":3},{"$f":"SUM($F49:ACP49)","v":3},{"$f":"SUM($F49:ACQ49)","v":3},{"$f":"SUM($F49:ACR49)","v":3},{"$f":"SUM($F49:ACS49)","v":3},{"$f":"SUM($F49:ACT49)","v":3},{"$f":"SUM($F49:ACU49)","v":3},{"$f":"SUM($F49:ACV49)","v":3},{"$f":"SUM($F49:ACW49)","v":3},{"$f":"SUM($F49:ACX49)","v":3},{"$f":"SUM($F49:ACY49)","v":3},{"$f":"SUM($F49:ACZ49)","v":3},{"$f":"SUM($F49:ADA49)","v":3},{"$f":"SUM($F49:ADB49)","v":3},{"$f":"SUM($F49:ADC49)","v":3},{"$f":"SUM($F49:ADD49)","v":3},{"$f":"SUM($F49:ADE49)","v":3},{"$f":"SUM($F49:ADF49)","v":3},{"$f":"SUM($F49:ADG49)","v":3},{"$f":"SUM($F49:ADH49)","v":3},{"$f":"SUM($F49:ADI49)","v":3},{"$f":"SUM($F49:ADJ49)","v":3},{"$f":"SUM($F49:ADK49)","v":3},{"$f":"SUM($F49:ADL49)","v":3},{"$f":"SUM($F49:ADM49)","v":3},{"$f":"SUM($F49:ADN49)","v":3},{"$f":"SUM($F49:ADO49)","v":3},{"$f":"SUM($F49:ADP49)","v":3},{"$f":"SUM($F49:ADQ49)","v":3},{"$f":"SUM($F49:ADR49)","v":3},{"$f":"SUM($F49:ADS49)","v":3},{"$f":"SUM($F49:ADT49)","v":3},{"$f":"SUM($F49:ADU49)","v":3},{"$f":"SUM($F49:ADV49)","v":3},{"$f":"SUM($F49:ADW49)","v":3},{"$f":"SUM($F49:ADX49)","v":3},{"$f":"SUM($F49:ADY49)","v":3},{"$f":"SUM($F49:ADZ49)","v":3},{"$f":"SUM($F49:AEA49)","v":3},{"$f":"SUM($F49:AEB49)","v":3},{"$f":"SUM($F49:AEC49)","v":3},{"$f":"SUM($F49:AED49)","v":3},{"$f":"SUM($F49:AEE49)","v":3},{"$f":"SUM($F49:AEF49)","v":3},{"$f":"SUM($F49:AEG49)","v":3},{"$f":"SUM($F49:AEH49)","v":3},{"$f":"SUM($F49:AEI49)","v":3},{"$f":"SUM($F49:AEJ49)","v":3},{"$f":"SUM($F49:AEK49)","v":3},{"$f":"SUM($F49:AEL49)","v":3},{"$f":"SUM($F49:AEM49)","v":3},{"$f":"SUM($F49:AEN49)","v":3},{"$f":"SUM($F49:AEO49)","v":3},{"$f":"SUM($F49:AEP49)","v":3},{"$f":"SUM($F49:AEQ49)","v":3},{"$f":"SUM($F49:AER49)","v":3},{"$f":"SUM($F49:AES49)","v":3},{"$f":"SUM($F49:AET49)","v":3},{"$f":"SUM($F49:AEU49)","v":3},{"$f":"SUM($F49:AEV49)","v":3},{"$f":"SUM($F49:AEW49)","v":3},{"$f":"SUM($F49:AEX49)","v":3},{"$f":"SUM($F49:AEY49)","v":3},{"$f":"SUM($F49:AEZ49)","v":3},{"$f":"SUM($F49:AFA49)","v":3},{"$f":"SUM($F49:AFB49)","v":3},{"$f":"SUM($F49:AFC49)","v":3},{"$f":"SUM($F49:AFD49)","v":3},{"$f":"SUM($F49:AFE49)","v":3},{"$f":"SUM($F49:AFF49)","v":3},{"$f":"SUM($F49:AFG49)","v":3},{"$f":"SUM($F49:AFH49)","v":3},{"$f":"SUM($F49:AFI49)","v":3},{"$f":"SUM($F49:AFJ49)","v":3},{"$f":"SUM($F49:AFK49)","v":3},{"$f":"SUM($F49:AFL49)","v":3},{"$f":"SUM($F49:AFM49)","v":3},{"$f":"SUM($F49:AFN49)","v":3},{"$f":"SUM($F49:AFO49)","v":3},{"$f":"SUM($F49:AFP49)","v":3},{"$f":"SUM($F49:AFQ49)","v":3},{"$f":"SUM($F49:AFR49)","v":3},{"$f":"SUM($F49:AFS49)","v":3},{"$f":"SUM($F49:AFT49)","v":3},{"$f":"SUM($F49:AFU49)","v":3},{"$f":"SUM($F49:AFV49)","v":3},{"$f":"SUM($F49:AFW49)","v":3},{"$f":"SUM($F49:AFX49)","v":3},{"$f":"SUM($F49:AFY49)","v":3},{"$f":"SUM($F49:AFZ49)","v":3},{"$f":"SUM($F49:AGA49)","v":3},{"$f":"SUM($F49:AGB49)","v":3},{"$f":"SUM($F49:AGC49)","v":3},{"$f":"SUM($F49:AGD49)","v":3},{"$f":"SUM($F49:AGE49)","v":3},{"$f":"SUM($F49:AGF49)","v":3},{"$f":"SUM($F49:AGG49)","v":3},{"$f":"SUM($F49:AGH49)","v":3},{"$f":"SUM($F49:AGI49)","v":3},{"$f":"SUM($F49:AGJ49)","v":3},{"$f":"SUM($F49:AGK49)","v":3},{"$f":"SUM($F49:AGL49)","v":3},{"$f":"SUM($F49:AGM49)","v":3},{"$f":"SUM($F49:AGN49)","v":3},{"$f":"SUM($F49:AGO49)","v":3},{"$f":"SUM($F49:AGP49)","v":3},{"$f":"SUM($F49:AGQ49)","v":3},{"$f":"SUM($F49:AGR49)","v":3},{"$f":"SUM($F49:AGS49)","v":3},{"$f":"SUM($F49:AGT49)","v":3},{"$f":"SUM($F49:AGU49)","v":3},{"$f":"SUM($F49:AGV49)","v":3},{"$f":"SUM($F49:AGW49)","v":3},{"$f":"SUM($F49:AGX49)","v":3},{"$f":"SUM($F49:AGY49)","v":3},{"$f":"SUM($F49:AGZ49)","v":3},{"$f":"SUM($F49:AHA49)","v":3},{"$f":"SUM($F49:AHB49)","v":3},{"$f":"SUM($F49:AHC49)","v":3},{"$f":"SUM($F49:AHD49)","v":3},{"$f":"SUM($F49:AHE49)","v":3},{"$f":"SUM($F49:AHF49)","v":3},{"$f":"SUM($F49:AHG49)","v":3},{"$f":"SUM($F49:AHH49)","v":3},{"$f":"SUM($F49:AHI49)","v":3},{"$f":"SUM($F49:AHJ49)","v":3},{"$f":"SUM($F49:AHK49)","v":3},{"$f":"SUM($F49:AHL49)","v":3},{"$f":"SUM($F49:AHM49)","v":3},{"$f":"SUM($F49:AHN49)","v":3},{"$f":"SUM($F49:AHO49)","v":3},{"$f":"SUM($F49:AHP49)","v":3},{"$f":"SUM($F49:AHQ49)","v":3},{"$f":"SUM($F49:AHR49)","v":3},{"$f":"SUM($F49:AHS49)","v":3},{"$f":"SUM($F49:AHT49)","v":3},{"$f":"SUM($F49:AHU49)","v":3},{"$f":"SUM($F49:AHV49)","v":3},{"$f":"SUM($F49:AHW49)","v":3},{"$f":"SUM($F49:AHX49)","v":3},{"$f":"SUM($F49:AHY49)","v":3},{"$f":"SUM($F49:AHZ49)","v":3},{"$f":"SUM($F49:AIA49)","v":3},{"$f":"SUM($F49:AIB49)","v":3},{"$f":"SUM($F49:AIC49)","v":3},{"$f":"SUM($F49:AID49)","v":3},{"$f":"SUM($F49:AIE49)","v":3},{"$f":"SUM($F49:AIF49)","v":3},{"$f":"SUM($F49:AIG49)","v":3},{"$f":"SUM($F49:AIH49)","v":3},{"$f":"SUM($F49:AII49)","v":3},{"$f":"SUM($F49:AIJ49)","v":3},{"$f":"SUM($F49:AIK49)","v":3},{"$f":"SUM($F49:AIL49)","v":3},{"$f":"SUM($F49:AIM49)","v":3},{"$f":"SUM($F49:AIN49)","v":3},{"$f":"SUM($F49:AIO49)","v":3},{"$f":"SUM($F49:AIP49)","v":3},{"$f":"SUM($F49:AIQ49)","v":3},{"$f":"SUM($F49:AIR49)","v":3},{"$f":"SUM($F49:AIS49)","v":3},{"$f":"SUM($F49:AIT49)","v":3},{"$f":"SUM($F49:AIU49)","v":3},{"$f":"SUM($F49:AIV49)","v":3},{"$f":"SUM($F49:AIW49)","v":3},{"$f":"SUM($F49:AIX49)","v":3},{"$f":"SUM($F49:AIY49)","v":3},{"$f":"SUM($F49:AIZ49)","v":3},{"$f":"SUM($F49:AJA49)","v":3},{"$f":"SUM($F49:AJB49)","v":3},{"$f":"SUM($F49:AJC49)","v":3},{"$f":"SUM($F49:AJD49)","v":3},{"$f":"SUM($F49:AJE49)","v":3},{"$f":"SUM($F49:AJF49)","v":3},{"$f":"SUM($F49:AJG49)","v":3},{"$f":"SUM($F49:AJH49)","v":3},{"$f":"SUM($F49:AJI49)","v":3},{"$f":"SUM($F49:AJJ49)","v":3},{"$f":"SUM($F49:AJK49)","v":3},{"$f":"SUM($F49:AJL49)","v":3},{"$f":"SUM($F49:AJM49)","v":3},{"$f":"SUM($F49:AJN49)","v":3},{"$f":"SUM($F49:AJO49)","v":3},{"$f":"SUM($F49:AJP49)","v":3},{"$f":"SUM($F49:AJQ49)","v":3},{"$f":"SUM($F49:AJR49)","v":3},{"$f":"SUM($F49:AJS49)","v":3},{"$f":"SUM($F49:AJT49)","v":3},{"$f":"SUM($F49:AJU49)","v":3},{"$f":"SUM($F49:AJV49)","v":3},{"$f":"SUM($F49:AJW49)","v":3},{"$f":"SUM($F49:AJX49)","v":3},{"$f":"SUM($F49:AJY49)","v":3},{"$f":"SUM($F49:AJZ49)","v":3},{"$f":"SUM($F49:AKA49)","v":3},{"$f":"SUM($F49:AKB49)","v":3},{"$f":"SUM($F49:AKC49)","v":3},{"$f":"SUM($F49:AKD49)","v":3},{"$f":"SUM($F49:AKE49)","v":3},{"$f":"SUM($F49:AKF49)","v":3},{"$f":"SUM($F49:AKG49)","v":3},{"$f":"SUM($F49:AKH49)","v":3},{"$f":"SUM($F49:AKI49)","v":3},{"$f":"SUM($F49:AKJ49)","v":3},{"$f":"SUM($F49:AKK49)","v":3},{"$f":"SUM($F49:AKL49)","v":3},{"$f":"SUM($F49:AKM49)","v":3},{"$f":"SUM($F49:AKN49)","v":3},{"$f":"SUM($F49:AKO49)","v":3},{"$f":"SUM($F49:AKP49)","v":3},{"$f":"SUM($F49:AKQ49)","v":3},{"$f":"SUM($F49:AKR49)","v":3},{"$f":"SUM($F49:AKS49)","v":3},{"$f":"SUM($F49:AKT49)","v":3},{"$f":"SUM($F49:AKU49)","v":3},{"$f":"SUM($F49:AKV49)","v":3},{"$f":"SUM($F49:AKW49)","v":3},{"$f":"SUM($F49:AKX49)","v":3},{"$f":"SUM($F49:AKY49)","v":3},{"$f":"SUM($F49:AKZ49)","v":3},{"$f":"SUM($F49:ALA49)","v":3},{"$f":"SUM($F49:ALB49)","v":3},{"$f":"SUM($F49:ALC49)","v":3},{"$f":"SUM($F49:ALD49)","v":3},{"$f":"SUM($F49:ALE49)","v":3},{"$f":"SUM($F49:ALF49)","v":3},{"$f":"SUM($F49:ALG49)","v":3},{"$f":"SUM($F49:ALH49)","v":3},{"$f":"SUM($F49:ALI49)","v":3},{"$f":"SUM($F49:ALJ49)","v":3},{"$f":"SUM($F49:ALK49)","v":3},{"$f":"SUM($F49:ALL49)","v":3},{"$f":"SUM($F49:ALM49)","v":3},{"$f":"SUM($F49:ALN49)","v":3},{"$f":"SUM($F49:ALO49)","v":3},{"$f":"SUM($F49:ALP49)","v":3},{"$f":"SUM($F49:ALQ49)","v":3}]
[7,{"$error":"#N/A"},{"$error":"#N/A"},0,{"$f":"IF(D55=0,IF(SUM(D56:$D$62)=0,\"\",E56),D55)","v":""},{"$f":"SUM($F50:F50)","v":0},{"$f":"SUM($F50:G50)","v":0},{"$f":"SUM($F50:H50)","v":0},{"$f":"SUM($F50:I50)","v":0},{"$f":"SUM($F50:J50)","v":0},{"$f":"SUM($F50:K50)","v":0},{"$f":"SUM($F50:L50)","v":0},{"$f":"SUM($F50:M50)","v":0},{"$f":"SUM($F50:N50)","v":0},{"$f":"SUM($F50:O50)","v":0},{"$f":"SUM($F50:P50)","v":0},{"$f":"SUM($F50:Q50)","v":0},{"$f":"SUM($F50:R50)","v":0},{"$f":"SUM($F50:S50)","v":0},{"$f":"SUM($F50:T50)","v":1},{"$f":"SUM($F50:U50)","v":1},{"$f":"SUM($F50:V50)","v":1},{"$f":"SUM($F50:W50)","v":1},{"$f":"SUM($F50:X50)","v":1},{"$f":"SUM($F50:Y50)","v":1},{"$f":"SUM($F50:Z50)","v":1},{"$f":"SUM($F50:AA50)","v":1},{"$f":"SUM($F50:AB50)","v":1},{"$f":"SUM($F50:AC50)","v":1},{"$f":"SUM($F50:AD50)","v":1},{"$f":"SUM($F50:AE50)","v":1},{"$f":"SUM($F50:AF50)","v":1},{"$f":"SUM($F50:AG50)","v":1},{"$f":"SUM($F50:AH50)","v":1},{"$f":"SUM($F50:AI50)","v":1},{"$f":"SUM($F50:AJ50)","v":1},{"$f":"SUM($F50:AK50)","v":1},{"$f":"SUM($F50:AL50)","v":1},{"$f":"SUM($F50:AM50)","v":1},{"$f":"SUM($F50:AN50)","v":1},{"$f":"SUM($F50:AO50)","v":1},{"$f":"SUM($F50:AP50)","v":1},{"$f":"SUM($F50:AQ50)","v":1},{"$f":"SUM($F50:AR50)","v":1},{"$f":"SUM($F50:AS50)","v":1},{"$f":"SUM($F50:AT50)","v":1},{"$f":"SUM($F50:AU50)","v":1},{"$f":"SUM($F50:AV50)","v":1},{"$f":"SUM($F50:AW50)","v":1},{"$f":"SUM($F50:AX50)","v":1},{"$f":"SUM($F50:AY50)","v":1},{"$f":"SUM($F50:AZ50)","v":1},{"$f":"SUM($F50:BA50)","v":1},{"$f":"SUM($F50:BB50)","v":1},{"$f":"SUM($F50:BC50)","v":1},{"$f":"SUM($F50:BD50)","v":1},{"$f":"SUM($F50:BE50)","v":1},{"$f":"SUM($F50:BF50)","v":1},{"$f":"SUM($F50:BG50)","v":1},{"$f":"SUM($F50:BH50)","v":1},{"$f":"SUM($F50:BI50)","v":1},{"$f":"SUM($F50:BJ50)","v":1},{"$f":"SUM($F50:BK50)","v":1},{"$f":"SUM($F50:BL50)","v":1},{"$f":"SUM($F50:BM50)","v":1},{"$f":"SUM($F50:BN50)","v":1},{"$f":"SUM($F50:BO50)","v":1},{"$f":"SUM($F50:BP50)","v":1},{"$f":"SUM($F50:BQ50)","v":1},{"$f":"SUM($F50:BR50)","v":1},{"$f":"SUM($F50:BS50)","v":1},{"$f":"SUM($F50:BT50)","v":1},{"$f":"SUM($F50:BU50)","v":1},{"$f":"SUM($F50:BV50)","v":1},{"$f":"SUM($F50:BW50)","v":1},{"$f":"SUM($F50:BX50)","v":1},{"$f":"SUM($F50:BY50)","v":1},{"$f":"SUM($F50:BZ50)","v":1},{"$f":"SUM($F50:CA50)","v":1},{"$f":"SUM($F50:CB50)","v":1},{"$f":"SUM($F50:CC50)","v":1},{"$f":"SUM($F50:CD50)","v":1},{"$f":"SUM($F50:CE50)","v":1},{"$f":"SUM($F50:CF50)","v":1},{"$f":"SUM($F50:CG50)","v":1},{"$f":"SUM($F50:CH50)","v":1},{"$f":"SUM($F50:CI50)","v":1},{"$f":"SUM($F50:CJ50)","v":1},{"$f":"SUM($F50:CK50)","v":1},{"$f":"SUM($F50:CL50)","v":1},{"$f":"SUM($F50:CM50)","v":1},{"$f":"SUM($F50:CN50)","v":1},{"$f":"SUM($F50:CO50)","v":1},{"$f":"SUM($F50:CP50)","v":1},{"$f":"SUM($F50:CQ50)","v":1},{"$f":"SUM($F50:CR50)","v":1},{"$f":"SUM($F50:CS50)","v":1},{"$f":"SUM($F50:CT50)","v":1},{"$f":"SUM($F50:CU50)","v":1},{"$f":"SUM($F50:CV50)","v":1},{"$f":"SUM($F50:CW50)","v":1},{"$f":"SUM($F50:CX50)","v":1},{"$f":"SUM($F50:CY50)","v":1},{"$f":"SUM($F50:CZ50)","v":1},{"$f":"SUM($F50:DA50)","v":1},{"$f":"SUM($F50:DB50)","v":1},{"$f":"SUM($F50:DC50)","v":1},{"$f":"SUM($F50:DD50)","v":1},{"$f":"SUM($F50:DE50)","v":1},{"$f":"SUM($F50:DF50)","v":1},{"$f":"SUM($F50:DG50)","v":1},{"$f":"SUM($F50:DH50)","v":1},{"$f":"SUM($F50:DI50)","v":1},{"$f":"SUM($F50:DJ50)","v":1},{"$f":"SUM($F50:DK50)","v":1},{"$f":"SUM($F50:DL50)","v":1},{"$f":"SUM($F50:DM50)","v":1},{"$f":"SUM($F50:DN50)","v":1},{"$f":"SUM($F50:DO50)","v":1},{"$f":"SUM($F50:DP50)","v":1},{"$f":"SUM($F50:DQ50)","v":1},{"$f":"SUM($F50:DR50)","v":1},{"$f":"SUM($F50:DS50)","v":1},{"$f":"SUM($F50:DT50)","v":1},{"$f":"SUM($F50:DU50)","v":1},{"$f":"SUM($F50:DV50)","v":1},{"$f":"SUM($F50:DW50)","v":1},{"$f":"SUM($F50:DX50)","v":1},{"$f":"SUM($F50:DY50)","v":1},{"$f":"SUM($F50:DZ50)","v":1},{"$f":"SUM($F50:EA50)","v":1},{"$f":"SUM($F50:EB50)","v":1},{"$f":"SUM($F50:EC50)","v":1},{"$f":"SUM($F50:ED50)","v":1},{"$f":"SUM($F50:EE50)","v":1},{"$f":"SUM($F50:EF50)","v":1},{"$f":"SUM($F50:EG50)","v":1},{"$f":"SUM($F50:EH50)","v":1},{"$f":"SUM($F50:EI50)","v":1},{"$f":"SUM($F50:EJ50)","v":1},{"$f":"SUM($F50:EK50)","v":1},{"$f":"SUM($F50:EL50)","v":1},{"$f":"SUM($F50:EM50)","v":1},{"$f":"SUM($F50:EN50)","v":1},{"$f":"SUM($F50:EO50)","v":1},{"$f":"SUM($F50:EP50)","v":1},{"$f":"SUM($F50:EQ50)","v":1},{"$f":"SUM($F50:ER50)","v":1},{"$f":"SUM($F50:ES50)","v":1},{"$f":"SUM($F50:ET50)","v":1},{"$f":"SUM($F50:EU50)","v":1},{"$f":"SUM($F50:EV50)","v":1},{"$f":"SUM($F50:EW50)","v":1},{"$f":"SUM($F50:EX50)","v":1},{"$f":"SUM($F50:EY50)","v":1},{"$f":"SUM($F50:EZ50)","v":1},{"$f":"SUM($F50:FA50)","v":1},{"$f":"SUM($F50:FB50)","v":1},{"$f":"SUM($F50:FC50)","v":1},{"$f":"SUM($F50:FD50)","v":1},{"$f":"SUM($F50:FE50)","v":1},{"$f":"SUM($F50:FF50)","v":1},{"$f":"SUM($F50:FG50)","v":1},{"$f":"SUM($F50:FH50)","v":1},{"$f":"SUM($F50:FI50)","v":1},{"$f":"SUM($F50:FJ50)","v":1},{"$f":"SUM($F50:FK50)","v":1},{"$f":"SUM($F50:FL50)","v":1},{"$f":"SUM($F50:FM50)","v":1},{"$f":"SUM($F50:FN50)","v":1},{"$f":"SUM($F50:FO50)","v":1},{"$f":"SUM($F50:FP50)","v":1},{"$f":"SUM($F50:FQ50)","v":1},{"$f":"SUM($F50:FR50)","v":1},{"$f":"SUM($F50:FS50)","v":1},{"$f":"SUM($F50:FT50)","v":1},{"$f":"SUM($F50:FU50)","v":1},{"$f":"SUM($F50:FV50)","v":1},{"$f":"SUM($F50:FW50)","v":1},{"$f":"SUM($F50:FX50)","v":1},{"$f":"SUM($F50:FY50)","v":1},{"$f":"SUM($F50:FZ50)","v":1},{"$f":"SUM($F50:GA50)","v":1},{"$f":"SUM($F50:GB50)","v":1},{"$f":"SUM($F50:GC50)","v":1},{"$f":"SUM($F50:GD50)","v":1},{"$f":"SUM($F50:GE50)","v":1},{"$f":"SUM($F50:GF50)","v":1},{"$f":"SUM($F50:GG50)","v":1},{"$f":"SUM($F50:GH50)","v":1},{"$f":"SUM($F50:GI50)","v":1},{"$f":"SUM($F50:GJ50)","v":1},{"$f":"SUM($F50:GK50)","v":1},{"$f":"SUM($F50:GL50)","v":1},{"$f":"SUM($F50:GM50)","v":1},{"$f":"SUM($F50:GN50)","v":1},{"$f":"SUM($F50:GO50)","v":1},{"$f":"SUM($F50:GP50)","v":1},{"$f":"SUM($F50:GQ50)","v":1},{"$f":"SUM($F50:GR50)","v":1},{"$f":"SUM($F50:GS50)","v":1},{"$f":"SUM($F50:GT50)","v":1},{"$f":"SUM($F50:GU50)","v":1},{"$f":"SUM($F50:GV50)","v":1},{"$f":"SUM($F50:GW50)","v":1},{"$f":"SUM($F50:GX50)","v":1},{"$f":"SUM($F50:GY50)","v":1},{"$f":"SUM($F50:GZ50)","v":1},{"$f":"SUM($F50:HA50)","v":1},{"$f":"SUM($F50:HB50)","v":1},{"$f":"SUM($F50:HC50)","v":1},{"$f":"SUM($F50:HD50)","v":1},{"$f":"SUM($F50:HE50)","v":1},{"$f":"SUM($F50:HF50)","v":1},{"$f":"SUM($F50:HG50)","v":1},{"$f":"SUM($F50:HH50)","v":1},{"$f":"SUM($F50:HI50)","v":1},{"$f":"SUM($F50:HJ50)","v":1},{"$f":"SUM($F50:HK50)","v":1},{"$f":"SUM($F50:HL50)","v":1},{"$f":"SUM($F50:HM50)","v":1},{"$f":"SUM($F50:HN50)","v":1},{"$f":"SUM($F50:HO50)","v":1},{"$f":"SUM($F50:HP50)","v":1},{"$f":"SUM($F50:HQ50)","v":1},{"$f":"SUM($F50:HR50)","v":1},{"$f":"SUM($F50:HS50)","v":1},{"$f":"SUM($F50:HT50)","v":1},{"$f":"SUM($F50:HU50)","v":1},{"$f":"SUM($F50:HV50)","v":1},{"$f":"SUM($F50:HW50)","v":1},{"$f":"SUM($F50:HX50)","v":1},{"$f":"SUM($F50:HY50)","v":1},{"$f":"SUM($F50:HZ50)","v":1},{"$f":"SUM($F50:IA50)","v":1},{"$f":"SUM($F50:IB50)","v":1},{"$f":"SUM($F50:IC50)","v":1},{"$f":"SUM($F50:ID50)","v":1},{"$f":"SUM($F50:IE50)","v":1},{"$f":"SUM($F50:IF50)","v":1},{"$f":"SUM($F50:IG50)","v":1},{"$f":"SUM($F50:IH50)","v":1},{"$f":"SUM($F50:II50)","v":1},{"$f":"SUM($F50:IJ50)","v":1},{"$f":"SUM($F50:IK50)","v":1},{"$f":"SUM($F50:IL50)","v":1},{"$f":"SUM($F50:IM50)","v":1},{"$f":"SUM($F50:IN50)","v":1},{"$f":"SUM($F50:IO50)","v":1},{"$f":"SUM($F50:IP50)","v":1},{"$f":"SUM($F50:IQ50)","v":1},{"$f":"SUM($F50:IR50)","v":1},{"$f":"SUM($F50:IS50)","v":1},{"$f":"SUM($F50:IT50)","v":1},{"$f":"SUM($F50:IU50)","v":1},{"$f":"SUM($F50:IV50)","v":1},{"$f":"SUM($F50:IW50)","v":1},{"$f":"SUM($F50:IX50)","v":1},{"$f":"SUM($F50:IY50)","v":1},{"$f":"SUM($F50:IZ50)","v":1},{"$f":"SUM($F50:JA50)","v":1},{"$f":"SUM($F50:JB50)","v":1},{"$f":"SUM($F50:JC50)","v":1},{"$f":"SUM($F50:JD50)","v":1},{"$f":"SUM($F50:JE50)","v":1},{"$f":"SUM($F50:JF50)","v":1},{"$f":"SUM($F50:JG50)","v":1},{"$f":"SUM($F50:JH50)","v":1},{"$f":"SUM($F50:JI50)","v":1},{"$f":"SUM($F50:JJ50)","v":1},{"$f":"SUM($F50:JK50)","v":1},{"$f":"SUM($F50:JL50)","v":1},{"$f":"SUM($F50:JM50)","v":1},{"$f":"SUM($F50:JN50)","v":1},{"$f":"SUM($F50:JO50)","v":1},{"$f":"SUM($F50:JP50)","v":1},{"$f":"SUM($F50:JQ50)","v":1},{"$f":"SUM($F50:JR50)","v":1},{"$f":"SUM($F50:JS50)","v":1},{"$f":"SUM($F50:JT50)","v":1},{"$f":"SUM($F50:JU50)","v":1},{"$f":"SUM($F50:JV50)","v":1},{"$f":"SUM($F50:JW50)","v":1},{"$f":"SUM($F50:JX50)","v":1},{"$f":"SUM($F50:JY50)","v":1},{"$f":"SUM($F50:JZ50)","v":1},{"$f":"SUM($F50:KA50)","v":1},{"$f":"SUM($F50:KB50)","v":1},{"$f":"SUM($F50:KC50)","v":1},{"$f":"SUM($F50:KD50)","v":1},{"$f":"SUM($F50:KE50)","v":1},{"$f":"SUM($F50:KF50)","v":1},{"$f":"SUM($F50:KG50)","v":1},{"$f":"SUM($F50:KH50)","v":1},{"$f":"SUM($F50:KI50)","v":1},{"$f":"SUM($F50:KJ50)","v":1},{"$f":"SUM($F50:KK50)","v":1},{"$f":"SUM($F50:KL50)","v":1},{"$f":"SUM($F50:KM50)","v":1},{"$f":"SUM($F50:KN50)","v":1},{"$f":"SUM($F50:KO50)","v":1},{"$f":"SUM($F50:KP50)","v":1},{"$f":"SUM($F50:KQ50)","v":1},{"$f":"SUM($F50:KR50)","v":1},{"$f":"SUM($F50:KS50)","v":1},{"$f":"SUM($F50:KT50)","v":1},{"$f":"SUM($F50:KU50)","v":1},{"$f":"SUM($F50:KV50)","v":1},{"$f":"SUM($F50:KW50)","v":1},{"$f":"SUM($F50:KX50)","v":1},{"$f":"SUM($F50:KY50)","v":1},{"$f":"SUM($F50:KZ50)","v":1},{"$f":"SUM($F50:LA50)","v":1},{"$f":"SUM($F50:LB50)","v":1},{"$f":"SUM($F50:LC50)","v":1},{"$f":"SUM($F50:LD50)","v":1},{"$f":"SUM($F50:LE50)","v":1},{"$f":"SUM($F50:LF50)","v":1},{"$f":"SUM($F50:LG50)","v":1},{"$f":"SUM($F50:LH50)","v":1},{"$f":"SUM($F50:LI50)","v":1},{"$f":"SUM($F50:LJ50)","v":1},{"$f":"SUM($F50:LK50)","v":1},{"$f":"SUM($F50:LL50)","v":1},{"$f":"SUM($F50:LM50)","v":1},{"$f":"SUM($F50:LN50)","v":1},{"$f":"SUM($F50:LO50)","v":1},{"$f":"SUM($F50:LP50)","v":1},{"$f":"SUM($F50:LQ50)","v":1},{"$f":"SUM($F50:LR50)","v":1},{"$f":"SUM($F50:LS50)","v":1},{"$f":"SUM($F50:LT50)","v":1},{"$f":"SUM($F50:LU50)","v":1},{"$f":"SUM($F50:LV50)","v":1},{"$f":"SUM($F50:LW50)","v":1},{"$f":"SUM($F50:LX50)","v":1},{"$f":"SUM($F50:LY50)","v":1},{"$f":"SUM($F50:LZ50)","v":1},{"$f":"SUM($F50:MA50)","v":1},{"$f":"SUM($F50:MB50)","v":1},{"$f":"SUM($F50:MC50)","v":1},{"$f":"SUM($F50:MD50)","v":1},{"$f":"SUM($F50:ME50)","v":1},{"$f":"SUM($F50:MF50)","v":1},{"$f":"SUM($F50:MG50)","v":1},{"$f":"SUM($F50:MH50)","v":1},{"$f":"SUM($F50:MI50)","v":1},{"$f":"SUM($F50:MJ50)","v":1},{"$f":"SUM($F50:MK50)","v":1},{"$f":"SUM($F50:ML50)","v":1},{"$f":"SUM($F50:MM50)","v":1},{"$f":"SUM($F50:MN50)","v":1},{"$f":"SUM($F50:MO50)","v":1},{"$f":"SUM($F50:MP50)","v":1},{"$f":"SUM($F50:MQ50)","v":1},{"$f":"SUM($F50:MR50)","v":1},{"$f":"SUM($F50:MS50)","v":1},{"$f":"SUM($F50:MT50)","v":1},{"$f":"SUM($F50:MU50)","v":1},{"$f":"SUM($F50:MV50)","v":1},{"$f":"SUM($F50:MW50)","v":1},{"$f":"SUM($F50:MX50)","v":1},{"$f":"SUM($F50:MY50)","v":1},{"$f":"SUM($F50:MZ50)","v":1},{"$f":"SUM($F50:NA50)","v":1},{"$f":"SUM($F50:NB50)","v":1},{"$f":"SUM($F50:NC50)","v":1},{"$f":"SUM($F50:ND50)","v":1},{"$f":"SUM($F50:NE50)","v":1},{"$f":"SUM($F50:NF50)","v":1},{"$f":"SUM($F50:NG50)","v":1},{"$f":"SUM($F50:NH50)","v":1},{"$f":"SUM($F50:NI50)","v":1},{"$f":"SUM($F50:NJ50)","v":1},{"$f":"SUM($F50:NK50)","v":1},{"$f":"SUM($F50:NL50)","v":1},{"$f":"SUM($F50:NM50)","v":1},{"$f":"SUM($F50:NN50)","v":1},{"$f":"SUM($F50:NO50)","v":1},{"$f":"SUM($F50:NP50)","v":1},{"$f":"SUM($F50:NQ50)","v":1},{"$f":"SUM($F50:NR50)","v":1},{"$f":"SUM($F50:NS50)","v":1},{"$f":"SUM($F50:NT50)","v":1},{"$f":"SUM($F50:NU50)","v":1},{"$f":"SUM($F50:NV50)","v":1},{"$f":"SUM($F50:NW50)","v":1},{"$f":"SUM($F50:NX50)","v":1},{"$f":"SUM($F50:NY50)","v":1},{"$f":"SUM($F50:NZ50)","v":1},{"$f":"SUM($F50:OA50)","v":1},{"$f":"SUM($F50:OB50)","v":1},{"$f":"SUM($F50:OC50)","v":1},{"$f":"SUM($F50:OD50)","v":1},{"$f":"SUM($F50:OE50)","v":1},{"$f":"SUM($F50:OF50)","v":1},{"$f":"SUM($F50:OG50)","v":1},{"$f":"SUM($F50:OH50)","v":1},{"$f":"SUM($F50:OI50)","v":1},{"$f":"SUM($F50:OJ50)","v":1},{"$f":"SUM($F50:OK50)","v":1},{"$f":"SUM($F50:OL50)","v":1},{"$f":"SUM($F50:OM50)","v":1},{"$f":"SUM($F50:ON50)","v":1},{"$f":"SUM($F50:OO50)","v":1},{"$f":"SUM($F50:OP50)","v":1},{"$f":"SUM($F50:OQ50)","v":1},{"$f":"SUM($F50:OR50)","v":1},{"$f":"SUM($F50:OS50)","v":1},{"$f":"SUM($F50:OT50)","v":1},{"$f":"SUM($F50:OU50)","v":1},{"$f":"SUM($F50:OV50)","v":1},{"$f":"SUM($F50:OW50)","v":1},{"$f":"SUM($F50:OX50)","v":1},{"$f":"SUM($F50:OY50)","v":1},{"$f":"SUM($F50:OZ50)","v":1},{"$f":"SUM($F50:PA50)","v":1},{"$f":"SUM($F50:PB50)","v":1},{"$f":"SUM($F50:PC50)","v":1},{"$f":"SUM($F50:PD50)","v":1},{"$f":"SUM($F50:PE50)","v":1},{"$f":"SUM($F50:PF50)","v":1},{"$f":"SUM($F50:PG50)","v":1},{"$f":"SUM($F50:PH50)","v":1},{"$f":"SUM($F50:PI50)","v":1},{"$f":"SUM($F50:PJ50)","v":1},{"$f":"SUM($F50:PK50)","v":1},{"$f":"SUM($F50:PL50)","v":1},{"$f":"SUM($F50:PM50)","v":1},{"$f":"SUM($F50:PN50)","v":1},{"$f":"SUM($F50:PO50)","v":1},{"$f":"SUM($F50:PP50)","v":1},{"$f":"SUM($F50:PQ50)","v":1},{"$f":"SUM($F50:PR50)","v":1},{"$f":"SUM($F50:PS50)","v":1},{"$f":"SUM($F50:PT50)","v":1},{"$f":"SUM($F50:PU50)","v":1},{"$f":"SUM($F50:PV50)","v":1},{"$f":"SUM($F50:PW50)","v":1},{"$f":"SUM($F50:PX50)","v":1},{"$f":"SUM($F50:PY50)","v":1},{"$f":"SUM($F50:PZ50)","v":1},{"$f":"SUM($F50:QA50)","v":1},{"$f":"SUM($F50:QB50)","v":1},{"$f":"SUM($F50:QC50)","v":1},{"$f":"SUM($F50:QD50)","v":1},{"$f":"SUM($F50:QE50)","v":1},{"$f":"SUM($F50:QF50)","v":1},{"$f":"SUM($F50:QG50)","v":1},{"$f":"SUM($F50:QH50)","v":1},{"$f":"SUM($F50:QI50)","v":1},{"$f":"SUM($F50:QJ50)","v":1},{"$f":"SUM($F50:QK50)","v":1},{"$f":"SUM($F50:QL50)","v":1},{"$f":"SUM($F50:QM50)","v":1},{"$f":"SUM($F50:QN50)","v":1},{"$f":"SUM($F50:QO50)","v":1},{"$f":"SUM($F50:QP50)","v":1},{"$f":"SUM($F50:QQ50)","v":1},{"$f":"SUM($F50:QR50)","v":1},{"$f":"SUM($F50:QS50)","v":1},{"$f":"SUM($F50:QT50)","v":1},{"$f":"SUM($F50:QU50)","v":1},{"$f":"SUM($F50:QV50)","v":1},{"$f":"SUM($F50:QW50)","v":1},{"$f":"SUM($F50:QX50)","v":1},{"$f":"SUM($F50:QY50)","v":1},{"$f":"SUM($F50:QZ50)","v":1},{"$f":"SUM($F50:RA50)","v":1},{"$f":"SUM($F50:RB50)","v":1},{"$f":"SUM($F50:RC50)","v":1},{"$f":"SUM($F50:RD50)","v":1},{"$f":"SUM($F50:RE50)","v":1},{"$f":"SUM($F50:RF50)","v":1},{"$f":"SUM($F50:RG50)","v":1},{"$f":"SUM($F50:RH50)","v":1},{"$f":"SUM($F50:RI50)","v":1},{"$f":"SUM($F50:RJ50)","v":1},{"$f":"SUM($F50:RK50)","v":1},{"$f":"SUM($F50:RL50)","v":1},{"$f":"SUM($F50:RM50)","v":1},{"$f":"SUM($F50:RN50)","v":1},{"$f":"SUM($F50:RO50)","v":1},{"$f":"SUM($F50:RP50)","v":1},{"$f":"SUM($F50:RQ50)","v":1},{"$f":"SUM($F50:RR50)","v":1},{"$f":"SUM($F50:RS50)","v":1},{"$f":"SUM($F50:RT50)","v":1},{"$f":"SUM($F50:RU50)","v":1},{"$f":"SUM($F50:RV50)","v":1},{"$f":"SUM($F50:RW50)","v":1},{"$f":"SUM($F50:RX50)","v":1},{"$f":"SUM($F50:RY50)","v":1},{"$f":"SUM($F50:RZ50)","v":1},{"$f":"SUM($F50:SA50)","v":1},{"$f":"SUM($F50:SB50)","v":1},{"$f":"SUM($F50:SC50)","v":1},{"$f":"SUM($F50:SD50)","v":1},{"$f":"SUM($F50:SE50)","v":1},{"$f":"SUM($F50:SF50)","v":1},{"$f":"SUM($F50:SG50)","v":1},{"$f":"SUM($F50:SH50)","v":1},{"$f":"SUM($F50:SI50)","v":1},{"$f":"SUM($F50:SJ50)","v":1},{"$f":"SUM($F50:SK50)","v":1},{"$f":"SUM($F50:SL50)","v":1},{"$f":"SUM($F50:SM50)","v":1},{"$f":"SUM($F50:SN50)","v":1},{"$f":"SUM($F50:SO50)","v":1},{"$f":"SUM($F50:SP50)","v":1},{"$f":"SUM($F50:SQ50)","v":1},{"$f":"SUM($F50:SR50)","v":1},{"$f":"SUM($F50:SS50)","v":1},{"$f":"SUM($F50:ST50)","v":1},{"$f":"SUM($F50:SU50)","v":1},{"$f":"SUM($F50:SV50)","v":1},{"$f":"SUM($F50:SW50)","v":1},{"$f":"SUM($F50:SX50)","v":1},{"$f":"SUM($F50:SY50)","v":1},{"$f":"SUM($F50:SZ50)","v":1},{"$f":"SUM($F50:TA50)","v":1},{"$f":"SUM($F50:TB50)","v":1},{"$f":"SUM($F50:TC50)","v":1},{"$f":"SUM($F50:TD50)","v":1},{"$f":"SUM($F50:TE50)","v":1},{"$f":"SUM($F50:TF50)","v":1},{"$f":"SUM($F50:TG50)","v":1},{"$f":"SUM($F50:TH50)","v":1},{"$f":"SUM($F50:TI50)","v":1},{"$f":"SUM($F50:TJ50)","v":1},{"$f":"SUM($F50:TK50)","v":1},{"$f":"SUM($F50:TL50)","v":1},{"$f":"SUM($F50:TM50)","v":1},{"$f":"SUM($F50:TN50)","v":1},{"$f":"SUM($F50:TO50)","v":1},{"$f":"SUM($F50:TP50)","v":1},{"$f":"SUM($F50:TQ50)","v":1},{"$f":"SUM($F50:TR50)","v":1},{"$f":"SUM($F50:TS50)","v":1},{"$f":"SUM($F50:TT50)","v":1},{"$f":"SUM($F50:TU50)","v":1},{"$f":"SUM($F50:TV50)","v":1},{"$f":"SUM($F50:TW50)","v":1},{"$f":"SUM($F50:TX50)","v":1},{"$f":"SUM($F50:TY50)","v":1},{"$f":"SUM($F50:TZ50)","v":1},{"$f":"SUM($F50:UA50)","v":1},{"$f":"SUM($F50:UB50)","v":1},{"$f":"SUM($F50:UC50)","v":1},{"$f":"SUM($F50:UD50)","v":1},{"$f":"SUM($F50:UE50)","v":1},{"$f":"SUM($F50:UF50)","v":1},{"$f":"SUM($F50:UG50)","v":1},{"$f":"SUM($F50:UH50)","v":1},{"$f":"SUM($F50:UI50)","v":1},{"$f":"SUM($F50:UJ50)","v":1},{"$f":"SUM($F50:UK50)","v":1},{"$f":"SUM($F50:UL50)","v":1},{"$f":"SUM($F50:UM50)","v":1},{"$f":"SUM($F50:UN50)","v":1},{"$f":"SUM($F50:UO50)","v":1},{"$f":"SUM($F50:UP50)","v":1},{"$f":"SUM($F50:UQ50)","v":1},{"$f":"SUM($F50:UR50)","v":1},{"$f":"SUM($F50:US50)","v":1},{"$f":"SUM($F50:UT50)","v":1},{"$f":"SUM($F50:UU50)","v":1},{"$f":"SUM($F50:UV50)","v":1},{"$f":"SUM($F50:UW50)","v":1},{"$f":"SUM($F50:UX50)","v":1},{"$f":"SUM($F50:UY50)","v":1},{"$f":"SUM($F50:UZ50)","v":1},{"$f":"SUM($F50:VA50)","v":1},{"$f":"SUM($F50:VB50)","v":1},{"$f":"SUM($F50:VC50)","v":1},{"$f":"SUM($F50:VD50)","v":1},{"$f":"SUM($F50:VE50)","v":1},{"$f":"SUM($F50:VF50)","v":1},{"$f":"SUM($F50:VG50)","v":1},{"$f":"SUM($F50:VH50)","v":1},{"$f":"SUM($F50:VI50)","v":1},{"$f":"SUM($F50:VJ50)","v":1},{"$f":"SUM($F50:VK50)","v":1},{"$f":"SUM($F50:VL50)","v":1},{"$f":"SUM($F50:VM50)","v":1},{"$f":"SUM($F50:VN50)","v":1},{"$f":"SUM($F50:VO50)","v":1},{"$f":"SUM($F50:VP50)","v":1},{"$f":"SUM($F50:VQ50)","v":1},{"$f":"SUM($F50:VR50)","v":1},{"$f":"SUM($F50:VS50)","v":1},{"$f":"SUM($F50:VT50)","v":1},{"$f":"SUM($F50:VU50)","v":1},{"$f":"SUM($F50:VV50)","v":1},{"$f":"SUM($F50:VW50)","v":1},{"$f":"SUM($F50:VX50)","v":1},{"$f":"SUM($F50:VY50)","v":1},{"$f":"SUM($F50:VZ50)","v":1},{"$f":"SUM($F50:WA50)","v":1},{"$f":"SUM($F50:WB50)","v":1},{"$f":"SUM($F50:WC50)","v":1},{"$f":"SUM($F50:WD50)","v":1},{"$f":"SUM($F50:WE50)","v":1},{"$f":"SUM($F50:WF50)","v":1},{"$f":"SUM($F50:WG50)","v":1},{"$f":"SUM($F50:WH50)","v":1},{"$f":"SUM($F50:WI50)","v":1},{"$f":"SUM($F50:WJ50)","v":1},{"$f":"SUM($F50:WK50)","v":1},{"$f":"SUM($F50:WL50)","v":1},{"$f":"SUM($F50:WM50)","v":1},{"$f":"SUM($F50:WN50)","v":1},{"$f":"SUM($F50:WO50)","v":1},{"$f":"SUM($F50:WP50)","v":1},{"$f":"SUM($F50:WQ50)","v":1},{"$f":"SUM($F50:WR50)","v":1},{"$f":"SUM($F50:WS50)","v":1},{"$f":"SUM($F50:WT50)","v":1},{"$f":"SUM($F50:WU50)","v":1},{"$f":"SUM($F50:WV50)","v":1},{"$f":"SUM($F50:WW50)","v":1},{"$f":"SUM($F50:WX50)","v":1},{"$f":"SUM($F50:WY50)","v":1},{"$f":"SUM($F50:WZ50)","v":1},{"$f":"SUM($F50:XA50)","v":1},{"$f":"SUM($F50:XB50)","v":1},{"$f":"SUM($F50:XC50)","v":1},{"$f":"SUM($F50:XD50)","v":1},{"$f":"SUM($F50:XE50)","v":1},{"$f":"SUM($F50:XF50)","v":1},{"$f":"SUM($F50:XG50)","v":1},{"$f":"SUM($F50:XH50)","v":1},{"$f":"SUM($F50:XI50)","v":1},{"$f":"SUM($F50:XJ50)","v":1},{"$f":"SUM($F50:XK50)","v":1},{"$f":"SUM($F50:XL50)","v":1},{"$f":"SUM($F50:XM50)","v":1},{"$f":"SUM($F50:XN50)","v":1},{"$f":"SUM($F50:XO50)","v":1},{"$f":"SUM($F50:XP50)","v":1},{"$f":"SUM($F50:XQ50)","v":1},{"$f":"SUM($F50:XR50)","v":1},{"$f":"SUM($F50:XS50)","v":1},{"$f":"SUM($F50:XT50)","v":1},{"$f":"SUM($F50:XU50)","v":1},{"$f":"SUM($F50:XV50)","v":1},{"$f":"SUM($F50:XW50)","v":1},{"$f":"SUM($F50:XX50)","v":1},{"$f":"SUM($F50:XY50)","v":1},{"$f":"SUM($F50:XZ50)","v":1},{"$f":"SUM($F50:YA50)","v":1},{"$f":"SUM($F50:YB50)","v":1},{"$f":"SUM($F50:YC50)","v":1},{"$f":"SUM($F50:YD50)","v":1},{"$f":"SUM($F50:YE50)","v":1},{"$f":"SUM($F50:YF50)","v":1},{"$f":"SUM($F50:YG50)","v":1},{"$f":"SUM($F50:YH50)","v":1},{"$f":"SUM($F50:YI50)","v":1},{"$f":"SUM($F50:YJ50)","v":1},{"$f":"SUM($F50:YK50)","v":1},{"$f":"SUM($F50:YL50)","v":1},{"$f":"SUM($F50:YM50)","v":1},{"$f":"SUM($F50:YN50)","v":1},{"$f":"SUM($F50:YO50)","v":1},{"$f":"SUM($F50:YP50)","v":1},{"$f":"SUM($F50:YQ50)","v":1},{"$f":"SUM($F50:YR50)","v":1},{"$f":"SUM($F50:YS50)","v":1},{"$f":"SUM($F50:YT50)","v":1},{"$f":"SUM($F50:YU50)","v":1},{"$f":"SUM($F50:YV50)","v":1},{"$f":"SUM($F50:YW50)","v":1},{"$f":"SUM($F50:YX50)","v":1},{"$f":"SUM($F50:YY50)","v":1},{"$f":"SUM($F50:YZ50)","v":1},{"$f":"SUM($F50:ZA50)","v":1},{"$f":"SUM($F50:ZB50)","v":1},{"$f":"SUM($F50:ZC50)","v":1},{"$f":"SUM($F50:ZD50)","v":1},{"$f":"SUM($F50:ZE50)","v":1},{"$f":"SUM($F50:ZF50)","v":1},{"$f":"SUM($F50:ZG50)","v":1},{"$f":"SUM($F50:ZH50)","v":1},{"$f":"SUM($F50:ZI50)","v":1},{"$f":"SUM($F50:ZJ50)","v":1},{"$f":"SUM($F50:ZK50)","v":1},{"$f":"SUM($F50:ZL50)","v":1},{"$f":"SUM($F50:ZM50)","v":1},{"$f":"SUM($F50:ZN50)","v":1},{"$f":"SUM($F50:ZO50)","v":1},{"$f":"SUM($F50:ZP50)","v":1},{"$f":"SUM($F50:ZQ50)","v":1},{"$f":"SUM($F50:ZR50)","v":1},{"$f":"SUM($F50:ZS50)","v":1},{"$f":"SUM($F50:ZT50)","v":1},{"$f":"SUM($F50:ZU50)","v":1},{"$f":"SUM($F50:ZV50)","v":1},{"$f":"SUM($F50:ZW50)","v":1},{"$f":"SUM($F50:ZX50)","v":1},{"$f":"SUM($F50:ZY50)","v":1},{"$f":"SUM($F50:ZZ50)","v":1},{"$f":"SUM($F50:AAA50)","v":1},{"$f":"SUM($F50:AAB50)","v":1},{"$f":"SUM($F50:AAC50)","v":1},{"$f":"SUM($F50:AAD50)","v":1},{"$f":"SUM($F50:AAE50)","v":1},{"$f":"SUM($F50:AAF50)","v":1},{"$f":"SUM($F50:AAG50)","v":1},{"$f":"SUM($F50:AAH50)","v":1},{"$f":"SUM($F50:AAI50)","v":1},{"$f":"SUM($F50:AAJ50)","v":1},{"$f":"SUM($F50:AAK50)","v":1},{"$f":"SUM($F50:AAL50)","v":1},{"$f":"SUM($F50:AAM50)","v":1},{"$f":"SUM($F50:AAN50)","v":1},{"$f":"SUM($F50:AAO50)","v":1},{"$f":"SUM($F50:AAP50)","v":1},{"$f":"SUM($F50:AAQ50)","v":1},{"$f":"SUM($F50:AAR50)","v":1},{"$f":"SUM($F50:AAS50)","v":1},{"$f":"SUM($F50:AAT50)","v":1},{"$f":"SUM($F50:AAU50)","v":1},{"$f":"SUM($F50:AAV50)","v":1},{"$f":"SUM($F50:AAW50)","v":1},{"$f":"SUM($F50:AAX50)","v":1},{"$f":"SUM($F50:AAY50)","v":1},{"$f":"SUM($F50:AAZ50)","v":1},{"$f":"SUM($F50:ABA50)","v":1},{"$f":"SUM($F50:ABB50)","v":1},{"$f":"SUM($F50:ABC50)","v":1},{"$f":"SUM($F50:ABD50)","v":1},{"$f":"SUM($F50:ABE50)","v":1},{"$f":"SUM($F50:ABF50)","v":1},{"$f":"SUM($F50:ABG50)","v":1},{"$f":"SUM($F50:ABH50)","v":1},{"$f":"SUM($F50:ABI50)","v":1},{"$f":"SUM($F50:ABJ50)","v":1},{"$f":"SUM($F50:ABK50)","v":1},{"$f":"SUM($F50:ABL50)","v":1},{"$f":"SUM($F50:ABM50)","v":1},{"$f":"SUM($F50:ABN50)","v":1},{"$f":"SUM($F50:ABO50)","v":1},{"$f":"SUM($F50:ABP50)","v":1},{"$f":"SUM($F50:ABQ50)","v":1},{"$f":"SUM($F50:ABR50)","v":1},{"$f":"SUM($F50:ABS50)","v":1},{"$f":"SUM($F50:ABT50)","v":1},{"$f":"SUM($F50:ABU50)","v":1},{"$f":"SUM($F50:ABV50)","v":1},{"$f":"SUM($F50:ABW50)","v":1},{"$f":"SUM($F50:ABX50)","v":1},{"$f":"SUM($F50:ABY50)","v":1},{"$f":"SUM($F50:ABZ50)","v":1},{"$f":"SUM($F50:ACA50)","v":1},{"$f":"SUM($F50:ACB50)","v":1},{"$f":"SUM($F50:ACC50)","v":1},{"$f":"SUM($F50:ACD50)","v":1},{"$f":"SUM($F50:ACE50)","v":1},{"$f":"SUM($F50:ACF50)","v":1},{"$f":"SUM($F50:ACG50)","v":1},{"$f":"SUM($F50:ACH50)","v":1},{"$f":"SUM($F50:ACI50)","v":1},{"$f":"SUM($F50:ACJ50)","v":1},{"$f":"SUM($F50:ACK50)","v":1},{"$f":"SUM($F50:ACL50)","v":1},{"$f":"SUM($F50:ACM50)","v":1},{"$f":"SUM($F50:ACN50)","v":1},{"$f":"SUM($F50:ACO50)","v":1},{"$f":"SUM($F50:ACP50)","v":1},{"$f":"SUM($F50:ACQ50)","v":1},{"$f":"SUM($F50:ACR50)","v":1},{"$f":"SUM($F50:ACS50)","v":1},{"$f":"SUM($F50:ACT50)","v":1},{"$f":"SUM($F50:ACU50)","v":1},{"$f":"SUM($F50:ACV50)","v":1},{"$f":"SUM($F50:ACW50)","v":1},{"$f":"SUM($F50:ACX50)","v":1},{"$f":"SUM($F50:ACY50)","v":1},{"$f":"SUM($F50:ACZ50)","v":1},{"$f":"SUM($F50:ADA50)","v":1},{"$f":"SUM($F50:ADB50)","v":1},{"$f":"SUM($F50:ADC50)","v":1},{"$f":"SUM($F50:ADD50)","v":1},{"$f":"SUM($F50:ADE50)","v":1},{"$f":"SUM($F50:ADF50)","v":1},{"$f":"SUM($F50:ADG50)","v":1},{"$f":"SUM($F50:ADH50)","v":1},{"$f":"SUM($F50:ADI50)","v":1},{"$f":"SUM($F50:ADJ50)","v":1},{"$f":"SUM($F50:ADK50)","v":1},{"$f":"SUM($F50:ADL50)","v":1},{"$f":"SUM($F50:ADM50)","v":1},{"$f":"SUM($F50:ADN50)","v":1},{"$f":"SUM($F50:ADO50)","v":1},{"$f":"SUM($F50:ADP50)","v":1},{"$f":"SUM($F50:ADQ50)","v":1},{"$f":"SUM($F50:ADR50)","v":1},{"$f":"SUM($F50:ADS50)","v":1},{"$f":"SUM($F50:ADT50)","v":1},{"$f":"SUM($F50:ADU50)","v":1},{"$f":"SUM($F50:ADV50)","v":1},{"$f":"SUM($F50:ADW50)","v":1},{"$f":"SUM($F50:ADX50)","v":1},{"$f":"SUM($F50:ADY50)","v":1},{"$f":"SUM($F50:ADZ50)","v":1},{"$f":"SUM($F50:AEA50)","v":1},{"$f":"SUM($F50:AEB50)","v":1},{"$f":"SUM($F50:AEC50)","v":1},{"$f":"SUM($F50:AED50)","v":1},{"$f":"SUM($F50:AEE50)","v":1},{"$f":"SUM($F50:AEF50)","v":1},{"$f":"SUM($F50:AEG50)","v":1},{"$f":"SUM($F50:AEH50)","v":1},{"$f":"SUM($F50:AEI50)","v":1},{"$f":"SUM($F50:AEJ50)","v":1},{"$f":"SUM($F50:AEK50)","v":1},{"$f":"SUM($F50:AEL50)","v":1},{"$f":"SUM($F50:AEM50)","v":1},{"$f":"SUM($F50:AEN50)","v":1},{"$f":"SUM($F50:AEO50)","v":1},{"$f":"SUM($F50:AEP50)","v":1},{"$f":"SUM($F50:AEQ50)","v":1},{"$f":"SUM($F50:AER50)","v":1},{"$f":"SUM($F50:AES50)","v":1},{"$f":"SUM($F50:AET50)","v":1},{"$f":"SUM($F50:AEU50)","v":1},{"$f":"SUM($F50:AEV50)","v":1},{"$f":"SUM($F50:AEW50)","v":1},{"$f":"SUM($F50:AEX50)","v":1},{"$f":"SUM($F50:AEY50)","v":1},{"$f":"SUM($F50:AEZ50)","v":1},{"$f":"SUM($F50:AFA50)","v":1},{"$f":"SUM($F50:AFB50)","v":1},{"$f":"SUM($F50:AFC50)","v":1},{"$f":"SUM($F50:AFD50)","v":1},{"$f":"SUM($F50:AFE50)","v":1},{"$f":"SUM($F50:AFF50)","v":1},{"$f":"SUM($F50:AFG50)","v":1},{"$f":"SUM($F50:AFH50)","v":1},{"$f":"SUM($F50:AFI50)","v":1},{"$f":"SUM($F50:AFJ50)","v":1},{"$f":"SUM($F50:AFK50)","v":1},{"$f":"SUM($F50:AFL50)","v":1},{"$f":"SUM($F50:AFM50)","v":1},{"$f":"SUM($F50:AFN50)","v":1},{"$f":"SUM($F50:AFO50)","v":1},{"$f":"SUM($F50:AFP50)","v":1},{"$f":"SUM($F50:AFQ50)","v":1},{"$f":"SUM($F50:AFR50)","v":1},{"$f":"SUM($F50:AFS50)","v":1},{"$f":"SUM($F50:AFT50)","v":1},{"$f":"SUM($F50:AFU50)","v":1},{"$f":"SUM($F50:AFV50)","v":1},{"$f":"SUM($F50:AFW50)","v":1},{"$f":"SUM($F50:AFX50)","v":1},{"$f":"SUM($F50:AFY50)","v":1},{"$f":"SUM($F50:AFZ50)","v":1},{"$f":"SUM($F50:AGA50)","v":1},{"$f":"SUM($F50:AGB50)","v":1},{"$f":"SUM($F50:AGC50)","v":1},{"$f":"SUM($F50:AGD50)","v":1},{"$f":"SUM($F50:AGE50)","v":1},{"$f":"SUM($F50:AGF50)","v":1},{"$f":"SUM($F50:AGG50)","v":1},{"$f":"SUM($F50:AGH50)","v":1},{"$f":"SUM($F50:AGI50)","v":1},{"$f":"SUM($F50:AGJ50)","v":1},{"$f":"SUM($F50:AGK50)","v":1},{"$f":"SUM($F50:AGL50)","v":1},{"$f":"SUM($F50:AGM50)","v":1},{"$f":"SUM($F50:AGN50)","v":1},{"$f":"SUM($F50:AGO50)","v":1},{"$f":"SUM($F50:AGP50)","v":1},{"$f":"SUM($F50:AGQ50)","v":1},{"$f":"SUM($F50:AGR50)","v":1},{"$f":"SUM($F50:AGS50)","v":1},{"$f":"SUM($F50:AGT50)","v":1},{"$f":"SUM($F50:AGU50)","v":1},{"$f":"SUM($F50:AGV50)","v":1},{"$f":"SUM($F50:AGW50)","v":1},{"$f":"SUM($F50:AGX50)","v":1},{"$f":"SUM($F50:AGY50)","v":1},{"$f":"SUM($F50:AGZ50)","v":1},{"$f":"SUM($F50:AHA50)","v":1},{"$f":"SUM($F50:AHB50)","v":1},{"$f":"SUM($F50:AHC50)","v":1},{"$f":"SUM($F50:AHD50)","v":1},{"$f":"SUM($F50:AHE50)","v":1},{"$f":"SUM($F50:AHF50)","v":1},{"$f":"SUM($F50:AHG50)","v":1},{"$f":"SUM($F50:AHH50)","v":1},{"$f":"SUM($F50:AHI50)","v":1},{"$f":"SUM($F50:AHJ50)","v":1},{"$f":"SUM($F50:AHK50)","v":1},{"$f":"SUM($F50:AHL50)","v":1},{"$f":"SUM($F50:AHM50)","v":1},{"$f":"SUM($F50:AHN50)","v":1},{"$f":"SUM($F50:AHO50)","v":1},{"$f":"SUM($F50:AHP50)","v":1},{"$f":"SUM($F50:AHQ50)","v":1},{"$f":"SUM($F50:AHR50)","v":1},{"$f":"SUM($F50:AHS50)","v":1},{"$f":"SUM($F50:AHT50)","v":1},{"$f":"SUM($F50:AHU50)","v":1},{"$f":"SUM($F50:AHV50)","v":1},{"$f":"SUM($F50:AHW50)","v":1},{"$f":"SUM($F50:AHX50)","v":1},{"$f":"SUM($F50:AHY50)","v":1},{"$f":"SUM($F50:AHZ50)","v":1},{"$f":"SUM($F50:AIA50)","v":1},{"$f":"SUM($F50:AIB50)","v":1},{"$f":"SUM($F50:AIC50)","v":1},{"$f":"SUM($F50:AID50)","v":1},{"$f":"SUM($F50:AIE50)","v":1},{"$f":"SUM($F50:AIF50)","v":1},{"$f":"SUM($F50:AIG50)","v":1},{"$f":"SUM($F50:AIH50)","v":1},{"$f":"SUM($F50:AII50)","v":1},{"$f":"SUM($F50:AIJ50)","v":1},{"$f":"SUM($F50:AIK50)","v":1},{"$f":"SUM($F50:AIL50)","v":1},{"$f":"SUM($F50:AIM50)","v":1},{"$f":"SUM($F50:AIN50)","v":1},{"$f":"SUM($F50:AIO50)","v":1},{"$f":"SUM($F50:AIP50)","v":1},{"$f":"SUM($F50:AIQ50)","v":1},{"$f":"SUM($F50:AIR50)","v":1},{"$f":"SUM($F50:AIS50)","v":1},{"$f":"SUM($F50:AIT50)","v":1},{"$f":"SUM($F50:AIU50)","v":1},{"$f":"SUM($F50:AIV50)","v":1},{"$f":"SUM($F50:AIW50)","v":1},{"$f":"SUM($F50:AIX50)","v":1},{"$f":"SUM($F50:AIY50)","v":1},{"$f":"SUM($F50:AIZ50)","v":1},{"$f":"SUM($F50:AJA50)","v":1},{"$f":"SUM($F50:AJB50)","v":1},{"$f":"SUM($F50:AJC50)","v":1},{"$f":"SUM($F50:AJD50)","v":1},{"$f":"SUM($F50:AJE50)","v":1},{"$f":"SUM($F50:AJF50)","v":1},{"$f":"SUM($F50:AJG50)","v":1},{"$f":"SUM($F50:AJH50)","v":1},{"$f":"SUM($F50:AJI50)","v":1},{"$f":"SUM($F50:AJJ50)","v":1},{"$f":"SUM($F50:AJK50)","v":1},{"$f":"SUM($F50:AJL50)","v":1},{"$f":"SUM($F50:AJM50)","v":1},{"$f":"SUM($F50:AJN50)","v":1},{"$f":"SUM($F50:AJO50)","v":1},{"$f":"SUM($F50:AJP50)","v":1},{"$f":"SUM($F50:AJQ50)","v":1},{"$f":"SUM($F50:AJR50)","v":1},{"$f":"SUM($F50:AJS50)","v":1},{"$f":"SUM($F50:AJT50)","v":1},{"$f":"SUM($F50:AJU50)","v":1},{"$f":"SUM($F50:AJV50)","v":1},{"$f":"SUM($F50:AJW50)","v":1},{"$f":"SUM($F50:AJX50)","v":1},{"$f":"SUM($F50:AJY50)","v":1},{"$f":"SUM($F50:AJZ50)","v":1},{"$f":"SUM($F50:AKA50)","v":1},{"$f":"SUM($F50:AKB50)","v":1},{"$f":"SUM($F50:AKC50)","v":1},{"$f":"SUM($F50:AKD50)","v":1},{"$f":"SUM($F50:AKE50)","v":1},{"$f":"SUM($F50:AKF50)","v":1},{"$f":"SUM($F50:AKG50)","v":1},{"$f":"SUM($F50:AKH50)","v":1},{"$f":"SUM($F50:AKI50)","v":1},{"$f":"SUM($F50:AKJ50)","v":1},{"$f":"SUM($F50:AKK50)","v":1},{"$f":"SUM($F50:AKL50)","v":1},{"$f":"SUM($F50:AKM50)","v":1},{"$f":"SUM($F50:AKN50)","v":1},{"$f":"SUM($F50:AKO50)","v":1},{"$f":"SUM($F50:AKP50)","v":1},{"$f":"SUM($F50:AKQ50)","v":1},{"$f":"SUM($F50:AKR50)","v":1},{"$f":"SUM($F50:AKS50)","v":1},{"$f":"SUM($F50:AKT50)","v":1},{"$f":"SUM($F50:AKU50)","v":1},{"$f":"SUM($F50:AKV50)","v":1},{"$f":"SUM($F50:AKW50)","v":1},{"$f":"SUM($F50:AKX50)","v":1},{"$f":"SUM($F50:AKY50)","v":1},{"$f":"SUM($F50:AKZ50)","v":1},{"$f":"SUM($F50:ALA50)","v":1},{"$f":"SUM($F50:ALB50)","v":1},{"$f":"SUM($F50:ALC50)","v":1},{"$f":"SUM($F50:ALD50)","v":1},{"$f":"SUM($F50:ALE50)","v":1},{"$f":"SUM($F50:ALF50)","v":1},{"$f":"SUM($F50:ALG50)","v":1},{"$f":"SUM($F50:ALH50)","v":1},{"$f":"SUM($F50:ALI50)","v":1},{"$f":"SUM($F50:ALJ50)","v":1},{"$f":"SUM($F50:ALK50)","v":1},{"$f":"SUM($F50:ALL50)","v":1},{"$f":"SUM($F50:ALM50)","v":1},{"$f":"SUM($F50:ALN50)","v":1},{"$f":"SUM($F50:ALO50)","v":1},{"$f":"SUM($F50:ALP50)","v":1},{"$f":"SUM($F50:ALQ50)","v":1}]
[8,{"$error":"#N/A"},{"$error":"#N/A"},0,{"$f":"IF(D56=0,IF(SUM(D57:$D$62)=0,\"\",E57),D56)","v":""}]
[9,{"$error":"#N/A"},{"$error":"#N/A"},0,{"$f":"IF(D57=0,IF(SUM(D58:$D$62)=0,\"\",E58),D57)","v":""}]
[10,{"$error":"#N/A"},{"$error":"#N/A"},0,{"$f":"IF(D58=0,IF(SUM(D59:$D$62)=0,\"\",E59),D58)","v":""},{"$f":"F2","v":" x 2²"},{"$f":"F58&G2","v":" x 2² x 3²"},{"$f":"G58&H2","v":" x 2² x 3² x 5"}," x 2² x 3² x 5"," x 2² x 3² x 5"," x 2² x 3² x 5"," x 2² x 3² x 5"," x 2² x 3² x 5"," x 2² x 3² x 5"," x 2² x 3² x 5"," x 2² x 3² x 5"," x 2² x 3² x 5"," x 2² x 3² x 5"," x 2² x 3² x 5"," x 2² x 3² x 5"," x 2² x 3² x 5"," x 2² x 3² x 5"," x 2² x 3² x 5"," x 2² x 3² x 5"," x 2² x 3² x 5"," x 2² x 3² x 5"," x 2² x 3² x 5"," x 2² x 3² x 5"," x 2² x 3² x 5"," x 2² x 3² x 5"," x 2² x 3² x 5"," x 2² x 3² x 5"," x 2² x 3² x 5"," x 2² x 3² x 5"," x 2² x 3² x 5"," x 2² x 3² x 5"," x 2² x 3² x 5"," x 2² x 3² x 5"," x 2² x 3² x 5"," x 2² x 3² x 5"," x 2² x 3² x 5"," x 2² x 3² x 5"," x 2² x 3² x 5"," x 2² x 3² x 5"," x 2² x 3² x 5"," x 2² x 3² x 5"," x 2² x 3² x 5"," x 2² x 3² x 5"," x 2² x 3² x 5"," x 2² x 3² x 5"," x 2² x 3² x 5"," x 2² x 3² x 5"," x 2² x 3² x 5"," x 2² x 3² x 5"," x 2² x 3² x 5"," x 2² x 3² x 5"," x 2² x 3² x 5"," x 2² x 3² x 5"," x 2² x 3² x 5"," x 2² x 3² x 5"," x 2² x 3² x 5"," x 2² x 3² x 5"," x 2² x 3² x 5"," x 2² x 3² x 5"," x 2² x 3² x 5"," x 2² x 3² x 5"," x 2² x 3² x 5"," x 2² x 3² x 5"," x 2² x 3² x 5"," x 2² x 3² x 5"," x 2² x 3² x 5",{"$f":"BS58&BT2","v":" x 2² x 3² x 5"}," x 2² x 3² x 5"," x 2² x 3² x 5"," x 2² x 3² x 5"," x 2² x 3² x 5"," x 2² x 3² x 5"," x 2² x 3² x 5"," x 2² x 3² x 5"," x 2² x 3² x 5"," x 2² x 3² x 5"," x 2² x 3² x 5"," x 2² x 3² x 5"," x 2² x 3² x 5"," x 2² x 3² x 5"," x 2² x 3² x 5"," x 2² x 3² x 5"," x 2² x 3² x 5"," x 2² x 3² x 5"," x 2² x 3² x 5"," x 2² x 3² x 5"," x 2² x 3² x 5"," x 2² x 3² x 5"," x 2² x 3² x 5"," x 2² x 3² x 5"," x 2² x 3² x 5"," x 2² x 3² x 5"," x 2² x 3² x 5"," x 2² x 3² x 5"," x 2² x 3² x 5"," x 2² x 3² x 5"," x 2² x 3² x 5"," x 2² x 3² x 5"," x 2² x 3² x 5"," x 2² x 3² x 5"," x 2² x 3² x 5"," x 2² x 3² x 5"," x 2² x 3² x 5"," x 2² x 3² x 5"," x 2² x 3² x 5"," x 2² x 3² x 5"," x 2² x 3² x 5"," x 2² x 3² x 5"," x 2² x 3² x 5"," x 2² x 3² x 5"," x 2² x 3² x 5"," x 2² x 3² x 5"," x 2² x 3² x 5"," x 2² x 3² x 5"," x 2² x 3² x 5"," x 2² x 3² x 5"," x 2² x 3² x 5"," x 2² x 3² x 5"," x 2² x 3² x 5"," x 2² x 3² x 5"," x 2² x 3² x 5"," x 2² x 3² x 5"," x 2² x 3² x 5"," x 2² x 3² x 5"," x 2² x 3² x 5"," x 2² x 3² x 5"," x 2² x 3² x 5"," x 2² x 3² x 5"," x 2² x 3² x 5"," x 2² x 3² x 5",{"$f":"EE58&EF2","v":" x 2² x 3² x 5"}," x 2² x 3² x 5"," x 2² x 3² x 5"," x 2² x 3² x 5"," x 2² x 3² x 5"," x 2² x 3² x 5"," x 2² x 3² x 5"," x 2² x 3² x 5"," x 2² x 3² x 5"," x 2² x 3² x 5"," x 2² x 3² x 5"," x 2² x 3² x 5"," x 2² x 3² x 5"," x 2² x 3² x 5"," x 2² x 3² x 5"," x 2² x 3² x 5"," x 2² x 3² x 5"," x 2² x 3² x 5"," x 2² x 3² x 5"," x 2² x 3² x 5"," x 2² x 3² x 5"," x 2² x 3² x 5"," x 2² x 3² x 5"," x 2² x 3² x 5"," x 2² x 3² x 5"," x 2² x 3² x 5"," x 2² x 3² x 5"," x 2² x 3² x 5"," x 2² x 3² x 5"," x 2² x 3² x 5"," x 2² x 3² x 5"," x 2² x 3² x 5"," x 2² x 3² x 5"," x 2² x 3² x 5"," x 2² x 3² x 5"," x 2² x 3² x 5"," x 2² x 3² x 5"," x 2² x 3² x 5"," x 2² x 3² x 5"," x 2² x 3² x 5"," x 2² x 3² x 5"," x 2² x 3² x 5"," x 2² x 3² x 5"," x 2² x 3² x 5"," x 2² x 3² x 5"," x 2² x 3² x 5"," x 2² x 3² x 5"," x 2² x 3² x 5"," x 2² x 3² x 5"," x 2² x 3² x 5"," x 2² x 3² x 5"," x 2² x 3² x 5"," x 2² x 3² x 5"," x 2² x 3² x 5"," x 2² x 3² x 5"," x 2² x 3² x 5"," x 2² x 3² x 5"," x 2² x 3² x 5"," x 2² x 3² x 5"," x 2² x 3² x 5"," x 2² x 3² x 5"," x 2² x 3² x 5"," x 2² x 3² x 5"," x 2² x 3² x 5",{"$f":"GQ58&GR2","v":" x 2² x 3² x 5"}," x 2² x 3² x 5"," x 2² x 3² x 5"," x 2² x 3² x 5"," x 2² x 3² x 5"," x 2² x 3² x 5"," x 2² x 3² x 5"," x 2² x 3² x 5"," x 2² x 3² x 5"," x 2² x 3² x 5"," x 2² x 3² x 5"," x 2² x 3² x 5"," x 2² x 3² x 5"," x 2² x 3² x 5"," x 2² x 3² x 5"," x 2² x 3² x 5"," x 2² x 3² x 5"," x 2² x 3² x 5"," x 2² x 3² x 5"," x 2² x 3² x 5"," x 2² x 3² x 5"," x 2² x 3² x 5"," x 2² x 3² x 5"," x 2² x 3² x 5"," x 2² x 3² x 5"," x 2² x 3² x 5"," x 2² x 3² x 5"," x 2² x 3² x 5"," x 2² x 3² x 5"," x 2² x 3² x 5"," x 2² x 3² x 5"," x 2² x 3² x 5"," x 2² x 3² x 5"," x 2² x 3² x 5"," x 2² x 3² x 5"," x 2² x 3² x 5"," x 2² x 3² x 5"," x 2² x 3² x 5"," x 2² x 3² x 5"," x 2² x 3² x 5"," x 2² x 3² x 5"," x 2² x 3² x 5"," x 2² x 3² x 5"," x 2² x 3² x 5"," x 2² x 3² x 5"," x 2² x 3² x 5"," x 2² x 3² x 5"," x 2² x 3² x 5"," x 2² x 3² x 5"," x 2² x 3² x 5"," x 2² x 3² x 5"," x 2² x 3² x 5"," x 2² x 3² x 5"," x 2² x 3² x 5"," x 2² x 3² x 5"," x 2² x 3² x 5"," x 2² x 3² x 5"," x 2² x 3² x 5"," x 2² x 3² x 5"," x 2² x 3² x 5"," x 2² x 3² x 5"," x 2² x 3² x 5"," x 2² x 3² x 5"," x 2² x 3² x 5",{"$f":"JC58&JD2","v":" x 2² x 3² x 5"}," x 2² x 3² x 5"," x 2² x 3² x 5"," x 2² x 3² x 5"," x 2² x 3² x 5"," x 2² x 3² x 5"," x 2² x 3² x 5"," x 2² x 3² x 5"," x 2² x 3² x 5"," x 2² x 3² x 5"," x 2² x 3² x 5"," x 2² x 3² x 5"," x 2² x 3² x 5"," x 2² x 3² x 5"," x 2² x 3² x 5"," x 2² x 3² x 5"," x 2² x 3² x 5"," x 2² x 3² x 5"," x 2² x 3² x 5"," x 2² x 3² x 5"," x 2² x 3² x 5"," x 2² x 3² x 5"," x 2² x 3² x 5"," x 2² x 3² x 5"," x 2² x 3² x 5"," x 2² x 3² x 5"," x 2² x 3² x 5"," x 2² x 3² x 5"," x 2² x 3² x 5"," x 2² x 3² x 5"," x 2² x 3² x 5"," x 2² x 3² x 5"," x 2² x 3² x 5"," x 2² x 3² x 5"," x 2² x 3² x 5"," x 2² x 3² x 5"," x 2² x 3² x 5"," x 2² x 3² x 5"," x 2² x 3² x 5"," x 2² x 3² x 5"," x 2² x 3² x 5"," x 2² x 3² x 5"," x 2² x 3² x 5"," x 2² x 3² x 5"," x 2² x 3² x 5"," x 2² x 3² x 5"," x 2² x 3² x 5"," x 2² x 3² x 5"," x 2² x 3² x 5"," x 2² x 3² x 5"," x 2² x 3² x 5"," x 2² x 3² x 5"," x 2² x 3² x 5"," x 2² x 3² x 5"," x 2² x 3² x 5"," x 2² x 3² x 5"," x 2² x 3² x 5"," x 2² x 3² x 5"," x 2² x 3² x 5"," x 2² x 3² x 5"," x 2² x 3² x 5"," x 2² x 3² x 5"," x 2² x 3² x 5"," x 2² x 3² x 5",{"$f":"LO58&LP2","v":" x 2² x 3² x 5"}," x 2² x 3² x 5"," x 2² x 3² x 5"," x 2² x 3² x 5"," x 2² x 3² x 5"," x 2² x 3² x 5"," x 2² x 3² x 5"," x 2² x 3² x 5"," x 2² x 3² x 5"," x 2² x 3² x 5"," x 2² x 3² x 5"," x 2² x 3² x 5"," x 2² x 3² x 5"," x 2² x 3² x 5"," x 2² x 3² x 5"," x 2² x 3² x 5"," x 2² x 3² x 5"," x 2² x 3² x 5"," x 2² x 3² x 5"," x 2² x 3² x 5"," x 2² x 3² x 5"," x 2² x 3² x 5"," x 2² x 3² x 5"," x 2² x 3² x 5"," x 2² x 3² x 5"," x 2² x 3² x 5"," x 2² x 3² x 5"," x 2² x 3² x 5"," x 2² x 3² x 5"," x 2² x 3² x 5"," x 2² x 3² x 5"," x 2² x 3² x 5"," x 2² x 3² x 5"," x 2² x 3² x 5"," x 2² x 3² x 5"," x 2² x 3² x 5"," x 2² x 3² x 5"," x 2² x 3² x 5"," x 2² x 3² x 5"," x 2² x 3² x 5"," x 2² x 3² x 5"," x 2² x 3² x 5"," x 2² x 3² x 5"," x 2² x 3² x 5"," x 2² x 3² x 5"," x 2² x 3² x 5"," x 2² x 3² x 5"," x 2² x 3² x 5"," x 2² x 3² x 5"," x 2² x 3² x 5"," x 2² x 3² x 5"," x 2² x 3² x 5"," x 2² x 3² x 5"," x 2² x 3² x 5"," x 2² x 3² x 5"," x 2² x 3² x 5"," x 2² x 3² x 5"," x 2² x 3² x 5"," x 2² x 3² x 5"," x 2² x 3² x 5"," x 2² x 3² x 5"," x 2² x 3² x 5"," x 2² x 3² x 5"," x 2² x 3² x 5",{"$f":"OA58&OB2","v":" x 2² x 3² x 5"}," x 2² x 3² x 5"," x 2² x 3² x 5"," x 2² x 3² x 5"," x 2² x 3² x 5"," x 2² x 3² x 5"," x 2² x 3² x 5"," x 2² x 3² x 5"," x 2² x 3² x 5"," x 2² x 3² x 5"," x 2² x 3² x 5"," x 2² x 3² x 5"," x 2² x 3² x 5"," x 2² x 3² x 5"," x 2² x 3² x 5"," x 2² x 3² x 5"," x 2² x 3² x 5"," x 2² x 3² x 5"," x 2² x 3² x 5"," x 2² x 3² x 5"," x 2² x 3² x 5"," x 2² x 3² x 5"," x 2² x 3² x 5"," x 2² x 3² x 5"," x 2² x 3² x 5"," x 2² x 3² x 5"," x 2² x 3² x 5"," x 2² x 3² x 5"," x 2² x 3² x 5"," x 2² x 3² x 5"," x 2² x 3² x 5"," x 2² x 3² x 5"," x 2² x 3² x 5"," x 2² x 3² x 5"," x 2² x 3² x 5"," x 2² x 3² x 5"," x 2² x 3² x 5"," x 2² x 3² x 5"," x 2² x 3² x 5"," x 2² x 3² x 5"," x 2² x 3² x 5"," x 2² x 3² x 5"," x 2² x 3² x 5"," x 2² x 3² x 5"," x 2² x 3² x 5"," x 2² x 3² x 5"," x 2² x 3² x 5"," x 2² x 3² x 5"," x 2² x 3² x 5"," x 2² x 3² x 5"," x 2² x 3² x 5"," x 2² x 3² x 5"," x 2² x 3² x 5"," x 2² x 3² x 5"," x 2² x 3² x 5"," x 2² x 3² x 5"," x 2² x 3² x 5"," x 2² x 3² x 5"," x 2² x 3² x 5"," x 2² x 3² x 5"," x 2² x 3² x 5"," x 2² x 3² x 5"," x 2² x 3² x 5"," x 2² x 3² x 5",{"$f":"QM58&QN2","v":" x 2² x 3² x 5"}," x 2² x 3² x 5"," x 2² x 3² x 5"," x 2² x 3² x 5"," x 2² x 3² x 5"," x 2² x 3² x 5"," x 2² x 3² x 5"," x 2² x 3² x 5"," x 2² x 3² x 5"," x 2² x 3² x 5"," x 2² x 3² x 5"," x 2² x 3² x 5"," x 2² x 3² x 5"," x 2² x 3² x 5"," x 2² x 3² x 5"," x 2² x 3² x 5"," x 2² x 3² x 5"," x 2² x 3² x 5"," x 2² x 3² x 5"," x 2² x 3² x 5"," x 2² x 3² x 5"," x 2² x 3² x 5"," x 2² x 3² x 5"," x 2² x 3² x 5"," x 2² x 3² x 5"," x 2² x 3² x 5"," x 2² x 3² x 5"," x 2² x 3² x 5"," x 2² x 3² x 5"," x 2² x 3² x 5"," x 2² x 3² x 5"," x 2² x 3² x 5"," x 2² x 3² x 5"," x 2² x 3² x 5"," x 2² x 3² x 5"," x 2² x 3² x 5"," x 2² x 3² x 5"," x 2² x 3² x 5"," x 2² x 3² x 5"," x 2² x 3² x 5"," x 2² x 3² x 5"," x 2² x 3² x 5"," x 2² x 3² x 5"," x 2² x 3² x 5"," x 2² x 3² x 5"," x 2² x 3² x 5"," x 2² x 3² x 5"," x 2² x 3² x 5"," x 2² x 3² x 5"," x 2² x 3² x 5"," x 2² x 3² x 5"," x 2² x 3² x 5"," x 2² x 3² x 5"," x 2² x 3² x 5"," x 2² x 3² x 5"," x 2² x 3² x 5"," x 2² x 3² x 5"," x 2² x 3² x 5"," x 2² x 3² x 5"," x 2² x 3² x 5"," x 2² x 3² x 5"," x 2² x 3² x 5"," x 2² x 3² x 5"," x 2² x 3² x 5",{"$f":"SY58&SZ2","v":" x 2² x 3² x 5"}," x 2² x 3² x 5"," x 2² x 3² x 5"," x 2² x 3² x 5"," x 2² x 3² x 5"," x 2² x 3² x 5"," x 2² x 3² x 5"," x 2² x 3² x 5"," x 2² x 3² x 5"," x 2² x 3² x 5"," x 2² x 3² x 5"," x 2² x 3² x 5"," x 2² x 3² x 5"," x 2² x 3² x 5"," x 2² x 3² x 5"," x 2² x 3² x 5"," x 2² x 3² x 5"," x 2² x 3² x 5"," x 2² x 3² x 5"," x 2² x 3² x 5"," x 2² x 3² x 5"," x 2² x 3² x 5"," x 2² x 3² x 5"," x 2² x 3² x 5"," x 2² x 3² x 5"," x 2² x 3² x 5"," x 2² x 3² x 5"," x 2² x 3² x 5"," x 2² x 3² x 5"," x 2² x 3² x 5"," x 2² x 3² x 5"," x 2² x 3² x 5"," x 2² x 3² x 5"," x 2² x 3² x 5"," x 2² x 3² x 5"," x 2² x 3² x 5"," x 2² x 3² x 5"," x 2² x 3² x 5"," x 2² x 3² x 5"," x 2² x 3² x 5"," x 2² x 3² x 5"," x 2² x 3² x 5"," x 2² x 3² x 5"," x 2² x 3² x 5"," x 2² x 3² x 5"," x 2² x 3² x 5"," x 2² x 3² x 5"," x 2² x 3² x 5"," x 2² x 3² x 5"," x 2² x 3² x 5"," x 2² x 3² x 5"," x 2² x 3² x 5"," x 2² x 3² x 5"," x 2² x 3² x 5"," x 2² x 3² x 5"," x 2² x 3² x 5"," x 2² x 3² x 5"," x 2² x 3² x 5"," x 2² x 3² x 5"," x 2² x 3² x 5"," x 2² x 3² x 5"," x 2² x 3² x 5"," x 2² x 3² x 5"," x 2² x 3² x 5",{"$f":"VK58&VL2","v":" x 2² x 3² x 5"}," x 2² x 3² x 5"," x 2² x 3² x 5"," x 2² x 3² x 5"," x 2² x 3² x 5"," x 2² x 3² x 5"," x 2² x 3² x 5"," x 2² x 3² x 5"," x 2² x 3² x 5"," x 2² x 3² x 5"," x 2² x 3² x 5"," x 2² x 3² x 5"," x 2² x 3² x 5"," x 2² x 3² x 5"," x 2² x 3² x 5"," x 2² x 3² x 5"," x 2² x 3² x 5"," x 2² x 3² x 5"," x 2² x 3² x 5"," x 2² x 3² x 5"," x 2² x 3² x 5"," x 2² x 3² x 5"," x 2² x 3² x 5"," x 2² x 3² x 5"," x 2² x 3² x 5"," x 2² x 3² x 5"," x 2² x 3² x 5"," x 2² x 3² x 5"," x 2² x 3² x 5"," x 2² x 3² x 5"," x 2² x 3² x 5"," x 2² x 3² x 5"," x 2² x 3² x 5"," x 2² x 3² x 5"," x 2² x 3² x 5"," x 2² x 3² x 5"," x 2² x 3² x 5"," x 2² x 3² x 5"," x 2² x 3² x 5"," x 2² x 3² x 5"," x 2² x 3² x 5"," x 2² x 3² x 5"," x 2² x 3² x 5"," x 2² x 3² x 5"," x 2² x 3² x 5"," x 2² x 3² x 5"," x 2² x 3² x 5"," x 2² x 3² x 5"," x 2² x 3² x 5"," x 2² x 3² x 5"," x 2² x 3² x 5"," x 2² x 3² x 5"," x 2² x 3² x 5"," x 2² x 3² x 5"," x 2² x 3² x 5"," x 2² x 3² x 5"," x 2² x 3² x 5"," x 2² x 3² x 5"," x 2² x 3² x 5"," x 2² x 3² x 5"," x 2² x 3² x 5"," x 2² x 3² x 5"," x 2² x 3² x 5"," x 2² x 3² x 5",{"$f":"XW58&XX2","v":" x 2² x 3² x 5"}," x 2² x 3² x 5"," x 2² x 3² x 5"," x 2² x 3² x 5"," x 2² x 3² x 5"," x 2² x 3² x 5"," x 2² x 3² x 5"," x 2² x 3² x 5"," x 2² x 3² x 5"," x 2² x 3² x 5"," x 2² x 3² x 5"," x 2² x 3² x 5"," x 2² x 3² x 5"," x 2² x 3² x 5"," x 2² x 3² x 5"," x 2² x 3² x 5"," x 2² x 3² x 5"," x 2² x 3² x 5"," x 2² x 3² x 5"," x 2² x 3² x 5"," x 2² x 3² x 5"," x 2² x 3² x 5"," x 2² x 3² x 5"," x 2² x 3² x 5"," x 2² x 3² x 5"," x 2² x 3² x 5"," x 2² x 3² x 5"," x 2² x 3² x 5"," x 2² x 3² x 5"," x 2² x 3² x 5"," x 2² x 3² x 5"," x 2² x 3² x 5"," x 2² x 3² x 5"," x 2² x 3² x 5"," x 2² x 3² x 5"," x 2² x 3² x 5"," x 2² x 3² x 5"," x 2² x 3² x 5"," x 2² x 3² x 5"," x 2² x 3² x 5"," x 2² x 3² x 5"," x 2² x 3² x 5"," x 2² x 3² x 5"," x 2² x 3² x 5"," x 2² x 3² x 5"," x 2² x 3² x 5"," x 2² x 3² x 5"," x 2² x 3² x 5"," x 2² x 3² x 5"," x 2² x 3² x 5"," x 2² x 3² x 5"," x 2² x 3² x 5"," x 2² x 3² x 5"," x 2² x 3² x 5"," x 2² x 3² x 5"," x 2² x 3² x 5"," x 2² x 3² x 5"," x 2² x 3² x 5"," x 2² x 3² x 5"," x 2² x 3² x 5"," x 2² x 3² x 5"," x 2² x 3² x 5"," x 2² x 3² x 5"," x 2² x 3² x 5",{"$f":"AAI58&AAJ2","v":" x 2² x 3² x 5"}," x 2² x 3² x 5"," x 2² x 3² x 5"," x 2² x 3² x 5"," x 2² x 3² x 5"," x 2² x 3² x 5"," x 2² x 3² x 5"," x 2² x 3² x 5"," x 2² x 3² x 5"," x 2² x 3² x 5"," x 2² x 3² x 5"," x 2² x 3² x 5"," x 2² x 3² x 5"," x 2² x 3² x 5"," x 2² x 3² x 5"," x 2² x 3² x 5"," x 2² x 3² x 5"," x 2² x 3² x 5"," x 2² x 3² x 5"," x 2² x 3² x 5"," x 2² x 3² x 5"," x 2² x 3² x 5"," x 2² x 3² x 5"," x 2² x 3² x 5"," x 2² x 3² x 5"," x 2² x 3² x 5"," x 2² x 3² x 5"," x 2² x 3² x 5"," x 2² x 3² x 5"," x 2² x 3² x 5"," x 2² x 3² x 5"," x 2² x 3² x 5"," x 2² x 3² x 5"," x 2² x 3² x 5"," x 2² x 3² x 5"," x 2² x 3² x 5"," x 2² x 3² x 5"," x 2² x 3² x 5"," x 2² x 3² x 5"," x 2² x 3² x 5"," x 2² x 3² x 5"," x 2² x 3² x 5"," x 2² x 3² x 5"," x 2² x 3² x 5"," x 2² x 3² x 5"," x 2² x 3² x 5"," x 2² x 3² x 5"," x 2² x 3² x 5"," x 2² x 3² x 5"," x 2² x 3² x 5"," x 2² x 3² x 5"," x 2² x 3² x 5"," x 2² x 3² x 5"," x 2² x 3² x 5"," x 2² x 3² x 5"," x 2² x 3² x 5"," x 2² x 3² x 5"," x 2² x 3² x 5"," x 2² x 3² x 5"," x 2² x 3² x 5"," x 2² x 3² x 5"," x 2² x 3² x 5"," x 2² x 3² x 5"," x 2² x 3² x 5",{"$f":"ACU58&ACV2","v":" x 2² x 3² x 5"}," x 2² x 3² x 5"," x 2² x 3² x 5"," x 2² x 3² x 5"," x 2² x 3² x 5"," x 2² x 3² x 5"," x 2² x 3² x 5"," x 2² x 3² x 5"," x 2² x 3² x 5"," x 2² x 3² x 5"," x 2² x 3² x 5"," x 2² x 3² x 5"," x 2² x 3² x 5"," x 2² x 3² x 5"," x 2² x 3² x 5"," x 2² x 3² x 5"," x 2² x 3² x 5"," x 2² x 3² x 5"," x 2² x 3² x 5"," x 2² x 3² x 5"," x 2² x 3² x 5"," x 2² x 3² x 5"," x 2² x 3² x 5"," x 2² x 3² x 5"," x 2² x 3² x 5"," x 2² x 3² x 5"," x 2² x 3² x 5"," x 2² x 3² x 5"," x 2² x 3² x 5"," x 2² x 3² x 5"," x 2² x 3² x 5"," x 2² x 3² x 5"," x 2² x 3² x 5"," x 2² x 3² x 5"," x 2² x 3² x 5"," x 2² x 3² x 5"," x 2² x 3² x 5"," x 2² x 3² x 5"," x 2² x 3² x 5"," x 2² x 3² x 5"," x 2² x 3² x 5"," x 2² x 3² x 5"," x 2² x 3² x 5"," x 2² x 3² x 5"," x 2² x 3² x 5"," x 2² x 3² x 5"," x 2² x 3² x 5"," x 2² x 3² x 5"," x 2² x 3² x 5"," x 2² x 3² x 5"," x 2² x 3² x 5"," x 2² x 3² x 5"," x 2² x 3² x 5"," x 2² x 3² x 5"," x 2² x 3² x 5"," x 2² x 3² x 5"," x 2² x 3² x 5"," x 2² x 3² x 5"," x 2² x 3² x 5"," x 2² x 3² x 5"," x 2² x 3² x 5"," x 2² x 3² x 5"," x 2² x 3² x 5"," x 2² x 3² x 5",{"$f":"AFG58&AFH2","v":" x 2² x 3² x 5"}," x 2² x 3² x 5"," x 2² x 3² x 5"," x 2² x 3² x 5"," x 2² x 3² x 5"," x 2² x 3² x 5"," x 2² x 3² x 5"," x 2² x 3² x 5"," x 2² x 3² x 5"," x 2² x 3² x 5"," x 2² x 3² x 5"," x 2² x 3² x 5"," x 2² x 3² x 5"," x 2² x 3² x 5"," x 2² x 3² x 5"," x 2² x 3² x 5"," x 2² x 3² x 5"," x 2² x 3² x 5"," x 2² x 3² x 5"," x 2² x 3² x 5"," x 2² x 3² x 5"," x 2² x 3² x 5"," x 2² x 3² x 5"," x 2² x 3² x 5"," x 2² x 3² x 5"," x 2² x 3² x 5"," x 2² x 3² x 5"," x 2² x 3² x 5"," x 2² x 3² x 5"," x 2² x 3² x 5"," x 2² x 3² x 5"," x 2² x 3² x 5"," x 2² x 3² x 5"," x 2² x 3² x 5"," x 2² x 3² x 5"," x 2² x 3² x 5"," x 2² x 3² x 5"," x 2² x 3² x 5"," x 2² x 3² x 5"," x 2² x 3² x 5"," x 2² x 3² x 5"," x 2² x 3² x 5"," x 2² x 3² x 5"," x 2² x 3² x 5"," x 2² x 3² x 5"," x 2² x 3² x 5"," x 2² x 3² x 5"," x 2² x 3² x 5"," x 2² x 3² x 5"," x 2² x 3² x 5"," x 2² x 3² x 5"," x 2² x 3² x 5"," x 2² x 3² x 5"," x 2² x 3² x 5"," x 2² x 3² x 5"," x 2² x 3² x 5"," x 2² x 3² x 5"," x 2² x 3² x 5"," x 2² x 3² x 5"," x 2² x 3² x 5"," x 2² x 3² x 5"," x 2² x 3² x 5"," x 2² x 3² x 5"," x 2² x 3² x 5",{"$f":"AHS58&AHT2","v":" x 2² x 3² x 5"}," x 2² x 3² x 5"," x 2² x 3² x 5"," x 2² x 3² x 5"," x 2² x 3² x 5"," x 2² x 3² x 5"," x 2² x 3² x 5"," x 2² x 3² x 5"," x 2² x 3² x 5"," x 2² x 3² x 5"," x 2² x 3² x 5"," x 2² x 3² x 5"," x 2² x 3² x 5"," x 2² x 3² x 5"," x 2² x 3² x 5"," x 2² x 3² x 5"," x 2² x 3² x 5"," x 2² x 3² x 5"," x 2² x 3² x 5"," x 2² x 3² x 5"," x 2² x 3² x 5"," x 2² x 3² x 5"," x 2² x 3² x 5"," x 2² x 3² x 5"," x 2² x 3² x 5"," x 2² x 3² x 5"," x 2² x 3² x 5"," x 2² x 3² x 5"," x 2² x 3² x 5"," x 2² x 3² x 5"," x 2² x 3² x 5"," x 2² x 3² x 5"," x 2² x 3² x 5"," x 2² x 3² x 5"," x 2² x 3² x 5"," x 2² x 3² x 5"," x 2² x 3² x 5"," x 2² x 3² x 5"," x 2² x 3² x 5"," x 2² x 3² x 5"," x 2² x 3² x 5"," x 2² x 3² x 5"," x 2² x 3² x 5"," x 2² x 3² x 5"," x 2² x 3² x 5"," x 2² x 3² x 5"," x 2² x 3² x 5"," x 2² x 3² x 5"," x 2² x 3² x 5"," x 2² x 3² x 5"," x 2² x 3² x 5"," x 2² x 3² x 5"," x 2² x 3² x 5"," x 2² x 3² x 5"," x 2² x 3² x 5"," x 2² x 3² x 5"," x 2² x 3² x 5"," x 2² x 3² x 5"," x 2² x 3² x 5"," x 2² x 3² x 5"," x 2² x 3² x 5"," x 2² x 3² x 5"," x 2² x 3² x 5"," x 2² x 3² x 5",{"$f":"AKE58&AKF2","v":" x 2² x 3² x 5"}," x 2² x 3² x 5"," x 2² x 3² x 5"," x 2² x 3² x 5"," x 2² x 3² x 5"," x 2² x 3² x 5"," x 2² x 3² x 5"," x 2² x 3² x 5"," x 2² x 3² x 5"," x 2² x 3² x 5"," x 2² x 3² x 5"," x 2² x 3² x 5"," x 2² x 3² x 5"," x 2² x 3² x 5"," x 2² x 3² x 5"," x 2² x 3² x 5"," x 2² x 3² x 5"," x 2² x 3² x 5"," x 2² x 3² x 5"," x 2² x 3² x 5"," x 2² x 3² x 5"," x 2² x 3² x 5"," x 2² x 3² x 5"," x 2² x 3² x 5"," x 2² x 3² x 5"," x 2² x 3² x 5"," x 2² x 3² x 5"," x 2² x 3² x 5"," x 2² x 3² x 5"," x 2² x 3² x 5"," x 2² x 3² x 5"," x 2² x 3² x 5"," x 2² x 3² x 5"," x 2² x 3² x 5"," x 2² x 3² x 5"," x 2² x 3² x 5"," x 2² x 3² x 5"," x 2² x 3² x 5"]
[11,{"$error":"#N/A"},{"$error":"#N/A"},0,{"$f":"IF(D59=0,IF(SUM(D60:$D$62)=0,\"\",E60),D59)","v":""},{"$f":"RIGHT(ALQ58,LEN(ALQ58)-3)","v":"2² x 3² x 5"}]
[12,{"$error":"#N/A"},{"$error":"#N/A"},0,{"$f":"IF(D60=0,IF(SUM(D61:$D$62)=0,\"\",E61),D60)","v":""},{"$f":"F25","v":""},{"$f":"F60&G25","v":" x 3²"}," x 3²"," x 3²"," x 3²"," x 3²"," x 3²"," x 3²"," x 3²"," x 3²"," x 3²"," x 3²"," x 3²"," x 3²"," x 3² x 47"," x 3² x 47"," x 3² x 47"," x 3² x 47"," x 3² x 47"," x 3² x 47"," x 3² x 47"," x 3² x 47"," x 3² x 47"," x 3² x 47"," x 3² x 47"," x 3² x 47"," x 3² x 47"," x 3² x 47"," x 3² x 47"," x 3² x 47"," x 3² x 47"," x 3² x 47"," x 3² x 47"," x 3² x 47"," x 3² x 47"," x 3² x 47"," x 3² x 47"," x 3² x 47"," x 3² x 47"," x 3² x 47"," x 3² x 47"," x 3² x 47"," x 3² x 47"," x 3² x 47"," x 3² x 47"," x 3² x 47"," x 3² x 47"," x 3² x 47"," x 3² x 47"," x 3² x 47"," x 3² x 47"," x 3² x 47"," x 3² x 47"," x 3² x 47"," x 3² x 47"," x 3² x 47"," x 3² x 47"," x 3² x 47"," x 3² x 47"," x 3² x 47"," x 3² x 47"," x 3² x 47"," x 3² x 47"," x 3² x 47"," x 3² x 47",{"$f":"BR60&BS25","v":" x 3² x 47"}," x 3² x 47"," x 3² x 47"," x 3² x 47"," x 3² x 47"," x 3² x 47"," x 3² x 47"," x 3² x 47"," x 3² x 47"," x 3² x 47"," x 3² x 47"," x 3² x 47"," x 3² x 47"," x 3² x 47"," x 3² x 47"," x 3² x 47"," x 3² x 47"," x 3² x 47"," x 3² x 47"," x 3² x 47"," x 3² x 47"," x 3² x 47"," x 3² x 47"," x 3² x 47"," x 3² x 47"," x 3² x 47"," x 3² x 47"," x 3² x 47"," x 3² x 47"," x 3² x 47"," x 3² x 47"," x 3² x 47"," x 3² x 47"," x 3² x 47"," x 3² x 47"," x 3² x 47"," x 3² x 47"," x 3² x 47"," x 3² x 47"," x 3² x 47"," x 3² x 47"," x 3² x 47"," x 3² x 47"," x 3² x 47"," x 3² x 47"," x 3² x 47"," x 3² x 47"," x 3² x 47"," x 3² x 47"," x 3² x 47"," x 3² x 47"," x 3² x 47"," x 3² x 47"," x 3² x 47"," x 3² x 47"," x 3² x 47"," x 3² x 47"," x 3² x 47"," x 3² x 47"," x 3² x 47"," x 3² x 47"," x 3² x 47"," x 3² x 47"," x 3² x 47",{"$f":"ED60&EE25","v":" x 3² x 47"}," x 3² x 47"," x 3² x 47"," x 3² x 47"," x 3² x 47"," x 3² x 47"," x 3² x 47"," x 3² x 47"," x 3² x 47"," x 3² x 47"," x 3² x 47"," x 3² x 47"," x 3² x 47"," x 3² x 47"," x 3² x 47"," x 3² x 47"," x 3² x 47"," x 3² x 47"," x 3² x 47"," x 3² x 47"," x 3² x 47"," x 3² x 47"," x 3² x 47"," x 3² x 47"," x 3² x 47"," x 3² x 47"," x 3² x 47"," x 3² x 47"," x 3² x 47"," x 3² x 47"," x 3² x 47"," x 3² x 47"," x 3² x 47"," x 3² x 47"," x 3² x 47"," x 3² x 47"," x 3² x 47"," x 3² x 47"," x 3² x 47"," x 3² x 47"," x 3² x 47"," x 3² x 47"," x 3² x 47"," x 3² x 47"," x 3² x 47"," x 3² x 47"," x 3² x 47"," x 3² x 47"," x 3² x 47"," x 3² x 47"," x 3² x 47"," x 3² x 47"," x 3² x 47"," x 3² x 47"," x 3² x 47"," x 3² x 47"," x 3² x 47"," x 3² x 47"," x 3² x 47"," x 3² x 47"," x 3² x 47"," x 3² x 47"," x 3² x 47"," x 3² x 47",{"$f":"GP60&GQ25","v":" x 3² x 47"}," x 3² x 47"," x 3² x 47"," x 3² x 47"," x 3² x 47"," x 3² x 47"," x 3² x 47"," x 3² x 47"," x 3² x 47"," x 3² x 47"," x 3² x 47"," x 3² x 47"," x 3² x 47"," x 3² x 47"," x 3² x 47"," x 3² x 47"," x 3² x 47"," x 3² x 47"," x 3² x 47"," x 3² x 47"," x 3² x 47"," x 3² x 47"," x 3² x 47"," x 3² x 47"," x 3² x 47"," x 3² x 47"," x 3² x 47"," x 3² x 47"," x 3² x 47"," x 3² x 47"," x 3² x 47"," x 3² x 47"," x 3² x 47"," x 3² x 47"," x 3² x 47"," x 3² x 47"," x 3² x 47"," x 3² x 47"," x 3² x 47"," x 3² x 47"," x 3² x 47"," x 3² x 47"," x 3² x 47"," x 3² x 47"," x 3² x 47"," x 3² x 47"," x 3² x 47"," x 3² x 47"," x 3² x 47"," x 3² x 47"," x 3² x 47"," x 3² x 47"," x 3² x 47"," x 3² x 47"," x 3² x 47"," x 3² x 47"," x 3² x 47"," x 3² x 47"," x 3² x 47"," x 3² x 47"," x 3² x 47"," x 3² x 47"," x 3² x 47"," x 3² x 47",{"$f":"JB60&JC25","v":" x 3² x 47"}," x 3² x 47"," x 3² x 47"," x 3² x 47"," x 3² x 47"," x 3² x 47"," x 3² x 47"," x 3² x 47"," x 3² x 47"," x 3² x 47"," x 3² x 47"," x 3² x 47"," x 3² x 47"," x 3² x 47"," x 3² x 47"," x 3² x 47"," x 3² x 47"," x 3² x 47"," x 3² x 47"," x 3² x 47"," x 3² x 47"," x 3² x 47"," x 3² x 47"," x 3² x 47"," x 3² x 47"," x 3² x 47"," x 3² x 47"," x 3² x 47"," x 3² x 47"," x 3² x 47"," x 3² x 47"," x 3² x 47"," x 3² x 47"," x 3² x 47"," x 3² x 47"," x 3² x 47"," x 3² x 47"," x 3² x 47"," x 3² x 47"," x 3² x 47"," x 3² x 47"," x 3² x 47"," x 3² x 47"," x 3² x 47"," x 3² x 47"," x 3² x 47"," x 3² x 47"," x 3² x 47"," x 3² x 47"," x 3² x 47"," x 3² x 47"," x 3² x 47"," x 3² x 47"," x 3² x 47"," x 3² x 47"," x 3² x 47"," x 3² x 47"," x 3² x 47"," x 3² x 47"," x 3² x 47"," x 3² x 47"," x 3² x 47"," x 3² x 47"," x 3² x 47",{"$f":"LN60&LO25","v":" x 3² x 47"}," x 3² x 47"," x 3² x 47"," x 3² x 47"," x 3² x 47"," x 3² x 47"," x 3² x 47"," x 3² x 47"," x 3² x 47"," x 3² x 47"," x 3² x 47"," x 3² x 47"," x 3² x 47"," x 3² x 47"," x 3² x 47"," x 3² x 47"," x 3² x 47"," x 3² x 47"," x 3² x 47"," x 3² x 47"," x 3² x 47"," x 3² x 47"," x 3² x 47"," x 3² x 47"," x 3² x 47"," x 3² x 47"," x 3² x 47"," x 3² x 47"," x 3² x 47"," x 3² x 47"," x 3² x 47"," x 3² x 47"," x 3² x 47"," x 3² x 47"," x 3² x 47"," x 3² x 47"," x 3² x 47"," x 3² x 47"," x 3² x 47"," x 3² x 47"," x 3² x 47"," x 3² x 47"," x 3² x 47"," x 3² x 47"," x 3² x 47"," x 3² x 47"," x 3² x 47"," x 3² x 47"," x 3² x 47"," x 3² x 47"," x 3² x 47"," x 3² x 47"," x 3² x 47"," x 3² x 47"," x 3² x 47"," x 3² x 47"," x 3² x 47"," x 3² x 47"," x 3² x 47"," x 3² x 47"," x 3² x 47"," x 3² x 47"," x 3² x 47"," x 3² x 47",{"$f":"NZ60&OA25","v":" x 3² x 47"}," x 3² x 47"," x 3² x 47"," x 3² x 47"," x 3² x 47"," x 3² x 47"," x 3² x 47"," x 3² x 47"," x 3² x 47"," x 3² x 47"," x 3² x 47"," x 3² x 47"," x 3² x 47"," x 3² x 47"," x 3² x 47"," x 3² x 47"," x 3² x 47"," x 3² x 47"," x 3² x 47"," x 3² x 47"," x 3² x 47"," x 3² x 47"," x 3² x 47"," x 3² x 47"," x 3² x 47"," x 3² x 47"," x 3² x 47"," x 3² x 47"," x 3² x 47"," x 3² x 47"," x 3² x 47"," x 3² x 47"," x 3² x 47"," x 3² x 47"," x 3² x 47"," x 3² x 47"," x 3² x 47"," x 3² x 47"," x 3² x 47"," x 3² x 47"," x 3² x 47"," x 3² x 47"," x 3² x 47"," x 3² x 47"," x 3² x 47"," x 3² x 47"," x 3² x 47"," x 3² x 47"," x 3² x 47"," x 3² x 47"," x 3² x 47"," x 3² x 47"," x 3² x 47"," x 3² x 47"," x 3² x 47"," x 3² x 47"," x 3² x 47"," x 3² x 47"," x 3² x 47"," x 3² x 47"," x 3² x 47"," x 3² x 47"," x 3² x 47"," x 3² x 47",{"$f":"QL60&QM25","v":" x 3² x 47"}," x 3² x 47"," x 3² x 47"," x 3² x 47"," x 3² x 47"," x 3² x 47"," x 3² x 47"," x 3² x 47"," x 3² x 47"," x 3² x 47"," x 3² x 47"," x 3² x 47"," x 3² x 47"," x 3² x 47"," x 3² x 47"," x 3² x 47"," x 3² x 47"," x 3² x 47"," x 3² x 47"," x 3² x 47"," x 3² x 47"," x 3² x 47"," x 3² x 47"," x 3² x 47"," x 3² x 47"," x 3² x 47"," x 3² x 47"," x 3² x 47"," x 3² x 47"," x 3² x 47"," x 3² x 47"," x 3² x 47"," x 3² x 47"," x 3² x 47"," x 3² x 47"," x 3² x 47"," x 3² x 47"," x 3² x 47"," x 3² x 47"," x 3² x 47"," x 3² x 47"," x 3² x 47"," x 3² x 47"," x 3² x 47"," x 3² x 47"," x 3² x 47"," x 3² x 47"," x 3² x 47"," x 3² x 47"," x 3² x 47"," x 3² x 47"," x 3² x 47"," x 3² x 47"," x 3² x 47"," x 3² x 47"," x 3² x 47"," x 3² x 47"," x 3² x 47"," x 3² x 47"," x 3² x 47"," x 3² x 47"," x 3² x 47"," x 3² x 47"," x 3² x 47",{"$f":"SX60&SY25","v":" x 3² x 47"}," x 3² x 47"," x 3² x 47"," x 3² x 47"," x 3² x 47"," x 3² x 47"," x 3² x 47"," x 3² x 47"," x 3² x 47"," x 3² x 47"," x 3² x 47"," x 3² x 47"," x 3² x 47"," x 3² x 47"," x 3² x 47"," x 3² x 47"," x 3² x 47"," x 3² x 47"," x 3² x 47"," x 3² x 47"," x 3² x 47"," x 3² x 47"," x 3² x 47"," x 3² x 47"," x 3² x 47"," x 3² x 47"," x 3² x 47"," x 3² x 47"," x 3² x 47"," x 3² x 47"," x 3² x 47"," x 3² x 47"," x 3² x 47"," x 3² x 47"," x 3² x 47"," x 3² x 47"," x 3² x 47"," x 3² x 47"," x 3² x 47"," x 3² x 47"," x 3² x 47"," x 3² x 47"," x 3² x 47"," x 3² x 47"," x 3² x 47"," x 3² x 47"," x 3² x 47"," x 3² x 47"," x 3² x 47"," x 3² x 47"," x 3² x 47"," x 3² x 47"," x 3² x 47"," x 3² x 47"," x 3² x 47"," x 3² x 47"," x 3² x 47"," x 3² x 47"," x 3² x 47"," x 3² x 47"," x 3² x 47"," x 3² x 47"," x 3² x 47"," x 3² x 47",{"$f":"VJ60&VK25","v":" x 3² x 47"}," x 3² x 47"," x 3² x 47"," x 3² x 47"," x 3² x 47"," x 3² x 47"," x 3² x 47"," x 3² x 47"," x 3² x 47"," x 3² x 47"," x 3² x 47"," x 3² x 47"," x 3² x 47"," x 3² x 47"," x 3² x 47"," x 3² x 47"," x 3² x 47"," x 3² x 47"," x 3² x 47"," x 3² x 47"," x 3² x 47"," x 3² x 47"," x 3² x 47"," x 3² x 47"," x 3² x 47"," x 3² x 47"," x 3² x 47"," x 3² x 47"," x 3² x 47"," x 3² x 47"," x 3² x 47"," x 3² x 47"," x 3² x 47"," x 3² x 47"," x 3² x 47"," x 3² x 47"," x 3² x 47"," x 3² x 47"," x 3² x 47"," x 3² x 47"," x 3² x 47"," x 3² x 47"," x 3² x 47"," x 3² x 47"," x 3² x 47"," x 3² x 47"," x 3² x 47"," x 3² x 47"," x 3² x 47"," x 3² x 47"," x 3² x 47"," x 3² x 47"," x 3² x 47"," x 3² x 47"," x 3² x 47"," x 3² x 47"," x 3² x 47"," x 3² x 47"," x 3² x 47"," x 3² x 47"," x 3² x 47"," x 3² x 47"," x 3² x 47"," x 3² x 47",{"$f":"XV60&XW25","v":" x 3² x 47"}," x 3² x 47"," x 3² x 47"," x 3² x 47"," x 3² x 47"," x 3² x 47"," x 3² x 47"," x 3² x 47"," x 3² x 47"," x 3² x 47"," x 3² x 47"," x 3² x 47"," x 3² x 47"," x 3² x 47"," x 3² x 47"," x 3² x 47"," x 3² x 47"," x 3² x 47"," x 3² x 47"," x 3² x 47"," x 3² x 47"," x 3² x 47"," x 3² x 47"," x 3² x 47"," x 3² x 47"," x 3² x 47"," x 3² x 47"," x 3² x 47"," x 3² x 47"," x 3² x 47"," x 3² x 47"," x 3² x 47"," x 3² x 47"," x 3² x 47"," x 3² x 47"," x 3² x 47"," x 3² x 47"," x 3² x 47"," x 3² x 47"," x 3² x 47"," x 3² x 47"," x 3² x 47"," x 3² x 47"," x 3² x 47"," x 3² x 47"," x 3² x 47"," x 3² x 47"," x 3² x 47"," x 3² x 47"," x 3² x 47"," x 3² x 47"," x 3² x 47"," x 3² x 47"," x 3² x 47"," x 3² x 47"," x 3² x 47"," x 3² x 47"," x 3² x 47"," x 3² x 47"," x 3² x 47"," x 3² x 47"," x 3² x 47"," x 3² x 47"," x 3² x 47",{"$f":"AAH60&AAI25","v":" x 3² x 47"}," x 3² x 47"," x 3² x 47"," x 3² x 47"," x 3² x 47"," x 3² x 47"," x 3² x 47"," x 3² x 47"," x 3² x 47"," x 3² x 47"," x 3² x 47"," x 3² x 47"," x 3² x 47"," x 3² x 47"," x 3² x 47"," x 3² x 47"," x 3² x 47"," x 3² x 47"," x 3² x 47"," x 3² x 47"," x 3² x 47"," x 3² x 47"," x 3² x 47"," x 3² x 47"," x 3² x 47"," x 3² x 47"," x 3² x 47"," x 3² x 47"," x 3² x 47"," x 3² x 47"," x 3² x 47"," x 3² x 47"," x 3² x 47"," x 3² x 47"," x 3² x 47"," x 3² x 47"," x 3² x 47"," x 3² x 47"," x 3² x 47"," x 3² x 47"," x 3² x 47"," x 3² x 47"," x 3² x 47"," x 3² x 47"," x 3² x 47"," x 3² x 47"," x 3² x 47"," x 3² x 47"," x 3² x 47"," x 3² x 47"," x 3² x 47"," x 3² x 47"," x 3² x 47"," x 3² x 47"," x 3² x 47"," x 3² x 47"," x 3² x 47"," x 3² x 47"," x 3² x 47"," x 3² x 47"," x 3² x 47"," x 3² x 47"," x 3² x 47"," x 3² x 47",{"$f":"ACT60&ACU25","v":" x 3² x 47"}," x 3² x 47"," x 3² x 47"," x 3² x 47"," x 3² x 47"," x 3² x 47"," x 3² x 47"," x 3² x 47"," x 3² x 47"," x 3² x 47"," x 3² x 47"," x 3² x 47"," x 3² x 47"," x 3² x 47"," x 3² x 47"," x 3² x 47"," x 3² x 47"," x 3² x 47"," x 3² x 47"," x 3² x 47"," x 3² x 47"," x 3² x 47"," x 3² x 47"," x 3² x 47"," x 3² x 47"," x 3² x 47"," x 3² x 47"," x 3² x 47"," x 3² x 47"," x 3² x 47"," x 3² x 47"," x 3² x 47"," x 3² x 47"," x 3² x 47"," x 3² x 47"," x 3² x 47"," x 3² x 47"," x 3² x 47"," x 3² x 47"," x 3² x 47"," x 3² x 47"," x 3² x 47"," x 3² x 47"," x 3² x 47"," x 3² x 47"," x 3² x 47"," x 3² x 47"," x 3² x 47"," x 3² x 47"," x 3² x 47"," x 3² x 47"," x 3² x 47"," x 3² x 47"," x 3² x 47"," x 3² x 47"," x 3² x 47"," x 3² x 47"," x 3² x 47"," x 3² x 47"," x 3² x 47"," x 3² x 47"," x 3² x 47"," x 3² x 47"," x 3² x 47",{"$f":"AFF60&AFG25","v":" x 3² x 47"}," x 3² x 47"," x 3² x 47"," x 3² x 47"," x 3² x 47"," x 3² x 47"," x 3² x 47"," x 3² x 47"," x 3² x 47"," x 3² x 47"," x 3² x 47"," x 3² x 47"," x 3² x 47"," x 3² x 47"," x 3² x 47"," x 3² x 47"," x 3² x 47"," x 3² x 47"," x 3² x 47"," x 3² x 47"," x 3² x 47"," x 3² x 47"," x 3² x 47"," x 3² x 47"," x 3² x 47"," x 3² x 47"," x 3² x 47"," x 3² x 47"," x 3² x 47"," x 3² x 47"," x 3² x 47"," x 3² x 47"," x 3² x 47"," x 3² x 47"," x 3² x 47"," x 3² x 47"," x 3² x 47"," x 3² x 47"," x 3² x 47"," x 3² x 47"," x 3² x 47"," x 3² x 47"," x 3² x 47"," x 3² x 47"," x 3² x 47"," x 3² x 47"," x 3² x 47"," x 3² x 47"," x 3² x 47"," x 3² x 47"," x 3² x 47"," x 3² x 47"," x 3² x 47"," x 3² x 47"," x 3² x 47"," x 3² x 47"," x 3² x 47"," x 3² x 47"," x 3² x 47"," x 3² x 47"," x 3² x 47"," x 3² x 47"," x 3² x 47"," x 3² x 47",{"$f":"AHR60&AHS25","v":" x 3² x 47"}," x 3² x 47"," x 3² x 47"," x 3² x 47"," x 3² x 47"," x 3² x 47"," x 3² x 47"," x 3² x 47"," x 3² x 47"," x 3² x 47"," x 3² x 47"," x 3² x 47"," x 3² x 47"," x 3² x 47"," x 3² x 47"," x 3² x 47"," x 3² x 47"," x 3² x 47"," x 3² x 47"," x 3² x 47"," x 3² x 47"," x 3² x 47"," x 3² x 47"," x 3² x 47"," x 3² x 47"," x 3² x 47"," x 3² x 47"," x 3² x 47"," x 3² x 47"," x 3² x 47"," x 3² x 47"," x 3² x 47"," x 3² x 47"," x 3² x 47"," x 3² x 47"," x 3² x 47"," x 3² x 47"," x 3² x 47"," x 3² x 47"," x 3² x 47"," x 3² x 47"," x 3² x 47"," x 3² x 47"," x 3² x 47"," x 3² x 47"," x 3² x 47"," x 3² x 47"," x 3² x 47"," x 3² x 47"," x 3² x 47"," x 3² x 47"," x 3² x 47"," x 3² x 47"," x 3² x 47"," x 3² x 47"," x 3² x 47"," x 3² x 47"," x 3² x 47"," x 3² x 47"," x 3² x 47"," x 3² x 47"," x 3² x 47"," x 3² x 47"," x 3² x 47",{"$f":"AKD60&AKE25","v":" x 3² x 47"}," x 3² x 47"," x 3² x 47"," x 3² x 47"," x 3² x 47"," x 3² x 47"," x 3² x 47"," x 3² x 47"," x 3² x 47"," x 3² x 47"," x 3² x 47"," x 3² x 47"," x 3² x 47"," x 3² x 47"," x 3² x 47"," x 3² x 47"," x 3² x 47"," x 3² x 47"," x 3² x 47"," x 3² x 47"," x 3² x 47"," x 3² x 47"," x 3² x 47"," x 3² x 47"," x 3² x 47"," x 3² x 47"," x 3² x 47"," x 3² x 47"," x 3² x 47"," x 3² x 47"," x 3² x 47"," x 3² x 47"," x 3² x 47"," x 3² x 47"," x 3² x 47"," x 3² x 47"," x 3² x 47"," x 3² x 47"," x 3² x 47"]
[13,{"$error":"#N/A"},{"$error":"#N/A"},0,{"$f":"IF(D61=0,IF(SUM(D62:$D$62)=0,\"\",E62),D61)","v":""},{"$f":"RIGHT(ALQ60,LEN(ALQ60)-3)","v":"3² x 47"}]
[14,{"$error":"#N/A"},{"$error":"#N/A"},0,{"$f":"IF(D62=0,IF(SUM(D$62:$D63)=0,\"\",E63),D62)","v":""}]
[]
["#1 not HCF:"]
[1,{"$f":"MATCH(A65,$F$54:$ALQ$54,0)","v":{"$error":"#N/A"}},{"$f":"LOOKUP(B65,$F$1:$ALQ$1,$F$6:$ALQ$6)","v":{"$error":"#N/A"}},{"$f":"IF(ISERROR(C65),0,C65)","v":0},{"$f":"IF(D65=0,IF(SUM(D66:$D$78)=0,\"\",E66),D65)","v":2}]
[2,{"$f":"MATCH(A66,$F$54:$ALQ$54,0)","v":1},{"$f":"LOOKUP(B66,$F$1:$ALQ$1,$F$6:$ALQ$6)","v":2},{"$f":"IF(ISERROR(C66),0,C66)","v":2},{"$f":"IF(D66=0,IF(SUM(D67:$D$78)=0,\"\",E67),D66)","v":2}]
[3,3,5,5,{"$f":"IF(D67=0,IF(SUM(D68:$D$78)=0,\"\",E68),D67)","v":5}]
[4,{"$error":"#N/A"},{"$error":"#N/A"},0,{"$f":"IF(D68=0,IF(SUM(D69:$D$78)=0,\"\",E69),D68)","v":""}]
[5,{"$error":"#N/A"},{"$error":"#N/A"},0,{"$f":"IF(D69=0,IF(SUM(D70:$D$78)=0,\"\",E70),D69)","v":""}]
[6,{"$error":"#N/A"},{"$error":"#N/A"},0,{"$f":"IF(D70=0,IF(SUM(D71:$D$78)=0,\"\",E71),D70)","v":""}]
[7,{"$error":"#N/A"},{"$error":"#N/A"},0,{"$f":"IF(D71=0,IF(SUM(D72:$D$78)=0,\"\",E72),D71)","v":""}]
[8,{"$error":"#N/A"},{"$error":"#N/A"},0,{"$f":"IF(D72=0,IF(SUM(D73:$D$78)=0,\"\",E73),D72)","v":""}]
[9,{"$error":"#N/A"},{"$error":"#N/A"},0,{"$f":"IF(D73=0,IF(SUM(D74:$D$78)=0,\"\",E74),D73)","v":""}]
[10,{"$error":"#N/A"},{"$error":"#N/A"},0,{"$f":"IF(D74=0,IF(SUM(D75:$D$78)=0,\"\",E75),D74)","v":""}]
[11,{"$error":"#N/A"},{"$error":"#N/A"},0,{"$f":"IF(D75=0,IF(SUM(D76:$D$78)=0,\"\",E76),D75)","v":""}]
[12,{"$error":"#N/A"},{"$error":"#N/A"},0,{"$f":"IF(D76=0,IF(SUM(D77:$D$78)=0,\"\",E77),D76)","v":""}]
[13,{"$error":"#N/A"},{"$error":"#N/A"},0,{"$f":"IF(D77=0,IF(SUM(D78:$D$78)=0,\"\",E78),D77)","v":""}]
[14,{"$error":"#N/A"},{"$error":"#N/A"},0,{"$f":"IF(D78=0,IF(SUM(D$78:$D79)=0,\"\",E79),D78)","v":""}]
[]
["#2 Not HCF:"]
[1,{"$f":"MATCH(A81,$F$55:$ALQ$55,0)","v":15},{"$f":"LOOKUP(B81,$F$1:$ALQ$1,$F$6:$ALQ$6)","v":47},{"$f":"IF(ISERROR(C81),0,C81)","v":47},{"$f":"IF(D81=0,IF(SUM(D82:$D$94)=0,\"\",E82),D81)","v":47}]
[2,{"$f":"MATCH(A82,$F$55:$ALQ$55,0)","v":{"$error":"#N/A"}},{"$f":"LOOKUP(B82,$F$1:$ALQ$1,$F$6:$ALQ$6)","v":{"$error":"#N/A"}},{"$f":"IF(ISERROR(C82),0,C82)","v":0},{"$f":"IF(D82=0,IF(SUM(D83:$D$94)=0,\"\",E83),D82)","v":""}]
[3,{"$error":"#N/A"},{"$error":"#N/A"},0,{"$f":"IF(D83=0,IF(SUM(D84:$D$94)=0,\"\",E84),D83)","v":""}]
[4,{"$error":"#N/A"},{"$error":"#N/A"},0,{"$f":"IF(D84=0,IF(SUM(D85:$D$94)=0,\"\",E85),D84)","v":""}]
[5,{"$error":"#N/A"},{"$error":"#N/A"},0,{"$f":"IF(D85=0,IF(SUM(D86:$D$94)=0,\"\",E86),D85)","v":""}]
[6,{"$error":"#N/A"},{"$error":"#N/A"},0,{"$f":"IF(D86=0,IF(SUM(D87:$D$94)=0,\"\",E87),D86)","v":""}]
[7,{"$error":"#N/A"},{"$error":"#N/A"},0,{"$f":"IF(D87=0,IF(SUM(D88:$D$94)=0,\"\",E88),D87)","v":""}]
[8,{"$error":"#N/A"},{"$error":"#N/A"},0,{"$f":"IF(D88=0,IF(SUM(D89:$D$94)=0,\"\",E89),D88)","v":""}]
[9,{"$error":"#N/A"},{"$error":"#N/A"},0,{"$f":"IF(D89=0,IF(SUM(D90:$D$94)=0,\"\",E90),D89)","v":""}]
[10,{"$error":"#N/A"},{"$error":"#N/A"},0,{"$f":"IF(D90=0,IF(SUM(D91:$D$94)=0,\"\",E91),D90)","v":""}]
[11,{"$error":"#N/A"},{"$error":"#N/A"},0,{"$f":"IF(D91=0,IF(SUM(D92:$D$94)=0,\"\",E92),D91)","v":""}]
[12,{"$error":"#N/A"},{"$error":"#N/A"},0,{"$f":"IF(D92=0,IF(SUM(D93:$D$94)=0,\"\",E93),D92)","v":""}]
[13,{"$error":"#N/A"},{"$error":"#N/A"},0,{"$f":"IF(D93=0,IF(SUM(D94:$D$94)=0,\"\",E94),D93)","v":""}]
[14,{"$error":"#N/A"},{"$error":"#N/A"},0,{"$f":"IF(D94=0,IF(SUM(D$94:$D95)=0,\"\",E95),D94)","v":""}]
[]
[0,"⁰"]
[1,"¹"]
[2,"²"]
[3,"³"]
[4,"⁴"]
[5,"⁵"]
[6,"⁶"]
[7,"⁷"]
[8,"⁸"]
[9,"⁹"]
[10,"¹⁰"]
[11,"¹¹"]
[12,"¹²"]
[13,"¹³"]
[14,"¹⁴"]
[15,"¹⁵"]
[16,"¹⁶"]
[17,"¹⁷"]

{"sheet":"Working2","index":3,"n_rows":113,"n_cols":1006,"rows_kept":113,"cut":false,"hidden":true,"merged":[]}
[null,null,null,null,null,1,2,3,{"$f":"H1+1","v":4},{"$f":"I1+1","v":5},6,7,8,9,10,11,12,13,14,15,16,17,18,19,20,21,22,23,24,25,26,27,28,29,30,31,32,33,34,35,36,37,38,39,40,41,42,43,44,45,46,47,48,49,50,51,52,53,54,55,56,57,58,59,60,61,62,63,64,65,66,67,68,{"$f":"BU1+1","v":69},70,71,72,73,74,75,76,77,78,79,80,81,82,83,84,85,86,87,88,89,90,91,92,93,94,95,96,97,98,99,100,101,102,103,104,105,106,107,108,109,110,111,112,113,114,115,116,117,118,119,120,121,122,123,124,125,126,127,128,129,130,131,132,{"$f":"EG1+1","v":133},134,135,136,137,138,139,140,141,142,143,144,145,146,147,148,149,150,151,152,153,154,155,156,157,158,159,160,161,162,163,164,165,166,167,168,169,170,171,172,173,174,175,176,177,178,179,180,181,182,183,184,185,186,187,188,189,190,191,192,193,194,195,196,{"$f":"GS1+1","v":197},198,199,200,201,202,203,204,205,206,207,208,209,210,211,212,213,214,215,216,217,218,219,220,221,222,223,224,225,226,227,228,229,230,231,232,233,234,235,236,237,238,239,240,241,242,243,244,245,246,247,248,249,250,251,252,253,254,255,256,257,258,259,260,{"$f":"JE1+1","v":261},262,263,264,265,266,267,268,269,270,271,272,273,274,275,276,277,278,279,280,281,282,283,284,285,286,287,288,289,290,291,292,293,294,295,296,297,298,299,300,301,302,303,304,305,306,307,308,309,310,311,312,313,314,315,316,317,318,319,320,321,322,323,324,{"$f":"LQ1+1","v":325},326,327,328,329,330,331,332,333,334,335,336,337,338,339,340,341,342,343,344,345,346,347,348,349,350,351,352,353,354,355,356,357,358,359,360,361,362,363,364,365,366,367,368,369,370,371,372,373,374,375,376,377,378,379,380,381,382,383,384,385,386,387,388,{"$f":"OC1+1","v":389},390,391,392,393,394,395,396,397,398,399,400,401,402,403,404,405,406,407,408,409,410,411,412,413,414,415,416,417,418,419,420,421,422,423,424,425,426,427,428,429,430,431,432,433,434,435,436,437,438,439,440,441,442,443,444,445,446,447,448,449,450,451,452,{"$f":"QO1+1","v":453},454,455,456,457,458,459,460,461,462,463,464,465,466,467,468,469,470,471,472,473,474,475,476,477,478,479,480,481,482,483,484,485,486,487,488,489,490,491,492,493,494,495,496,497,498,499,500,501,502,503,504,505,506,507,508,509,510,511,512,513,514,515,516,{"$f":"TA1+1","v":517},518,519,520,521,522,523,524,525,526,527,528,529,530,531,532,533,534,535,536,537,538,539,540,541,542,543,544,545,546,547,548,549,550,551,552,553,554,555,556,557,558,559,560,561,562,563,564,565,566,567,568,569,570,571,572,573,574,575,576,577,578,579,580,{"$f":"VM1+1","v":581},582,583,584,585,586,587,588,589,590,591,592,593,594,595,596,597,598,599,600,601,602,603,604,605,606,607,608,609,610,611,612,613,614,615,616,617,618,619,620,621,622,623,624,625,626,627,628,629,630,631,632,633,634,635,636,637,638,639,640,641,642,643,644,{"$f":"XY1+1","v":645},646,647,648,649,650,651,652,653,654,655,656,657,658,659,660,661,662,663,664,665,666,667,668,669,670,671,672,673,674,675,676,677,678,679,680,681,682,683,684,685,686,687,688,689,690,691,692,693,694,695,696,697,698,699,700,701,702,703,704,705,706,707,708,{"$f":"AAK1+1","v":709},710,711,712,713,714,715,716,717,718,719,720,721,722,723,724,725,726,727,728,729,730,731,732,733,734,735,736,737,738,739,740,741,742,743,744,745,746,747,748,749,750,751,752,753,754,755,756,757,758,759,760,761,762,763,764,765,766,767,768,769,770,771,772,{"$f":"ACW1+1","v":773},774,775,776,777,778,779,780,781,782,783,784,785,786,787,788,789,790,791,792,793,794,795,796,797,798,799,800,801,802,803,804,805,806,807,808,809,810,811,812,813,814,815,816,817,818,819,820,821,822,823,824,825,826,827,828,829,830,831,832,833,834,835,836,{"$f":"AFI1+1","v":837},838,839,840,841,842,843,844,845,846,847,848,849,850,851,852,853,854,855,856,857,858,859,860,861,862,863,864,865,866,867,868,869,870,871,872,873,874,875,876,877,878,879,880,881,882,883,884,885,886,887,888,889,890,891,892,893,894,895,896,897,898,899,900,{"$f":"AHU1+1","v":901},902,903,904,905,906,907,908,909,910,911,912,913,914,915,916,917,918,919,920,921,922,923,924,925,926,927,928,929,930,931,932,933,934,935,936,937,938,939,940,941,942,943,944,945,946,947,948,949,950,951,952,953,954,955,956,957,958,959,960,961,962,963,964,{"$f":"AKG1+1","v":965},966,967,968,969,970,971,972,973,974,975,976,977,978,979,980,981,982,983,984,985,986,987,988,989,990,991,992,993,994,995,996,997,998,999,1000]
[null,null,null,null,null,{"$f":"IF(F4=\"\",\"\",\" x \"&F4)","v":" x 2⁴"},{"$f":"IF(G4=\"\",\"\",\" x \")&G4","v":" x 3²"},{"$f":"IF(H4=\"\",\"\",\" x \")&H4","v":" x 5"},"","","","","","","","","","","","","","","","","","","","","","","","","","","","","","","","","","","","","","","","","","","","","","","","","","","","","","","","","","","","","","","",{"$f":"IF(BT4=\"\",\"\",\" x \")&BT4","v":""},"","","","","","","","","","","","","","","","","","","","","","","","","","","","","","","","","","","","","","","","","","","","","","","","","","","","","","","","","","","","","","","",{"$f":"IF(EF4=\"\",\"\",\" x \")&EF4","v":""},"","","","","","","","","","","","","","","","","","","","","","","","","","","","","","","","","","","","","","","","","","","","","","","","","","","","","","","","","","","","","","","",{"$f":"IF(GR4=\"\",\"\",\" x \")&GR4","v":""},"","","","","","","","","","","","","","","","","","","","","","","","","","","","","","","","","","","","","","","","","","","","","","","","","","","","","","","","","","","","","","","",{"$f":"IF(JD4=\"\",\"\",\" x \")&JD4","v":""},"","","","","","","","","","","","","","","","","","","","","","","","","","","","","","","","","","","","","","","","","","","","","","","","","","","","","","","","","","","","","","","",{"$f":"IF(LP4=\"\",\"\",\" x \")&LP4","v":""},"","","","","","","","","","","","","","","","","","","","","","","","","","","","","","","","","","","","","","","","","","","","","","","","","","","","","","","","","","","","","","","",{"$f":"IF(OB4=\"\",\"\",\" x \")&OB4","v":""},"","","","","","","","","","","","","","","","","","","","","","","","","","","","","","","","","","","","","","","","","","","","","","","","","","","","","","","","","","","","","","","",{"$f":"IF(QN4=\"\",\"\",\" x \")&QN4","v":""},"","","","","","","","","","","","","","","","","","","","","","","","","","","","","","","","","","","","","","","","","","","","","","","","","","","","","","","","","","","","","","","",{"$f":"IF(SZ4=\"\",\"\",\" x \")&SZ4","v":""},"","","","","","","","","","","","","","","","","","","","","","","","","","","","","","","","","","","","","","","","","","","","","","","","","","","","","","","","","","","","","","","",{"$f":"IF(VL4=\"\",\"\",\" x \")&VL4","v":""},"","","","","","","","","","","","","","","","","","","","","","","","","","","","","","","","","","","","","","","","","","","","","","","","","","","","","","","","","","","","","","","",{"$f":"IF(XX4=\"\",\"\",\" x \")&XX4","v":""},"","","","","","","","","","","","","","","","","","","","","","","","","","","","","","","","","","","","","","","","","","","","","","","","","","","","","","","","","","","","","","","",{"$f":"IF(AAJ4=\"\",\"\",\" x \")&AAJ4","v":""},"","","","","","","","","","","","","","","","","","","","","","","","","","","","","","","","","","","","","","","","","","","","","","","","","","","","","","","","","","","","","","","",{"$f":"IF(ACV4=\"\",\"\",\" x \")&ACV4","v":""},"","","","","","","","","","","","","","","","","","","","","","","","","","","","","","","","","","","","","","","","","","","","","","","","","","","","","","","","","","","","","","","",{"$f":"IF(AFH4=\"\",\"\",\" x \")&AFH4","v":""},"","","","","","","","","","","","","","","","","","","","","","","","","","","","","","","","","","","","","","","","","","","","","","","","","","","","","","","","","","","","","","","",{"$f":"IF(AHT4=\"\",\"\",\" x \")&AHT4","v":""},"","","","","","","","","","","","","","","","","","","","","","","","","","","","","","","","","","","","","","","","","","","","","","","","","","","","","","","","","","","","","","","",{"$f":"IF(AKF4=\"\",\"\",\" x \")&AKF4","v":""},"","","","","","","","","","","","","","","","","","","","","","","","","","","","","","","","","","","","",""]
[null,null,null,null,null,{"$f":"SUM($F$5:F5)","v":4},{"$f":"SUM($F$5:G5)","v":6},{"$f":"SUM($F$5:H5)","v":7},{"$f":"SUM($F$5:I5)","v":7},{"$f":"SUM($F$5:J5)","v":7},{"$f":"SUM($F$5:K5)","v":7},{"$f":"SUM($F$5:L5)","v":7},{"$f":"SUM($F$5:M5)","v":7},{"$f":"SUM($F$5:N5)","v":7},{"$f":"SUM($F$5:O5)","v":7},{"$f":"SUM($F$5:P5)","v":7},{"$f":"SUM($F$5:Q5)","v":7},{"$f":"SUM($F$5:R5)","v":7},{"$f":"SUM($F$5:S5)","v":7},{"$f":"SUM($F$5:T5)","v":7},{"$f":"SUM($F$5:U5)","v":7},{"$f":"SUM($F$5:V5)","v":7},{"$f":"SUM($F$5:W5)","v":7},{"$f":"SUM($F$5:X5)","v":7},{"$f":"SUM($F$5:Y5)","v":7},{"$f":"SUM($F$5:Z5)","v":7},{"$f":"SUM($F$5:AA5)","v":7},{"$f":"SUM($F$5:AB5)","v":7},{"$f":"SUM($F$5:AC5)","v":7},{"$f":"SUM($F$5:AD5)","v":7},{"$f":"SUM($F$5:AE5)","v":7},{"$f":"SUM($F$5:AF5)","v":7},{"$f":"SUM($F$5:AG5)","v":7},{"$f":"SUM($F$5:AH5)","v":7},{"$f":"SUM($F$5:AI5)","v":7},{"$f":"SUM($F$5:AJ5)","v":7},{"$f":"SUM($F$5:AK5)","v":7},{"$f":"SUM($F$5:AL5)","v":7},{"$f":"SUM($F$5:AM5)","v":7},{"$f":"SUM($F$5:AN5)","v":7},{"$f":"SUM($F$5:AO5)","v":7},{"$f":"SUM($F$5:AP5)","v":7},{"$f":"SUM($F$5:AQ5)","v":7},{"$f":"SUM($F$5:AR5)","v":7},{"$f":"SUM($F$5:AS5)","v":7},{"$f":"SUM($F$5:AT5)","v":7},{"$f":"SUM($F$5:AU5)","v":7},{"$f":"SUM($F$5:AV5)","v":7},{"$f":"SUM($F$5:AW5)","v":7},{"$f":"SUM($F$5:AX5)","v":7},{"$f":"SUM($F$5:AY5)","v":7},{"$f":"SUM($F$5:AZ5)","v":7},{"$f":"SUM($F$5:BA5)","v":7},{"$f":"SUM($F$5:BB5)","v":7},{"$f":"SUM($F$5:BC5)","v":7},{"$f":"SUM($F$5:BD5)","v":7},{"$f":"SUM($F$5:BE5)","v":7},{"$f":"SUM($F$5:BF5)","v":7},{"$f":"SUM($F$5:BG5)","v":7},{"$f":"SUM($F$5:BH5)","v":7},{"$f":"SUM($F$5:BI5)","v":7},{"$f":"SUM($F$5:BJ5)","v":7},{"$f":"SUM($F$5:BK5)","v":7},{"$f":"SUM($F$5:BL5)","v":7},{"$f":"SUM($F$5:BM5)","v":7},{"$f":"SUM($F$5:BN5)","v":7},{"$f":"SUM($F$5:BO5)","v":7},{"$f":"SUM($F$5:BP5)","v":7},{"$f":"SUM($F$5:BQ5)","v":7},{"$f":"SUM($F$5:BR5)","v":7},{"$f":"SUM($F$5:BS5)","v":7},{"$f":"SUM($F$5:BT5)","v":7},{"$f":"SUM($F$5:BU5)","v":7},{"$f":"SUM($F$5:BV5)","v":7},{"$f":"SUM($F$5:BW5)","v":7},{"$f":"SUM($F$5:BX5)","v":7},{"$f":"SUM($F$5:BY5)","v":7},{"$f":"SUM($F$5:BZ5)","v":7},{"$f":"SUM($F$5:CA5)","v":7},{"$f":"SUM($F$5:CB5)","v":7},{"$f":"SUM($F$5:CC5)","v":7},{"$f":"SUM($F$5:CD5)","v":7},{"$f":"SUM($F$5:CE5)","v":7},{"$f":"SUM($F$5:CF5)","v":7},{"$f":"SUM($F$5:CG5)","v":7},{"$f":"SUM($F$5:CH5)","v":7},{"$f":"SUM($F$5:CI5)","v":7},{"$f":"SUM($F$5:CJ5)","v":7},{"$f":"SUM($F$5:CK5)","v":7},{"$f":"SUM($F$5:CL5)","v":7},{"$f":"SUM($F$5:CM5)","v":7},{"$f":"SUM($F$5:CN5)","v":7},{"$f":"SUM($F$5:CO5)","v":7},{"$f":"SUM($F$5:CP5)","v":7},{"$f":"SUM($F$5:CQ5)","v":7},{"$f":"SUM($F$5:CR5)","v":7},{"$f":"SUM($F$5:CS5)","v":7},{"$f":"SUM($F$5:CT5)","v":7},{"$f":"SUM($F$5:CU5)","v":7},{"$f":"SUM($F$5:CV5)","v":7},{"$f":"SUM($F$5:CW5)","v":7},{"$f":"SUM($F$5:CX5)","v":7},{"$f":"SUM($F$5:CY5)","v":7},{"$f":"SUM($F$5:CZ5)","v":7},{"$f":"SUM($F$5:DA5)","v":7},{"$f":"SUM($F$5:DB5)","v":7},{"$f":"SUM($F$5:DC5)","v":7},{"$f":"SUM($F$5:DD5)","v":7},{"$f":"SUM($F$5:DE5)","v":7},{"$f":"SUM($F$5:DF5)","v":7},{"$f":"SUM($F$5:DG5)","v":7},{"$f":"SUM($F$5:DH5)","v":7},{"$f":"SUM($F$5:DI5)","v":7},{"$f":"SUM($F$5:DJ5)","v":7},{"$f":"SUM($F$5:DK5)","v":7},{"$f":"SUM($F$5:DL5)","v":7},{"$f":"SUM($F$5:DM5)","v":7},{"$f":"SUM($F$5:DN5)","v":7},{"$f":"SUM($F$5:DO5)","v":7},{"$f":"SUM($F$5:DP5)","v":7},{"$f":"SUM($F$5:DQ5)","v":7},{"$f":"SUM($F$5:DR5)","v":7},{"$f":"SUM($F$5:DS5)","v":7},{"$f":"SUM($F$5:DT5)","v":7},{"$f":"SUM($F$5:DU5)","v":7},{"$f":"SUM($F$5:DV5)","v":7},{"$f":"SUM($F$5:DW5)","v":7},{"$f":"SUM($F$5:DX5)","v":7},{"$f":"SUM($F$5:DY5)","v":7},{"$f":"SUM($F$5:DZ5)","v":7},{"$f":"SUM($F$5:EA5)","v":7},{"$f":"SUM($F$5:EB5)","v":7},{"$f":"SUM($F$5:EC5)","v":7},{"$f":"SUM($F$5:ED5)","v":7},{"$f":"SUM($F$5:EE5)","v":7},{"$f":"SUM($F$5:EF5)","v":7},{"$f":"SUM($F$5:EG5)","v":7},{"$f":"SUM($F$5:EH5)","v":7},{"$f":"SUM($F$5:EI5)","v":7},{"$f":"SUM($F$5:EJ5)","v":7},{"$f":"SUM($F$5:EK5)","v":7},{"$f":"SUM($F$5:EL5)","v":7},{"$f":"SUM($F$5:EM5)","v":7},{"$f":"SUM($F$5:EN5)","v":7},{"$f":"SUM($F$5:EO5)","v":7},{"$f":"SUM($F$5:EP5)","v":7},{"$f":"SUM($F$5:EQ5)","v":7},{"$f":"SUM($F$5:ER5)","v":7},{"$f":"SUM($F$5:ES5)","v":7},{"$f":"SUM($F$5:ET5)","v":7},{"$f":"SUM($F$5:EU5)","v":7},{"$f":"SUM($F$5:EV5)","v":7},{"$f":"SUM($F$5:EW5)","v":7},{"$f":"SUM($F$5:EX5)","v":7},{"$f":"SUM($F$5:EY5)","v":7},{"$f":"SUM($F$5:EZ5)","v":7},{"$f":"SUM($F$5:FA5)","v":7},{"$f":"SUM($F$5:FB5)","v":7},{"$f":"SUM($F$5:FC5)","v":7},{"$f":"SUM($F$5:FD5)","v":7},{"$f":"SUM($F$5:FE5)","v":7},{"$f":"SUM($F$5:FF5)","v":7},{"$f":"SUM($F$5:FG5)","v":7},{"$f":"SUM($F$5:FH5)","v":7},{"$f":"SUM($F$5:FI5)","v":7},{"$f":"SUM($F$5:FJ5)","v":7},{"$f":"SUM($F$5:FK5)","v":7},{"$f":"SUM($F$5:FL5)","v":7},{"$f":"SUM($F$5:FM5)","v":7},{"$f":"SUM($F$5:FN5)","v":7},{"$f":"SUM($F$5:FO5)","v":7},{"$f":"SUM($F$5:FP5)","v":7},{"$f":"SUM($F$5:FQ5)","v":7},{"$f":"SUM($F$5:FR5)","v":7},{"$f":"SUM($F$5:FS5)","v":7},{"$f":"SUM($F$5:FT5)","v":7},{"$f":"SUM($F$5:FU5)","v":7},{"$f":"SUM($F$5:FV5)","v":7},{"$f":"SUM($F$5:FW5)","v":7},{"$f":"SUM($F$5:FX5)","v":7},{"$f":"SUM($F$5:FY5)","v":7},{"$f":"SUM($F$5:FZ5)","v":7},{"$f":"SUM($F$5:GA5)","v":7},{"$f":"SUM($F$5:GB5)","v":7},{"$f":"SUM($F$5:GC5)","v":7},{"$f":"SUM($F$5:GD5)","v":7},{"$f":"SUM($F$5:GE5)","v":7},{"$f":"SUM($F$5:GF5)","v":7},{"$f":"SUM($F$5:GG5)","v":7},{"$f":"SUM($F$5:GH5)","v":7},{"$f":"SUM($F$5:GI5)","v":7},{"$f":"SUM($F$5:GJ5)","v":7},{"$f":"SUM($F$5:GK5)","v":7},{"$f":"SUM($F$5:GL5)","v":7},{"$f":"SUM($F$5:GM5)","v":7},{"$f":"SUM($F$5:GN5)","v":7},{"$f":"SUM($F$5:GO5)","v":7},{"$f":"SUM($F$5:GP5)","v":7},{"$f":"SUM($F$5:GQ5)","v":7},{"$f":"SUM($F$5:GR5)","v":7},{"$f":"SUM($F$5:GS5)","v":7},{"$f":"SUM($F$5:GT5)","v":7},{"$f":"SUM($F$5:GU5)","v":7},{"$f":"SUM($F$5:GV5)","v":7},{"$f":"SUM($F$5:GW5)","v":7},{"$f":"SUM($F$5:GX5)","v":7},{"$f":"SUM($F$5:GY5)","v":7},{"$f":"SUM($F$5:GZ5)","v":7},{"$f":"SUM($F$5:HA5)","v":7},{"$f":"SUM($F$5:HB5)","v":7},{"$f":"SUM($F$5:HC5)","v":7},{"$f":"SUM($F$5:HD5)","v":7},{"$f":"SUM($F$5:HE5)","v":7},{"$f":"SUM($F$5:HF5)","v":7},{"$f":"SUM($F$5:HG5)","v":7},{"$f":"SUM($F$5:HH5)","v":7},{"$f":"SUM($F$5:HI5)","v":7},{"$f":"SUM($F$5:HJ5)","v":7},{"$f":"SUM($F$5:HK5)","v":7},{"$f":"SUM($F$5:HL5)","v":7},{"$f":"SUM($F$5:HM5)","v":7},{"$f":"SUM($F$5:HN5)","v":7},{"$f":"SUM($F$5:HO5)","v":7},{"$f":"SUM($F$5:HP5)","v":7},{"$f":"SUM($F$5:HQ5)","v":7},{"$f":"SUM($F$5:HR5)","v":7},{"$f":"SUM($F$5:HS5)","v":7},{"$f":"SUM($F$5:HT5)","v":7},{"$f":"SUM($F$5:HU5)","v":7},{"$f":"SUM($F$5:HV5)","v":7},{"$f":"SUM($F$5:HW5)","v":7},{"$f":"SUM($F$5:HX5)","v":7},{"$f":"SUM($F$5:HY5)","v":7},{"$f":"SUM($F$5:HZ5)","v":7},{"$f":"SUM($F$5:IA5)","v":7},{"$f":"SUM($F$5:IB5)","v":7},{"$f":"SUM($F$5:IC5)","v":7},{"$f":"SUM($F$5:ID5)","v":7},{"$f":"SUM($F$5:IE5)","v":7},{"$f":"SUM($F$5:IF5)","v":7},{"$f":"SUM($F$5:IG5)","v":7},{"$f":"SUM($F$5:IH5)","v":7},{"$f":"SUM($F$5:II5)","v":7},{"$f":"SUM($F$5:IJ5)","v":7},{"$f":"SUM($F$5:IK5)","v":7},{"$f":"SUM($F$5:IL5)","v":7},{"$f":"SUM($F$5:IM5)","v":7},{"$f":"SUM($F$5:IN5)","v":7},{"$f":"SUM($F$5:IO5)","v":7},{"$f":"SUM($F$5:IP5)","v":7},{"$f":"SUM($F$5:IQ5)","v":7},{"$f":"SUM($F$5:IR5)","v":7},{"$f":"SUM($F$5:IS5)","v":7},{"$f":"SUM($F$5:IT5)","v":7},{"$f":"SUM($F$5:IU5)","v":7},{"$f":"SUM($F$5:IV5)","v":7},{"$f":"SUM($F$5:IW5)","v":7},{"$f":"SUM($F$5:IX5)","v":7},{"$f":"SUM($F$5:IY5)","v":7},{"$f":"SUM($F$5:IZ5)","v":7},{"$f":"SUM($F$5:JA5)","v":7},{"$f":"SUM($F$5:JB5)","v":7},{"$f":"SUM($F$5:JC5)","v":7},{"$f":"SUM($F$5:JD5)","v":7},{"$f":"SUM($F$5:JE5)","v":7},{"$f":"SUM($F$5:JF5)","v":7},{"$f":"SUM($F$5:JG5)","v":7},{"$f":"SUM($F$5:JH5)","v":7},{"$f":"SUM($F$5:JI5)","v":7},{"$f":"SUM($F$5:JJ5)","v":7},{"$f":"SUM($F$5:JK5)","v":7},{"$f":"SUM($F$5:JL5)","v":7},{"$f":"SUM($F$5:JM5)","v":7},{"$f":"SUM($F$5:JN5)","v":7},{"$f":"SUM($F$5:JO5)","v":7},{"$f":"SUM($F$5:JP5)","v":7},{"$f":"SUM($F$5:JQ5)","v":7},{"$f":"SUM($F$5:JR5)","v":7},{"$f":"SUM($F$5:JS5)","v":7},{"$f":"SUM($F$5:JT5)","v":7},{"$f":"SUM($F$5:JU5)","v":7},{"$f":"SUM($F$5:JV5)","v":7},{"$f":"SUM($F$5:JW5)","v":7},{"$f":"SUM($F$5:JX5)","v":7},{"$f":"SUM($F$5:JY5)","v":7},{"$f":"SUM($F$5:JZ5)","v":7},{"$f":"SUM($F$5:KA5)","v":7},{"$f":"SUM($F$5:KB5)","v":7},{"$f":"SUM($F$5:KC5)","v":7},{"$f":"SUM($F$5:KD5)","v":7},{"$f":"SUM($F$5:KE5)","v":7},{"$f":"SUM($F$5:KF5)","v":7},{"$f":"SUM($F$5:KG5)","v":7},{"$f":"SUM($F$5:KH5)","v":7},{"$f":"SUM($F$5:KI5)","v":7},{"$f":"SUM($F$5:KJ5)","v":7},{"$f":"SUM($F$5:KK5)","v":7},{"$f":"SUM($F$5:KL5)","v":7},{"$f":"SUM($F$5:KM5)","v":7},{"$f":"SUM($F$5:KN5)","v":7},{"$f":"SUM($F$5:KO5)","v":7},{"$f":"SUM($F$5:KP5)","v":7},{"$f":"SUM($F$5:KQ5)","v":7},{"$f":"SUM($F$5:KR5)","v":7},{"$f":"SUM($F$5:KS5)","v":7},{"$f":"SUM($F$5:KT5)","v":7},{"$f":"SUM($F$5:KU5)","v":7},{"$f":"SUM($F$5:KV5)","v":7},{"$f":"SUM($F$5:KW5)","v":7},{"$f":"SUM($F$5:KX5)","v":7},{"$f":"SUM($F$5:KY5)","v":7},{"$f":"SUM($F$5:KZ5)","v":7},{"$f":"SUM($F$5:LA5)","v":7},{"$f":"SUM($F$5:LB5)","v":7},{"$f":"SUM($F$5:LC5)","v":7},{"$f":"SUM($F$5:LD5)","v":7},{"$f":"SUM($F$5:LE5)","v":7},{"$f":"SUM($F$5:LF5)","v":7},{"$f":"SUM($F$5:LG5)","v":7},{"$f":"SUM($F$5:LH5)","v":7},{"$f":"SUM($F$5:LI5)","v":7},{"$f":"SUM($F$5:LJ5)","v":7},{"$f":"SUM($F$5:LK5)","v":7},{"$f":"SUM($F$5:LL5)","v":7},{"$f":"SUM($F$5:LM5)","v":7},{"$f":"SUM($F$5:LN5)","v":7},{"$f":"SUM($F$5:LO5)","v":7},{"$f":"SUM($F$5:LP5)","v":7},{"$f":"SUM($F$5:LQ5)","v":7},{"$f":"SUM($F$5:LR5)","v":7},{"$f":"SUM($F$5:LS5)","v":7},{"$f":"SUM($F$5:LT5)","v":7},{"$f":"SUM($F$5:LU5)","v":7},{"$f":"SUM($F$5:LV5)","v":7},{"$f":"SUM($F$5:LW5)","v":7},{"$f":"SUM($F$5:LX5)","v":7},{"$f":"SUM($F$5:LY5)","v":7},{"$f":"SUM($F$5:LZ5)","v":7},{"$f":"SUM($F$5:MA5)","v":7},{"$f":"SUM($F$5:MB5)","v":7},{"$f":"SUM($F$5:MC5)","v":7},{"$f":"SUM($F$5:MD5)","v":7},{"$f":"SUM($F$5:ME5)","v":7},{"$f":"SUM($F$5:MF5)","v":7},{"$f":"SUM($F$5:MG5)","v":7},{"$f":"SUM($F$5:MH5)","v":7},{"$f":"SUM($F$5:MI5)","v":7},{"$f":"SUM($F$5:MJ5)","v":7},{"$f":"SUM($F$5:MK5)","v":7},{"$f":"SUM($F$5:ML5)","v":7},{"$f":"SUM($F$5:MM5)","v":7},{"$f":"SUM($F$5:MN5)","v":7},{"$f":"SUM($F$5:MO5)","v":7},{"$f":"SUM($F$5:MP5)","v":7},{"$f":"SUM($F$5:MQ5)","v":7},{"$f":"SUM($F$5:MR5)","v":7},{"$f":"SUM($F$5:MS5)","v":7},{"$f":"SUM($F$5:MT5)","v":7},{"$f":"SUM($F$5:MU5)","v":7},{"$f":"SUM($F$5:MV5)","v":7},{"$f":"SUM($F$5:MW5)","v":7},{"$f":"SUM($F$5:MX5)","v":7},{"$f":"SUM($F$5:MY5)","v":7},{"$f":"SUM($F$5:MZ5)","v":7},{"$f":"SUM($F$5:NA5)","v":7},{"$f":"SUM($F$5:NB5)","v":7},{"$f":"SUM($F$5:NC5)","v":7},{"$f":"SUM($F$5:ND5)","v":7},{"$f":"SUM($F$5:NE5)","v":7},{"$f":"SUM($F$5:NF5)","v":7},{"$f":"SUM($F$5:NG5)","v":7},{"$f":"SUM($F$5:NH5)","v":7},{"$f":"SUM($F$5:NI5)","v":7},{"$f":"SUM($F$5:NJ5)","v":7},{"$f":"SUM($F$5:NK5)","v":7},{"$f":"SUM($F$5:NL5)","v":7},{"$f":"SUM($F$5:NM5)","v":7},{"$f":"SUM($F$5:NN5)","v":7},{"$f":"SUM($F$5:NO5)","v":7},{"$f":"SUM($F$5:NP5)","v":7},{"$f":"SUM($F$5:NQ5)","v":7},{"$f":"SUM($F$5:NR5)","v":7},{"$f":"SUM($F$5:NS5)","v":7},{"$f":"SUM($F$5:NT5)","v":7},{"$f":"SUM($F$5:NU5)","v":7},{"$f":"SUM($F$5:NV5)","v":7},{"$f":"SUM($F$5:NW5)","v":7},{"$f":"SUM($F$5:NX5)","v":7},{"$f":"SUM($F$5:NY5)","v":7},{"$f":"SUM($F$5:NZ5)","v":7},{"$f":"SUM($F$5:OA5)","v":7},{"$f":"SUM($F$5:OB5)","v":7},{"$f":"SUM($F$5:OC5)","v":7},{"$f":"SUM($F$5:OD5)","v":7},{"$f":"SUM($F$5:OE5)","v":7},{"$f":"SUM($F$5:OF5)","v":7},{"$f":"SUM($F$5:OG5)","v":7},{"$f":"SUM($F$5:OH5)","v":7},{"$f":"SUM($F$5:OI5)","v":7},{"$f":"SUM($F$5:OJ5)","v":7},{"$f":"SUM($F$5:OK5)","v":7},{"$f":"SUM($F$5:OL5)","v":7},{"$f":"SUM($F$5:OM5)","v":7},{"$f":"SUM($F$5:ON5)","v":7},{"$f":"SUM($F$5:OO5)","v":7},{"$f":"SUM($F$5:OP5)","v":7},{"$f":"SUM($F$5:OQ5)","v":7},{"$f":"SUM($F$5:OR5)","v":7},{"$f":"SUM($F$5:OS5)","v":7},{"$f":"SUM($F$5:OT5)","v":7},{"$f":"SUM($F$5:OU5)","v":7},{"$f":"SUM($F$5:OV5)","v":7},{"$f":"SUM($F$5:OW5)","v":7},{"$f":"SUM($F$5:OX5)","v":7},{"$f":"SUM($F$5:OY5)","v":7},{"$f":"SUM($F$5:OZ5)","v":7},{"$f":"SUM($F$5:PA5)","v":7},{"$f":"SUM($F$5:PB5)","v":7},{"$f":"SUM($F$5:PC5)","v":7},{"$f":"SUM($F$5:PD5)","v":7},{"$f":"SUM($F$5:PE5)","v":7},{"$f":"SUM($F$5:PF5)","v":7},{"$f":"SUM($F$5:PG5)","v":7},{"$f":"SUM($F$5:PH5)","v":7},{"$f":"SUM($F$5:PI5)","v":7},{"$f":"SUM($F$5:PJ5)","v":7},{"$f":"SUM($F$5:PK5)","v":7},{"$f":"SUM($F$5:PL5)","v":7},{"$f":"SUM($F$5:PM5)","v":7},{"$f":"SUM($F$5:PN5)","v":7},{"$f":"SUM($F$5:PO5)","v":7},{"$f":"SUM($F$5:PP5)","v":7},{"$f":"SUM($F$5:PQ5)","v":7},{"$f":"SUM($F$5:PR5)","v":7},{"$f":"SUM($F$5:PS5)","v":7},{"$f":"SUM($F$5:PT5)","v":7},{"$f":"SUM($F$5:PU5)","v":7},{"$f":"SUM($F$5:PV5)","v":7},{"$f":"SUM($F$5:PW5)","v":7},{"$f":"SUM($F$5:PX5)","v":7},{"$f":"SUM($F$5:PY5)","v":7},{"$f":"SUM($F$5:PZ5)","v":7},{"$f":"SUM($F$5:QA5)","v":7},{"$f":"SUM($F$5:QB5)","v":7},{"$f":"SUM($F$5:QC5)","v":7},{"$f":"SUM($F$5:QD5)","v":7},{"$f":"SUM($F$5:QE5)","v":7},{"$f":"SUM($F$5:QF5)","v":7},{"$f":"SUM($F$5:QG5)","v":7},{"$f":"SUM($F$5:QH5)","v":7},{"$f":"SUM($F$5:QI5)","v":7},{"$f":"SUM($F$5:QJ5)","v":7},{"$f":"SUM($F$5:QK5)","v":7},{"$f":"SUM($F$5:QL5)","v":7},{"$f":"SUM($F$5:QM5)","v":7},{"$f":"SUM($F$5:QN5)","v":7},{"$f":"SUM($F$5:QO5)","v":7},{"$f":"SUM($F$5:QP5)","v":7},{"$f":"SUM($F$5:QQ5)","v":7},{"$f":"SUM($F$5:QR5)","v":7},{"$f":"SUM($F$5:QS5)","v":7},{"$f":"SUM($F$5:QT5)","v":7},{"$f":"SUM($F$5:QU5)","v":7},{"$f":"SUM($F$5:QV5)","v":7},{"$f":"SUM($F$5:QW5)","v":7},{"$f":"SUM($F$5:QX5)","v":7},{"$f":"SUM($F$5:QY5)","v":7},{"$f":"SUM($F$5:QZ5)","v":7},{"$f":"SUM($F$5:RA5)","v":7},{"$f":"SUM($F$5:RB5)","v":7},{"$f":"SUM($F$5:RC5)","v":7},{"$f":"SUM($F$5:RD5)","v":7},{"$f":"SUM($F$5:RE5)","v":7},{"$f":"SUM($F$5:RF5)","v":7},{"$f":"SUM($F$5:RG5)","v":7},{"$f":"SUM($F$5:RH5)","v":7},{"$f":"SUM($F$5:RI5)","v":7},{"$f":"SUM($F$5:RJ5)","v":7},{"$f":"SUM($F$5:RK5)","v":7},{"$f":"SUM($F$5:RL5)","v":7},{"$f":"SUM($F$5:RM5)","v":7},{"$f":"SUM($F$5:RN5)","v":7},{"$f":"SUM($F$5:RO5)","v":7},{"$f":"SUM($F$5:RP5)","v":7},{"$f":"SUM($F$5:RQ5)","v":7},{"$f":"SUM($F$5:RR5)","v":7},{"$f":"SUM($F$5:RS5)","v":7},{"$f":"SUM($F$5:RT5)","v":7},{"$f":"SUM($F$5:RU5)","v":7},{"$f":"SUM($F$5:RV5)","v":7},{"$f":"SUM($F$5:RW5)","v":7},{"$f":"SUM($F$5:RX5)","v":7},{"$f":"SUM($F$5:RY5)","v":7},{"$f":"SUM($F$5:RZ5)","v":7},{"$f":"SUM($F$5:SA5)","v":7},{"$f":"SUM($F$5:SB5)","v":7},{"$f":"SUM($F$5:SC5)","v":7},{"$f":"SUM($F$5:SD5)","v":7},{"$f":"SUM($F$5:SE5)","v":7},{"$f":"SUM($F$5:SF5)","v":7},{"$f":"SUM($F$5:SG5)","v":7},{"$f":"SUM($F$5:SH5)","v":7},{"$f":"SUM($F$5:SI5)","v":7},{"$f":"SUM($F$5:SJ5)","v":7},{"$f":"SUM($F$5:SK5)","v":7},{"$f":"SUM($F$5:SL5)","v":7},{"$f":"SUM($F$5:SM5)","v":7},{"$f":"SUM($F$5:SN5)","v":7},{"$f":"SUM($F$5:SO5)","v":7},{"$f":"SUM($F$5:SP5)","v":7},{"$f":"SUM($F$5:SQ5)","v":7},{"$f":"SUM($F$5:SR5)","v":7},{"$f":"SUM($F$5:SS5)","v":7},{"$f":"SUM($F$5:ST5)","v":7},{"$f":"SUM($F$5:SU5)","v":7},{"$f":"SUM($F$5:SV5)","v":7},{"$f":"SUM($F$5:SW5)","v":7},{"$f":"SUM($F$5:SX5)","v":7},{"$f":"SUM($F$5:SY5)","v":7},{"$f":"SUM($F$5:SZ5)","v":7},{"$f":"SUM($F$5:TA5)","v":7},{"$f":"SUM($F$5:TB5)","v":7},{"$f":"SUM($F$5:TC5)","v":7},{"$f":"SUM($F$5:TD5)","v":7},{"$f":"SUM($F$5:TE5)","v":7},{"$f":"SUM($F$5:TF5)","v":7},{"$f":"SUM($F$5:TG5)","v":7},{"$f":"SUM($F$5:TH5)","v":7},{"$f":"SUM($F$5:TI5)","v":7},{"$f":"SUM($F$5:TJ5)","v":7},{"$f":"SUM($F$5:TK5)","v":7},{"$f":"SUM($F$5:TL5)","v":7},{"$f":"SUM($F$5:TM5)","v":7},{"$f":"SUM($F$5:TN5)","v":7},{"$f":"SUM($F$5:TO5)","v":7},{"$f":"SUM($F$5:TP5)","v":7},{"$f":"SUM($F$5:TQ5)","v":7},{"$f":"SUM($F$5:TR5)","v":7},{"$f":"SUM($F$5:TS5)","v":7},{"$f":"SUM($F$5:TT5)","v":7},{"$f":"SUM($F$5:TU5)","v":7},{"$f":"SUM($F$5:TV5)","v":7},{"$f":"SUM($F$5:TW5)","v":7},{"$f":"SUM($F$5:TX5)","v":7},{"$f":"SUM($F$5:TY5)","v":7},{"$f":"SUM($F$5:TZ5)","v":7},{"$f":"SUM($F$5:UA5)","v":7},{"$f":"SUM($F$5:UB5)","v":7},{"$f":"SUM($F$5:UC5)","v":7},{"$f":"SUM($F$5:UD5)","v":7},{"$f":"SUM($F$5:UE5)","v":7},{"$f":"SUM($F$5:UF5)","v":7},{"$f":"SUM($F$5:UG5)","v":7},{"$f":"SUM($F$5:UH5)","v":7},{"$f":"SUM($F$5:UI5)","v":7},{"$f":"SUM($F$5:UJ5)","v":7},{"$f":"SUM($F$5:UK5)","v":7},{"$f":"SUM($F$5:UL5)","v":7},{"$f":"SUM($F$5:UM5)","v":7},{"$f":"SUM($F$5:UN5)","v":7},{"$f":"SUM($F$5:UO5)","v":7},{"$f":"SUM($F$5:UP5)","v":7},{"$f":"SUM($F$5:UQ5)","v":7},{"$f":"SUM($F$5:UR5)","v":7},{"$f":"SUM($F$5:US5)","v":7},{"$f":"SUM($F$5:UT5)","v":7},{"$f":"SUM($F$5:UU5)","v":7},{"$f":"SUM($F$5:UV5)","v":7},{"$f":"SUM($F$5:UW5)","v":7},{"$f":"SUM($F$5:UX5)","v":7},{"$f":"SUM($F$5:UY5)","v":7},{"$f":"SUM($F$5:UZ5)","v":7},{"$f":"SUM($F$5:VA5)","v":7},{"$f":"SUM($F$5:VB5)","v":7},{"$f":"SUM($F$5:VC5)","v":7},{"$f":"SUM($F$5:VD5)","v":7},{"$f":"SUM($F$5:VE5)","v":7},{"$f":"SUM($F$5:VF5)","v":7},{"$f":"SUM($F$5:VG5)","v":7},{"$f":"SUM($F$5:VH5)","v":7},{"$f":"SUM($F$5:VI5)","v":7},{"$f":"SUM($F$5:VJ5)","v":7},{"$f":"SUM($F$5:VK5)","v":7},{"$f":"SUM($F$5:VL5)","v":7},{"$f":"SUM($F$5:VM5)","v":7},{"$f":"SUM($F$5:VN5)","v":7},{"$f":"SUM($F$5:VO5)","v":7},{"$f":"SUM($F$5:VP5)","v":7},{"$f":"SUM($F$5:VQ5)","v":7},{"$f":"SUM($F$5:VR5)","v":7},{"$f":"SUM($F$5:VS5)","v":7},{"$f":"SUM($F$5:VT5)","v":7},{"$f":"SUM($F$5:VU5)","v":7},{"$f":"SUM($F$5:VV5)","v":7},{"$f":"SUM($F$5:VW5)","v":7},{"$f":"SUM($F$5:VX5)","v":7},{"$f":"SUM($F$5:VY5)","v":7},{"$f":"SUM($F$5:VZ5)","v":7},{"$f":"SUM($F$5:WA5)","v":7},{"$f":"SUM($F$5:WB5)","v":7},{"$f":"SUM($F$5:WC5)","v":7},{"$f":"SUM($F$5:WD5)","v":7},{"$f":"SUM($F$5:WE5)","v":7},{"$f":"SUM($F$5:WF5)","v":7},{"$f":"SUM($F$5:WG5)","v":7},{"$f":"SUM($F$5:WH5)","v":7},{"$f":"SUM($F$5:WI5)","v":7},{"$f":"SUM($F$5:WJ5)","v":7},{"$f":"SUM($F$5:WK5)","v":7},{"$f":"SUM($F$5:WL5)","v":7},{"$f":"SUM($F$5:WM5)","v":7},{"$f":"SUM($F$5:WN5)","v":7},{"$f":"SUM($F$5:WO5)","v":7},{"$f":"SUM($F$5:WP5)","v":7},{"$f":"SUM($F$5:WQ5)","v":7},{"$f":"SUM($F$5:WR5)","v":7},{"$f":"SUM($F$5:WS5)","v":7},{"$f":"SUM($F$5:WT5)","v":7},{"$f":"SUM($F$5:WU5)","v":7},{"$f":"SUM($F$5:WV5)","v":7},{"$f":"SUM($F$5:WW5)","v":7},{"$f":"SUM($F$5:WX5)","v":7},{"$f":"SUM($F$5:WY5)","v":7},{"$f":"SUM($F$5:WZ5)","v":7},{"$f":"SUM($F$5:XA5)","v":7},{"$f":"SUM($F$5:XB5)","v":7},{"$f":"SUM($F$5:XC5)","v":7},{"$f":"SUM($F$5:XD5)","v":7},{"$f":"SUM($F$5:XE5)","v":7},{"$f":"SUM($F$5:XF5)","v":7},{"$f":"SUM($F$5:XG5)","v":7},{"$f":"SUM($F$5:XH5)","v":7},{"$f":"SUM($F$5:XI5)","v":7},{"$f":"SUM($F$5:XJ5)","v":7},{"$f":"SUM($F$5:XK5)","v":7},{"$f":"SUM($F$5:XL5)","v":7},{"$f":"SUM($F$5:XM5)","v":7},{"$f":"SUM($F$5:XN5)","v":7},{"$f":"SUM($F$5:XO5)","v":7},{"$f":"SUM($F$5:XP5)","v":7},{"$f":"SUM($F$5:XQ5)","v":7},{"$f":"SUM($F$5:XR5)","v":7},{"$f":"SUM($F$5:XS5)","v":7},{"$f":"SUM($F$5:XT5)","v":7},{"$f":"SUM($F$5:XU5)","v":7},{"$f":"SUM($F$5:XV5)","v":7},{"$f":"SUM($F$5:XW5)","v":7},{"$f":"SUM($F$5:XX5)","v":7},{"$f":"SUM($F$5:XY5)","v":7},{"$f":"SUM($F$5:XZ5)","v":7},{"$f":"SUM($F$5:YA5)","v":7},{"$f":"SUM($F$5:YB5)","v":7},{"$f":"SUM($F$5:YC5)","v":7},{"$f":"SUM($F$5:YD5)","v":7},{"$f":"SUM($F$5:YE5)","v":7},{"$f":"SUM($F$5:YF5)","v":7},{"$f":"SUM($F$5:YG5)","v":7},{"$f":"SUM($F$5:YH5)","v":7},{"$f":"SUM($F$5:YI5)","v":7},{"$f":"SUM($F$5:YJ5)","v":7},{"$f":"SUM($F$5:YK5)","v":7},{"$f":"SUM($F$5:YL5)","v":7},{"$f":"SUM($F$5:YM5)","v":7},{"$f":"SUM($F$5:YN5)","v":7},{"$f":"SUM($F$5:YO5)","v":7},{"$f":"SUM($F$5:YP5)","v":7},{"$f":"SUM($F$5:YQ5)","v":7},{"$f":"SUM($F$5:YR5)","v":7},{"$f":"SUM($F$5:YS5)","v":7},{"$f":"SUM($F$5:YT5)","v":7},{"$f":"SUM($F$5:YU5)","v":7},{"$f":"SUM($F$5:YV5)","v":7},{"$f":"SUM($F$5:YW5)","v":7},{"$f":"SUM($F$5:YX5)","v":7},{"$f":"SUM($F$5:YY5)","v":7},{"$f":"SUM($F$5:YZ5)","v":7},{"$f":"SUM($F$5:ZA5)","v":7},{"$f":"SUM($F$5:ZB5)","v":7},{"$f":"SUM($F$5:ZC5)","v":7},{"$f":"SUM($F$5:ZD5)","v":7},{"$f":"SUM($F$5:ZE5)","v":7},{"$f":"SUM($F$5:ZF5)","v":7},{"$f":"SUM($F$5:ZG5)","v":7},{"$f":"SUM($F$5:ZH5)","v":7},{"$f":"SUM($F$5:ZI5)","v":7},{"$f":"SUM($F$5:ZJ5)","v":7},{"$f":"SUM($F$5:ZK5)","v":7},{"$f":"SUM($F$5:ZL5)","v":7},{"$f":"SUM($F$5:ZM5)","v":7},{"$f":"SUM($F$5:ZN5)","v":7},{"$f":"SUM($F$5:ZO5)","v":7},{"$f":"SUM($F$5:ZP5)","v":7},{"$f":"SUM($F$5:ZQ5)","v":7},{"$f":"SUM($F$5:ZR5)","v":7},{"$f":"SUM($F$5:ZS5)","v":7},{"$f":"SUM($F$5:ZT5)","v":7},{"$f":"SUM($F$5:ZU5)","v":7},{"$f":"SUM($F$5:ZV5)","v":7},{"$f":"SUM($F$5:ZW5)","v":7},{"$f":"SUM($F$5:ZX5)","v":7},{"$f":"SUM($F$5:ZY5)","v":7},{"$f":"SUM($F$5:ZZ5)","v":7},{"$f":"SUM($F$5:AAA5)","v":7},{"$f":"SUM($F$5:AAB5)","v":7},{"$f":"SUM($F$5:AAC5)","v":7},{"$f":"SUM($F$5:AAD5)","v":7},{"$f":"SUM($F$5:AAE5)","v":7},{"$f":"SUM($F$5:AAF5)","v":7},{"$f":"SUM($F$5:AAG5)","v":7},{"$f":"SUM($F$5:AAH5)","v":7},{"$f":"SUM($F$5:AAI5)","v":7},{"$f":"SUM($F$5:AAJ5)","v":7},{"$f":"SUM($F$5:AAK5)","v":7},{"$f":"SUM($F$5:AAL5)","v":7},{"$f":"SUM($F$5:AAM5)","v":7},{"$f":"SUM($F$5:AAN5)","v":7},{"$f":"SUM($F$5:AAO5)","v":7},{"$f":"SUM($F$5:AAP5)","v":7},{"$f":"SUM($F$5:AAQ5)","v":7},{"$f":"SUM($F$5:AAR5)","v":7},{"$f":"SUM($F$5:AAS5)","v":7},{"$f":"SUM($F$5:AAT5)","v":7},{"$f":"SUM($F$5:AAU5)","v":7},{"$f":"SUM($F$5:AAV5)","v":7},{"$f":"SUM($F$5:AAW5)","v":7},{"$f":"SUM($F$5:AAX5)","v":7},{"$f":"SUM($F$5:AAY5)","v":7},{"$f":"SUM($F$5:AAZ5)","v":7},{"$f":"SUM($F$5:ABA5)","v":7},{"$f":"SUM($F$5:ABB5)","v":7},{"$f":"SUM($F$5:ABC5)","v":7},{"$f":"SUM($F$5:ABD5)","v":7},{"$f":"SUM($F$5:ABE5)","v":7},{"$f":"SUM($F$5:ABF5)","v":7},{"$f":"SUM($F$5:ABG5)","v":7},{"$f":"SUM($F$5:ABH5)","v":7},{"$f":"SUM($F$5:ABI5)","v":7},{"$f":"SUM($F$5:ABJ5)","v":7},{"$f":"SUM($F$5:ABK5)","v":7},{"$f":"SUM($F$5:ABL5)","v":7},{"$f":"SUM($F$5:ABM5)","v":7},{"$f":"SUM($F$5:ABN5)","v":7},{"$f":"SUM($F$5:ABO5)","v":7},{"$f":"SUM($F$5:ABP5)","v":7},{"$f":"SUM($F$5:ABQ5)","v":7},{"$f":"SUM($F$5:ABR5)","v":7},{"$f":"SUM($F$5:ABS5)","v":7},{"$f":"SUM($F$5:ABT5)","v":7},{"$f":"SUM($F$5:ABU5)","v":7},{"$f":"SUM($F$5:ABV5)","v":7},{"$f":"SUM($F$5:ABW5)","v":7},{"$f":"SUM($F$5:ABX5)","v":7},{"$f":"SUM($F$5:ABY5)","v":7},{"$f":"SUM($F$5:ABZ5)","v":7},{"$f":"SUM($F$5:ACA5)","v":7},{"$f":"SUM($F$5:ACB5)","v":7},{"$f":"SUM($F$5:ACC5)","v":7},{"$f":"SUM($F$5:ACD5)","v":7},{"$f":"SUM($F$5:ACE5)","v":7},{"$f":"SUM($F$5:ACF5)","v":7},{"$f":"SUM($F$5:ACG5)","v":7},{"$f":"SUM($F$5:ACH5)","v":7},{"$f":"SUM($F$5:ACI5)","v":7},{"$f":"SUM($F$5:ACJ5)","v":7},{"$f":"SUM($F$5:ACK5)","v":7},{"$f":"SUM($F$5:ACL5)","v":7},{"$f":"SUM($F$5:ACM5)","v":7},{"$f":"SUM($F$5:ACN5)","v":7},{"$f":"SUM($F$5:ACO5)","v":7},{"$f":"SUM($F$5:ACP5)","v":7},{"$f":"SUM($F$5:ACQ5)","v":7},{"$f":"SUM($F$5:ACR5)","v":7},{"$f":"SUM($F$5:ACS5)","v":7},{"$f":"SUM($F$5:ACT5)","v":7},{"$f":"SUM($F$5:ACU5)","v":7},{"$f":"SUM($F$5:ACV5)","v":7},{"$f":"SUM($F$5:ACW5)","v":7},{"$f":"SUM($F$5:ACX5)","v":7},{"$f":"SUM($F$5:ACY5)","v":7},{"$f":"SUM($F$5:ACZ5)","v":7},{"$f":"SUM($F$5:ADA5)","v":7},{"$f":"SUM($F$5:ADB5)","v":7},{"$f":"SUM($F$5:ADC5)","v":7},{"$f":"SUM($F$5:ADD5)","v":7},{"$f":"SUM($F$5:ADE5)","v":7},{"$f":"SUM($F$5:ADF5)","v":7},{"$f":"SUM($F$5:ADG5)","v":7},{"$f":"SUM($F$5:ADH5)","v":7},{"$f":"SUM($F$5:ADI5)","v":7},{"$f":"SUM($F$5:ADJ5)","v":7},{"$f":"SUM($F$5:ADK5)","v":7},{"$f":"SUM($F$5:ADL5)","v":7},{"$f":"SUM($F$5:ADM5)","v":7},{"$f":"SUM($F$5:ADN5)","v":7},{"$f":"SUM($F$5:ADO5)","v":7},{"$f":"SUM($F$5:ADP5)","v":7},{"$f":"SUM($F$5:ADQ5)","v":7},{"$f":"SUM($F$5:ADR5)","v":7},{"$f":"SUM($F$5:ADS5)","v":7},{"$f":"SUM($F$5:ADT5)","v":7},{"$f":"SUM($F$5:ADU5)","v":7},{"$f":"SUM($F$5:ADV5)","v":7},{"$f":"SUM($F$5:ADW5)","v":7},{"$f":"SUM($F$5:ADX5)","v":7},{"$f":"SUM($F$5:ADY5)","v":7},{"$f":"SUM($F$5:ADZ5)","v":7},{"$f":"SUM($F$5:AEA5)","v":7},{"$f":"SUM($F$5:AEB5)","v":7},{"$f":"SUM($F$5:AEC5)","v":7},{"$f":"SUM($F$5:AED5)","v":7},{"$f":"SUM($F$5:AEE5)","v":7},{"$f":"SUM($F$5:AEF5)","v":7},{"$f":"SUM($F$5:AEG5)","v":7},{"$f":"SUM($F$5:AEH5)","v":7},{"$f":"SUM($F$5:AEI5)","v":7},{"$f":"SUM($F$5:AEJ5)","v":7},{"$f":"SUM($F$5:AEK5)","v":7},{"$f":"SUM($F$5:AEL5)","v":7},{"$f":"SUM($F$5:AEM5)","v":7},{"$f":"SUM($F$5:AEN5)","v":7},{"$f":"SUM($F$5:AEO5)","v":7},{"$f":"SUM($F$5:AEP5)","v":7},{"$f":"SUM($F$5:AEQ5)","v":7},{"$f":"SUM($F$5:AER5)","v":7},{"$f":"SUM($F$5:AES5)","v":7},{"$f":"SUM($F$5:AET5)","v":7},{"$f":"SUM($F$5:AEU5)","v":7},{"$f":"SUM($F$5:AEV5)","v":7},{"$f":"SUM($F$5:AEW5)","v":7},{"$f":"SUM($F$5:AEX5)","v":7},{"$f":"SUM($F$5:AEY5)","v":7},{"$f":"SUM($F$5:AEZ5)","v":7},{"$f":"SUM($F$5:AFA5)","v":7},{"$f":"SUM($F$5:AFB5)","v":7},{"$f":"SUM($F$5:AFC5)","v":7},{"$f":"SUM($F$5:AFD5)","v":7},{"$f":"SUM($F$5:AFE5)","v":7},{"$f":"SUM($F$5:AFF5)","v":7},{"$f":"SUM($F$5:AFG5)","v":7},{"$f":"SUM($F$5:AFH5)","v":7},{"$f":"SUM($F$5:AFI5)","v":7},{"$f":"SUM($F$5:AFJ5)","v":7},{"$f":"SUM($F$5:AFK5)","v":7},{"$f":"SUM($F$5:AFL5)","v":7},{"$f":"SUM($F$5:AFM5)","v":7},{"$f":"SUM($F$5:AFN5)","v":7},{"$f":"SUM($F$5:AFO5)","v":7},{"$f":"SUM($F$5:AFP5)","v":7},{"$f":"SUM($F$5:AFQ5)","v":7},{"$f":"SUM($F$5:AFR5)","v":7},{"$f":"SUM($F$5:AFS5)","v":7},{"$f":"SUM($F$5:AFT5)","v":7},{"$f":"SUM($F$5:AFU5)","v":7},{"$f":"SUM($F$5:AFV5)","v":7},{"$f":"SUM($F$5:AFW5)","v":7},{"$f":"SUM($F$5:AFX5)","v":7},{"$f":"SUM($F$5:AFY5)","v":7},{"$f":"SUM($F$5:AFZ5)","v":7},{"$f":"SUM($F$5:AGA5)","v":7},{"$f":"SUM($F$5:AGB5)","v":7},{"$f":"SUM($F$5:AGC5)","v":7},{"$f":"SUM($F$5:AGD5)","v":7},{"$f":"SUM($F$5:AGE5)","v":7},{"$f":"SUM($F$5:AGF5)","v":7},{"$f":"SUM($F$5:AGG5)","v":7},{"$f":"SUM($F$5:AGH5)","v":7},{"$f":"SUM($F$5:AGI5)","v":7},{"$f":"SUM($F$5:AGJ5)","v":7},{"$f":"SUM($F$5:AGK5)","v":7},{"$f":"SUM($F$5:AGL5)","v":7},{"$f":"SUM($F$5:AGM5)","v":7},{"$f":"SUM($F$5:AGN5)","v":7},{"$f":"SUM($F$5:AGO5)","v":7},{"$f":"SUM($F$5:AGP5)","v":7},{"$f":"SUM($F$5:AGQ5)","v":7},{"$f":"SUM($F$5:AGR5)","v":7},{"$f":"SUM($F$5:AGS5)","v":7},{"$f":"SUM($F$5:AGT5)","v":7},{"$f":"SUM($F$5:AGU5)","v":7},{"$f":"SUM($F$5:AGV5)","v":7},{"$f":"SUM($F$5:AGW5)","v":7},{"$f":"SUM($F$5:AGX5)","v":7},{"$f":"SUM($F$5:AGY5)","v":7},{"$f":"SUM($F$5:AGZ5)","v":7},{"$f":"SUM($F$5:AHA5)","v":7},{"$f":"SUM($F$5:AHB5)","v":7},{"$f":"SUM($F$5:AHC5)","v":7},{"$f":"SUM($F$5:AHD5)","v":7},{"$f":"SUM($F$5:AHE5)","v":7},{"$f":"SUM($F$5:AHF5)","v":7},{"$f":"SUM($F$5:AHG5)","v":7},{"$f":"SUM($F$5:AHH5)","v":7},{"$f":"SUM($F$5:AHI5)","v":7},{"$f":"SUM($F$5:AHJ5)","v":7},{"$f":"SUM($F$5:AHK5)","v":7},{"$f":"SUM($F$5:AHL5)","v":7},{"$f":"SUM($F$5:AHM5)","v":7},{"$f":"SUM($F$5:AHN5)","v":7},{"$f":"SUM($F$5:AHO5)","v":7},{"$f":"SUM($F$5:AHP5)","v":7},{"$f":"SUM($F$5:AHQ5)","v":7},{"$f":"SUM($F$5:AHR5)","v":7},{"$f":"SUM($F$5:AHS5)","v":7},{"$f":"SUM($F$5:AHT5)","v":7},{"$f":"SUM($F$5:AHU5)","v":7},{"$f":"SUM($F$5:AHV5)","v":7},{"$f":"SUM($F$5:AHW5)","v":7},{"$f":"SUM($F$5:AHX5)","v":7},{"$f":"SUM($F$5:AHY5)","v":7},{"$f":"SUM($F$5:AHZ5)","v":7},{"$f":"SUM($F$5:AIA5)","v":7},{"$f":"SUM($F$5:AIB5)","v":7},{"$f":"SUM($F$5:AIC5)","v":7},{"$f":"SUM($F$5:AID5)","v":7},{"$f":"SUM($F$5:AIE5)","v":7},{"$f":"SUM($F$5:AIF5)","v":7},{"$f":"SUM($F$5:AIG5)","v":7},{"$f":"SUM($F$5:AIH5)","v":7},{"$f":"SUM($F$5:AII5)","v":7},{"$f":"SUM($F$5:AIJ5)","v":7},{"$f":"SUM($F$5:AIK5)","v":7},{"$f":"SUM($F$5:AIL5)","v":7},{"$f":"SUM($F$5:AIM5)","v":7},{"$f":"SUM($F$5:AIN5)","v":7},{"$f":"SUM($F$5:AIO5)","v":7},{"$f":"SUM($F$5:AIP5)","v":7},{"$f":"SUM($F$5:AIQ5)","v":7},{"$f":"SUM($F$5:AIR5)","v":7},{"$f":"SUM($F$5:AIS5)","v":7},{"$f":"SUM($F$5:AIT5)","v":7},{"$f":"SUM($F$5:AIU5)","v":7},{"$f":"SUM($F$5:AIV5)","v":7},{"$f":"SUM($F$5:AIW5)","v":7},{"$f":"SUM($F$5:AIX5)","v":7},{"$f":"SUM($F$5:AIY5)","v":7},{"$f":"SUM($F$5:AIZ5)","v":7},{"$f":"SUM($F$5:AJA5)","v":7},{"$f":"SUM($F$5:AJB5)","v":7},{"$f":"SUM($F$5:AJC5)","v":7},{"$f":"SUM($F$5:AJD5)","v":7},{"$f":"SUM($F$5:AJE5)","v":7},{"$f":"SUM($F$5:AJF5)","v":7},{"$f":"SUM($F$5:AJG5)","v":7},{"$f":"SUM($F$5:AJH5)","v":7},{"$f":"SUM($F$5:AJI5)","v":7},{"$f":"SUM($F$5:AJJ5)","v":7},{"$f":"SUM($F$5:AJK5)","v":7},{"$f":"SUM($F$5:AJL5)","v":7},{"$f":"SUM($F$5:AJM5)","v":7},{"$f":"SUM($F$5:AJN5)","v":7},{"$f":"SUM($F$5:AJO5)","v":7},{"$f":"SUM($F$5:AJP5)","v":7},{"$f":"SUM($F$5:AJQ5)","v":7},{"$f":"SUM($F$5:AJR5)","v":7},{"$f":"SUM($F$5:AJS5)","v":7},{"$f":"SUM($F$5:AJT5)","v":7},{"$f":"SUM($F$5:AJU5)","v":7},{"$f":"SUM($F$5:AJV5)","v":7},{"$f":"SUM($F$5:AJW5)","v":7},{"$f":"SUM($F$5:AJX5)","v":7},{"$f":"SUM($F$5:AJY5)","v":7},{"$f":"SUM($F$5:AJZ5)","v":7},{"$f":"SUM($F$5:AKA5)","v":7},{"$f":"SUM($F$5:AKB5)","v":7},{"$f":"SUM($F$5:AKC5)","v":7},{"$f":"SUM($F$5:AKD5)","v":7},{"$f":"SUM($F$5:AKE5)","v":7},{"$f":"SUM($F$5:AKF5)","v":7},{"$f":"SUM($F$5:AKG5)","v":7},{"$f":"SUM($F$5:AKH5)","v":7},{"$f":"SUM($F$5:AKI5)","v":7},{"$f":"SUM($F$5:AKJ5)","v":7},{"$f":"SUM($F$5:AKK5)","v":7},{"$f":"SUM($F$5:AKL5)","v":7},{"$f":"SUM($F$5:AKM5)","v":7},{"$f":"SUM($F$5:AKN5)","v":7},{"$f":"SUM($F$5:AKO5)","v":7},{"$f":"SUM($F$5:AKP5)","v":7},{"$f":"SUM($F$5:AKQ5)","v":7},{"$f":"SUM($F$5:AKR5)","v":7},{"$f":"SUM($F$5:AKS5)","v":7},{"$f":"SUM($F$5:AKT5)","v":7},{"$f":"SUM($F$5:AKU5)","v":7},{"$f":"SUM($F$5:AKV5)","v":7},{"$f":"SUM($F$5:AKW5)","v":7},{"$f":"SUM($F$5:AKX5)","v":7},{"$f":"SUM($F$5:AKY5)","v":7},{"$f":"SUM($F$5:AKZ5)","v":7},{"$f":"SUM($F$5:ALA5)","v":7},{"$f":"SUM($F$5:ALB5)","v":7},{"$f":"SUM($F$5:ALC5)","v":7},{"$f":"SUM($F$5:ALD5)","v":7},{"$f":"SUM($F$5:ALE5)","v":7},{"$f":"SUM($F$5:ALF5)","v":7},{"$f":"SUM($F$5:ALG5)","v":7},{"$f":"SUM($F$5:ALH5)","v":7},{"$f":"SUM($F$5:ALI5)","v":7},{"$f":"SUM($F$5:ALJ5)","v":7},{"$f":"SUM($F$5:ALK5)","v":7},{"$f":"SUM($F$5:ALL5)","v":7},{"$f":"SUM($F$5:ALM5)","v":7},{"$f":"SUM($F$5:ALN5)","v":7},{"$f":"SUM($F$5:ALO5)","v":7},{"$f":"SUM($F$5:ALP5)","v":7},{"$f":"SUM($F$5:ALQ5)","v":7}]
[null,null,"# Prime factors","# factors",null,{"$f":"IF(F5=0,\"\",F6&IF(F5=1,\"\",LOOKUP(F5,$A$96:$A$113,$B$96:$B$113)))","v":"2⁴"},{"$f":"IF(G5=0,\"\",G6&IF(G5=1,\"\",LOOKUP(G5,$A$96:$A$113,$B$96:$B$113)))","v":"3²"},"5","","","","","","","","","","","","","","","","","","","","","","","","","","","","","","","","","","","","","","","","","","","","","","","","","","","","","","","","","","","","","","",{"$f":"IF(BS5=0,\"\",BS6&IF(BS5=1,\"\",LOOKUP(BS5,$A$96:$A$113,$B$96:$B$113)))","v":""},"","","","","","","","","","","","","","","","","","","","","","","","","","","","","","","","","","","","","","","","","","","","","","","","","","","","","","","","","","","","","","","",{"$f":"IF(EE5=0,\"\",EE6&IF(EE5=1,\"\",LOOKUP(EE5,$A$96:$A$113,$B$96:$B$113)))","v":""},"","","","","","","","","","","","","","","","","","","","","","","","","","","","","","","","","","","","","","","","","","","","","","","","","","","","","","","","","","","","","","","",{"$f":"IF(GQ5=0,\"\",GQ6&IF(GQ5=1,\"\",LOOKUP(GQ5,$A$96:$A$113,$B$96:$B$113)))","v":""},"","","","","","","","","","","","","","","","","","","","","","","","","","","","","","","","","","","","","","","","","","","","","","","","","","","","","","","","","","","","","","","",{"$f":"IF(JC5=0,\"\",JC6&IF(JC5=1,\"\",LOOKUP(JC5,$A$96:$A$113,$B$96:$B$113)))","v":""},"","","","","","","","","","","","","","","","","","","","","","","","","","","","","","","","","","","","","","","","","","","","","","","","","","","","","","","","","","","","","","","",{"$f":"IF(LO5=0,\"\",LO6&IF(LO5=1,\"\",LOOKUP(LO5,$A$96:$A$113,$B$96:$B$113)))","v":""},"","","","","","","","","","","","","","","","","","","","","","","","","","","","","","","","","","","","","","","","","","","","","","","","","","","","","","","","","","","","","","","",{"$f":"IF(OA5=0,\"\",OA6&IF(OA5=1,\"\",LOOKUP(OA5,$A$96:$A$113,$B$96:$B$113)))","v":""},"","","","","","","","","","","","","","","","","","","","","","","","","","","","","","","","","","","","","","","","","","","","","","","","","","","","","","","","","","","","","","","",{"$f":"IF(QM5=0,\"\",QM6&IF(QM5=1,\"\",LOOKUP(QM5,$A$96:$A$113,$B$96:$B$113)))","v":""},"","","","","","","","","","","","","","","","","","","","","","","","","","","","","","","","","","","","","","","","","","","","","","","","","","","","","","","","","","","","","","","",{"$f":"IF(SY5=0,\"\",SY6&IF(SY5=1,\"\",LOOKUP(SY5,$A$96:$A$113,$B$96:$B$113)))","v":""},"","","","","","","","","","","","","","","","","","","","","","","","","","","","","","","","","","","","","","","","","","","","","","","","","","","","","","","","","","","","","","","",{"$f":"IF(VK5=0,\"\",VK6&IF(VK5=1,\"\",LOOKUP(VK5,$A$96:$A$113,$B$96:$B$113)))","v":""},"","","","","","","","","","","","","","","","","","","","","","","","","","","","","","","","","","","","","","","","","","","","","","","","","","","","","","","","","","","","","","","",{"$f":"IF(XW5=0,\"\",XW6&IF(XW5=1,\"\",LOOKUP(XW5,$A$96:$A$113,$B$96:$B$113)))","v":""},"","","","","","","","","","","","","","","","","","","","","","","","","","","","","","","","","","","","","","","","","","","","","","","","","","","","","","","","","","","","","","","",{"$f":"IF(AAI5=0,\"\",AAI6&IF(AAI5=1,\"\",LOOKUP(AAI5,$A$96:$A$113,$B$96:$B$113)))","v":""},"","","","","","","","","","","","","","","","","","","","","","","","","","","","","","","","","","","","","","","","","","","","","","","","","","","","","","","","","","","","","","","",{"$f":"IF(ACU5=0,\"\",ACU6&IF(ACU5=1,\"\",LOOKUP(ACU5,$A$96:$A$113,$B$96:$B$113)))","v":""},"","","","","","","","","","","","","","","","","","","","","","","","","","","","","","","","","","","","","","","","","","","","","","","","","","","","","","","","","","","","","","","",{"$f":"IF(AFG5=0,\"\",AFG6&IF(AFG5=1,\"\",LOOKUP(AFG5,$A$96:$A$113,$B$96:$B$113)))","v":""},"","","","","","","","","","","","","","","","","","","","","","","","","","","","","","","","","","","","","","","","","","","","","","","","","","","","","","","","","","","","","","","",{"$f":"IF(AHS5=0,\"\",AHS6&IF(AHS5=1,\"\",LOOKUP(AHS5,$A$96:$A$113,$B$96:$B$113)))","v":""},"","","","","","","","","","","","","","","","","","","","","","","","","","","","","","","","","","","","","","","","","","","","","","","","","","","","","","","","","","","","","","","",{"$f":"IF(AKE5=0,\"\",AKE6&IF(AKE5=1,\"\",LOOKUP(AKE5,$A$96:$A$113,$B$96:$B$113)))","v":""},"","","","","","","","","","","","","","","","","","","","","","","","","","","","","","","","","","","","","",""]
["#1:",{"$f":"Factors!B3","v":720},{"$f":"SUM(F5:ALQ5)","v":7},{"$f":"PRODUCT(F21:ALQ21)","v":30},null,{"$f":"14-COUNTIF(F7:F20,0)","v":4},{"$f":"14-COUNTIF(G7:G20,0)","v":2},1,0,0,0,0,0,0,0,0,0,0,0,0,0,0,0,0,0,0,0,0,0,0,0,0,0,0,0,0,0,0,0,0,0,0,0,0,0,0,0,0,0,0,0,0,0,0,0,0,0,0,0,0,0,0,0,0,0,0,0,0,0,0,{"$f":"14-COUNTIF(BS7:BS20,0)","v":0},0,0,0,0,0,0,0,0,0,0,0,0,0,0,0,0,0,0,0,0,0,0,0,0,0,0,0,0,0,0,0,0,0,0,0,0,0,0,0,0,0,0,0,0,0,0,0,0,0,0,0,0,0,0,0,0,0,0,0,0,0,0,0,{"$f":"14-COUNTIF(EE7:EE20,0)","v":0},0,0,0,0,0,0,0,0,0,0,0,0,0,0,0,0,0,0,0,0,0,0,0,0,0,0,0,0,0,0,0,0,0,0,0,0,0,0,0,0,0,0,0,0,0,0,0,0,0,0,0,0,0,0,0,0,0,0,0,0,0,0,0,{"$f":"14-COUNTIF(GQ7:GQ20,0)","v":0},0,0,0,0,0,0,0,0,0,0,0,0,0,0,0,0,0,0,0,0,0,0,0,0,0,0,0,0,0,0,0,0,0,0,0,0,0,0,0,0,0,0,0,0,0,0,0,0,0,0,0,0,0,0,0,0,0,0,0,0,0,0,0,{"$f":"14-COUNTIF(JC7:JC20,0)","v":0},0,0,0,0,0,0,0,0,0,0,0,0,0,0,0,0,0,0,0,0,0,0,0,0,0,0,0,0,0,0,0,0,0,0,0,0,0,0,0,0,0,0,0,0,0,0,0,0,0,0,0,0,0,0,0,0,0,0,0,0,0,0,0,{"$f":"14-COUNTIF(LO7:LO20,0)","v":0},0,0,0,0,0,0,0,0,0,0,0,0,0,0,0,0,0,0,0,0,0,0,0,0,0,0,0,0,0,0,0,0,0,0,0,0,0,0,0,0,0,0,0,0,0,0,0,0,0,0,0,0,0,0,0,0,0,0,0,0,0,0,0,{"$f":"14-COUNTIF(OA7:OA20,0)","v":0},0,0,0,0,0,0,0,0,0,0,0,0,0,0,0,0,0,0,0,0,0,0,0,0,0,0,0,0,0,0,0,0,0,0,0,0,0,0,0,0,0,0,0,0,0,0,0,0,0,0,0,0,0,0,0,0,0,0,0,0,0,0,0,{"$f":"14-COUNTIF(QM7:QM20,0)","v":0},0,0,0,0,0,0,0,0,0,0,0,0,0,0,0,0,0,0,0,0,0,0,0,0,0,0,0,0,0,0,0,0,0,0,0,0,0,0,0,0,0,0,0,0,0,0,0,0,0,0,0,0,0,0,0,0,0,0,0,0,0,0,0,{"$f":"14-COUNTIF(SY7:SY20,0)","v":0},0,0,0,0,0,0,0,0,0,0,0,0,0,0,0,0,0,0,0,0,0,0,0,0,0,0,0,0,0,0,0,0,0,0,0,0,0,0,0,0,0,0,0,0,0,0,0,0,0,0,0,0,0,0,0,0,0,0,0,0,0,0,0,{"$f":"14-COUNTIF(VK7:VK20,0)","v":0},0,0,0,0,0,0,0,0,0,0,0,0,0,0,0,0,0,0,0,0,0,0,0,0,0,0,0,0,0,0,0,0,0,0,0,0,0,0,0,0,0,0,0,0,0,0,0,0,0,0,0,0,0,0,0,0,0,0,0,0,0,0,0,{"$f":"14-COUNTIF(XW7:XW20,0)","v":0},0,0,0,0,0,0,0,0,0,0,0,0,0,0,0,0,0,0,0,0,0,0,0,0,0,0,0,0,0,0,0,0,0,0,0,0,0,0,0,0,0,0,0,0,0,0,0,0,0,0,0,0,0,0,0,0,0,0,0,0,0,0,0,{"$f":"14-COUNTIF(AAI7:AAI20,0)","v":0},0,0,0,0,0,0,0,0,0,0,0,0,0,0,0,0,0,0,0,0,0,0,0,0,0,0,0,0,0,0,0,0,0,0,0,0,0,0,0,0,0,0,0,0,0,0,0,0,0,0,0,0,0,0,0,0,0,0,0,0,0,0,0,{"$f":"14-COUNTIF(ACU7:ACU20,0)","v":0},0,0,0,0,0,0,0,0,0,0,0,0,0,0,0,0,0,0,0,0,0,0,0,0,0,0,0,0,0,0,0,0,0,0,0,0,0,0,0,0,0,0,0,0,0,0,0,0,0,0,0,0,0,0,0,0,0,0,0,0,0,0,0,{"$f":"14-COUNTIF(AFG7:AFG20,0)","v":0},0,0,0,0,0,0,0,0,0,0,0,0,0,0,0,0,0,0,0,0,0,0,0,0,0,0,0,0,0,0,0,0,0,0,0,0,0,0,0,0,0,0,0,0,0,0,0,0,0,0,0,0,0,0,0,0,0,0,0,0,0,0,0,{"$f":"14-COUNTIF(AHS7:AHS20,0)","v":0},0,0,0,0,0,0,0,0,0,0,0,0,0,0,0,0,0,0,0,0,0,0,0,0,0,0,0,0,0,0,0,0,0,0,0,0,0,0,0,0,0,0,0,0,0,0,0,0,0,0,0,0,0,0,0,0,0,0,0,0,0,0,0,{"$f":"14-COUNTIF(AKE7:AKE20,0)","v":0},0,0,0,0,0,0,0,0,0,0,0,0,0,0,0,0,0,0,0,0,0,0,0,0,0,0,0,0,0,0,0,0,0,0,0,0,0,0]
["#2:",{"$f":"Factors!B6","v":168},{"$f":"SUM(F28:ALQ28)","v":5},{"$f":"PRODUCT(F44:ALQ44)","v":16},null,2,3,5,7,11,13,17,19,23,29,31,37,41,43,47,53,59,61,67,71,73,79,83,89,97,101,103,107,109,113,127,131,137,139,149,151,157,163,167,173,179,181,191,193,197,199,211,223,227,229,233,239,241,251,257,263,269,271,277,281,283,293,307,311,313,317,331,337,347,349,353,359,367,373,379,383,389,397,401,409,419,421,431,433,439,443,449,457,461,463,467,479,487,491,499,503,509,521,523,541,547,557,563,569,571,577,587,593,599,601,607,613,617,619,631,641,643,647,653,659,661,673,677,683,691,701,709,719,727,733,739,743,751,757,761,769,773,787,797,809,811,821,823,827,829,839,853,857,859,863,877,881,883,887,907,911,919,929,937,941,947,953,967,971,977,983,991,997,1009,1013,1019,1021,1031,1033,1039,1049,1051,1061,1063,1069,1087,1091,1093,1097,1103,1109,1117,1123,1129,1151,1153,1163,1171,1181,1187,1193,1201,1213,1217,1223,1229,1231,1237,1249,1259,1277,1279,1283,1289,1291,1297,1301,1303,1307,1319,1321,1327,1361,1367,1373,1381,1399,1409,1423,1427,1429,1433,1439,1447,1451,1453,1459,1471,1481,1483,1487,1489,1493,1499,1511,1523,1531,1543,1549,1553,1559,1567,1571,1579,1583,1597,1601,1607,1609,1613,1619,1621,1627,1637,1657,1663,1667,1669,1693,1697,1699,1709,1721,1723,1733,1741,1747,1753,1759,1777,1783,1787,1789,1801,1811,1823,1831,1847,1861,1867,1871,1873,1877,1879,1889,1901,1907,1913,1931,1933,1949,1951,1973,1979,1987,1993,1997,1999,2003,2011,2017,2027,2029,2039,2053,2063,2069,2081,2083,2087,2089,2099,2111,2113,2129,2131,2137,2141,2143,2153,2161,2179,2203,2207,2213,2221,2237,2239,2243,2251,2267,2269,2273,2281,2287,2293,2297,2309,2311,2333,2339,2341,2347,2351,2357,2371,2377,2381,2383,2389,2393,2399,2411,2417,2423,2437,2441,2447,2459,2467,2473,2477,2503,2521,2531,2539,2543,2549,2551,2557,2579,2591,2593,2609,2617,2621,2633,2647,2657,2659,2663,2671,2677,2683,2687,2689,2693,2699,2707,2711,2713,2719,2729,2731,2741,2749,2753,2767,2777,2789,2791,2797,2801,2803,2819,2833,2837,2843,2851,2857,2861,2879,2887,2897,2903,2909,2917,2927,2939,2953,2957,2963,2969,2971,2999,3001,3011,3019,3023,3037,3041,3049,3061,3067,3079,3083,3089,3109,3119,3121,3137,3163,3167,3169,3181,3187,3191,3203,3209,3217,3221,3229,3251,3253,3257,3259,3271,3299,3301,3307,3313,3319,3323,3329,3331,3343,3347,3359,3361,3371,3373,3389,3391,3407,3413,3433,3449,3457,3461,3463,3467,3469,3491,3499,3511,3517,3527,3529,3533,3539,3541,3547,3557,3559,3571,3581,3583,3593,3607,3613,3617,3623,3631,3637,3643,3659,3671,3673,3677,3691,3697,3701,3709,3719,3727,3733,3739,3761,3767,3769,3779,3793,3797,3803,3821,3823,3833,3847,3851,3853,3863,3877,3881,3889,3907,3911,3917,3919,3923,3929,3931,3943,3947,3967,3989,4001,4003,4007,4013,4019,4021,4027,4049,4051,4057,4073,4079,4091,4093,4099,4111,4127,4129,4133,4139,4153,4157,4159,4177,4201,4211,4217,4219,4229,4231,4241,4243,4253,4259,4261,4271,4273,4283,4289,4297,4327,4337,4339,4349,4357,4363,4373,4391,4397,4409,4421,4423,4441,4447,4451,4457,4463,4481,4483,4493,4507,4513,4517,4519,4523,4547,4549,4561,4567,4583,4591,4597,4603,4621,4637,4639,4643,4649,4651,4657,4663,4673,4679,4691,4703,4721,4723,4729,4733,4751,4759,4783,4787,4789,4793,4799,4801,4813,4817,4831,4861,4871,4877,4889,4903,4909,4919,4931,4933,4937,4943,4951,4957,4967,4969,4973,4987,4993,4999,5003,5009,5011,5021,5023,5039,5051,5059,5077,5081,5087,5099,5101,5107,5113,5119,5147,5153,5167,5171,5179,5189,5197,5209,5227,5231,5233,5237,5261,5273,5279,5281,5297,5303,5309,5323,5333,5347,5351,5381,5387,5393,5399,5407,5413,5417,5419,5431,5437,5441,5443,5449,5471,5477,5479,5483,5501,5503,5507,5519,5521,5527,5531,5557,5563,5569,5573,5581,5591,5623,5639,5641,5647,5651,5653,5657,5659,5669,5683,5689,5693,5701,5711,5717,5737,5741,5743,5749,5779,5783,5791,5801,5807,5813,5821,5827,5839,5843,5849,5851,5857,5861,5867,5869,5879,5881,5897,5903,5923,5927,5939,5953,5981,5987,6007,6011,6029,6037,6043,6047,6053,6067,6073,6079,6089,6091,6101,6113,6121,6131,6133,6143,6151,6163,6173,6197,6199,6203,6211,6217,6221,6229,6247,6257,6263,6269,6271,6277,6287,6299,6301,6311,6317,6323,6329,6337,6343,6353,6359,6361,6367,6373,6379,6389,6397,6421,6427,6449,6451,6469,6473,6481,6491,6521,6529,6547,6551,6553,6563,6569,6571,6577,6581,6599,6607,6619,6637,6653,6659,6661,6673,6679,6689,6691,6701,6703,6709,6719,6733,6737,6761,6763,6779,6781,6791,6793,6803,6823,6827,6829,6833,6841,6857,6863,6869,6871,6883,6899,6907,6911,6917,6947,6949,6959,6961,6967,6971,6977,6983,6991,6997,7001,7013,7019,7027,7039,7043,7057,7069,7079,7103,7109,7121,7127,7129,7151,7159,7177,7187,7193,7207,7211,7213,7219,7229,7237,7243,7247,7253,7283,7297,7307,7309,7321,7331,7333,7349,7351,7369,7393,7411,7417,7433,7451,7457,7459,7477,7481,7487,7489,7499,7507,7517,7523,7529,7537,7541,7547,7549,7559,7561,7573,7577,7583,7589,7591,7603,7607,7621,7639,7643,7649,7669,7673,7681,7687,7691,7699,7703,7717,7723,7727,7741,7753,7757,7759,7789,7793,7817,7823,7829,7841,7853,7867,7873,7877,7879,7883,7901,7907,7919,10000]
[null,null,null,null,null,{"$f":"IF($B5/F$6=ROUND($B5/F$6,0),$B5/F$6,0)","v":360},240,144,0,0,0,0,0,0,0,0,0,0,0,0,0,0,0,0,0,0,0,0,0,0,0,0,0,0,0,0,0,0,0,0,0,0,0,0,0,0,0,0,0,0,0,0,0,0,0,0,0,0,0,0,0,0,0,0,0,0,0,0,0,{"$f":"IF($B5/BR$6=ROUND($B5/BR$6,0),$B5/BR$6,0)","v":0},0,0,0,0,0,0,0,0,0,0,0,0,0,0,0,0,0,0,0,0,0,0,0,0,0,0,0,0,0,0,0,0,0,0,0,0,0,0,0,0,0,0,0,0,0,0,0,0,0,0,0,0,0,0,0,0,0,0,0,0,0,0,0,{"$f":"IF($B5/ED$6=ROUND($B5/ED$6,0),$B5/ED$6,0)","v":0},0,0,0,0,0,0,0,0,0,0,0,0,0,0,0,0,0,0,0,0,0,0,0,0,0,0,0,0,0,0,0,0,0,0,0,0,0,0,0,0,0,0,0,0,0,0,0,0,0,0,0,0,0,0,0,0,0,0,0,0,0,0,0,{"$f":"IF($B5/GP$6=ROUND($B5/GP$6,0),$B5/GP$6,0)","v":0},0,0,0,0,0,0,0,0,0,0,0,0,0,0,0,0,0,0,0,0,0,0,0,0,0,0,0,0,0,0,0,0,0,0,0,0,0,0,0,0,0,0,0,0,0,0,0,0,0,0,0,0,0,0,0,0,0,0,0,0,0,0,0,{"$f":"IF($B5/JB$6=ROUND($B5/JB$6,0),$B5/JB$6,0)","v":0},0,0,0,0,0,0,0,0,0,0,0,0,0,0,0,0,0,0,0,0,0,0,0,0,0,0,0,0,0,0,0,0,0,0,0,0,0,0,0,0,0,0,0,0,0,0,0,0,0,0,0,0,0,0,0,0,0,0,0,0,0,0,0,{"$f":"IF($B5/LN$6=ROUND($B5/LN$6,0),$B5/LN$6,0)","v":0},0,0,0,0,0,0,0,0,0,0,0,0,0,0,0,0,0,0,0,0,0,0,0,0,0,0,0,0,0,0,0,0,0,0,0,0,0,0,0,0,0,0,0,0,0,0,0,0,0,0,0,0,0,0,0,0,0,0,0,0,0,0,0,{"$f":"IF($B5/NZ$6=ROUND($B5/NZ$6,0),$B5/NZ$6,0)","v":0},0,0,0,0,0,0,0,0,0,0,0,0,0,0,0,0,0,0,0,0,0,0,0,0,0,0,0,0,0,0,0,0,0,0,0,0,0,0,0,0,0,0,0,0,0,0,0,0,0,0,0,0,0,0,0,0,0,0,0,0,0,0,0,{"$f":"IF($B5/QL$6=ROUND($B5/QL$6,0),$B5/QL$6,0)","v":0},0,0,0,0,0,0,0,0,0,0,0,0,0,0,0,0,0,0,0,0,0,0,0,0,0,0,0,0,0,0,0,0,0,0,0,0,0,0,0,0,0,0,0,0,0,0,0,0,0,0,0,0,0,0,0,0,0,0,0,0,0,0,0,{"$f":"IF($B5/SX$6=ROUND($B5/SX$6,0),$B5/SX$6,0)","v":0},0,0,0,0,0,0,0,0,0,0,0,0,0,0,0,0,0,0,0,0,0,0,0,0,0,0,0,0,0,0,0,0,0,0,0,0,0,0,0,0,0,0,0,0,0,0,0,0,0,0,0,0,0,0,0,0,0,0,0,0,0,0,0,{"$f":"IF($B5/VJ$6=ROUND($B5/VJ$6,0),$B5/VJ$6,0)","v":0},0,0,0,0,0,0,0,0,0,0,0,0,0,0,0,0,0,0,0,0,0,0,0,0,0,0,0,0,0,0,0,0,0,0,0,0,0,0,0,0,0,0,0,0,0,0,0,0,0,0,0,0,0,0,0,0,0,0,0,0,0,0,0,{"$f":"IF($B5/XV$6=ROUND($B5/XV$6,0),$B5/XV$6,0)","v":0},0,0,0,0,0,0,0,0,0,0,0,0,0,0,0,0,0,0,0,0,0,0,0,0,0,0,0,0,0,0,0,0,0,0,0,0,0,0,0,0,0,0,0,0,0,0,0,0,0,0,0,0,0,0,0,0,0,0,0,0,0,0,0,{"$f":"IF($B5/AAH$6=ROUND($B5/AAH$6,0),$B5/AAH$6,0)","v":0},0,0,0,0,0,0,0,0,0,0,0,0,0,0,0,0,0,0,0,0,0,0,0,0,0,0,0,0,0,0,0,0,0,0,0,0,0,0,0,0,0,0,0,0,0,0,0,0,0,0,0,0,0,0,0,0,0,0,0,0,0,0,0,{"$f":"IF($B5/ACT$6=ROUND($B5/ACT$6,0),$B5/ACT$6,0)","v":0},0,0,0,0,0,0,0,0,0,0,0,0,0,0,0,0,0,0,0,0,0,0,0,0,0,0,0,0,0,0,0,0,0,0,0,0,0,0,0,0,0,0,0,0,0,0,0,0,0,0,0,0,0,0,0,0,0,0,0,0,0,0,0,{"$f":"IF($B5/AFF$6=ROUND($B5/AFF$6,0),$B5/AFF$6,0)","v":0},0,0,0,0,0,0,0,0,0,0,0,0,0,0,0,0,0,0,0,0,0,0,0,0,0,0,0,0,0,0,0,0,0,0,0,0,0,0,0,0,0,0,0,0,0,0,0,0,0,0,0,0,0,0,0,0,0,0,0,0,0,0,0,{"$f":"IF($B5/AHR$6=ROUND($B5/AHR$6,0),$B5/AHR$6,0)","v":0},0,0,0,0,0,0,0,0,0,0,0,0,0,0,0,0,0,0,0,0,0,0,0,0,0,0,0,0,0,0,0,0,0,0,0,0,0,0,0,0,0,0,0,0,0,0,0,0,0,0,0,0,0,0,0,0,0,0,0,0,0,0,0,{"$f":"IF($B5/AKD$6=ROUND($B5/AKD$6,0),$B5/AKD$6,0)","v":0},0,0,0,0,0,0,0,0,0,0,0,0,0,0,0,0,0,0,0,0,0,0,0,0,0,0,0,0,0,0,0,0,0,0,0,0,0,0,0]
["Max:",{"$f":"F6*ALQ6","v":15838},null,null,null,{"$f":"IF(AND(F7/F$6=ROUND(F7/F$6,0),NOT(F7=0)),F7/F$6,0)","v":180},80,0,0,0,0,0,0,0,0,0,0,0,0,0,0,0,0,0,0,0,0,0,0,0,0,0,0,0,0,0,0,0,0,0,0,0,0,0,0,0,0,0,0,0,0,0,0,0,0,0,0,0,0,0,0,0,0,0,0,0,0,0,0,{"$f":"IF(AND(BR7/BR$6=ROUND(BR7/BR$6,0),NOT(BR7=0)),BR7/BR$6,0)","v":0},0,0,0,0,0,0,0,0,0,0,0,0,0,0,0,0,0,0,0,0,0,0,0,0,0,0,0,0,0,0,0,0,0,0,0,0,0,0,0,0,0,0,0,0,0,0,0,0,0,0,0,0,0,0,0,0,0,0,0,0,0,0,0,{"$f":"IF(AND(ED7/ED$6=ROUND(ED7/ED$6,0),NOT(ED7=0)),ED7/ED$6,0)","v":0},0,0,0,0,0,0,0,0,0,0,0,0,0,0,0,0,0,0,0,0,0,0,0,0,0,0,0,0,0,0,0,0,0,0,0,0,0,0,0,0,0,0,0,0,0,0,0,0,0,0,0,0,0,0,0,0,0,0,0,0,0,0,0,{"$f":"IF(AND(GP7/GP$6=ROUND(GP7/GP$6,0),NOT(GP7=0)),GP7/GP$6,0)","v":0},0,0,0,0,0,0,0,0,0,0,0,0,0,0,0,0,0,0,0,0,0,0,0,0,0,0,0,0,0,0,0,0,0,0,0,0,0,0,0,0,0,0,0,0,0,0,0,0,0,0,0,0,0,0,0,0,0,0,0,0,0,0,0,{"$f":"IF(AND(JB7/JB$6=ROUND(JB7/JB$6,0),NOT(JB7=0)),JB7/JB$6,0)","v":0},0,0,0,0,0,0,0,0,0,0,0,0,0,0,0,0,0,0,0,0,0,0,0,0,0,0,0,0,0,0,0,0,0,0,0,0,0,0,0,0,0,0,0,0,0,0,0,0,0,0,0,0,0,0,0,0,0,0,0,0,0,0,0,{"$f":"IF(AND(LN7/LN$6=ROUND(LN7/LN$6,0),NOT(LN7=0)),LN7/LN$6,0)","v":0},0,0,0,0,0,0,0,0,0,0,0,0,0,0,0,0,0,0,0,0,0,0,0,0,0,0,0,0,0,0,0,0,0,0,0,0,0,0,0,0,0,0,0,0,0,0,0,0,0,0,0,0,0,0,0,0,0,0,0,0,0,0,0,{"$f":"IF(AND(NZ7/NZ$6=ROUND(NZ7/NZ$6,0),NOT(NZ7=0)),NZ7/NZ$6,0)","v":0},0,0,0,0,0,0,0,0,0,0,0,0,0,0,0,0,0,0,0,0,0,0,0,0,0,0,0,0,0,0,0,0,0,0,0,0,0,0,0,0,0,0,0,0,0,0,0,0,0,0,0,0,0,0,0,0,0,0,0,0,0,0,0,{"$f":"IF(AND(QL7/QL$6=ROUND(QL7/QL$6,0),NOT(QL7=0)),QL7/QL$6,0)","v":0},0,0,0,0,0,0,0,0,0,0,0,0,0,0,0,0,0,0,0,0,0,0,0,0,0,0,0,0,0,0,0,0,0,0,0,0,0,0,0,0,0,0,0,0,0,0,0,0,0,0,0,0,0,0,0,0,0,0,0,0,0,0,0,{"$f":"IF(AND(SX7/SX$6=ROUND(SX7/SX$6,0),NOT(SX7=0)),SX7/SX$6,0)","v":0},0,0,0,0,0,0,0,0,0,0,0,0,0,0,0,0,0,0,0,0,0,0,0,0,0,0,0,0,0,0,0,0,0,0,0,0,0,0,0,0,0,0,0,0,0,0,0,0,0,0,0,0,0,0,0,0,0,0,0,0,0,0,0,{"$f":"IF(AND(VJ7/VJ$6=ROUND(VJ7/VJ$6,0),NOT(VJ7=0)),VJ7/VJ$6,0)","v":0},0,0,0,0,0,0,0,0,0,0,0,0,0,0,0,0,0,0,0,0,0,0,0,0,0,0,0,0,0,0,0,0,0,0,0,0,0,0,0,0,0,0,0,0,0,0,0,0,0,0,0,0,0,0,0,0,0,0,0,0,0,0,0,{"$f":"IF(AND(XV7/XV$6=ROUND(XV7/XV$6,0),NOT(XV7=0)),XV7/XV$6,0)","v":0},0,0,0,0,0,0,0,0,0,0,0,0,0,0,0,0,0,0,0,0,0,0,0,0,0,0,0,0,0,0,0,0,0,0,0,0,0,0,0,0,0,0,0,0,0,0,0,0,0,0,0,0,0,0,0,0,0,0,0,0,0,0,0,{"$f":"IF(AND(AAH7/AAH$6=ROUND(AAH7/AAH$6,0),NOT(AAH7=0)),AAH7/AAH$6,0)","v":0},0,0,0,0,0,0,0,0,0,0,0,0,0,0,0,0,0,0,0,0,0,0,0,0,0,0,0,0,0,0,0,0,0,0,0,0,0,0,0,0,0,0,0,0,0,0,0,0,0,0,0,0,0,0,0,0,0,0,0,0,0,0,0,{"$f":"IF(AND(ACT7/ACT$6=ROUND(ACT7/ACT$6,0),NOT(ACT7=0)),ACT7/ACT$6,0)","v":0},0,0,0,0,0,0,0,0,0,0,0,0,0,0,0,0,0,0,0,0,0,0,0,0,0,0,0,0,0,0,0,0,0,0,0,0,0,0,0,0,0,0,0,0,0,0,0,0,0,0,0,0,0,0,0,0,0,0,0,0,0,0,0,{"$f":"IF(AND(AFF7/AFF$6=ROUND(AFF7/AFF$6,0),NOT(AFF7=0)),AFF7/AFF$6,0)","v":0},0,0,0,0,0,0,0,0,0,0,0,0,0,0,0,0,0,0,0,0,0,0,0,0,0,0,0,0,0,0,0,0,0,0,0,0,0,0,0,0,0,0,0,0,0,0,0,0,0,0,0,0,0,0,0,0,0,0,0,0,0,0,0,{"$f":"IF(AND(AHR7/AHR$6=ROUND(AHR7/AHR$6,0),NOT(AHR7=0)),AHR7/AHR$6,0)","v":0},0,0,0,0,0,0,0,0,0,0,0,0,0,0,0,0,0,0,0,0,0,0,0,0,0,0,0,0,0,0,0,0,0,0,0,0,0,0,0,0,0,0,0,0,0,0,0,0,0,0,0,0,0,0,0,0,0,0,0,0,0,0,0,{"$f":"IF(AND(AKD7/AKD$6=ROUND(AKD7/AKD$6,0),NOT(AKD7=0)),AKD7/AKD$6,0)","v":0},0,0,0,0,0,0,0,0,0,0,0,0,0,0,0,0,0,0,0,0,0,0,0,0,0,0,0,0,0,0,0,0,0,0,0,0,0,0,0]
[null,null,null,null,null,90,0,0,0,0,0,0,0,0,0,0,0,0,0,0,0,0,0,0,0,0,0,0,0,0,0,0,0,0,0,0,0,0,0,0,0,0,0,0,0,0,0,0,0,0,0,0,0,0,0,0,0,0,0,0,0,0,0,0,0,0,0,0,0,0,0,0,0,0,0,0,0,0,0,0,0,0,0,0,0,0,0,0,0,0,0,0,0,0,0,0,0,0,0,0,0,0,0,0,0,0,0,0,0,0,0,0,0,0,0,0,0,0,0,0,0,0,0,0,0,0,0,0,0,0,0,0,0,0,0,0,0,0,0,0,0,0,0,0,0,0,0,0,0,0,0,0,0,0,0,0,0,0,0,0,0,0,0,0,0,0,0,0,0,0,0,0,0,0,0,0,0,0,0,0,0,0,0,0,0,0,0,0,0,0,0,0,0,0,0,0,0,0,0,0,0,0,0,0,0,0,0,0,0,0,0,0,0,0,0,0,0,0,0,0,0,0,0,0,0,0,0,0,0,0,0,0,0,0,0,0,0,0,0,0,0,0,0,0,0,0,0,0,0,0,0,0,0,0,0,0,0,0,0,0,0,0,0,0,0,0,0,0,0,0,0,0,0,0,0,0,0,0,0,0,0,0,0,0,0,0,0,0,0,0,0,0,0,0,0,0,0,0,0,0,0,0,0,0,0,0,0,0,0,0,0,0,0,0,0,0,0,0,0,0,0,0,0,0,0,0,0,0,0,0,0,0,0,0,0,0,0,0,0,0,0,0,0,0,0,0,0,0,0,0,0,0,0,0,0,0,0,0,0,0,0,0,0,0,0,0,0,0,0,0,0,0,0,0,0,0,0,0,0,0,0,0,0,0,0,0,0,0,0,0,0,0,0,0,0,0,0,0,0,0,0,0,0,0,0,0,0,0,0,0,0,0,0,0,0,0,0,0,0,0,0,0,0,0,0,0,0,0,0,0,0,0,0,0,0,0,0,0,0,0,0,0,0,0,0,0,0,0,0,0,0,0,0,0,0,0,0,0,0,0,0,0,0,0,0,0,0,0,0,0,0,0,0,0,0,0,0,0,0,0,0,0,0,0,0,0,0,0,0,0,0,0,0,0,0,0,0,0,0,0,0,0,0,0,0,0,0,0,0,0,0,0,0,0,0,0,0,0,0,0,0,0,0,0,0,0,0,0,0,0,0,0,0,0,0,0,0,0,0,0,0,0,0,0,0,0,0,0,0,0,0,0,0,0,0,0,0,0,0,0,0,0,0,0,0,0,0,0,0,0,0,0,0,0,0,0,0,0,0,0,0,0,0,0,0,0,0,0,0,0,0,0,0,0,0,0,0,0,0,0,0,0,0,0,0,0,0,0,0,0,0,0,0,0,0,0,0,0,0,0,0,0,0,0,0,0,0,0,0,0,0,0,0,0,0,0,0,0,0,0,0,0,0,0,0,0,0,0,0,0,0,0,0,0,0,0,0,0,0,0,0,0,0,0,0,0,0,0,0,0,0,0,0,0,0,0,0,0,0,0,0,0,0,0,0,0,0,0,0,0,0,0,0,0,0,0,0,0,0,0,0,0,0,0,0,0,0,0,0,0,0,0,0,0,0,0,0,0,0,0,0,0,0,0,0,0,0,0,0,0,0,0,0,0,0,0,0,0,0,0,0,0,0,0,0,0,0,0,0,0,0,0,0,0,0,0,0,0,0,0,0,0,0,0,0,0,0,0,0,0,0,0,0,0,0,0,0,0,0,0,0,0,0,0,0,0,0,0,0,0,0,0,0,0,0,0,0,0,0,0,0,0,0,0,0,0,0,0,0,0,0,0,0,0,0,0,0,0,0,0,0,0,0,0,0,0,0,0,0,0,0,0,0,0,0,0,0,0,0,0,0,0,0,0,0,0,0,0,0,0,0,0,0,0,0,0,0,0,0,0,0,0,0,0,0,0,0,0,0,0,0,0,0,0,0,0,0,0,0,0,0,0,0,0,0,0,0,0,0,0,0,0,0,0,0,0,0,0,0,0,0,0,0,0,0,0,0,0,0,0,0,0,0,0,0,0,0,0,0,0,0,0,0,0,0,0,0,0,0,0,0,0,0,0,0,0,0,0,0,0,0,0,0,0,0,0,0,0,0,0,0,0,0,0,0,0,0,0,0,0,0,0,0,0,0,0,0,0,0,0,0,0,0,0,0,0,0,0,0,0,0,0,0,0,0,0,0,0,0,0,0,0,0,0,0,0,0,0,0,0,0,0,0,0,0]
["HCF:",{"$f":"PRODUCT(F48:ALQ48)","v":24},null,null,null,45,0,0,0,0,0,0,0,0,0,0,0,0,0,0,0,0,0,0,0,0,0,0,0,0,0,0,0,0,0,0,0,0,0,0,0,0,0,0,0,0,0,0,0,0,0,0,0,0,0,0,0,0,0,0,0,0,0,0,0,0,0,0,0,0,0,0,0,0,0,0,0,0,0,0,0,0,0,0,0,0,0,0,0,0,0,0,0,0,0,0,0,0,0,0,0,0,0,0,0,0,0,0,0,0,0,0,0,0,0,0,0,0,0,0,0,0,0,0,0,0,0,0,0,0,0,0,0,0,0,0,0,0,0,0,0,0,0,0,0,0,0,0,0,0,0,0,0,0,0,0,0,0,0,0,0,0,0,0,0,0,0,0,0,0,0,0,0,0,0,0,0,0,0,0,0,0,0,0,0,0,0,0,0,0,0,0,0,0,0,0,0,0,0,0,0,0,0,0,0,0,0,0,0,0,0,0,0,0,0,0,0,0,0,0,0,0,0,0,0,0,0,0,0,0,0,0,0,0,0,0,0,0,0,0,0,0,0,0,0,0,0,0,0,0,0,0,0,0,0,0,0,0,0,0,0,0,0,0,0,0,0,0,0,0,0,0,0,0,0,0,0,0,0,0,0,0,0,0,0,0,0,0,0,0,0,0,0,0,0,0,0,0,0,0,0,0,0,0,0,0,0,0,0,0,0,0,0,0,0,0,0,0,0,0,0,0,0,0,0,0,0,0,0,0,0,0,0,0,0,0,0,0,0,0,0,0,0,0,0,0,0,0,0,0,0,0,0,0,0,0,0,0,0,0,0,0,0,0,0,0,0,0,0,0,0,0,0,0,0,0,0,0,0,0,0,0,0,0,0,0,0,0,0,0,0,0,0,0,0,0,0,0,0,0,0,0,0,0,0,0,0,0,0,0,0,0,0,0,0,0,0,0,0,0,0,0,0,0,0,0,0,0,0,0,0,0,0,0,0,0,0,0,0,0,0,0,0,0,0,0,0,0,0,0,0,0,0,0,0,0,0,0,0,0,0,0,0,0,0,0,0,0,0,0,0,0,0,0,0,0,0,0,0,0,0,0,0,0,0,0,0,0,0,0,0,0,0,0,0,0,0,0,0,0,0,0,0,0,0,0,0,0,0,0,0,0,0,0,0,0,0,0,0,0,0,0,0,0,0,0,0,0,0,0,0,0,0,0,0,0,0,0,0,0,0,0,0,0,0,0,0,0,0,0,0,0,0,0,0,0,0,0,0,0,0,0,0,0,0,0,0,0,0,0,0,0,0,0,0,0,0,0,0,0,0,0,0,0,0,0,0,0,0,0,0,0,0,0,0,0,0,0,0,0,0,0,0,0,0,0,0,0,0,0,0,0,0,0,0,0,0,0,0,0,0,0,0,0,0,0,0,0,0,0,0,0,0,0,0,0,0,0,0,0,0,0,0,0,0,0,0,0,0,0,0,0,0,0,0,0,0,0,0,0,0,0,0,0,0,0,0,0,0,0,0,0,0,0,0,0,0,0,0,0,0,0,0,0,0,0,0,0,0,0,0,0,0,0,0,0,0,0,0,0,0,0,0,0,0,0,0,0,0,0,0,0,0,0,0,0,0,0,0,0,0,0,0,0,0,0,0,0,0,0,0,0,0,0,0,0,0,0,0,0,0,0,0,0,0,0,0,0,0,0,0,0,0,0,0,0,0,0,0,0,0,0,0,0,0,0,0,0,0,0,0,0,0,0,0,0,0,0,0,0,0,0,0,0,0,0,0,0,0,0,0,0,0,0,0,0,0,0,0,0,0,0,0,0,0,0,0,0,0,0,0,0,0,0,0,0,0,0,0,0,0,0,0,0,0,0,0,0,0,0,0,0,0,0,0,0,0,0,0,0,0,0,0,0,0,0,0,0,0,0,0,0,0,0,0,0,0,0,0,0,0,0,0,0,0,0,0,0,0,0,0,0,0,0,0,0,0,0,0,0,0,0,0,0,0,0,0,0,0,0,0,0,0,0,0,0,0,0,0,0,0,0,0,0,0,0,0,0,0,0,0,0,0,0,0,0,0,0,0,0,0,0,0,0,0,0,0,0,0,0,0,0,0,0,0,0,0,0,0,0,0,0,0,0,0,0,0,0,0,0,0,0,0,0,0,0,0,0,0,0,0,0,0,0,0,0,0,0,0,0,0,0,0,0,0,0,0,0,0,0,0,0,0,0,0,0,0,0,0,0,0,0,0,0,0,0,0,0,0,0,0,0,0,0,0]
["LCM:",{"$f":"B6*B5/B10","v":5040},null,null,null,0,0,0,0,0,0,0,0,0,0,0,0,0,0,0,0,0,0,0,0,0,0,0,0,0,0,0,0,0,0,0,0,0,0,0,0,0,0,0,0,0,0,0,0,0,0,0,0,0,0,0,0,0,0,0,0,0,0,0,0,0,0,0,{"$f":"IF(AND(BQ10/BQ$6=ROUND(BQ10/BQ$6,0),NOT(BQ10=0)),BQ10/BQ$6,0)","v":0},0,0,0,0,0,0,0,0,0,0,0,0,0,0,0,0,0,0,0,0,0,0,0,0,0,0,0,0,0,0,0,0,0,0,0,0,0,0,0,0,0,0,0,0,0,0,0,0,0,0,0,0,0,0,0,0,0,0,0,0,0,0,0,{"$f":"IF(AND(EC10/EC$6=ROUND(EC10/EC$6,0),NOT(EC10=0)),EC10/EC$6,0)","v":0},0,0,0,0,0,0,0,0,0,0,0,0,0,0,0,0,0,0,0,0,0,0,0,0,0,0,0,0,0,0,0,0,0,0,0,0,0,0,0,0,0,0,0,0,0,0,0,0,0,0,0,0,0,0,0,0,0,0,0,0,0,0,0,{"$f":"IF(AND(GO10/GO$6=ROUND(GO10/GO$6,0),NOT(GO10=0)),GO10/GO$6,0)","v":0},0,0,0,0,0,0,0,0,0,0,0,0,0,0,0,0,0,0,0,0,0,0,0,0,0,0,0,0,0,0,0,0,0,0,0,0,0,0,0,0,0,0,0,0,0,0,0,0,0,0,0,0,0,0,0,0,0,0,0,0,0,0,0,{"$f":"IF(AND(JA10/JA$6=ROUND(JA10/JA$6,0),NOT(JA10=0)),JA10/JA$6,0)","v":0},0,0,0,0,0,0,0,0,0,0,0,0,0,0,0,0,0,0,0,0,0,0,0,0,0,0,0,0,0,0,0,0,0,0,0,0,0,0,0,0,0,0,0,0,0,0,0,0,0,0,0,0,0,0,0,0,0,0,0,0,0,0,0,{"$f":"IF(AND(LM10/LM$6=ROUND(LM10/LM$6,0),NOT(LM10=0)),LM10/LM$6,0)","v":0},0,0,0,0,0,0,0,0,0,0,0,0,0,0,0,0,0,0,0,0,0,0,0,0,0,0,0,0,0,0,0,0,0,0,0,0,0,0,0,0,0,0,0,0,0,0,0,0,0,0,0,0,0,0,0,0,0,0,0,0,0,0,0,{"$f":"IF(AND(NY10/NY$6=ROUND(NY10/NY$6,0),NOT(NY10=0)),NY10/NY$6,0)","v":0},0,0,0,0,0,0,0,0,0,0,0,0,0,0,0,0,0,0,0,0,0,0,0,0,0,0,0,0,0,0,0,0,0,0,0,0,0,0,0,0,0,0,0,0,0,0,0,0,0,0,0,0,0,0,0,0,0,0,0,0,0,0,0,{"$f":"IF(AND(QK10/QK$6=ROUND(QK10/QK$6,0),NOT(QK10=0)),QK10/QK$6,0)","v":0},0,0,0,0,0,0,0,0,0,0,0,0,0,0,0,0,0,0,0,0,0,0,0,0,0,0,0,0,0,0,0,0,0,0,0,0,0,0,0,0,0,0,0,0,0,0,0,0,0,0,0,0,0,0,0,0,0,0,0,0,0,0,0,{"$f":"IF(AND(SW10/SW$6=ROUND(SW10/SW$6,0),NOT(SW10=0)),SW10/SW$6,0)","v":0},0,0,0,0,0,0,0,0,0,0,0,0,0,0,0,0,0,0,0,0,0,0,0,0,0,0,0,0,0,0,0,0,0,0,0,0,0,0,0,0,0,0,0,0,0,0,0,0,0,0,0,0,0,0,0,0,0,0,0,0,0,0,0,{"$f":"IF(AND(VI10/VI$6=ROUND(VI10/VI$6,0),NOT(VI10=0)),VI10/VI$6,0)","v":0},0,0,0,0,0,0,0,0,0,0,0,0,0,0,0,0,0,0,0,0,0,0,0,0,0,0,0,0,0,0,0,0,0,0,0,0,0,0,0,0,0,0,0,0,0,0,0,0,0,0,0,0,0,0,0,0,0,0,0,0,0,0,0,{"$f":"IF(AND(XU10/XU$6=ROUND(XU10/XU$6,0),NOT(XU10=0)),XU10/XU$6,0)","v":0},0,0,0,0,0,0,0,0,0,0,0,0,0,0,0,0,0,0,0,0,0,0,0,0,0,0,0,0,0,0,0,0,0,0,0,0,0,0,0,0,0,0,0,0,0,0,0,0,0,0,0,0,0,0,0,0,0,0,0,0,0,0,0,{"$f":"IF(AND(AAG10/AAG$6=ROUND(AAG10/AAG$6,0),NOT(AAG10=0)),AAG10/AAG$6,0)","v":0},0,0,0,0,0,0,0,0,0,0,0,0,0,0,0,0,0,0,0,0,0,0,0,0,0,0,0,0,0,0,0,0,0,0,0,0,0,0,0,0,0,0,0,0,0,0,0,0,0,0,0,0,0,0,0,0,0,0,0,0,0,0,0,{"$f":"IF(AND(ACS10/ACS$6=ROUND(ACS10/ACS$6,0),NOT(ACS10=0)),ACS10/ACS$6,0)","v":0},0,0,0,0,0,0,0,0,0,0,0,0,0,0,0,0,0,0,0,0,0,0,0,0,0,0,0,0,0,0,0,0,0,0,0,0,0,0,0,0,0,0,0,0,0,0,0,0,0,0,0,0,0,0,0,0,0,0,0,0,0,0,0,{"$f":"IF(AND(AFE10/AFE$6=ROUND(AFE10/AFE$6,0),NOT(AFE10=0)),AFE10/AFE$6,0)","v":0},0,0,0,0,0,0,0,0,0,0,0,0,0,0,0,0,0,0,0,0,0,0,0,0,0,0,0,0,0,0,0,0,0,0,0,0,0,0,0,0,0,0,0,0,0,0,0,0,0,0,0,0,0,0,0,0,0,0,0,0,0,0,0,{"$f":"IF(AND(AHQ10/AHQ$6=ROUND(AHQ10/AHQ$6,0),NOT(AHQ10=0)),AHQ10/AHQ$6,0)","v":0},0,0,0,0,0,0,0,0,0,0,0,0,0,0,0,0,0,0,0,0,0,0,0,0,0,0,0,0,0,0,0,0,0,0,0,0,0,0,0,0,0,0,0,0,0,0,0,0,0,0,0,0,0,0,0,0,0,0,0,0,0,0,0,{"$f":"IF(AND(AKC10/AKC$6=ROUND(AKC10/AKC$6,0),NOT(AKC10=0)),AKC10/AKC$6,0)","v":0},0,0,0,0,0,0,0,0,0,0,0,0,0,0,0,0,0,0,0,0,0,0,0,0,0,0,0,0,0,0,0,0,0,0,0,0,0,0,0,0]
["Coprime?",{"$f":"IF(B10=1,1,0)","v":0},null,null,null,{"$f":"IF(AND(F11/F$6=ROUND(F11/F$6,0),NOT(F11=0)),F11/F$6,0)","v":0},0,0,0,0,0,0,0,0,0,0,0,0,0,0,0,0,0,0,0,0,0,0,0,0,0,0,0,0,0,0,0,0,0,0,0,0,0,0,0,0,0,0,0,0,0,0,0,0,0,0,0,0,0,0,0,0,0,0,0,0,0,0,0,0,0,0,0,0,0,0,0,0,0,0,0,0,0,0,{"$f":"IF(AND(CG11/CG$6=ROUND(CG11/CG$6,0),NOT(CG11=0)),CG11/CG$6,0)","v":0},0,0,0,0,0,0,0,0,0,0,0,0,0,0,0,0,0,0,0,0,0,0,0,0,0,0,0,0,0,0,0,0,0,0,0,0,0,0,0,0,0,0,0,0,0,0,0,0,0,0,0,0,0,0,0,0,0,0,0,0,0,0,0,{"$f":"IF(AND(ES11/ES$6=ROUND(ES11/ES$6,0),NOT(ES11=0)),ES11/ES$6,0)","v":0},0,0,0,0,0,0,0,0,0,0,0,0,0,0,0,0,0,0,0,0,0,0,0,0,0,0,0,0,0,0,0,0,0,0,0,0,0,0,0,0,0,0,0,0,0,0,0,0,0,0,0,0,0,0,0,0,0,0,0,0,0,0,0,{"$f":"IF(AND(HE11/HE$6=ROUND(HE11/HE$6,0),NOT(HE11=0)),HE11/HE$6,0)","v":0},0,0,0,0,0,0,0,0,0,0,0,0,0,0,0,0,0,0,0,0,0,0,0,0,0,0,0,0,0,0,0,0,0,0,0,0,0,0,0,0,0,0,0,0,0,0,0,0,0,0,0,0,0,0,0,0,0,0,0,0,0,0,0,{"$f":"IF(AND(JQ11/JQ$6=ROUND(JQ11/JQ$6,0),NOT(JQ11=0)),JQ11/JQ$6,0)","v":0},0,0,0,0,0,0,0,0,0,0,0,0,0,0,0,0,0,0,0,0,0,0,0,0,0,0,0,0,0,0,0,0,0,0,0,0,0,0,0,0,0,0,0,0,0,0,0,0,0,0,0,0,0,0,0,0,0,0,0,0,0,0,0,{"$f":"IF(AND(MC11/MC$6=ROUND(MC11/MC$6,0),NOT(MC11=0)),MC11/MC$6,0)","v":0},0,0,0,0,0,0,0,0,0,0,0,0,0,0,0,0,0,0,0,0,0,0,0,0,0,0,0,0,0,0,0,0,0,0,0,0,0,0,0,0,0,0,0,0,0,0,0,0,0,0,0,0,0,0,0,0,0,0,0,0,0,0,0,{"$f":"IF(AND(OO11/OO$6=ROUND(OO11/OO$6,0),NOT(OO11=0)),OO11/OO$6,0)","v":0},0,0,0,0,0,0,0,0,0,0,0,0,0,0,0,0,0,0,0,0,0,0,0,0,0,0,0,0,0,0,0,0,0,0,0,0,0,0,0,0,0,0,0,0,0,0,0,0,0,0,0,0,0,0,0,0,0,0,0,0,0,0,0,{"$f":"IF(AND(RA11/RA$6=ROUND(RA11/RA$6,0),NOT(RA11=0)),RA11/RA$6,0)","v":0},0,0,0,0,0,0,0,0,0,0,0,0,0,0,0,0,0,0,0,0,0,0,0,0,0,0,0,0,0,0,0,0,0,0,0,0,0,0,0,0,0,0,0,0,0,0,0,0,0,0,0,0,0,0,0,0,0,0,0,0,0,0,0,{"$f":"IF(AND(TM11/TM$6=ROUND(TM11/TM$6,0),NOT(TM11=0)),TM11/TM$6,0)","v":0},0,0,0,0,0,0,0,0,0,0,0,0,0,0,0,0,0,0,0,0,0,0,0,0,0,0,0,0,0,0,0,0,0,0,0,0,0,0,0,0,0,0,0,0,0,0,0,0,0,0,0,0,0,0,0,0,0,0,0,0,0,0,0,{"$f":"IF(AND(VY11/VY$6=ROUND(VY11/VY$6,0),NOT(VY11=0)),VY11/VY$6,0)","v":0},0,0,0,0,0,0,0,0,0,0,0,0,0,0,0,0,0,0,0,0,0,0,0,0,0,0,0,0,0,0,0,0,0,0,0,0,0,0,0,0,0,0,0,0,0,0,0,0,0,0,0,0,0,0,0,0,0,0,0,0,0,0,0,{"$f":"IF(AND(YK11/YK$6=ROUND(YK11/YK$6,0),NOT(YK11=0)),YK11/YK$6,0)","v":0},0,0,0,0,0,0,0,0,0,0,0,0,0,0,0,0,0,0,0,0,0,0,0,0,0,0,0,0,0,0,0,0,0,0,0,0,0,0,0,0,0,0,0,0,0,0,0,0,0,0,0,0,0,0,0,0,0,0,0,0,0,0,0,{"$f":"IF(AND(AAW11/AAW$6=ROUND(AAW11/AAW$6,0),NOT(AAW11=0)),AAW11/AAW$6,0)","v":0},0,0,0,0,0,0,0,0,0,0,0,0,0,0,0,0,0,0,0,0,0,0,0,0,0,0,0,0,0,0,0,0,0,0,0,0,0,0,0,0,0,0,0,0,0,0,0,0,0,0,0,0,0,0,0,0,0,0,0,0,0,0,0,{"$f":"IF(AND(ADI11/ADI$6=ROUND(ADI11/ADI$6,0),NOT(ADI11=0)),ADI11/ADI$6,0)","v":0},0,0,0,0,0,0,0,0,0,0,0,0,0,0,0,0,0,0,0,0,0,0,0,0,0,0,0,0,0,0,0,0,0,0,0,0,0,0,0,0,0,0,0,0,0,0,0,0,0,0,0,0,0,0,0,0,0,0,0,0,0,0,0,{"$f":"IF(AND(AFU11/AFU$6=ROUND(AFU11/AFU$6,0),NOT(AFU11=0)),AFU11/AFU$6,0)","v":0},0,0,0,0,0,0,0,0,0,0,0,0,0,0,0,0,0,0,0,0,0,0,0,0,0,0,0,0,0,0,0,0,0,0,0,0,0,0,0,0,0,0,0,0,0,0,0,0,0,0,0,0,0,0,0,0,0,0,0,0,0,0,0,{"$f":"IF(AND(AIG11/AIG$6=ROUND(AIG11/AIG$6,0),NOT(AIG11=0)),AIG11/AIG$6,0)","v":0},0,0,0,0,0,0,0,0,0,0,0,0,0,0,0,0,0,0,0,0,0,0,0,0,0,0,0,0,0,0,0,0,0,0,0,0,0,0,0,0,0,0,0,0,0,0,0,0,0,0,0,0,0,0,0,0,0,0,0,0,0,0,0,0,0,0,0,0,0,0,0,0,0,0,0,0,0,0,0,0,0,0,0,0,0,0,0,0]
[null,null,null,null,null,0,0,0,0,0,0,0,0,0,0,0,0,0,0,0,0,0,0,0,0,0,0,0,0,0,0,0,0,0,0,0,0,0,0,0,0,0,0,0,0,0,0,0,0,0,0,0,0,0,0,0,0,0,0,0,0,0,0,0,0,0,0,0,0,0,0,0,0,0,0,0,0,0,0,0,0,0,0,0,0,0,0,0,0,0,0,0,0,0,0,0,0,0,0,0,0,0,0,0,0,0,0,0,0,0,0,0,0,0,0,0,0,0,0,0,0,0,0,0,0,0,0,0,0,0,0,0,0,0,0,0,0,0,0,0,0,0,0,0,0,0,0,0,0,0,0,0,0,0,0,0,0,0,0,0,0,0,0,0,0,0,0,0,0,0,0,0,0,0,0,0,0,0,0,0,0,0,0,0,0,0,0,0,0,0,0,0,0,0,0,0,0,0,0,0,0,0,0,0,0,0,0,0,0,0,0,0,0,0,0,0,0,0,0,0,0,0,0,0,0,0,0,0,0,0,0,0,0,0,0,0,0,0,0,0,0,0,0,0,0,0,0,0,0,0,0,0,0,0,0,0,0,0,0,0,0,0,0,0,0,0,0,0,0,0,0,0,0,0,0,0,0,0,0,0,0,0,0,0,0,0,0,0,0,0,0,0,0,0,0,0,0,0,0,0,0,0,0,0,0,0,0,0,0,0,0,0,0,0,0,0,0,0,0,0,0,0,0,0,0,0,0,0,0,0,0,0,0,0,0,0,0,0,0,0,0,0,0,0,0,0,0,0,0,0,0,0,0,0,0,0,0,0,0,0,0,0,0,0,0,0,0,0,0,0,0,0,0,0,0,0,0,0,0,0,0,0,0,0,0,0,0,0,0,0,0,0,0,0,0,0,0,0,0,0,0,0,0,0,0,0,0,0,0,0,0,0,0,0,0,0,0,0,0,0,0,0,0,0,0,0,0,0,0,0,0,0,0,0,0,0,0,0,0,0,0,0,0,0,0,0,0,0,0,0,0,0,0,0,0,0,0,0,0,0,0,0,0,0,0,0,0,0,0,0,0,0,0,0,0,0,0,0,0,0,0,0,0,0,0,0,0,0,0,0,0,0,0,0,0,0,0,0,0,0,0,0,0,0,0,0,0,0,0,0,0,0,0,0,0,0,0,0,0,0,0,0,0,0,0,0,0,0,0,0,0,0,0,0,0,0,0,0,0,0,0,0,0,0,0,0,0,0,0,0,0,0,0,0,0,0,0,0,0,0,0,0,0,0,0,0,0,0,0,0,0,0,0,0,0,0,0,0,0,0,0,0,0,0,0,0,0,0,0,0,0,0,0,0,0,0,0,0,0,0,0,0,0,0,0,0,0,0,0,0,0,0,0,0,0,0,0,0,0,0,0,0,0,0,0,0,0,0,0,0,0,0,0,0,0,0,0,0,0,0,0,0,0,0,0,0,0,0,0,0,0,0,0,0,0,0,0,0,0,0,0,0,0,0,0,0,0,0,0,0,0,0,0,0,0,0,0,0,0,0,0,0,0,0,0,0,0,0,0,0,0,0,0,0,0,0,0,0,0,0,0,0,0,0,0,0,0,0,0,0,0,0,0,0,0,0,0,0,0,0,0,0,0,0,0,0,0,0,0,0,0,0,0,0,0,0,0,0,0,0,0,0,0,0,0,0,0,0,0,0,0,0,0,0,0,0,0,0,0,0,0,0,0,0,0,0,0,0,0,0,0,0,0,0,0,0,0,0,0,0,0,0,0,0,0,0,0,0,0,0,0,0,0,0,0,0,0,0,0,0,0,0,0,0,0,0,0,0,0,0,0,0,0,0,0,0,0,0,0,0,0,0,0,0,0,0,0,0,0,0,0,0,0,0,0,0,0,0,0,0,0,0,0,0,0,0,0,0,0,0,0,0,0,0,0,0,0,0,0,0,0,0,0,0,0,0,0,0,0,0,0,0,0,0,0,0,0,0,0,0,0,0,0,0,0,0,0,0,0,0,0,0,0,0,0,0,0,0,0,0,0,0,0,0,0,0,0,0,0,0,0,0,0,0,0,0,0,0,0,0,0,0,0,0,0,0,0,0,0,0,0,0,0,0,0,0,0,0,0,0,0,0,0,0,0,0,0,0,0,0,0,0,0,0,0,0,0,0,0,0,0,0,0,0,0,0,0,0,0,0,0,0,0,0,0,0,0,0,0,0,0,0,0,0,0,0,0,0,0,0,0,0,0,0,0,0,0,0,0,0,0,0,0,0,0]
[null,null,null,null,null,0,0,0,0,0,0,0,0,0,0,0,0,0,0,0,0,0,0,0,0,0,0,0,0,0,0,0,0,0,0,0,0,0,0,0,0,0,0,0,0,0,0,0,0,0,0,0,0,0,0,0,0,0,0,0,0,0,0,0,0,0,0,0,0,0,0,0,0,0,0,0,0,0,0,0,0,0,0,0,0,0,0,0,0,0,0,0,0,0,0,0,0,0,0,0,0,0,0,0,0,0,0,0,0,0,0,0,0,0,0,0,0,0,0,0,0,0,0,0,0,0,0,0,0,0,0,0,0,0,0,0,0,0,0,0,0,0,0,0,0,0,0,0,0,0,0,0,0,0,0,0,0,0,0,0,0,0,0,0,0,0,0,0,0,0,0,0,0,0,0,0,0,0,0,0,0,0,0,0,0,0,0,0,0,0,0,0,0,0,0,0,0,0,0,0,0,0,0,0,0,0,0,0,0,0,0,0,0,0,0,0,0,0,0,0,0,0,0,0,0,0,0,0,0,0,0,0,0,0,0,0,0,0,0,0,0,0,0,0,0,0,0,0,0,0,0,0,0,0,0,0,0,0,0,0,0,0,0,0,0,0,0,0,0,0,0,0,0,0,0,0,0,0,0,0,0,0,0,0,0,0,0,0,0,0,0,0,0,0,0,0,0,0,0,0,0,0,0,0,0,0,0,0,0,0,0,0,0,0,0,0,0,0,0,0,0,0,0,0,0,0,0,0,0,0,0,0,0,0,0,0,0,0,0,0,0,0,0,0,0,0,0,0,0,0,0,0,0,0,0,0,0,0,0,0,0,0,0,0,0,0,0,0,0,0,0,0,0,0,0,0,0,0,0,0,0,0,0,0,0,0,0,0,0,0,0,0,0,0,0,0,0,0,0,0,0,0,0,0,0,0,0,0,0,0,0,0,0,0,0,0,0,0,0,0,0,0,0,0,0,0,0,0,0,0,0,0,0,0,0,0,0,0,0,0,0,0,0,0,0,0,0,0,0,0,0,0,0,0,0,0,0,0,0,0,0,0,0,0,0,0,0,0,0,0,0,0,0,0,0,0,0,0,0,0,0,0,0,0,0,0,0,0,0,0,0,0,0,0,0,0,0,0,0,0,0,0,0,0,0,0,0,0,0,0,0,0,0,0,0,0,0,0,0,0,0,0,0,0,0,0,0,0,0,0,0,0,0,0,0,0,0,0,0,0,0,0,0,0,0,0,0,0,0,0,0,0,0,0,0,0,0,0,0,0,0,0,0,0,0,0,0,0,0,0,0,0,0,0,0,0,0,0,0,0,0,0,0,0,0,0,0,0,0,0,0,0,0,0,0,0,0,0,0,0,0,0,0,0,0,0,0,0,0,0,0,0,0,0,0,0,0,0,0,0,0,0,0,0,0,0,0,0,0,0,0,0,0,0,0,0,0,0,0,0,0,0,0,0,0,0,0,0,0,0,0,0,0,0,0,0,0,0,0,0,0,0,0,0,0,0,0,0,0,0,0,0,0,0,0,0,0,0,0,0,0,0,0,0,0,0,0,0,0,0,0,0,0,0,0,0,0,0,0,0,0,0,0,0,0,0,0,0,0,0,0,0,0,0,0,0,0,0,0,0,0,0,0,0,0,0,0,0,0,0,0,0,0,0,0,0,0,0,0,0,0,0,0,0,0,0,0,0,0,0,0,0,0,0,0,0,0,0,0,0,0,0,0,0,0,0,0,0,0,0,0,0,0,0,0,0,0,0,0,0,0,0,0,0,0,0,0,0,0,0,0,0,0,0,0,0,0,0,0,0,0,0,0,0,0,0,0,0,0,0,0,0,0,0,0,0,0,0,0,0,0,0,0,0,0,0,0,0,0,0,0,0,0,0,0,0,0,0,0,0,0,0,0,0,0,0,0,0,0,0,0,0,0,0,0,0,0,0,0,0,0,0,0,0,0,0,0,0,0,0,0,0,0,0,0,0,0,0,0,0,0,0,0,0,0,0,0,0,0,0,0,0,0,0,0,0,0,0,0,0,0,0,0,0,0,0,0,0,0,0,0,0,0,0,0,0,0,0,0,0,0,0,0,0,0,0,0,0,0,0,0,0,0,0,0,0,0,0,0,0,0,0,0,0,0,0,0,0,0,0,0,0,0,0,0,0,0,0,0,0,0,0,0,0,0,0,0,0,0,0,0,0,0,0,0,0,0,0,0,0,{"$f":"IF(AND(AKS13/AKS$6=ROUND(AKS13/AKS$6,0),NOT(AKS13=0)),AKS13/AKS$6,0)","v":0},0,0,0,0,0,0,0,0,0,0,0,0,0,0,0,0,0,0,0,0,0,0,0,0]
[null,null,null,null,null,0,0,0,0,0,0,0,0,0,0,0,0,0,0,0,0,0,0,0,0,0,0,0,0,0,0,0,0,0,0,0,0,0,0,0,0,0,0,0,0,0,0,0,0,0,0,0,0,0,0,0,0,0,0,0,0,0,0,0,0,0,0,0,0,0,0,0,0,0,0,0,0,0,0,0,0,0,0,0,0,0,0,0,0,0,0,0,0,0,0,0,0,0,0,0,0,0,0,0,0,0,0,0,0,0,0,0,0,0,0,0,0,0,0,0,0,0,0,0,0,0,0,0,0,0,0,0,0,0,0,0,0,0,0,0,0,0,0,0,0,0,0,0,0,0,0,0,0,0,0,0,0,0,0,0,0,0,0,0,0,0,0,0,0,0,0,0,0,0,0,0,0,0,0,0,0,0,0,0,0,0,0,0,0,0,0,0,0,0,0,0,0,0,0,0,0,0,0,0,0,0,0,0,0,0,0,0,0,0,0,0,0,0,0,0,0,0,0,0,0,0,0,0,0,0,0,0,0,0,0,0,0,0,0,0,0,0,0,0,0,0,0,0,0,0,0,0,0,0,0,0,0,0,0,0,0,0,0,0,0,0,0,0,0,0,0,0,0,0,0,0,0,0,0,0,0,0,0,0,0,0,0,0,0,0,0,0,0,0,0,0,0,0,0,0,0,0,0,0,0,0,0,0,0,0,0,0,0,0,0,0,0,0,0,0,0,0,0,0,0,0,0,0,0,0,0,0,0,0,0,0,0,0,0,0,0,0,0,0,0,0,0,0,0,0,0,0,0,0,0,0,0,0,0,0,0,0,0,0,0,0,0,0,0,0,0,0,0,0,0,0,0,0,0,0,0,0,0,0,0,0,0,0,0,0,0,0,0,0,0,0,0,0,0,0,0,0,0,0,0,0,0,0,0,0,0,0,0,0,0,0,0,0,0,0,0,0,0,0,0,0,0,0,0,0,0,0,0,0,0,0,0,0,0,0,0,0,0,0,0,0,0,0,0,0,0,0,0,0,0,0,0,0,0,0,0,0,0,0,0,0,0,0,0,0,0,0,0,0,0,0,0,0,0,0,0,0,0,0,0,0,0,0,0,0,0,0,0,0,0,0,0,0,0,0,0,0,0,0,0,0,0,0,0,0,0,0,0,0,0,0,0,0,0,0,0,0,0,0,0,0,0,0,0,0,0,0,0,0,0,0,0,0,0,0,0,0,0,0,0,0,0,0,0,0,0,0,0,0,0,0,0,0,0,0,0,0,0,0,0,0,0,0,0,0,0,0,0,0,0,0,0,0,0,0,0,0,0,0,0,0,0,0,0,0,0,0,0,0,0,0,0,0,0,0,0,0,0,0,0,0,0,0,0,0,0,0,0,0,0,0,0,0,0,0,0,0,0,0,0,0,0,0,0,0,0,0,0,0,0,0,0,0,0,0,0,0,0,0,0,0,0,0,0,0,0,0,0,0,0,0,0,0,0,0,0,0,0,0,0,0,0,0,0,0,0,0,0,0,0,0,0,0,0,0,0,0,0,0,0,0,0,0,0,0,0,0,0,0,0,0,0,0,0,0,0,0,0,0,0,0,0,0,0,0,0,0,0,0,0,0,0,0,0,0,0,0,0,0,0,0,0,0,0,0,0,0,0,0,0,0,0,0,0,0,0,0,0,0,0,0,0,0,0,0,0,0,0,0,0,0,0,0,0,0,0,0,0,0,0,0,0,0,0,0,0,0,0,0,0,0,0,0,0,0,0,0,0,0,0,0,0,0,0,0,0,0,0,0,0,0,0,0,0,0,0,0,0,0,0,0,0,0,0,0,0,0,0,0,0,0,0,0,0,0,0,0,0,0,0,0,0,0,0,0,0,0,0,0,0,0,0,0,0,0,0,0,0,0,0,0,0,0,0,0,0,0,0,0,0,0,0,0,0,0,0,0,0,0,0,0,0,0,0,0,0,0,0,0,0,0,0,0,0,0,0,0,0,0,0,0,0,0,0,0,0,0,0,0,0,0,0,0,0,0,0,0,0,0,0,0,0,0,0,0,0,0,0,0,0,0,0,0,0,0,0,0,0,0,0,0,0,0,0,0,0,0,0,0,0,0,0,0,0,0,0,0,0,0,0,0,0,0,0,0,0,0,0,0,0,0,0,0,0,0,0,0,0,0,0,0,0,0,0,0,0,0,0,0,0,0,0,0,0,0,0,0,0,0,0,0,0,0,0,0,0,0,0,0,0,0,0,0,0,0,0,0,0,0,0]
["#1:",null,null,null,null,0,0,0,{"$f":"IF(AND(I15/I$6=ROUND(I15/I$6,0),NOT(I15=0)),I15/I$6,0)","v":0},0,0,0,0,0,0,0,0,0,0,0,0,0,0,0,0,0,0,0,0,0,0,0,0,0,0,0,0,0,0,0,0,0,0,0,0,0,0,0,0,0,0,0,0,0,0,0,0,0,0,0,0,0,0,0,0,0,0,0,0,0,0,0,0,0,0,0,0,0,0,0,0,0,0,0,0,0,0,0,0,0,0,0,0,0,0,0,0,0,0,0,0,0,0,0,0,0,0,0,0,0,0,0,0,0,0,0,0,0,0,0,0,0,0,0,0,0,0,0,0,0,0,0,0,0,0,0,0,0,0,0,0,0,0,0,0,0,0,0,0,0,0,0,0,0,0,0,0,0,0,0,0,0,0,0,0,0,0,0,0,0,0,0,0,0,0,0,0,0,0,0,0,0,0,0,0,0,0,0,0,0,0,0,0,0,0,0,0,0,0,0,0,0,0,0,0,0,0,0,0,0,0,0,0,0,0,0,0,0,0,0,0,0,0,0,0,0,0,0,0,0,0,0,0,0,0,0,0,0,0,0,0,0,0,0,0,0,0,0,0,0,0,0,0,0,0,0,0,0,0,0,0,0,0,0,0,0,0,0,0,0,0,0,0,0,0,0,0,0,0,0,0,0,0,0,0,0,0,0,0,0,0,0,0,0,0,0,0,0,0,0,0,0,0,0,0,0,0,0,0,0,0,0,0,0,0,0,0,0,0,0,0,0,0,0,0,0,0,0,0,0,0,0,0,0,0,0,0,0,0,0,0,0,0,0,0,0,0,0,0,0,0,0,0,0,0,0,0,0,0,0,0,0,0,0,0,0,0,0,0,0,0,0,0,0,0,0,0,0,0,0,0,0,0,0,0,0,0,0,0,0,0,0,0,0,0,0,0,0,0,0,0,0,0,0,0,0,0,0,0,0,0,0,0,0,0,0,0,0,0,0,0,0,0,0,0,0,0,0,0,0,0,0,0,0,0,0,0,0,0,0,0,0,0,0,0,0,0,0,0,0,0,0,0,0,0,0,0,0,0,0,0,0,0,0,0,0,0,0,0,0,0,0,0,0,0,0,0,0,0,0,0,0,0,0,0,0,0,0,0,0,0,0,0,0,0,0,0,0,0,0,0,0,0,0,0,0,0,0,0,0,0,0,0,0,0,0,0,0,0,0,0,0,0,0,0,0,0,0,0,0,0,0,0,0,0,0,0,0,0,0,0,0,0,0,0,0,0,0,0,0,0,0,0,0,0,0,0,0,0,0,0,0,0,0,0,0,0,0,0,0,0,0,0,0,0,0,0,0,0,0,0,0,0,0,0,0,0,0,0,0,0,0,0,0,0,0,0,0,0,0,0,0,0,0,0,0,0,0,0,0,0,0,0,0,0,0,0,0,0,0,0,0,0,0,0,0,0,0,0,0,0,0,0,0,0,0,0,0,0,0,0,0,0,0,0,0,0,0,0,0,0,0,0,0,0,0,0,0,0,0,0,0,0,0,0,0,0,0,0,0,0,0,0,0,0,0,0,0,0,0,0,0,0,0,0,0,0,0,0,0,0,0,0,0,0,0,0,0,0,0,0,0,0,0,0,0,0,0,0,0,0,0,0,0,0,0,0,0,0,0,0,0,0,0,0,0,0,0,0,0,0,0,0,0,0,0,0,0,0,0,0,0,0,0,0,0,0,0,0,0,0,0,0,0,0,0,0,0,0,0,0,0,0,0,0,0,0,0,0,0,0,0,0,0,0,0,0,0,0,0,0,0,0,0,0,0,0,0,0,0,0,0,0,0,0,0,0,0,0,0,0,0,0,0,0,0,0,0,0,0,0,0,0,0,0,0,0,0,0,0,0,0,0,0,0,0,0,0,0,0,0,0,0,0,0,0,0,0,0,0,0,0,0,0,0,0,0,0,0,0,0,0,0,0,0,0,0,0,0,0,0,0,0,0,0,0,0,0,0,0,0,0,0,0,0,0,0,0,0,0,0,0,0,0,0,0,0,0,0,0,0,0,0,0,0,0,0,0,0,0,0,0,0,0,0,0,0,0,0,0,0,0,0,0,0,0,0,0,0,0,0,0,0,0,0,0,0,0,0,0,0,0,0,0,0,0,0,0,0,0,0,0,0,0,0,0,0,0,0,0,0,0,0,0,0,0,0,0,0,0,0,0,0,0,0,0,0,0,0,0,0,0,0,0,0,0,0,0,0,0,0,0,0,0,0,0,0,0,0,0,0,0,0,0,0,0,0,0,0,0,0,0,0,0,0]
[1,{"$f":"MATCH(A17,$F$3:$ALQ$3,0)","v":{"$error":"#N/A"}},{"$f":"LOOKUP(B17,$F$1:$ALQ$1,$F$6:$ALQ$6)","v":{"$error":"#N/A"}},{"$f":"IF(ISERROR(C17),0,C17)","v":0},{"$f":"IF(D17=0,IF(SUM(D18:$D$30)=0,\"\",E18),D17)","v":2},{"$f":"IF(AND(F16/F$6=ROUND(F16/F$6,0),NOT(F16=0)),F16/F$6,0)","v":0},0,0,0,0,0,0,0,0,0,0,0,0,0,0,0,0,0,0,0,0,0,0,0,0,0,0,0,0,0,0,0,0,0,0,0,0,0,0,0,0,0,0,0,0,0,0,0,0,0,0,0,0,0,0,0,0,0,0,0,0,0,0,0,0,0,0,0,0,0,0,0,0,0,0,0,0,0,0,0,0,0,0,0,0,0,0,0,0,0,0,0,0,0,{"$f":"IF(AND(CV16/CV$6=ROUND(CV16/CV$6,0),NOT(CV16=0)),CV16/CV$6,0)","v":0},0,0,0,0,0,0,0,0,0,0,0,0,0,0,0,0,0,0,0,0,0,0,0,0,0,0,0,0,0,0,0,0,0,0,0,0,0,0,0,0,0,0,0,0,0,0,0,0,0,0,0,0,0,0,0,0,0,0,0,0,0,0,0,{"$f":"IF(AND(FH16/FH$6=ROUND(FH16/FH$6,0),NOT(FH16=0)),FH16/FH$6,0)","v":0},0,0,0,0,0,0,0,0,0,0,0,0,0,0,0,0,0,0,0,0,0,0,0,0,0,0,0,0,0,0,0,0,0,0,0,0,0,0,0,0,0,0,0,0,0,0,0,0,0,0,0,0,0,0,0,0,0,0,0,0,0,0,0,{"$f":"IF(AND(HT16/HT$6=ROUND(HT16/HT$6,0),NOT(HT16=0)),HT16/HT$6,0)","v":0},0,0,0,0,0,0,0,0,0,0,0,0,0,0,0,0,0,0,0,0,0,0,0,0,0,0,0,0,0,0,0,0,0,0,0,0,0,0,0,0,0,0,0,0,0,0,0,0,0,0,0,0,0,0,0,0,0,0,0,0,0,0,0,{"$f":"IF(AND(KF16/KF$6=ROUND(KF16/KF$6,0),NOT(KF16=0)),KF16/KF$6,0)","v":0},0,0,0,0,0,0,0,0,0,0,0,0,0,0,0,0,0,0,0,0,0,0,0,0,0,0,0,0,0,0,0,0,0,0,0,0,0,0,0,0,0,0,0,0,0,0,0,0,0,0,0,0,0,0,0,0,0,0,0,0,0,0,0,{"$f":"IF(AND(MR16/MR$6=ROUND(MR16/MR$6,0),NOT(MR16=0)),MR16/MR$6,0)","v":0},0,0,0,0,0,0,0,0,0,0,0,0,0,0,0,0,0,0,0,0,0,0,0,0,0,0,0,0,0,0,0,0,0,0,0,0,0,0,0,0,0,0,0,0,0,0,0,0,0,0,0,0,0,0,0,0,0,0,0,0,0,0,0,{"$f":"IF(AND(PD16/PD$6=ROUND(PD16/PD$6,0),NOT(PD16=0)),PD16/PD$6,0)","v":0},0,0,0,0,0,0,0,0,0,0,0,0,0,0,0,0,0,0,0,0,0,0,0,0,0,0,0,0,0,0,0,0,0,0,0,0,0,0,0,0,0,0,0,0,0,0,0,0,0,0,0,0,0,0,0,0,0,0,0,0,0,0,0,{"$f":"IF(AND(RP16/RP$6=ROUND(RP16/RP$6,0),NOT(RP16=0)),RP16/RP$6,0)","v":0},0,0,0,0,0,0,0,0,0,0,0,0,0,0,0,0,0,0,0,0,0,0,0,0,0,0,0,0,0,0,0,0,0,0,0,0,0,0,0,0,0,0,0,0,0,0,0,0,0,0,0,0,0,0,0,0,0,0,0,0,0,0,0,{"$f":"IF(AND(UB16/UB$6=ROUND(UB16/UB$6,0),NOT(UB16=0)),UB16/UB$6,0)","v":0},0,0,0,0,0,0,0,0,0,0,0,0,0,0,0,0,0,0,0,0,0,0,0,0,0,0,0,0,0,0,0,0,0,0,0,0,0,0,0,0,0,0,0,0,0,0,0,0,0,0,0,0,0,0,0,0,0,0,0,0,0,0,0,{"$f":"IF(AND(WN16/WN$6=ROUND(WN16/WN$6,0),NOT(WN16=0)),WN16/WN$6,0)","v":0},0,0,0,0,0,0,0,0,0,0,0,0,0,0,0,0,0,0,0,0,0,0,0,0,0,0,0,0,0,0,0,0,0,0,0,0,0,0,0,0,0,0,0,0,0,0,0,0,0,0,0,0,0,0,0,0,0,0,0,0,0,0,0,{"$f":"IF(AND(YZ16/YZ$6=ROUND(YZ16/YZ$6,0),NOT(YZ16=0)),YZ16/YZ$6,0)","v":0},0,0,0,0,0,0,0,0,0,0,0,0,0,0,0,0,0,0,0,0,0,0,0,0,0,0,0,0,0,0,0,0,0,0,0,0,0,0,0,0,0,0,0,0,0,0,0,0,0,0,0,0,0,0,0,0,0,0,0,0,0,0,0,{"$f":"IF(AND(ABL16/ABL$6=ROUND(ABL16/ABL$6,0),NOT(ABL16=0)),ABL16/ABL$6,0)","v":0},0,0,0,0,0,0,0,0,0,0,0,0,0,0,0,0,0,0,0,0,0,0,0,0,0,0,0,0,0,0,0,0,0,0,0,0,0,0,0,0,0,0,0,0,0,0,0,0,0,0,0,0,0,0,0,0,0,0,0,0,0,0,0,{"$f":"IF(AND(ADX16/ADX$6=ROUND(ADX16/ADX$6,0),NOT(ADX16=0)),ADX16/ADX$6,0)","v":0},0,0,0,0,0,0,0,0,0,0,0,0,0,0,0,0,0,0,0,0,0,0,0,0,0,0,0,0,0,0,0,0,0,0,0,0,0,0,0,0,0,0,0,0,0,0,0,0,0,0,0,0,0,0,0,0,0,0,0,0,0,0,0,{"$f":"IF(AND(AGJ16/AGJ$6=ROUND(AGJ16/AGJ$6,0),NOT(AGJ16=0)),AGJ16/AGJ$6,0)","v":0},0,0,0,0,0,0,0,0,0,0,0,0,0,0,0,0,0,0,0,0,0,0,0,0,0,0,0,0,0,0,0,0,0,0,0,0,0,0,0,0,0,0,0,0,0,0,0,0,0,0,0,0,0,0,0,0,0,0,0,0,0,0,0,{"$f":"IF(AND(AIV16/AIV$6=ROUND(AIV16/AIV$6,0),NOT(AIV16=0)),AIV16/AIV$6,0)","v":0},0,0,0,0,0,0,0,0,0,0,0,0,0,0,0,0,0,0,0,0,0,0,0,0,0,0,0,0,0,0,0,0,0,0,0,0,0,0,0,0,0,0,0,0,0,0,0,0,0,0,0,0,0,0,0,0,0,0,0,0,0,0,0,0,0,0,0,0,0,0,0,0,0]
[2,{"$f":"MATCH(A18,$F$3:$ALQ$3,0)","v":{"$error":"#N/A"}},{"$f":"LOOKUP(B18,$F$1:$ALQ$1,$F$6:$ALQ$6)","v":{"$error":"#N/A"}},{"$f":"IF(ISERROR(C18),0,C18)","v":0},{"$f":"IF(D18=0,IF(SUM(D19:$D$30)=0,\"\",E19),D18)","v":2},0,0,0,0,0,0,0,0,0,0,0,0,0,0,0,0,0,0,0,0,0,0,0,0,0,0,0,0,0,0,0,0,0,0,0,0,0,0,0,0,0,0,0,0,0,0,0,0,0,0,0,0,0,0,0,0,0,0,0,0,0,0,0,0,0,0,0,0,0,0,0,0,0,0,0,0,0,0,0,{"$f":"IF(AND(CG17/CG$6=ROUND(CG17/CG$6,0),NOT(CG17=0)),CG17/CG$6,0)","v":0},0,0,0,0,0,0,0,0,0,0,0,0,0,0,0,0,0,0,0,0,0,0,0,0,0,0,0,0,0,0,0,0,0,0,0,0,0,0,0,0,0,0,0,0,0,0,0,0,0,0,0,0,0,0,0,0,0,0,0,0,0,0,0,{"$f":"IF(AND(ES17/ES$6=ROUND(ES17/ES$6,0),NOT(ES17=0)),ES17/ES$6,0)","v":0},0,0,0,0,0,0,0,0,0,0,0,0,0,0,0,0,0,0,0,0,0,0,0,0,0,0,0,0,0,0,0,0,0,0,0,0,0,0,0,0,0,0,0,0,0,0,0,0,0,0,0,0,0,0,0,0,0,0,0,0,0,0,0,{"$f":"IF(AND(HE17/HE$6=ROUND(HE17/HE$6,0),NOT(HE17=0)),HE17/HE$6,0)","v":0},0,0,0,0,0,0,0,0,0,0,0,0,0,0,0,0,0,0,0,0,0,0,0,0,0,0,0,0,0,0,0,0,0,0,0,0,0,0,0,0,0,0,0,0,0,0,0,0,0,0,0,0,0,0,0,0,0,0,0,0,0,0,0,{"$f":"IF(AND(JQ17/JQ$6=ROUND(JQ17/JQ$6,0),NOT(JQ17=0)),JQ17/JQ$6,0)","v":0},0,0,0,0,0,0,0,0,0,0,0,0,0,0,0,0,0,0,0,0,0,0,0,0,0,0,0,0,0,0,0,0,0,0,0,0,0,0,0,0,0,0,0,0,0,0,0,0,0,0,0,0,0,0,0,0,0,0,0,0,0,0,0,{"$f":"IF(AND(MC17/MC$6=ROUND(MC17/MC$6,0),NOT(MC17=0)),MC17/MC$6,0)","v":0},0,0,0,0,0,0,0,0,0,0,0,0,0,0,0,0,0,0,0,0,0,0,0,0,0,0,0,0,0,0,0,0,0,0,0,0,0,0,0,0,0,0,0,0,0,0,0,0,0,0,0,0,0,0,0,0,0,0,0,0,0,0,0,{"$f":"IF(AND(OO17/OO$6=ROUND(OO17/OO$6,0),NOT(OO17=0)),OO17/OO$6,0)","v":0},0,0,0,0,0,0,0,0,0,0,0,0,0,0,0,0,0,0,0,0,0,0,0,0,0,0,0,0,0,0,0,0,0,0,0,0,0,0,0,0,0,0,0,0,0,0,0,0,0,0,0,0,0,0,0,0,0,0,0,0,0,0,0,{"$f":"IF(AND(RA17/RA$6=ROUND(RA17/RA$6,0),NOT(RA17=0)),RA17/RA$6,0)","v":0},0,0,0,0,0,0,0,0,0,0,0,0,0,0,0,0,0,0,0,0,0,0,0,0,0,0,0,0,0,0,0,0,0,0,0,0,0,0,0,0,0,0,0,0,0,0,0,0,0,0,0,0,0,0,0,0,0,0,0,0,0,0,0,{"$f":"IF(AND(TM17/TM$6=ROUND(TM17/TM$6,0),NOT(TM17=0)),TM17/TM$6,0)","v":0},0,0,0,0,0,0,0,0,0,0,0,0,0,0,0,0,0,0,0,0,0,0,0,0,0,0,0,0,0,0,0,0,0,0,0,0,0,0,0,0,0,0,0,0,0,0,0,0,0,0,0,0,0,0,0,0,0,0,0,0,0,0,0,{"$f":"IF(AND(VY17/VY$6=ROUND(VY17/VY$6,0),NOT(VY17=0)),VY17/VY$6,0)","v":0},0,0,0,0,0,0,0,0,0,0,0,0,0,0,0,0,0,0,0,0,0,0,0,0,0,0,0,0,0,0,0,0,0,0,0,0,0,0,0,0,0,0,0,0,0,0,0,0,0,0,0,0,0,0,0,0,0,0,0,0,0,0,0,{"$f":"IF(AND(YK17/YK$6=ROUND(YK17/YK$6,0),NOT(YK17=0)),YK17/YK$6,0)","v":0},0,0,0,0,0,0,0,0,0,0,0,0,0,0,0,0,0,0,0,0,0,0,0,0,0,0,0,0,0,0,0,0,0,0,0,0,0,0,0,0,0,0,0,0,0,0,0,0,0,0,0,0,0,0,0,0,0,0,0,0,0,0,0,{"$f":"IF(AND(AAW17/AAW$6=ROUND(AAW17/AAW$6,0),NOT(AAW17=0)),AAW17/AAW$6,0)","v":0},0,0,0,0,0,0,0,0,0,0,0,0,0,0,0,0,0,0,0,0,0,0,0,0,0,0,0,0,0,0,0,0,0,0,0,0,0,0,0,0,0,0,0,0,0,0,0,0,0,0,0,0,0,0,0,0,0,0,0,0,0,0,0,{"$f":"IF(AND(ADI17/ADI$6=ROUND(ADI17/ADI$6,0),NOT(ADI17=0)),ADI17/ADI$6,0)","v":0},0,0,0,0,0,0,0,0,0,0,0,0,0,0,0,0,0,0,0,0,0,0,0,0,0,0,0,0,0,0,0,0,0,0,0,0,0,0,0,0,0,0,0,0,0,0,0,0,0,0,0,0,0,0,0,0,0,0,0,0,0,0,0,{"$f":"IF(AND(AFU17/AFU$6=ROUND(AFU17/AFU$6,0),NOT(AFU17=0)),AFU17/AFU$6,0)","v":0},0,0,0,0,0,0,0,0,0,0,0,0,0,0,0,0,0,0,0,0,0,0,0,0,0,0,0,0,0,0,0,0,0,0,0,0,0,0,0,0,0,0,0,0,0,0,0,0,0,0,0,0,0,0,0,0,0,0,0,0,0,0,0,{"$f":"IF(AND(AIG17/AIG$6=ROUND(AIG17/AIG$6,0),NOT(AIG17=0)),AIG17/AIG$6,0)","v":0},0,0,0,0,0,0,0,0,0,0,0,0,0,0,0,0,0,0,0,0,0,0,0,0,0,0,0,0,0,0,0,0,0,0,0,0,0,0,0,0,0,0,0,0,0,0,0,0,0,0,0,0,0,0,0,0,0,0,0,0,0,0,0,0,0,0,0,0,0,0,0,0,0,0,0,0,0,0,0,0,0,0,0,0,0,0,0,0]
[3,{"$f":"MATCH(A19,$F$3:$ALQ$3,0)","v":{"$error":"#N/A"}},{"$error":"#N/A"},0,{"$f":"IF(D19=0,IF(SUM(D20:$D$30)=0,\"\",E20),D19)","v":2},0,0,0,0,0,0,0,0,0,0,0,0,0,0,0,0,0,0,0,0,0,0,0,0,0,0,0,0,0,0,0,0,0,0,0,0,0,0,0,0,0,0,0,0,0,0,0,0,0,0,0,0,0,0,0,0,0,0,0,0,0,0,0,0,0,0,0,0,0,0,0,0,0,0,0,0,0,0,0,0,0,0,0,0,0,0,0,0,0,0,0,0,0,0,0,0,0,0,0,0,0,0,0,0,0,0,0,0,0,0,0,0,0,0,0,0,0,0,0,0,0,0,0,0,0,0,0,0,0,0,0,0,0,0,0,0,0,0,0,0,0,0,0,0,0,0,0,0,0,0,0,0,0,0,0,0,0,0,0,0,0,0,0,0,0,0,0,0,0,0,0,0,0,0,0,0,0,0,0,0,0,0,0,0,0,0,0,0,0,0,0,0,0,0,0,0,0,0,0,0,0,0,0,0,0,0,0,0,0,0,0,0,0,0,0,0,0,0,0,0,0,0,0,0,0,0,0,0,0,0,0,0,0,0,0,0,0,0,0,0,0,0,0,0,0,0,0,0,0,0,0,0,0,0,0,0,0,0,0,0,0,0,0,0,0,0,0,0,0,0,0,0,0,0,0,0,0,0,0,0,0,0,0,0,0,0,0,0,0,0,0,0,0,0,0,0,0,0,0,0,0,0,0,0,0,0,0,0,0,0,0,0,0,0,0,0,0,0,0,0,0,0,0,0,0,0,0,0,0,0,0,0,0,0,0,0,0,0,0,0,0,0,0,0,0,0,0,0,0,0,0,0,0,0,0,0,0,0,0,0,0,0,0,0,0,0,0,0,0,0,0,0,0,0,0,0,0,0,0,0,0,0,0,0,0,0,0,0,0,0,0,0,0,0,0,0,0,0,0,0,0,0,0,0,0,0,0,0,0,0,0,0,0,0,0,0,0,0,0,0,0,0,0,0,0,0,0,0,0,0,0,0,0,0,0,0,0,0,0,0,0,0,0,0,0,0,0,0,0,0,0,0,0,0,0,0,0,0,0,0,0,0,0,0,0,0,0,0,0,0,0,0,0,0,0,0,0,0,0,0,0,0,0,0,0,0,0,0,0,0,0,0,0,0,0,0,0,0,0,0,0,0,0,0,0,0,0,0,0,0,0,0,0,0,0,0,0,0,0,0,0,0,0,0,0,0,0,0,0,0,0,0,0,0,0,0,0,0,0,0,0,0,0,0,0,0,0,0,0,0,0,0,0,0,0,0,0,0,0,0,0,0,0,0,0,0,0,0,0,0,0,0,0,0,0,0,0,0,0,0,0,0,0,0,0,0,0,0,0,0,0,0,0,0,0,0,0,0,0,0,0,0,0,0,0,0,0,0,0,0,0,0,0,0,0,0,0,0,0,0,0,0,0,0,0,0,0,0,0,0,0,0,0,0,0,0,0,0,0,0,0,0,0,0,0,0,0,0,0,0,0,0,0,0,0,0,0,0,0,0,0,0,0,0,0,0,0,0,0,0,0,0,0,0,0,0,0,0,0,0,0,0,0,0,0,0,0,0,0,0,0,0,0,0,0,0,0,0,0,0,0,0,0,0,0,0,0,0,0,0,0,0,0,0,0,0,0,0,0,0,0,0,0,0,0,0,0,0,0,0,0,0,0,0,0,0,0,0,0,0,0,0,0,0,0,0,0,0,0,0,0,0,0,0,0,0,0,0,0,0,0,0,0,0,0,0,0,0,0,0,0,0,0,0,0,0,0,0,0,0,0,0,0,0,0,0,0,0,0,0,0,0,0,0,0,0,0,0,0,0,0,0,0,0,0,0,0,0,0,0,0,0,0,0,0,0,0,0,0,0,0,0,0,0,0,0,0,0,0,0,0,0,0,0,0,0,0,0,0,0,0,0,0,0,0,0,0,0,0,0,0,0,0,0,0,0,0,0,0,0,0,0,0,0,0,0,0,0,0,0,0,0,0,0,0,0,0,0,0,0,0,0,0,0,0,0,0,0,0,0,0,0,0,0,0,0,0,0,0,0,0,0,0,0,0,0,0,0,0,0,0,0,0,0,0,0,0,0,0,0,0,0,0,0,0,0,0,0,0,0,0,0,0,0,0,0,0,0,0,0,0,0,0,0,0,0,0,0,0,0,0,0,0,0,0,0,0,0,0,0,0,0,0,0,0,0,0,0,0,0,0,0,0,0,0,0,0,0,0,0,0,0,0,0,0,0,0,0,0,0,0,0,0,0,0,0,0,0,0,0]
[4,1,2,2,{"$f":"IF(D20=0,IF(SUM(D21:$D$30)=0,\"\",E21),D20)","v":2},0,0,0,0,0,0,0,0,0,0,0,0,0,0,0,0,0,0,{"$f":"IF(AND(X19/X$6=ROUND(X19/X$6,0),NOT(X19=0)),X19/X$6,0)","v":0},0,0,0,0,0,0,0,0,0,0,0,0,0,0,0,0,0,0,0,0,0,0,0,0,0,0,0,0,0,0,0,0,0,0,0,0,0,0,0,0,0,0,0,0,0,0,0,0,0,0,0,0,0,0,0,0,0,0,0,0,0,0,0,0,0,0,0,0,0,0,0,0,0,0,0,0,0,0,0,0,0,0,0,0,0,0,0,0,0,0,0,0,0,0,0,0,0,0,0,0,0,0,0,0,0,0,0,0,0,0,0,0,0,0,0,0,0,0,0,0,0,0,0,0,0,0,0,0,0,0,0,0,0,0,0,0,0,0,0,0,0,0,0,0,0,0,0,0,0,0,0,0,0,0,0,0,0,0,0,0,0,0,0,0,0,0,0,0,0,0,0,0,0,0,0,0,0,0,0,0,0,0,0,0,0,0,0,0,0,0,0,0,0,0,0,0,0,0,0,0,0,0,0,0,0,0,0,0,0,0,0,0,0,0,0,0,0,0,0,0,0,0,0,0,0,0,0,0,0,0,0,0,0,0,0,0,0,0,0,0,0,0,0,0,0,0,0,0,0,0,0,0,0,0,0,0,0,0,0,0,0,0,0,0,0,0,0,0,0,0,0,0,0,0,0,0,0,0,0,0,0,0,0,0,0,0,0,0,0,0,0,0,0,0,0,0,0,0,0,0,0,0,0,0,0,0,0,0,0,0,0,0,0,0,0,0,0,0,0,0,0,0,0,0,0,0,0,0,0,0,0,0,0,0,0,0,0,0,0,0,0,0,0,0,0,0,0,0,0,0,0,0,0,0,0,0,0,0,0,0,0,0,0,0,0,0,0,0,0,0,0,0,0,0,0,0,0,0,0,0,0,0,0,0,0,0,0,0,0,0,0,0,0,0,0,0,0,0,0,0,0,0,0,0,0,0,0,0,0,0,0,0,0,0,0,0,0,0,0,0,0,0,0,0,0,0,0,0,0,0,0,0,0,0,0,0,0,0,0,0,0,0,0,0,0,0,0,0,0,0,0,0,0,0,0,0,0,0,0,0,0,0,0,0,0,0,0,0,0,0,0,0,0,0,0,0,0,0,0,0,0,0,0,0,0,0,0,0,0,0,0,0,0,0,0,0,0,0,0,0,0,0,0,0,0,0,0,0,0,0,0,0,0,0,0,0,0,0,0,0,0,0,0,0,0,0,0,0,0,0,0,0,0,0,0,0,0,0,0,0,0,0,0,0,0,0,0,0,0,0,0,0,0,0,0,0,0,0,0,0,0,0,0,0,0,0,0,0,0,0,0,0,0,0,0,0,0,0,0,0,0,0,0,0,0,0,0,0,0,0,0,0,0,0,0,0,0,0,0,0,0,0,0,0,0,0,0,0,0,0,0,0,0,0,0,0,0,0,0,0,0,0,0,0,0,0,0,0,0,0,0,0,0,0,0,0,0,0,0,0,0,0,0,0,0,0,0,0,0,0,0,0,0,0,0,0,0,0,0,0,0,0,0,0,0,0,0,0,0,0,0,0,0,0,0,0,0,0,0,0,0,0,0,0,0,0,0,0,0,0,0,0,0,0,0,0,0,0,0,0,0,0,0,0,0,0,0,0,0,0,0,0,0,0,0,0,0,0,0,0,0,0,0,0,0,0,0,0,0,0,0,0,0,0,0,0,0,0,0,0,0,0,0,0,0,0,0,0,0,0,0,0,0,0,0,0,0,0,0,0,0,0,0,0,0,0,0,0,0,0,0,0,0,0,0,0,0,0,0,0,0,0,0,0,0,0,0,0,0,0,0,0,0,0,0,0,0,0,0,0,0,0,0,0,0,0,0,0,0,0,0,0,0,0,0,0,0,0,0,0,0,0,0,0,0,0,0,0,0,0,0,0,0,0,0,0,0,0,0,0,0,0,0,0,0,0,0,0,0,0,0,0,0,0,0,0,0,0,0,0,0,0,0,0,0,0,0,0,0,0,0,0,0,0,0,0,0,0,0,0,0,0,0,0,0,0,0,0,0,0,0,0,0,0,0,0,0,0,0,0,0,0,0,0,0,0,0,0,0,0,0,0,0,0,0,0,0,0,0,0,0,0,0,0,0,0,0,0,0,0,0,0,0,0,0,0,0,0,0,0,0,0,0,0,0,0,0,0,0,0,0,0,0,0,0,0,0,0,0,0,0,0,0,0,0,0,0,0,0,0,0,0,0,0,0,0,0,0,0,0,0]
[5,{"$error":"#N/A"},{"$error":"#N/A"},0,{"$f":"IF(D21=0,IF(SUM(D22:$D$30)=0,\"\",E22),D21)","v":3},{"$f":"F5+1","v":5},{"$f":"G5+1","v":3},2,1,1,1,1,1,1,1,1,1,1,1,1,1,1,1,1,1,1,1,1,1,1,1,1,1,1,1,1,1,1,1,1,1,1,1,1,1,1,1,1,1,1,1,1,1,1,1,1,1,1,1,1,1,1,1,1,1,1,1,1,1,1,{"$f":"BS5+1","v":1},1,1,1,1,1,1,1,1,1,1,1,1,1,1,1,1,1,1,1,1,1,1,1,1,1,1,1,1,1,1,1,1,1,1,1,1,1,1,1,1,1,1,1,1,1,1,1,1,1,1,1,1,1,1,1,1,1,1,1,1,1,1,1,{"$f":"EE5+1","v":1},1,1,1,1,1,1,1,1,1,1,1,1,1,1,1,1,1,1,1,1,1,1,1,1,1,1,1,1,1,1,1,1,1,1,1,1,1,1,1,1,1,1,1,1,1,1,1,1,1,1,1,1,1,1,1,1,1,1,1,1,1,1,1,{"$f":"GQ5+1","v":1},1,1,1,1,1,1,1,1,1,1,1,1,1,1,1,1,1,1,1,1,1,1,1,1,1,1,1,1,1,1,1,1,1,1,1,1,1,1,1,1,1,1,1,1,1,1,1,1,1,1,1,1,1,1,1,1,1,1,1,1,1,1,1,{"$f":"JC5+1","v":1},1,1,1,1,1,1,1,1,1,1,1,1,1,1,1,1,1,1,1,1,1,1,1,1,1,1,1,1,1,1,1,1,1,1,1,1,1,1,1,1,1,1,1,1,1,1,1,1,1,1,1,1,1,1,1,1,1,1,1,1,1,1,1,{"$f":"LO5+1","v":1},1,1,1,1,1,1,1,1,1,1,1,1,1,1,1,1,1,1,1,1,1,1,1,1,1,1,1,1,1,1,1,1,1,1,1,1,1,1,1,1,1,1,1,1,1,1,1,1,1,1,1,1,1,1,1,1,1,1,1,1,1,1,1,{"$f":"OA5+1","v":1},1,1,1,1,1,1,1,1,1,1,1,1,1,1,1,1,1,1,1,1,1,1,1,1,1,1,1,1,1,1,1,1,1,1,1,1,1,1,1,1,1,1,1,1,1,1,1,1,1,1,1,1,1,1,1,1,1,1,1,1,1,1,1,{"$f":"QM5+1","v":1},1,1,1,1,1,1,1,1,1,1,1,1,1,1,1,1,1,1,1,1,1,1,1,1,1,1,1,1,1,1,1,1,1,1,1,1,1,1,1,1,1,1,1,1,1,1,1,1,1,1,1,1,1,1,1,1,1,1,1,1,1,1,1,{"$f":"SY5+1","v":1},1,1,1,1,1,1,1,1,1,1,1,1,1,1,1,1,1,1,1,1,1,1,1,1,1,1,1,1,1,1,1,1,1,1,1,1,1,1,1,1,1,1,1,1,1,1,1,1,1,1,1,1,1,1,1,1,1,1,1,1,1,1,1,{"$f":"VK5+1","v":1},1,1,1,1,1,1,1,1,1,1,1,1,1,1,1,1,1,1,1,1,1,1,1,1,1,1,1,1,1,1,1,1,1,1,1,1,1,1,1,1,1,1,1,1,1,1,1,1,1,1,1,1,1,1,1,1,1,1,1,1,1,1,1,{"$f":"XW5+1","v":1},1,1,1,1,1,1,1,1,1,1,1,1,1,1,1,1,1,1,1,1,1,1,1,1,1,1,1,1,1,1,1,1,1,1,1,1,1,1,1,1,1,1,1,1,1,1,1,1,1,1,1,1,1,1,1,1,1,1,1,1,1,1,1,{"$f":"AAI5+1","v":1},1,1,1,1,1,1,1,1,1,1,1,1,1,1,1,1,1,1,1,1,1,1,1,1,1,1,1,1,1,1,1,1,1,1,1,1,1,1,1,1,1,1,1,1,1,1,1,1,1,1,1,1,1,1,1,1,1,1,1,1,1,1,1,{"$f":"ACU5+1","v":1},1,1,1,1,1,1,1,1,1,1,1,1,1,1,1,1,1,1,1,1,1,1,1,1,1,1,1,1,1,1,1,1,1,1,1,1,1,1,1,1,1,1,1,1,1,1,1,1,1,1,1,1,1,1,1,1,1,1,1,1,1,1,1,{"$f":"AFG5+1","v":1},1,1,1,1,1,1,1,1,1,1,1,1,1,1,1,1,1,1,1,1,1,1,1,1,1,1,1,1,1,1,1,1,1,1,1,1,1,1,1,1,1,1,1,1,1,1,1,1,1,1,1,1,1,1,1,1,1,1,1,1,1,1,1,{"$f":"AHS5+1","v":1},1,1,1,1,1,1,1,1,1,1,1,1,1,1,1,1,1,1,1,1,1,1,1,1,1,1,1,1,1,1,1,1,1,1,1,1,1,1,1,1,1,1,1,1,1,1,1,1,1,1,1,1,1,1,1,1,1,1,1,1,1,1,1,{"$f":"AKE5+1","v":1},1,1,1,1,1,1,1,1,1,1,1,1,1,1,1,1,1,1,1,1,1,1,1,1,1,1,1,1,1,1,1,1,1,1,1,1,1,1]
[6,2,3,3,{"$f":"IF(D22=0,IF(SUM(D23:$D$30)=0,\"\",E23),D22)","v":3}]
[7,3,5,5,{"$f":"IF(D23=0,IF(SUM(D24:$D$30)=0,\"\",E24),D23)","v":5}]
[8,{"$error":"#N/A"},{"$error":"#N/A"},0,{"$f":"IF(D24=0,IF(SUM(D25:$D$30)=0,\"\",E25),D24)","v":""},1,2,3,{"$f":"H24+1","v":4},{"$f":"I24+1","v":5},6,7,8,9,10,11,12,13,14,15,16,17,18,19,20,21,22,23,24,25,26,27,28,29,30,31,32,33,34,35,36,37,38,39,40,41,42,43,44,45,46,47,48,49,50,51,52,53,54,55,56,57,58,59,60,61,62,63,64,65,66,67,68,{"$f":"BU24+1","v":69},70,71,72,73,74,75,76,77,78,79,80,81,82,83,84,85,86,87,88,89,90,91,92,93,94,95,96,97,98,99,100,101,102,103,104,105,106,107,108,109,110,111,112,113,114,115,116,117,118,119,120,121,122,123,124,125,126,127,128,129,130,131,132,{"$f":"EG24+1","v":133},134,135,136,137,138,139,140,141,142,143,144,145,146,147,148,149,150,151,152,153,154,155,156,157,158,159,160,161,162,163,164,165,166,167,168,169,170,171,172,173,174,175,176,177,178,179,180,181,182,183,184,185,186,187,188,189,190,191,192,193,194,195,196,{"$f":"GS24+1","v":197},198,199,200,201,202,203,204,205,206,207,208,209,210,211,212,213,214,215,216,217,218,219,220,221,222,223,224,225,226,227,228,229,230,231,232,233,234,235,236,237,238,239,240,241,242,243,244,245,246,247,248,249,250,251,252,253,254,255,256,257,258,259,260,{"$f":"JE24+1","v":261},262,263,264,265,266,267,268,269,270,271,272,273,274,275,276,277,278,279,280,281,282,283,284,285,286,287,288,289,290,291,292,293,294,295,296,297,298,299,300,301,302,303,304,305,306,307,308,309,310,311,312,313,314,315,316,317,318,319,320,321,322,323,324,{"$f":"LQ24+1","v":325},326,327,328,329,330,331,332,333,334,335,336,337,338,339,340,341,342,343,344,345,346,347,348,349,350,351,352,353,354,355,356,357,358,359,360,361,362,363,364,365,366,367,368,369,370,371,372,373,374,375,376,377,378,379,380,381,382,383,384,385,386,387,388,{"$f":"OC24+1","v":389},390,391,392,393,394,395,396,397,398,399,400,401,402,403,404,405,406,407,408,409,410,411,412,413,414,415,416,417,418,419,420,421,422,423,424,425,426,427,428,429,430,431,432,433,434,435,436,437,438,439,440,441,442,443,444,445,446,447,448,449,450,451,452,{"$f":"QO24+1","v":453},454,455,456,457,458,459,460,461,462,463,464,465,466,467,468,469,470,471,472,473,474,475,476,477,478,479,480,481,482,483,484,485,486,487,488,489,490,491,492,493,494,495,496,497,498,499,500,501,502,503,504,505,506,507,508,509,510,511,512,513,514,515,516,{"$f":"TA24+1","v":517},518,519,520,521,522,523,524,525,526,527,528,529,530,531,532,533,534,535,536,537,538,539,540,541,542,543,544,545,546,547,548,549,550,551,552,553,554,555,556,557,558,559,560,561,562,563,564,565,566,567,568,569,570,571,572,573,574,575,576,577,578,579,580,{"$f":"VM24+1","v":581},582,583,584,585,586,587,588,589,590,591,592,593,594,595,596,597,598,599,600,601,602,603,604,605,606,607,608,609,610,611,612,613,614,615,616,617,618,619,620,621,622,623,624,625,626,627,628,629,630,631,632,633,634,635,636,637,638,639,640,641,642,643,644,{"$f":"XY24+1","v":645},646,647,648,649,650,651,652,653,654,655,656,657,658,659,660,661,662,663,664,665,666,667,668,669,670,671,672,673,674,675,676,677,678,679,680,681,682,683,684,685,686,687,688,689,690,691,692,693,694,695,696,697,698,699,700,701,702,703,704,705,706,707,708,{"$f":"AAK24+1","v":709},710,711,712,713,714,715,716,717,718,719,720,721,722,723,724,725,726,727,728,729,730,731,732,733,734,735,736,737,738,739,740,741,742,743,744,745,746,747,748,749,750,751,752,753,754,755,756,757,758,759,760,761,762,763,764,765,766,767,768,769,770,771,772,{"$f":"ACW24+1","v":773},774,775,776,777,778,779,780,781,782,783,784,785,786,787,788,789,790,791,792,793,794,795,796,797,798,799,800,801,802,803,804,805,806,807,808,809,810,811,812,813,814,815,816,817,818,819,820,821,822,823,824,825,826,827,828,829,830,831,832,833,834,835,836,{"$f":"AFI24+1","v":837},838,839,840,841,842,843,844,845,846,847,848,849,850,851,852,853,854,855,856,857,858,859,860,861,862,863,864,865,866,867,868,869,870,871,872,873,874,875,876,877,878,879,880,881,882,883,884,885,886,887,888,889,890,891,892,893,894,895,896,897,898,899,900,{"$f":"AHU24+1","v":901},902,903,904,905,906,907,908,909,910,911,912,913,914,915,916,917,918,919,920,921,922,923,924,925,926,927,928,929,930,931,932,933,934,935,936,937,938,939,940,941,942,943,944,945,946,947,948,949,950,951,952,953,954,955,956,957,958,959,960,961,962,963,964,{"$f":"AKG24+1","v":965},966,967,968,969,970,971,972,973,974,975,976,977,978,979,980,981,982,983,984,985,986,987,988,989,990,991,992,993,994,995,996,997,998,999,1000]
[9,{"$error":"#N/A"},{"$error":"#N/A"},0,{"$f":"IF(D25=0,IF(SUM(D26:$D$30)=0,\"\",E26),D25)","v":""},{"$f":"IF(F27=\"\",\"\",\" x \"&F27)","v":" x 2³"},{"$f":"IF(G27=\"\",\"\",\" x \")&G27","v":" x 3"},{"$f":"IF(H27=\"\",\"\",\" x \")&H27","v":""}," x 7","","","","","","","","","","","","","","","","","","","","","","","","","","","","","","","","","","","","","","","","","","","","","","","","","","","","","","","","","","","","","","",{"$f":"IF(BT27=\"\",\"\",\" x \")&BT27","v":""},"","","","","","","","","","","","","","","","","","","","","","","","","","","","","","","","","","","","","","","","","","","","","","","","","","","","","","","","","","","","","","","",{"$f":"IF(EF27=\"\",\"\",\" x \")&EF27","v":""},"","","","","","","","","","","","","","","","","","","","","","","","","","","","","","","","","","","","","","","","","","","","","","","","","","","","","","","","","","","","","","","",{"$f":"IF(GR27=\"\",\"\",\" x \")&GR27","v":""},"","","","","","","","","","","","","","","","","","","","","","","","","","","","","","","","","","","","","","","","","","","","","","","","","","","","","","","","","","","","","","","",{"$f":"IF(JD27=\"\",\"\",\" x \")&JD27","v":""},"","","","","","","","","","","","","","","","","","","","","","","","","","","","","","","","","","","","","","","","","","","","","","","","","","","","","","","","","","","","","","","",{"$f":"IF(LP27=\"\",\"\",\" x \")&LP27","v":""},"","","","","","","","","","","","","","","","","","","","","","","","","","","","","","","","","","","","","","","","","","","","","","","","","","","","","","","","","","","","","","","",{"$f":"IF(OB27=\"\",\"\",\" x \")&OB27","v":""},"","","","","","","","","","","","","","","","","","","","","","","","","","","","","","","","","","","","","","","","","","","","","","","","","","","","","","","","","","","","","","","",{"$f":"IF(QN27=\"\",\"\",\" x \")&QN27","v":""},"","","","","","","","","","","","","","","","","","","","","","","","","","","","","","","","","","","","","","","","","","","","","","","","","","","","","","","","","","","","","","","",{"$f":"IF(SZ27=\"\",\"\",\" x \")&SZ27","v":""},"","","","","","","","","","","","","","","","","","","","","","","","","","","","","","","","","","","","","","","","","","","","","","","","","","","","","","","","","","","","","","","",{"$f":"IF(VL27=\"\",\"\",\" x \")&VL27","v":""},"","","","","","","","","","","","","","","","","","","","","","","","","","","","","","","","","","","","","","","","","","","","","","","","","","","","","","","","","","","","","","","",{"$f":"IF(XX27=\"\",\"\",\" x \")&XX27","v":""},"","","","","","","","","","","","","","","","","","","","","","","","","","","","","","","","","","","","","","","","","","","","","","","","","","","","","","","","","","","","","","","",{"$f":"IF(AAJ27=\"\",\"\",\" x \")&AAJ27","v":""},"","","","","","","","","","","","","","","","","","","","","","","","","","","","","","","","","","","","","","","","","","","","","","","","","","","","","","","","","","","","","","","",{"$f":"IF(ACV27=\"\",\"\",\" x \")&ACV27","v":""},"","","","","","","","","","","","","","","","","","","","","","","","","","","","","","","","","","","","","","","","","","","","","","","","","","","","","","","","","","","","","","","",{"$f":"IF(AFH27=\"\",\"\",\" x \")&AFH27","v":""},"","","","","","","","","","","","","","","","","","","","","","","","","","","","","","","","","","","","","","","","","","","","","","","","","","","","","","","","","","","","","","","",{"$f":"IF(AHT27=\"\",\"\",\" x \")&AHT27","v":""},"","","","","","","","","","","","","","","","","","","","","","","","","","","","","","","","","","","","","","","","","","","","","","","","","","","","","","","","","","","","","","","",{"$f":"IF(AKF27=\"\",\"\",\" x \")&AKF27","v":""},"","","","","","","","","","","","","","","","","","","","","","","","","","","","","","","","","","","","",""]
[10,{"$error":"#N/A"},{"$error":"#N/A"},0,{"$f":"IF(D26=0,IF(SUM(D27:$D$30)=0,\"\",E27),D26)","v":""},{"$f":"SUM($F$28:F28)","v":3},{"$f":"SUM($F$28:G28)","v":4},{"$f":"SUM($F$28:H28)","v":4},{"$f":"SUM($F$28:I28)","v":5},{"$f":"SUM($F$28:J28)","v":5},{"$f":"SUM($F$28:K28)","v":5},{"$f":"SUM($F$28:L28)","v":5},{"$f":"SUM($F$28:M28)","v":5},{"$f":"SUM($F$28:N28)","v":5},{"$f":"SUM($F$28:O28)","v":5},{"$f":"SUM($F$28:P28)","v":5},{"$f":"SUM($F$28:Q28)","v":5},{"$f":"SUM($F$28:R28)","v":5},{"$f":"SUM($F$28:S28)","v":5},{"$f":"SUM($F$28:T28)","v":5},{"$f":"SUM($F$28:U28)","v":5},{"$f":"SUM($F$28:V28)","v":5},{"$f":"SUM($F$28:W28)","v":5},{"$f":"SUM($F$28:X28)","v":5},{"$f":"SUM($F$28:Y28)","v":5},{"$f":"SUM($F$28:Z28)","v":5},{"$f":"SUM($F$28:AA28)","v":5},{"$f":"SUM($F$28:AB28)","v":5},{"$f":"SUM($F$28:AC28)","v":5},{"$f":"SUM($F$28:AD28)","v":5},{"$f":"SUM($F$28:AE28)","v":5},{"$f":"SUM($F$28:AF28)","v":5},{"$f":"SUM($F$28:AG28)","v":5},{"$f":"SUM($F$28:AH28)","v":5},{"$f":"SUM($F$28:AI28)","v":5},{"$f":"SUM($F$28:AJ28)","v":5},{"$f":"SUM($F$28:AK28)","v":5},{"$f":"SUM($F$28:AL28)","v":5},{"$f":"SUM($F$28:AM28)","v":5},{"$f":"SUM($F$28:AN28)","v":5},{"$f":"SUM($F$28:AO28)","v":5},{"$f":"SUM($F$28:AP28)","v":5},{"$f":"SUM($F$28:AQ28)","v":5},{"$f":"SUM($F$28:AR28)","v":5},{"$f":"SUM($F$28:AS28)","v":5},{"$f":"SUM($F$28:AT28)","v":5},{"$f":"SUM($F$28:AU28)","v":5},{"$f":"SUM($F$28:AV28)","v":5},{"$f":"SUM($F$28:AW28)","v":5},{"$f":"SUM($F$28:AX28)","v":5},{"$f":"SUM($F$28:AY28)","v":5},{"$f":"SUM($F$28:AZ28)","v":5},{"$f":"SUM($F$28:BA28)","v":5},{"$f":"SUM($F$28:BB28)","v":5},{"$f":"SUM($F$28:BC28)","v":5},{"$f":"SUM($F$28:BD28)","v":5},{"$f":"SUM($F$28:BE28)","v":5},{"$f":"SUM($F$28:BF28)","v":5},{"$f":"SUM($F$28:BG28)","v":5},{"$f":"SUM($F$28:BH28)","v":5},{"$f":"SUM($F$28:BI28)","v":5},{"$f":"SUM($F$28:BJ28)","v":5},{"$f":"SUM($F$28:BK28)","v":5},{"$f":"SUM($F$28:BL28)","v":5},{"$f":"SUM($F$28:BM28)","v":5},{"$f":"SUM($F$28:BN28)","v":5},{"$f":"SUM($F$28:BO28)","v":5},{"$f":"SUM($F$28:BP28)","v":5},{"$f":"SUM($F$28:BQ28)","v":5},{"$f":"SUM($F$28:BR28)","v":5},{"$f":"SUM($F$28:BS28)","v":5},{"$f":"SUM($F$28:BT28)","v":5},{"$f":"SUM($F$28:BU28)","v":5},{"$f":"SUM($F$28:BV28)","v":5},{"$f":"SUM($F$28:BW28)","v":5},{"$f":"SUM($F$28:BX28)","v":5},{"$f":"SUM($F$28:BY28)","v":5},{"$f":"SUM($F$28:BZ28)","v":5},{"$f":"SUM($F$28:CA28)","v":5},{"$f":"SUM($F$28:CB28)","v":5},{"$f":"SUM($F$28:CC28)","v":5},{"$f":"SUM($F$28:CD28)","v":5},{"$f":"SUM($F$28:CE28)","v":5},{"$f":"SUM($F$28:CF28)","v":5},{"$f":"SUM($F$28:CG28)","v":5},{"$f":"SUM($F$28:CH28)","v":5},{"$f":"SUM($F$28:CI28)","v":5},{"$f":"SUM($F$28:CJ28)","v":5},{"$f":"SUM($F$28:CK28)","v":5},{"$f":"SUM($F$28:CL28)","v":5},{"$f":"SUM($F$28:CM28)","v":5},{"$f":"SUM($F$28:CN28)","v":5},{"$f":"SUM($F$28:CO28)","v":5},{"$f":"SUM($F$28:CP28)","v":5},{"$f":"SUM($F$28:CQ28)","v":5},{"$f":"SUM($F$28:CR28)","v":5},{"$f":"SUM($F$28:CS28)","v":5},{"$f":"SUM($F$28:CT28)","v":5},{"$f":"SUM($F$28:CU28)","v":5},{"$f":"SUM($F$28:CV28)","v":5},{"$f":"SUM($F$28:CW28)","v":5},{"$f":"SUM($F$28:CX28)","v":5},{"$f":"SUM($F$28:CY28)","v":5},{"$f":"SUM($F$28:CZ28)","v":5},{"$f":"SUM($F$28:DA28)","v":5},{"$f":"SUM($F$28:DB28)","v":5},{"$f":"SUM($F$28:DC28)","v":5},{"$f":"SUM($F$28:DD28)","v":5},{"$f":"SUM($F$28:DE28)","v":5},{"$f":"SUM($F$28:DF28)","v":5},{"$f":"SUM($F$28:DG28)","v":5},{"$f":"SUM($F$28:DH28)","v":5},{"$f":"SUM($F$28:DI28)","v":5},{"$f":"SUM($F$28:DJ28)","v":5},{"$f":"SUM($F$28:DK28)","v":5},{"$f":"SUM($F$28:DL28)","v":5},{"$f":"SUM($F$28:DM28)","v":5},{"$f":"SUM($F$28:DN28)","v":5},{"$f":"SUM($F$28:DO28)","v":5},{"$f":"SUM($F$28:DP28)","v":5},{"$f":"SUM($F$28:DQ28)","v":5},{"$f":"SUM($F$28:DR28)","v":5},{"$f":"SUM($F$28:DS28)","v":5},{"$f":"SUM($F$28:DT28)","v":5},{"$f":"SUM($F$28:DU28)","v":5},{"$f":"SUM($F$28:DV28)","v":5},{"$f":"SUM($F$28:DW28)","v":5},{"$f":"SUM($F$28:DX28)","v":5},{"$f":"SUM($F$28:DY28)","v":5},{"$f":"SUM($F$28:DZ28)","v":5},{"$f":"SUM($F$28:EA28)","v":5},{"$f":"SUM($F$28:EB28)","v":5},{"$f":"SUM($F$28:EC28)","v":5},{"$f":"SUM($F$28:ED28)","v":5},{"$f":"SUM($F$28:EE28)","v":5},{"$f":"SUM($F$28:EF28)","v":5},{"$f":"SUM($F$28:EG28)","v":5},{"$f":"SUM($F$28:EH28)","v":5},{"$f":"SUM($F$28:EI28)","v":5},{"$f":"SUM($F$28:EJ28)","v":5},{"$f":"SUM($F$28:EK28)","v":5},{"$f":"SUM($F$28:EL28)","v":5},{"$f":"SUM($F$28:EM28)","v":5},{"$f":"SUM($F$28:EN28)","v":5},{"$f":"SUM($F$28:EO28)","v":5},{"$f":"SUM($F$28:EP28)","v":5},{"$f":"SUM($F$28:EQ28)","v":5},{"$f":"SUM($F$28:ER28)","v":5},{"$f":"SUM($F$28:ES28)","v":5},{"$f":"SUM($F$28:ET28)","v":5},{"$f":"SUM($F$28:EU28)","v":5},{"$f":"SUM($F$28:EV28)","v":5},{"$f":"SUM($F$28:EW28)","v":5},{"$f":"SUM($F$28:EX28)","v":5},{"$f":"SUM($F$28:EY28)","v":5},{"$f":"SUM($F$28:EZ28)","v":5},{"$f":"SUM($F$28:FA28)","v":5},{"$f":"SUM($F$28:FB28)","v":5},{"$f":"SUM($F$28:FC28)","v":5},{"$f":"SUM($F$28:FD28)","v":5},{"$f":"SUM($F$28:FE28)","v":5},{"$f":"SUM($F$28:FF28)","v":5},{"$f":"SUM($F$28:FG28)","v":5},{"$f":"SUM($F$28:FH28)","v":5},{"$f":"SUM($F$28:FI28)","v":5},{"$f":"SUM($F$28:FJ28)","v":5},{"$f":"SUM($F$28:FK28)","v":5},{"$f":"SUM($F$28:FL28)","v":5},{"$f":"SUM($F$28:FM28)","v":5},{"$f":"SUM($F$28:FN28)","v":5},{"$f":"SUM($F$28:FO28)","v":5},{"$f":"SUM($F$28:FP28)","v":5},{"$f":"SUM($F$28:FQ28)","v":5},{"$f":"SUM($F$28:FR28)","v":5},{"$f":"SUM($F$28:FS28)","v":5},{"$f":"SUM($F$28:FT28)","v":5},{"$f":"SUM($F$28:FU28)","v":5},{"$f":"SUM($F$28:FV28)","v":5},{"$f":"SUM($F$28:FW28)","v":5},{"$f":"SUM($F$28:FX28)","v":5},{"$f":"SUM($F$28:FY28)","v":5},{"$f":"SUM($F$28:FZ28)","v":5},{"$f":"SUM($F$28:GA28)","v":5},{"$f":"SUM($F$28:GB28)","v":5},{"$f":"SUM($F$28:GC28)","v":5},{"$f":"SUM($F$28:GD28)","v":5},{"$f":"SUM($F$28:GE28)","v":5},{"$f":"SUM($F$28:GF28)","v":5},{"$f":"SUM($F$28:GG28)","v":5},{"$f":"SUM($F$28:GH28)","v":5},{"$f":"SUM($F$28:GI28)","v":5},{"$f":"SUM($F$28:GJ28)","v":5},{"$f":"SUM($F$28:GK28)","v":5},{"$f":"SUM($F$28:GL28)","v":5},{"$f":"SUM($F$28:GM28)","v":5},{"$f":"SUM($F$28:GN28)","v":5},{"$f":"SUM($F$28:GO28)","v":5},{"$f":"SUM($F$28:GP28)","v":5},{"$f":"SUM($F$28:GQ28)","v":5},{"$f":"SUM($F$28:GR28)","v":5},{"$f":"SUM($F$28:GS28)","v":5},{"$f":"SUM($F$28:GT28)","v":5},{"$f":"SUM($F$28:GU28)","v":5},{"$f":"SUM($F$28:GV28)","v":5},{"$f":"SUM($F$28:GW28)","v":5},{"$f":"SUM($F$28:GX28)","v":5},{"$f":"SUM($F$28:GY28)","v":5},{"$f":"SUM($F$28:GZ28)","v":5},{"$f":"SUM($F$28:HA28)","v":5},{"$f":"SUM($F$28:HB28)","v":5},{"$f":"SUM($F$28:HC28)","v":5},{"$f":"SUM($F$28:HD28)","v":5},{"$f":"SUM($F$28:HE28)","v":5},{"$f":"SUM($F$28:HF28)","v":5},{"$f":"SUM($F$28:HG28)","v":5},{"$f":"SUM($F$28:HH28)","v":5},{"$f":"SUM($F$28:HI28)","v":5},{"$f":"SUM($F$28:HJ28)","v":5},{"$f":"SUM($F$28:HK28)","v":5},{"$f":"SUM($F$28:HL28)","v":5},{"$f":"SUM($F$28:HM28)","v":5},{"$f":"SUM($F$28:HN28)","v":5},{"$f":"SUM($F$28:HO28)","v":5},{"$f":"SUM($F$28:HP28)","v":5},{"$f":"SUM($F$28:HQ28)","v":5},{"$f":"SUM($F$28:HR28)","v":5},{"$f":"SUM($F$28:HS28)","v":5},{"$f":"SUM($F$28:HT28)","v":5},{"$f":"SUM($F$28:HU28)","v":5},{"$f":"SUM($F$28:HV28)","v":5},{"$f":"SUM($F$28:HW28)","v":5},{"$f":"SUM($F$28:HX28)","v":5},{"$f":"SUM($F$28:HY28)","v":5},{"$f":"SUM($F$28:HZ28)","v":5},{"$f":"SUM($F$28:IA28)","v":5},{"$f":"SUM($F$28:IB28)","v":5},{"$f":"SUM($F$28:IC28)","v":5},{"$f":"SUM($F$28:ID28)","v":5},{"$f":"SUM($F$28:IE28)","v":5},{"$f":"SUM($F$28:IF28)","v":5},{"$f":"SUM($F$28:IG28)","v":5},{"$f":"SUM($F$28:IH28)","v":5},{"$f":"SUM($F$28:II28)","v":5},{"$f":"SUM($F$28:IJ28)","v":5},{"$f":"SUM($F$28:IK28)","v":5},{"$f":"SUM($F$28:IL28)","v":5},{"$f":"SUM($F$28:IM28)","v":5},{"$f":"SUM($F$28:IN28)","v":5},{"$f":"SUM($F$28:IO28)","v":5},{"$f":"SUM($F$28:IP28)","v":5},{"$f":"SUM($F$28:IQ28)","v":5},{"$f":"SUM($F$28:IR28)","v":5},{"$f":"SUM($F$28:IS28)","v":5},{"$f":"SUM($F$28:IT28)","v":5},{"$f":"SUM($F$28:IU28)","v":5},{"$f":"SUM($F$28:IV28)","v":5},{"$f":"SUM($F$28:IW28)","v":5},{"$f":"SUM($F$28:IX28)","v":5},{"$f":"SUM($F$28:IY28)","v":5},{"$f":"SUM($F$28:IZ28)","v":5},{"$f":"SUM($F$28:JA28)","v":5},{"$f":"SUM($F$28:JB28)","v":5},{"$f":"SUM($F$28:JC28)","v":5},{"$f":"SUM($F$28:JD28)","v":5},{"$f":"SUM($F$28:JE28)","v":5},{"$f":"SUM($F$28:JF28)","v":5},{"$f":"SUM($F$28:JG28)","v":5},{"$f":"SUM($F$28:JH28)","v":5},{"$f":"SUM($F$28:JI28)","v":5},{"$f":"SUM($F$28:JJ28)","v":5},{"$f":"SUM($F$28:JK28)","v":5},{"$f":"SUM($F$28:JL28)","v":5},{"$f":"SUM($F$28:JM28)","v":5},{"$f":"SUM($F$28:JN28)","v":5},{"$f":"SUM($F$28:JO28)","v":5},{"$f":"SUM($F$28:JP28)","v":5},{"$f":"SUM($F$28:JQ28)","v":5},{"$f":"SUM($F$28:JR28)","v":5},{"$f":"SUM($F$28:JS28)","v":5},{"$f":"SUM($F$28:JT28)","v":5},{"$f":"SUM($F$28:JU28)","v":5},{"$f":"SUM($F$28:JV28)","v":5},{"$f":"SUM($F$28:JW28)","v":5},{"$f":"SUM($F$28:JX28)","v":5},{"$f":"SUM($F$28:JY28)","v":5},{"$f":"SUM($F$28:JZ28)","v":5},{"$f":"SUM($F$28:KA28)","v":5},{"$f":"SUM($F$28:KB28)","v":5},{"$f":"SUM($F$28:KC28)","v":5},{"$f":"SUM($F$28:KD28)","v":5},{"$f":"SUM($F$28:KE28)","v":5},{"$f":"SUM($F$28:KF28)","v":5},{"$f":"SUM($F$28:KG28)","v":5},{"$f":"SUM($F$28:KH28)","v":5},{"$f":"SUM($F$28:KI28)","v":5},{"$f":"SUM($F$28:KJ28)","v":5},{"$f":"SUM($F$28:KK28)","v":5},{"$f":"SUM($F$28:KL28)","v":5},{"$f":"SUM($F$28:KM28)","v":5},{"$f":"SUM($F$28:KN28)","v":5},{"$f":"SUM($F$28:KO28)","v":5},{"$f":"SUM($F$28:KP28)","v":5},{"$f":"SUM($F$28:KQ28)","v":5},{"$f":"SUM($F$28:KR28)","v":5},{"$f":"SUM($F$28:KS28)","v":5},{"$f":"SUM($F$28:KT28)","v":5},{"$f":"SUM($F$28:KU28)","v":5},{"$f":"SUM($F$28:KV28)","v":5},{"$f":"SUM($F$28:KW28)","v":5},{"$f":"SUM($F$28:KX28)","v":5},{"$f":"SUM($F$28:KY28)","v":5},{"$f":"SUM($F$28:KZ28)","v":5},{"$f":"SUM($F$28:LA28)","v":5},{"$f":"SUM($F$28:LB28)","v":5},{"$f":"SUM($F$28:LC28)","v":5},{"$f":"SUM($F$28:LD28)","v":5},{"$f":"SUM($F$28:LE28)","v":5},{"$f":"SUM($F$28:LF28)","v":5},{"$f":"SUM($F$28:LG28)","v":5},{"$f":"SUM($F$28:LH28)","v":5},{"$f":"SUM($F$28:LI28)","v":5},{"$f":"SUM($F$28:LJ28)","v":5},{"$f":"SUM($F$28:LK28)","v":5},{"$f":"SUM($F$28:LL28)","v":5},{"$f":"SUM($F$28:LM28)","v":5},{"$f":"SUM($F$28:LN28)","v":5},{"$f":"SUM($F$28:LO28)","v":5},{"$f":"SUM($F$28:LP28)","v":5},{"$f":"SUM($F$28:LQ28)","v":5},{"$f":"SUM($F$28:LR28)","v":5},{"$f":"SUM($F$28:LS28)","v":5},{"$f":"SUM($F$28:LT28)","v":5},{"$f":"SUM($F$28:LU28)","v":5},{"$f":"SUM($F$28:LV28)","v":5},{"$f":"SUM($F$28:LW28)","v":5},{"$f":"SUM($F$28:LX28)","v":5},{"$f":"SUM($F$28:LY28)","v":5},{"$f":"SUM($F$28:LZ28)","v":5},{"$f":"SUM($F$28:MA28)","v":5},{"$f":"SUM($F$28:MB28)","v":5},{"$f":"SUM($F$28:MC28)","v":5},{"$f":"SUM($F$28:MD28)","v":5},{"$f":"SUM($F$28:ME28)","v":5},{"$f":"SUM($F$28:MF28)","v":5},{"$f":"SUM($F$28:MG28)","v":5},{"$f":"SUM($F$28:MH28)","v":5},{"$f":"SUM($F$28:MI28)","v":5},{"$f":"SUM($F$28:MJ28)","v":5},{"$f":"SUM($F$28:MK28)","v":5},{"$f":"SUM($F$28:ML28)","v":5},{"$f":"SUM($F$28:MM28)","v":5},{"$f":"SUM($F$28:MN28)","v":5},{"$f":"SUM($F$28:MO28)","v":5},{"$f":"SUM($F$28:MP28)","v":5},{"$f":"SUM($F$28:MQ28)","v":5},{"$f":"SUM($F$28:MR28)","v":5},{"$f":"SUM($F$28:MS28)","v":5},{"$f":"SUM($F$28:MT28)","v":5},{"$f":"SUM($F$28:MU28)","v":5},{"$f":"SUM($F$28:MV28)","v":5},{"$f":"SUM($F$28:MW28)","v":5},{"$f":"SUM($F$28:MX28)","v":5},{"$f":"SUM($F$28:MY28)","v":5},{"$f":"SUM($F$28:MZ28)","v":5},{"$f":"SUM($F$28:NA28)","v":5},{"$f":"SUM($F$28:NB28)","v":5},{"$f":"SUM($F$28:NC28)","v":5},{"$f":"SUM($F$28:ND28)","v":5},{"$f":"SUM($F$28:NE28)","v":5},{"$f":"SUM($F$28:NF28)","v":5},{"$f":"SUM($F$28:NG28)","v":5},{"$f":"SUM($F$28:NH28)","v":5},{"$f":"SUM($F$28:NI28)","v":5},{"$f":"SUM($F$28:NJ28)","v":5},{"$f":"SUM($F$28:NK28)","v":5},{"$f":"SUM($F$28:NL28)","v":5},{"$f":"SUM($F$28:NM28)","v":5},{"$f":"SUM($F$28:NN28)","v":5},{"$f":"SUM($F$28:NO28)","v":5},{"$f":"SUM($F$28:NP28)","v":5},{"$f":"SUM($F$28:NQ28)","v":5},{"$f":"SUM($F$28:NR28)","v":5},{"$f":"SUM($F$28:NS28)","v":5},{"$f":"SUM($F$28:NT28)","v":5},{"$f":"SUM($F$28:NU28)","v":5},{"$f":"SUM($F$28:NV28)","v":5},{"$f":"SUM($F$28:NW28)","v":5},{"$f":"SUM($F$28:NX28)","v":5},{"$f":"SUM($F$28:NY28)","v":5},{"$f":"SUM($F$28:NZ28)","v":5},{"$f":"SUM($F$28:OA28)","v":5},{"$f":"SUM($F$28:OB28)","v":5},{"$f":"SUM($F$28:OC28)","v":5},{"$f":"SUM($F$28:OD28)","v":5},{"$f":"SUM($F$28:OE28)","v":5},{"$f":"SUM($F$28:OF28)","v":5},{"$f":"SUM($F$28:OG28)","v":5},{"$f":"SUM($F$28:OH28)","v":5},{"$f":"SUM($F$28:OI28)","v":5},{"$f":"SUM($F$28:OJ28)","v":5},{"$f":"SUM($F$28:OK28)","v":5},{"$f":"SUM($F$28:OL28)","v":5},{"$f":"SUM($F$28:OM28)","v":5},{"$f":"SUM($F$28:ON28)","v":5},{"$f":"SUM($F$28:OO28)","v":5},{"$f":"SUM($F$28:OP28)","v":5},{"$f":"SUM($F$28:OQ28)","v":5},{"$f":"SUM($F$28:OR28)","v":5},{"$f":"SUM($F$28:OS28)","v":5},{"$f":"SUM($F$28:OT28)","v":5},{"$f":"SUM($F$28:OU28)","v":5},{"$f":"SUM($F$28:OV28)","v":5},{"$f":"SUM($F$28:OW28)","v":5},{"$f":"SUM($F$28:OX28)","v":5},{"$f":"SUM($F$28:OY28)","v":5},{"$f":"SUM($F$28:OZ28)","v":5},{"$f":"SUM($F$28:PA28)","v":5},{"$f":"SUM($F$28:PB28)","v":5},{"$f":"SUM($F$28:PC28)","v":5},{"$f":"SUM($F$28:PD28)","v":5},{"$f":"SUM($F$28:PE28)","v":5},{"$f":"SUM($F$28:PF28)","v":5},{"$f":"SUM($F$28:PG28)","v":5},{"$f":"SUM($F$28:PH28)","v":5},{"$f":"SUM($F$28:PI28)","v":5},{"$f":"SUM($F$28:PJ28)","v":5},{"$f":"SUM($F$28:PK28)","v":5},{"$f":"SUM($F$28:PL28)","v":5},{"$f":"SUM($F$28:PM28)","v":5},{"$f":"SUM($F$28:PN28)","v":5},{"$f":"SUM($F$28:PO28)","v":5},{"$f":"SUM($F$28:PP28)","v":5},{"$f":"SUM($F$28:PQ28)","v":5},{"$f":"SUM($F$28:PR28)","v":5},{"$f":"SUM($F$28:PS28)","v":5},{"$f":"SUM($F$28:PT28)","v":5},{"$f":"SUM($F$28:PU28)","v":5},{"$f":"SUM($F$28:PV28)","v":5},{"$f":"SUM($F$28:PW28)","v":5},{"$f":"SUM($F$28:PX28)","v":5},{"$f":"SUM($F$28:PY28)","v":5},{"$f":"SUM($F$28:PZ28)","v":5},{"$f":"SUM($F$28:QA28)","v":5},{"$f":"SUM($F$28:QB28)","v":5},{"$f":"SUM($F$28:QC28)","v":5},{"$f":"SUM($F$28:QD28)","v":5},{"$f":"SUM($F$28:QE28)","v":5},{"$f":"SUM($F$28:QF28)","v":5},{"$f":"SUM($F$28:QG28)","v":5},{"$f":"SUM($F$28:QH28)","v":5},{"$f":"SUM($F$28:QI28)","v":5},{"$f":"SUM($F$28:QJ28)","v":5},{"$f":"SUM($F$28:QK28)","v":5},{"$f":"SUM($F$28:QL28)","v":5},{"$f":"SUM($F$28:QM28)","v":5},{"$f":"SUM($F$28:QN28)","v":5},{"$f":"SUM($F$28:QO28)","v":5},{"$f":"SUM($F$28:QP28)","v":5},{"$f":"SUM($F$28:QQ28)","v":5},{"$f":"SUM($F$28:QR28)","v":5},{"$f":"SUM($F$28:QS28)","v":5},{"$f":"SUM($F$28:QT28)","v":5},{"$f":"SUM($F$28:QU28)","v":5},{"$f":"SUM($F$28:QV28)","v":5},{"$f":"SUM($F$28:QW28)","v":5},{"$f":"SUM($F$28:QX28)","v":5},{"$f":"SUM($F$28:QY28)","v":5},{"$f":"SUM($F$28:QZ28)","v":5},{"$f":"SUM($F$28:RA28)","v":5},{"$f":"SUM($F$28:RB28)","v":5},{"$f":"SUM($F$28:RC28)","v":5},{"$f":"SUM($F$28:RD28)","v":5},{"$f":"SUM($F$28:RE28)","v":5},{"$f":"SUM($F$28:RF28)","v":5},{"$f":"SUM($F$28:RG28)","v":5},{"$f":"SUM($F$28:RH28)","v":5},{"$f":"SUM($F$28:RI28)","v":5},{"$f":"SUM($F$28:RJ28)","v":5},{"$f":"SUM($F$28:RK28)","v":5},{"$f":"SUM($F$28:RL28)","v":5},{"$f":"SUM($F$28:RM28)","v":5},{"$f":"SUM($F$28:RN28)","v":5},{"$f":"SUM($F$28:RO28)","v":5},{"$f":"SUM($F$28:RP28)","v":5},{"$f":"SUM($F$28:RQ28)","v":5},{"$f":"SUM($F$28:RR28)","v":5},{"$f":"SUM($F$28:RS28)","v":5},{"$f":"SUM($F$28:RT28)","v":5},{"$f":"SUM($F$28:RU28)","v":5},{"$f":"SUM($F$28:RV28)","v":5},{"$f":"SUM($F$28:RW28)","v":5},{"$f":"SUM($F$28:RX28)","v":5},{"$f":"SUM($F$28:RY28)","v":5},{"$f":"SUM($F$28:RZ28)","v":5},{"$f":"SUM($F$28:SA28)","v":5},{"$f":"SUM($F$28:SB28)","v":5},{"$f":"SUM($F$28:SC28)","v":5},{"$f":"SUM($F$28:SD28)","v":5},{"$f":"SUM($F$28:SE28)","v":5},{"$f":"SUM($F$28:SF28)","v":5},{"$f":"SUM($F$28:SG28)","v":5},{"$f":"SUM($F$28:SH28)","v":5},{"$f":"SUM($F$28:SI28)","v":5},{"$f":"SUM($F$28:SJ28)","v":5},{"$f":"SUM($F$28:SK28)","v":5},{"$f":"SUM($F$28:SL28)","v":5},{"$f":"SUM($F$28:SM28)","v":5},{"$f":"SUM($F$28:SN28)","v":5},{"$f":"SUM($F$28:SO28)","v":5},{"$f":"SUM($F$28:SP28)","v":5},{"$f":"SUM($F$28:SQ28)","v":5},{"$f":"SUM($F$28:SR28)","v":5},{"$f":"SUM($F$28:SS28)","v":5},{"$f":"SUM($F$28:ST28)","v":5},{"$f":"SUM($F$28:SU28)","v":5},{"$f":"SUM($F$28:SV28)","v":5},{"$f":"SUM($F$28:SW28)","v":5},{"$f":"SUM($F$28:SX28)","v":5},{"$f":"SUM($F$28:SY28)","v":5},{"$f":"SUM($F$28:SZ28)","v":5},{"$f":"SUM($F$28:TA28)","v":5},{"$f":"SUM($F$28:TB28)","v":5},{"$f":"SUM($F$28:TC28)","v":5},{"$f":"SUM($F$28:TD28)","v":5},{"$f":"SUM($F$28:TE28)","v":5},{"$f":"SUM($F$28:TF28)","v":5},{"$f":"SUM($F$28:TG28)","v":5},{"$f":"SUM($F$28:TH28)","v":5},{"$f":"SUM($F$28:TI28)","v":5},{"$f":"SUM($F$28:TJ28)","v":5},{"$f":"SUM($F$28:TK28)","v":5},{"$f":"SUM($F$28:TL28)","v":5},{"$f":"SUM($F$28:TM28)","v":5},{"$f":"SUM($F$28:TN28)","v":5},{"$f":"SUM($F$28:TO28)","v":5},{"$f":"SUM($F$28:TP28)","v":5},{"$f":"SUM($F$28:TQ28)","v":5},{"$f":"SUM($F$28:TR28)","v":5},{"$f":"SUM($F$28:TS28)","v":5},{"$f":"SUM($F$28:TT28)","v":5},{"$f":"SUM($F$28:TU28)","v":5},{"$f":"SUM($F$28:TV28)","v":5},{"$f":"SUM($F$28:TW28)","v":5},{"$f":"SUM($F$28:TX28)","v":5},{"$f":"SUM($F$28:TY28)","v":5},{"$f":"SUM($F$28:TZ28)","v":5},{"$f":"SUM($F$28:UA28)","v":5},{"$f":"SUM($F$28:UB28)","v":5},{"$f":"SUM($F$28:UC28)","v":5},{"$f":"SUM($F$28:UD28)","v":5},{"$f":"SUM($F$28:UE28)","v":5},{"$f":"SUM($F$28:UF28)","v":5},{"$f":"SUM($F$28:UG28)","v":5},{"$f":"SUM($F$28:UH28)","v":5},{"$f":"SUM($F$28:UI28)","v":5},{"$f":"SUM($F$28:UJ28)","v":5},{"$f":"SUM($F$28:UK28)","v":5},{"$f":"SUM($F$28:UL28)","v":5},{"$f":"SUM($F$28:UM28)","v":5},{"$f":"SUM($F$28:UN28)","v":5},{"$f":"SUM($F$28:UO28)","v":5},{"$f":"SUM($F$28:UP28)","v":5},{"$f":"SUM($F$28:UQ28)","v":5},{"$f":"SUM($F$28:UR28)","v":5},{"$f":"SUM($F$28:US28)","v":5},{"$f":"SUM($F$28:UT28)","v":5},{"$f":"SUM($F$28:UU28)","v":5},{"$f":"SUM($F$28:UV28)","v":5},{"$f":"SUM($F$28:UW28)","v":5},{"$f":"SUM($F$28:UX28)","v":5},{"$f":"SUM($F$28:UY28)","v":5},{"$f":"SUM($F$28:UZ28)","v":5},{"$f":"SUM($F$28:VA28)","v":5},{"$f":"SUM($F$28:VB28)","v":5},{"$f":"SUM($F$28:VC28)","v":5},{"$f":"SUM($F$28:VD28)","v":5},{"$f":"SUM($F$28:VE28)","v":5},{"$f":"SUM($F$28:VF28)","v":5},{"$f":"SUM($F$28:VG28)","v":5},{"$f":"SUM($F$28:VH28)","v":5},{"$f":"SUM($F$28:VI28)","v":5},{"$f":"SUM($F$28:VJ28)","v":5},{"$f":"SUM($F$28:VK28)","v":5},{"$f":"SUM($F$28:VL28)","v":5},{"$f":"SUM($F$28:VM28)","v":5},{"$f":"SUM($F$28:VN28)","v":5},{"$f":"SUM($F$28:VO28)","v":5},{"$f":"SUM($F$28:VP28)","v":5},{"$f":"SUM($F$28:VQ28)","v":5},{"$f":"SUM($F$28:VR28)","v":5},{"$f":"SUM($F$28:VS28)","v":5},{"$f":"SUM($F$28:VT28)","v":5},{"$f":"SUM($F$28:VU28)","v":5},{"$f":"SUM($F$28:VV28)","v":5},{"$f":"SUM($F$28:VW28)","v":5},{"$f":"SUM($F$28:VX28)","v":5},{"$f":"SUM($F$28:VY28)","v":5},{"$f":"SUM($F$28:VZ28)","v":5},{"$f":"SUM($F$28:WA28)","v":5},{"$f":"SUM($F$28:WB28)","v":5},{"$f":"SUM($F$28:WC28)","v":5},{"$f":"SUM($F$28:WD28)","v":5},{"$f":"SUM($F$28:WE28)","v":5},{"$f":"SUM($F$28:WF28)","v":5},{"$f":"SUM($F$28:WG28)","v":5},{"$f":"SUM($F$28:WH28)","v":5},{"$f":"SUM($F$28:WI28)","v":5},{"$f":"SUM($F$28:WJ28)","v":5},{"$f":"SUM($F$28:WK28)","v":5},{"$f":"SUM($F$28:WL28)","v":5},{"$f":"SUM($F$28:WM28)","v":5},{"$f":"SUM($F$28:WN28)","v":5},{"$f":"SUM($F$28:WO28)","v":5},{"$f":"SUM($F$28:WP28)","v":5},{"$f":"SUM($F$28:WQ28)","v":5},{"$f":"SUM($F$28:WR28)","v":5},{"$f":"SUM($F$28:WS28)","v":5},{"$f":"SUM($F$28:WT28)","v":5},{"$f":"SUM($F$28:WU28)","v":5},{"$f":"SUM($F$28:WV28)","v":5},{"$f":"SUM($F$28:WW28)","v":5},{"$f":"SUM($F$28:WX28)","v":5},{"$f":"SUM($F$28:WY28)","v":5},{"$f":"SUM($F$28:WZ28)","v":5},{"$f":"SUM($F$28:XA28)","v":5},{"$f":"SUM($F$28:XB28)","v":5},{"$f":"SUM($F$28:XC28)","v":5},{"$f":"SUM($F$28:XD28)","v":5},{"$f":"SUM($F$28:XE28)","v":5},{"$f":"SUM($F$28:XF28)","v":5},{"$f":"SUM($F$28:XG28)","v":5},{"$f":"SUM($F$28:XH28)","v":5},{"$f":"SUM($F$28:XI28)","v":5},{"$f":"SUM($F$28:XJ28)","v":5},{"$f":"SUM($F$28:XK28)","v":5},{"$f":"SUM($F$28:XL28)","v":5},{"$f":"SUM($F$28:XM28)","v":5},{"$f":"SUM($F$28:XN28)","v":5},{"$f":"SUM($F$28:XO28)","v":5},{"$f":"SUM($F$28:XP28)","v":5},{"$f":"SUM($F$28:XQ28)","v":5},{"$f":"SUM($F$28:XR28)","v":5},{"$f":"SUM($F$28:XS28)","v":5},{"$f":"SUM($F$28:XT28)","v":5},{"$f":"SUM($F$28:XU28)","v":5},{"$f":"SUM($F$28:XV28)","v":5},{"$f":"SUM($F$28:XW28)","v":5},{"$f":"SUM($F$28:XX28)","v":5},{"$f":"SUM($F$28:XY28)","v":5},{"$f":"SUM($F$28:XZ28)","v":5},{"$f":"SUM($F$28:YA28)","v":5},{"$f":"SUM($F$28:YB28)","v":5},{"$f":"SUM($F$28:YC28)","v":5},{"$f":"SUM($F$28:YD28)","v":5},{"$f":"SUM($F$28:YE28)","v":5},{"$f":"SUM($F$28:YF28)","v":5},{"$f":"SUM($F$28:YG28)","v":5},{"$f":"SUM($F$28:YH28)","v":5},{"$f":"SUM($F$28:YI28)","v":5},{"$f":"SUM($F$28:YJ28)","v":5},{"$f":"SUM($F$28:YK28)","v":5},{"$f":"SUM($F$28:YL28)","v":5},{"$f":"SUM($F$28:YM28)","v":5},{"$f":"SUM($F$28:YN28)","v":5},{"$f":"SUM($F$28:YO28)","v":5},{"$f":"SUM($F$28:YP28)","v":5},{"$f":"SUM($F$28:YQ28)","v":5},{"$f":"SUM($F$28:YR28)","v":5},{"$f":"SUM($F$28:YS28)","v":5},{"$f":"SUM($F$28:YT28)","v":5},{"$f":"SUM($F$28:YU28)","v":5},{"$f":"SUM($F$28:YV28)","v":5},{"$f":"SUM($F$28:YW28)","v":5},{"$f":"SUM($F$28:YX28)","v":5},{"$f":"SUM($F$28:YY28)","v":5},{"$f":"SUM($F$28:YZ28)","v":5},{"$f":"SUM($F$28:ZA28)","v":5},{"$f":"SUM($F$28:ZB28)","v":5},{"$f":"SUM($F$28:ZC28)","v":5},{"$f":"SUM($F$28:ZD28)","v":5},{"$f":"SUM($F$28:ZE28)","v":5},{"$f":"SUM($F$28:ZF28)","v":5},{"$f":"SUM($F$28:ZG28)","v":5},{"$f":"SUM($F$28:ZH28)","v":5},{"$f":"SUM($F$28:ZI28)","v":5},{"$f":"SUM($F$28:ZJ28)","v":5},{"$f":"SUM($F$28:ZK28)","v":5},{"$f":"SUM($F$28:ZL28)","v":5},{"$f":"SUM($F$28:ZM28)","v":5},{"$f":"SUM($F$28:ZN28)","v":5},{"$f":"SUM($F$28:ZO28)","v":5},{"$f":"SUM($F$28:ZP28)","v":5},{"$f":"SUM($F$28:ZQ28)","v":5},{"$f":"SUM($F$28:ZR28)","v":5},{"$f":"SUM($F$28:ZS28)","v":5},{"$f":"SUM($F$28:ZT28)","v":5},{"$f":"SUM($F$28:ZU28)","v":5},{"$f":"SUM($F$28:ZV28)","v":5},{"$f":"SUM($F$28:ZW28)","v":5},{"$f":"SUM($F$28:ZX28)","v":5},{"$f":"SUM($F$28:ZY28)","v":5},{"$f":"SUM($F$28:ZZ28)","v":5},{"$f":"SUM($F$28:AAA28)","v":5},{"$f":"SUM($F$28:AAB28)","v":5},{"$f":"SUM($F$28:AAC28)","v":5},{"$f":"SUM($F$28:AAD28)","v":5},{"$f":"SUM($F$28:AAE28)","v":5},{"$f":"SUM($F$28:AAF28)","v":5},{"$f":"SUM($F$28:AAG28)","v":5},{"$f":"SUM($F$28:AAH28)","v":5},{"$f":"SUM($F$28:AAI28)","v":5},{"$f":"SUM($F$28:AAJ28)","v":5},{"$f":"SUM($F$28:AAK28)","v":5},{"$f":"SUM($F$28:AAL28)","v":5},{"$f":"SUM($F$28:AAM28)","v":5},{"$f":"SUM($F$28:AAN28)","v":5},{"$f":"SUM($F$28:AAO28)","v":5},{"$f":"SUM($F$28:AAP28)","v":5},{"$f":"SUM($F$28:AAQ28)","v":5},{"$f":"SUM($F$28:AAR28)","v":5},{"$f":"SUM($F$28:AAS28)","v":5},{"$f":"SUM($F$28:AAT28)","v":5},{"$f":"SUM($F$28:AAU28)","v":5},{"$f":"SUM($F$28:AAV28)","v":5},{"$f":"SUM($F$28:AAW28)","v":5},{"$f":"SUM($F$28:AAX28)","v":5},{"$f":"SUM($F$28:AAY28)","v":5},{"$f":"SUM($F$28:AAZ28)","v":5},{"$f":"SUM($F$28:ABA28)","v":5},{"$f":"SUM($F$28:ABB28)","v":5},{"$f":"SUM($F$28:ABC28)","v":5},{"$f":"SUM($F$28:ABD28)","v":5},{"$f":"SUM($F$28:ABE28)","v":5},{"$f":"SUM($F$28:ABF28)","v":5},{"$f":"SUM($F$28:ABG28)","v":5},{"$f":"SUM($F$28:ABH28)","v":5},{"$f":"SUM($F$28:ABI28)","v":5},{"$f":"SUM($F$28:ABJ28)","v":5},{"$f":"SUM($F$28:ABK28)","v":5},{"$f":"SUM($F$28:ABL28)","v":5},{"$f":"SUM($F$28:ABM28)","v":5},{"$f":"SUM($F$28:ABN28)","v":5},{"$f":"SUM($F$28:ABO28)","v":5},{"$f":"SUM($F$28:ABP28)","v":5},{"$f":"SUM($F$28:ABQ28)","v":5},{"$f":"SUM($F$28:ABR28)","v":5},{"$f":"SUM($F$28:ABS28)","v":5},{"$f":"SUM($F$28:ABT28)","v":5},{"$f":"SUM($F$28:ABU28)","v":5},{"$f":"SUM($F$28:ABV28)","v":5},{"$f":"SUM($F$28:ABW28)","v":5},{"$f":"SUM($F$28:ABX28)","v":5},{"$f":"SUM($F$28:ABY28)","v":5},{"$f":"SUM($F$28:ABZ28)","v":5},{"$f":"SUM($F$28:ACA28)","v":5},{"$f":"SUM($F$28:ACB28)","v":5},{"$f":"SUM($F$28:ACC28)","v":5},{"$f":"SUM($F$28:ACD28)","v":5},{"$f":"SUM($F$28:ACE28)","v":5},{"$f":"SUM($F$28:ACF28)","v":5},{"$f":"SUM($F$28:ACG28)","v":5},{"$f":"SUM($F$28:ACH28)","v":5},{"$f":"SUM($F$28:ACI28)","v":5},{"$f":"SUM($F$28:ACJ28)","v":5},{"$f":"SUM($F$28:ACK28)","v":5},{"$f":"SUM($F$28:ACL28)","v":5},{"$f":"SUM($F$28:ACM28)","v":5},{"$f":"SUM($F$28:ACN28)","v":5},{"$f":"SUM($F$28:ACO28)","v":5},{"$f":"SUM($F$28:ACP28)","v":5},{"$f":"SUM($F$28:ACQ28)","v":5},{"$f":"SUM($F$28:ACR28)","v":5},{"$f":"SUM($F$28:ACS28)","v":5},{"$f":"SUM($F$28:ACT28)","v":5},{"$f":"SUM($F$28:ACU28)","v":5},{"$f":"SUM($F$28:ACV28)","v":5},{"$f":"SUM($F$28:ACW28)","v":5},{"$f":"SUM($F$28:ACX28)","v":5},{"$f":"SUM($F$28:ACY28)","v":5},{"$f":"SUM($F$28:ACZ28)","v":5},{"$f":"SUM($F$28:ADA28)","v":5},{"$f":"SUM($F$28:ADB28)","v":5},{"$f":"SUM($F$28:ADC28)","v":5},{"$f":"SUM($F$28:ADD28)","v":5},{"$f":"SUM($F$28:ADE28)","v":5},{"$f":"SUM($F$28:ADF28)","v":5},{"$f":"SUM($F$28:ADG28)","v":5},{"$f":"SUM($F$28:ADH28)","v":5},{"$f":"SUM($F$28:ADI28)","v":5},{"$f":"SUM($F$28:ADJ28)","v":5},{"$f":"SUM($F$28:ADK28)","v":5},{"$f":"SUM($F$28:ADL28)","v":5},{"$f":"SUM($F$28:ADM28)","v":5},{"$f":"SUM($F$28:ADN28)","v":5},{"$f":"SUM($F$28:ADO28)","v":5},{"$f":"SUM($F$28:ADP28)","v":5},{"$f":"SUM($F$28:ADQ28)","v":5},{"$f":"SUM($F$28:ADR28)","v":5},{"$f":"SUM($F$28:ADS28)","v":5},{"$f":"SUM($F$28:ADT28)","v":5},{"$f":"SUM($F$28:ADU28)","v":5},{"$f":"SUM($F$28:ADV28)","v":5},{"$f":"SUM($F$28:ADW28)","v":5},{"$f":"SUM($F$28:ADX28)","v":5},{"$f":"SUM($F$28:ADY28)","v":5},{"$f":"SUM($F$28:ADZ28)","v":5},{"$f":"SUM($F$28:AEA28)","v":5},{"$f":"SUM($F$28:AEB28)","v":5},{"$f":"SUM($F$28:AEC28)","v":5},{"$f":"SUM($F$28:AED28)","v":5},{"$f":"SUM($F$28:AEE28)","v":5},{"$f":"SUM($F$28:AEF28)","v":5},{"$f":"SUM($F$28:AEG28)","v":5},{"$f":"SUM($F$28:AEH28)","v":5},{"$f":"SUM($F$28:AEI28)","v":5},{"$f":"SUM($F$28:AEJ28)","v":5},{"$f":"SUM($F$28:AEK28)","v":5},{"$f":"SUM($F$28:AEL28)","v":5},{"$f":"SUM($F$28:AEM28)","v":5},{"$f":"SUM($F$28:AEN28)","v":5},{"$f":"SUM($F$28:AEO28)","v":5},{"$f":"SUM($F$28:AEP28)","v":5},{"$f":"SUM($F$28:AEQ28)","v":5},{"$f":"SUM($F$28:AER28)","v":5},{"$f":"SUM($F$28:AES28)","v":5},{"$f":"SUM($F$28:AET28)","v":5},{"$f":"SUM($F$28:AEU28)","v":5},{"$f":"SUM($F$28:AEV28)","v":5},{"$f":"SUM($F$28:AEW28)","v":5},{"$f":"SUM($F$28:AEX28)","v":5},{"$f":"SUM($F$28:AEY28)","v":5},{"$f":"SUM($F$28:AEZ28)","v":5},{"$f":"SUM($F$28:AFA28)","v":5},{"$f":"SUM($F$28:AFB28)","v":5},{"$f":"SUM($F$28:AFC28)","v":5},{"$f":"SUM($F$28:AFD28)","v":5},{"$f":"SUM($F$28:AFE28)","v":5},{"$f":"SUM($F$28:AFF28)","v":5},{"$f":"SUM($F$28:AFG28)","v":5},{"$f":"SUM($F$28:AFH28)","v":5},{"$f":"SUM($F$28:AFI28)","v":5},{"$f":"SUM($F$28:AFJ28)","v":5},{"$f":"SUM($F$28:AFK28)","v":5},{"$f":"SUM($F$28:AFL28)","v":5},{"$f":"SUM($F$28:AFM28)","v":5},{"$f":"SUM($F$28:AFN28)","v":5},{"$f":"SUM($F$28:AFO28)","v":5},{"$f":"SUM($F$28:AFP28)","v":5},{"$f":"SUM($F$28:AFQ28)","v":5},{"$f":"SUM($F$28:AFR28)","v":5},{"$f":"SUM($F$28:AFS28)","v":5},{"$f":"SUM($F$28:AFT28)","v":5},{"$f":"SUM($F$28:AFU28)","v":5},{"$f":"SUM($F$28:AFV28)","v":5},{"$f":"SUM($F$28:AFW28)","v":5},{"$f":"SUM($F$28:AFX28)","v":5},{"$f":"SUM($F$28:AFY28)","v":5},{"$f":"SUM($F$28:AFZ28)","v":5},{"$f":"SUM($F$28:AGA28)","v":5},{"$f":"SUM($F$28:AGB28)","v":5},{"$f":"SUM($F$28:AGC28)","v":5},{"$f":"SUM($F$28:AGD28)","v":5},{"$f":"SUM($F$28:AGE28)","v":5},{"$f":"SUM($F$28:AGF28)","v":5},{"$f":"SUM($F$28:AGG28)","v":5},{"$f":"SUM($F$28:AGH28)","v":5},{"$f":"SUM($F$28:AGI28)","v":5},{"$f":"SUM($F$28:AGJ28)","v":5},{"$f":"SUM($F$28:AGK28)","v":5},{"$f":"SUM($F$28:AGL28)","v":5},{"$f":"SUM($F$28:AGM28)","v":5},{"$f":"SUM($F$28:AGN28)","v":5},{"$f":"SUM($F$28:AGO28)","v":5},{"$f":"SUM($F$28:AGP28)","v":5},{"$f":"SUM($F$28:AGQ28)","v":5},{"$f":"SUM($F$28:AGR28)","v":5},{"$f":"SUM($F$28:AGS28)","v":5},{"$f":"SUM($F$28:AGT28)","v":5},{"$f":"SUM($F$28:AGU28)","v":5},{"$f":"SUM($F$28:AGV28)","v":5},{"$f":"SUM($F$28:AGW28)","v":5},{"$f":"SUM($F$28:AGX28)","v":5},{"$f":"SUM($F$28:AGY28)","v":5},{"$f":"SUM($F$28:AGZ28)","v":5},{"$f":"SUM($F$28:AHA28)","v":5},{"$f":"SUM($F$28:AHB28)","v":5},{"$f":"SUM($F$28:AHC28)","v":5},{"$f":"SUM($F$28:AHD28)","v":5},{"$f":"SUM($F$28:AHE28)","v":5},{"$f":"SUM($F$28:AHF28)","v":5},{"$f":"SUM($F$28:AHG28)","v":5},{"$f":"SUM($F$28:AHH28)","v":5},{"$f":"SUM($F$28:AHI28)","v":5},{"$f":"SUM($F$28:AHJ28)","v":5},{"$f":"SUM($F$28:AHK28)","v":5},{"$f":"SUM($F$28:AHL28)","v":5},{"$f":"SUM($F$28:AHM28)","v":5},{"$f":"SUM($F$28:AHN28)","v":5},{"$f":"SUM($F$28:AHO28)","v":5},{"$f":"SUM($F$28:AHP28)","v":5},{"$f":"SUM($F$28:AHQ28)","v":5},{"$f":"SUM($F$28:AHR28)","v":5},{"$f":"SUM($F$28:AHS28)","v":5},{"$f":"SUM($F$28:AHT28)","v":5},{"$f":"SUM($F$28:AHU28)","v":5},{"$f":"SUM($F$28:AHV28)","v":5},{"$f":"SUM($F$28:AHW28)","v":5},{"$f":"SUM($F$28:AHX28)","v":5},{"$f":"SUM($F$28:AHY28)","v":5},{"$f":"SUM($F$28:AHZ28)","v":5},{"$f":"SUM($F$28:AIA28)","v":5},{"$f":"SUM($F$28:AIB28)","v":5},{"$f":"SUM($F$28:AIC28)","v":5},{"$f":"SUM($F$28:AID28)","v":5},{"$f":"SUM($F$28:AIE28)","v":5},{"$f":"SUM($F$28:AIF28)","v":5},{"$f":"SUM($F$28:AIG28)","v":5},{"$f":"SUM($F$28:AIH28)","v":5},{"$f":"SUM($F$28:AII28)","v":5},{"$f":"SUM($F$28:AIJ28)","v":5},{"$f":"SUM($F$28:AIK28)","v":5},{"$f":"SUM($F$28:AIL28)","v":5},{"$f":"SUM($F$28:AIM28)","v":5},{"$f":"SUM($F$28:AIN28)","v":5},{"$f":"SUM($F$28:AIO28)","v":5},{"$f":"SUM($F$28:AIP28)","v":5},{"$f":"SUM($F$28:AIQ28)","v":5},{"$f":"SUM($F$28:AIR28)","v":5},{"$f":"SUM($F$28:AIS28)","v":5},{"$f":"SUM($F$28:AIT28)","v":5},{"$f":"SUM($F$28:AIU28)","v":5},{"$f":"SUM($F$28:AIV28)","v":5},{"$f":"SUM($F$28:AIW28)","v":5},{"$f":"SUM($F$28:AIX28)","v":5},{"$f":"SUM($F$28:AIY28)","v":5},{"$f":"SUM($F$28:AIZ28)","v":5},{"$f":"SUM($F$28:AJA28)","v":5},{"$f":"SUM($F$28:AJB28)","v":5},{"$f":"SUM($F$28:AJC28)","v":5},{"$f":"SUM($F$28:AJD28)","v":5},{"$f":"SUM($F$28:AJE28)","v":5},{"$f":"SUM($F$28:AJF28)","v":5},{"$f":"SUM($F$28:AJG28)","v":5},{"$f":"SUM($F$28:AJH28)","v":5},{"$f":"SUM($F$28:AJI28)","v":5},{"$f":"SUM($F$28:AJJ28)","v":5},{"$f":"SUM($F$28:AJK28)","v":5},{"$f":"SUM($F$28:AJL28)","v":5},{"$f":"SUM($F$28:AJM28)","v":5},{"$f":"SUM($F$28:AJN28)","v":5},{"$f":"SUM($F$28:AJO28)","v":5},{"$f":"SUM($F$28:AJP28)","v":5},{"$f":"SUM($F$28:AJQ28)","v":5},{"$f":"SUM($F$28:AJR28)","v":5},{"$f":"SUM($F$28:AJS28)","v":5},{"$f":"SUM($F$28:AJT28)","v":5},{"$f":"SUM($F$28:AJU28)","v":5},{"$f":"SUM($F$28:AJV28)","v":5},{"$f":"SUM($F$28:AJW28)","v":5},{"$f":"SUM($F$28:AJX28)","v":5},{"$f":"SUM($F$28:AJY28)","v":5},{"$f":"SUM($F$28:AJZ28)","v":5},{"$f":"SUM($F$28:AKA28)","v":5},{"$f":"SUM($F$28:AKB28)","v":5},{"$f":"SUM($F$28:AKC28)","v":5},{"$f":"SUM($F$28:AKD28)","v":5},{"$f":"SUM($F$28:AKE28)","v":5},{"$f":"SUM($F$28:AKF28)","v":5},{"$f":"SUM($F$28:AKG28)","v":5},{"$f":"SUM($F$28:AKH28)","v":5},{"$f":"SUM($F$28:AKI28)","v":5},{"$f":"SUM($F$28:AKJ28)","v":5},{"$f":"SUM($F$28:AKK28)","v":5},{"$f":"SUM($F$28:AKL28)","v":5},{"$f":"SUM($F$28:AKM28)","v":5},{"$f":"SUM($F$28:AKN28)","v":5},{"$f":"SUM($F$28:AKO28)","v":5},{"$f":"SUM($F$28:AKP28)","v":5},{"$f":"SUM($F$28:AKQ28)","v":5},{"$f":"SUM($F$28:AKR28)","v":5},{"$f":"SUM($F$28:AKS28)","v":5},{"$f":"SUM($F$28:AKT28)","v":5},{"$f":"SUM($F$28:AKU28)","v":5},{"$f":"SUM($F$28:AKV28)","v":5},{"$f":"SUM($F$28:AKW28)","v":5},{"$f":"SUM($F$28:AKX28)","v":5},{"$f":"SUM($F$28:AKY28)","v":5},{"$f":"SUM($F$28:AKZ28)","v":5},{"$f":"SUM($F$28:ALA28)","v":5},{"$f":"SUM($F$28:ALB28)","v":5},{"$f":"SUM($F$28:ALC28)","v":5},{"$f":"SUM($F$28:ALD28)","v":5},{"$f":"SUM($F$28:ALE28)","v":5},{"$f":"SUM($F$28:ALF28)","v":5},{"$f":"SUM($F$28:ALG28)","v":5},{"$f":"SUM($F$28:ALH28)","v":5},{"$f":"SUM($F$28:ALI28)","v":5},{"$f":"SUM($F$28:ALJ28)","v":5},{"$f":"SUM($F$28:ALK28)","v":5},{"$f":"SUM($F$28:ALL28)","v":5},{"$f":"SUM($F$28:ALM28)","v":5},{"$f":"SUM($F$28:ALN28)","v":5},{"$f":"SUM($F$28:ALO28)","v":5},{"$f":"SUM($F$28:ALP28)","v":5},{"$f":"SUM($F$28:ALQ28)","v":5}]
[11,{"$error":"#N/A"},{"$error":"#N/A"},0,{"$f":"IF(D27=0,IF(SUM(D28:$D$30)=0,\"\",E28),D27)","v":""},{"$f":"IF(F28=0,\"\",F29&IF(F28=1,\"\",LOOKUP(F28,$A$96:$A$113,$B$96:$B$113)))","v":"2³"},{"$f":"IF(G28=0,\"\",G29&IF(G28=1,\"\",LOOKUP(G28,$A$96:$A$113,$B$96:$B$113)))","v":"3"},"","7","","","","","","","","","","","","","","","","","","","","","","","","","","","","","","","","","","","","","","","","","","","","","","","","","","","","","","","","","","","","","",{"$f":"IF(BS28=0,\"\",BS29&IF(BS28=1,\"\",LOOKUP(BS28,$A$96:$A$113,$B$96:$B$113)))","v":""},"","","","","","","","","","","","","","","","","","","","","","","","","","","","","","","","","","","","","","","","","","","","","","","","","","","","","","","","","","","","","","","",{"$f":"IF(EE28=0,\"\",EE29&IF(EE28=1,\"\",LOOKUP(EE28,$A$96:$A$113,$B$96:$B$113)))","v":""},"","","","","","","","","","","","","","","","","","","","","","","","","","","","","","","","","","","","","","","","","","","","","","","","","","","","","","","","","","","","","","","",{"$f":"IF(GQ28=0,\"\",GQ29&IF(GQ28=1,\"\",LOOKUP(GQ28,$A$96:$A$113,$B$96:$B$113)))","v":""},"","","","","","","","","","","","","","","","","","","","","","","","","","","","","","","","","","","","","","","","","","","","","","","","","","","","","","","","","","","","","","","",{"$f":"IF(JC28=0,\"\",JC29&IF(JC28=1,\"\",LOOKUP(JC28,$A$96:$A$113,$B$96:$B$113)))","v":""},"","","","","","","","","","","","","","","","","","","","","","","","","","","","","","","","","","","","","","","","","","","","","","","","","","","","","","","","","","","","","","","",{"$f":"IF(LO28=0,\"\",LO29&IF(LO28=1,\"\",LOOKUP(LO28,$A$96:$A$113,$B$96:$B$113)))","v":""},"","","","","","","","","","","","","","","","","","","","","","","","","","","","","","","","","","","","","","","","","","","","","","","","","","","","","","","","","","","","","","","",{"$f":"IF(OA28=0,\"\",OA29&IF(OA28=1,\"\",LOOKUP(OA28,$A$96:$A$113,$B$96:$B$113)))","v":""},"","","","","","","","","","","","","","","","","","","","","","","","","","","","","","","","","","","","","","","","","","","","","","","","","","","","","","","","","","","","","","","",{"$f":"IF(QM28=0,\"\",QM29&IF(QM28=1,\"\",LOOKUP(QM28,$A$96:$A$113,$B$96:$B$113)))","v":""},"","","","","","","","","","","","","","","","","","","","","","","","","","","","","","","","","","","","","","","","","","","","","","","","","","","","","","","","","","","","","","","",{"$f":"IF(SY28=0,\"\",SY29&IF(SY28=1,\"\",LOOKUP(SY28,$A$96:$A$113,$B$96:$B$113)))","v":""},"","","","","","","","","","","","","","","","","","","","","","","","","","","","","","","","","","","","","","","","","","","","","","","","","","","","","","","","","","","","","","","",{"$f":"IF(VK28=0,\"\",VK29&IF(VK28=1,\"\",LOOKUP(VK28,$A$96:$A$113,$B$96:$B$113)))","v":""},"","","","","","","","","","","","","","","","","","","","","","","","","","","","","","","","","","","","","","","","","","","","","","","","","","","","","","","","","","","","","","","",{"$f":"IF(XW28=0,\"\",XW29&IF(XW28=1,\"\",LOOKUP(XW28,$A$96:$A$113,$B$96:$B$113)))","v":""},"","","","","","","","","","","","","","","","","","","","","","","","","","","","","","","","","","","","","","","","","","","","","","","","","","","","","","","","","","","","","","","",{"$f":"IF(AAI28=0,\"\",AAI29&IF(AAI28=1,\"\",LOOKUP(AAI28,$A$96:$A$113,$B$96:$B$113)))","v":""},"","","","","","","","","","","","","","","","","","","","","","","","","","","","","","","","","","","","","","","","","","","","","","","","","","","","","","","","","","","","","","","",{"$f":"IF(ACU28=0,\"\",ACU29&IF(ACU28=1,\"\",LOOKUP(ACU28,$A$96:$A$113,$B$96:$B$113)))","v":""},"","","","","","","","","","","","","","","","","","","","","","","","","","","","","","","","","","","","","","","","","","","","","","","","","","","","","","","","","","","","","","","",{"$f":"IF(AFG28=0,\"\",AFG29&IF(AFG28=1,\"\",LOOKUP(AFG28,$A$96:$A$113,$B$96:$B$113)))","v":""},"","","","","","","","","","","","","","","","","","","","","","","","","","","","","","","","","","","","","","","","","","","","","","","","","","","","","","","","","","","","","","","",{"$f":"IF(AHS28=0,\"\",AHS29&IF(AHS28=1,\"\",LOOKUP(AHS28,$A$96:$A$113,$B$96:$B$113)))","v":""},"","","","","","","","","","","","","","","","","","","","","","","","","","","","","","","","","","","","","","","","","","","","","","","","","","","","","","","","","","","","","","","",{"$f":"IF(AKE28=0,\"\",AKE29&IF(AKE28=1,\"\",LOOKUP(AKE28,$A$96:$A$113,$B$96:$B$113)))","v":""},"","","","","","","","","","","","","","","","","","","","","","","","","","","","","","","","","","","","","",""]
[12,{"$error":"#N/A"},{"$error":"#N/A"},0,{"$f":"IF(D28=0,IF(SUM(D29:$D$30)=0,\"\",E29),D28)","v":""},{"$f":"14-COUNTIF(F30:F43,0)","v":3},{"$f":"14-COUNTIF(G30:G43,0)","v":1},0,1,0,0,0,0,0,0,0,0,0,0,0,0,0,0,0,0,0,0,0,0,0,0,0,0,0,0,0,0,0,0,0,0,0,0,0,0,0,0,0,0,0,0,0,0,0,0,0,0,0,0,0,0,0,0,0,0,0,0,0,0,0,{"$f":"14-COUNTIF(BS30:BS43,0)","v":0},0,0,0,0,0,0,0,0,0,0,0,0,0,0,0,0,0,0,0,0,0,0,0,0,0,0,0,0,0,0,0,0,0,0,0,0,0,0,0,0,0,0,0,0,0,0,0,0,0,0,0,0,0,0,0,0,0,0,0,0,0,0,0,{"$f":"14-COUNTIF(EE30:EE43,0)","v":0},0,0,0,0,0,0,0,0,0,0,0,0,0,0,0,0,0,0,0,0,0,0,0,0,0,0,0,0,0,0,0,0,0,0,0,0,0,0,0,0,0,0,0,0,0,0,0,0,0,0,0,0,0,0,0,0,0,0,0,0,0,0,0,{"$f":"14-COUNTIF(GQ30:GQ43,0)","v":0},0,0,0,0,0,0,0,0,0,0,0,0,0,0,0,0,0,0,0,0,0,0,0,0,0,0,0,0,0,0,0,0,0,0,0,0,0,0,0,0,0,0,0,0,0,0,0,0,0,0,0,0,0,0,0,0,0,0,0,0,0,0,0,{"$f":"14-COUNTIF(JC30:JC43,0)","v":0},0,0,0,0,0,0,0,0,0,0,0,0,0,0,0,0,0,0,0,0,0,0,0,0,0,0,0,0,0,0,0,0,0,0,0,0,0,0,0,0,0,0,0,0,0,0,0,0,0,0,0,0,0,0,0,0,0,0,0,0,0,0,0,{"$f":"14-COUNTIF(LO30:LO43,0)","v":0},0,0,0,0,0,0,0,0,0,0,0,0,0,0,0,0,0,0,0,0,0,0,0,0,0,0,0,0,0,0,0,0,0,0,0,0,0,0,0,0,0,0,0,0,0,0,0,0,0,0,0,0,0,0,0,0,0,0,0,0,0,0,0,{"$f":"14-COUNTIF(OA30:OA43,0)","v":0},0,0,0,0,0,0,0,0,0,0,0,0,0,0,0,0,0,0,0,0,0,0,0,0,0,0,0,0,0,0,0,0,0,0,0,0,0,0,0,0,0,0,0,0,0,0,0,0,0,0,0,0,0,0,0,0,0,0,0,0,0,0,0,{"$f":"14-COUNTIF(QM30:QM43,0)","v":0},0,0,0,0,0,0,0,0,0,0,0,0,0,0,0,0,0,0,0,0,0,0,0,0,0,0,0,0,0,0,0,0,0,0,0,0,0,0,0,0,0,0,0,0,0,0,0,0,0,0,0,0,0,0,0,0,0,0,0,0,0,0,0,{"$f":"14-COUNTIF(SY30:SY43,0)","v":0},0,0,0,0,0,0,0,0,0,0,0,0,0,0,0,0,0,0,0,0,0,0,0,0,0,0,0,0,0,0,0,0,0,0,0,0,0,0,0,0,0,0,0,0,0,0,0,0,0,0,0,0,0,0,0,0,0,0,0,0,0,0,0,{"$f":"14-COUNTIF(VK30:VK43,0)","v":0},0,0,0,0,0,0,0,0,0,0,0,0,0,0,0,0,0,0,0,0,0,0,0,0,0,0,0,0,0,0,0,0,0,0,0,0,0,0,0,0,0,0,0,0,0,0,0,0,0,0,0,0,0,0,0,0,0,0,0,0,0,0,0,{"$f":"14-COUNTIF(XW30:XW43,0)","v":0},0,0,0,0,0,0,0,0,0,0,0,0,0,0,0,0,0,0,0,0,0,0,0,0,0,0,0,0,0,0,0,0,0,0,0,0,0,0,0,0,0,0,0,0,0,0,0,0,0,0,0,0,0,0,0,0,0,0,0,0,0,0,0,{"$f":"14-COUNTIF(AAI30:AAI43,0)","v":0},0,0,0,0,0,0,0,0,0,0,0,0,0,0,0,0,0,0,0,0,0,0,0,0,0,0,0,0,0,0,0,0,0,0,0,0,0,0,0,0,0,0,0,0,0,0,0,0,0,0,0,0,0,0,0,0,0,0,0,0,0,0,0,{"$f":"14-COUNTIF(ACU30:ACU43,0)","v":0},0,0,0,0,0,0,0,0,0,0,0,0,0,0,0,0,0,0,0,0,0,0,0,0,0,0,0,0,0,0,0,0,0,0,0,0,0,0,0,0,0,0,0,0,0,0,0,0,0,0,0,0,0,0,0,0,0,0,0,0,0,0,0,{"$f":"14-COUNTIF(AFG30:AFG43,0)","v":0},0,0,0,0,0,0,0,0,0,0,0,0,0,0,0,0,0,0,0,0,0,0,0,0,0,0,0,0,0,0,0,0,0,0,0,0,0,0,0,0,0,0,0,0,0,0,0,0,0,0,0,0,0,0,0,0,0,0,0,0,0,0,0,{"$f":"14-COUNTIF(AHS30:AHS43,0)","v":0},0,0,0,0,0,0,0,0,0,0,0,0,0,0,0,0,0,0,0,0,0,0,0,0,0,0,0,0,0,0,0,0,0,0,0,0,0,0,0,0,0,0,0,0,0,0,0,0,0,0,0,0,0,0,0,0,0,0,0,0,0,0,0,{"$f":"14-COUNTIF(AKE30:AKE43,0)","v":0},0,0,0,0,0,0,0,0,0,0,0,0,0,0,0,0,0,0,0,0,0,0,0,0,0,0,0,0,0,0,0,0,0,0,0,0,0,0]
[13,{"$error":"#N/A"},{"$error":"#N/A"},0,{"$f":"IF(D29=0,IF(SUM(D30:$D$30)=0,\"\",E30),D29)","v":""},2,3,5,7,11,13,17,19,23,29,31,37,41,43,47,53,59,61,67,71,73,79,83,89,97,101,103,107,109,113,127,131,137,139,149,151,157,163,167,173,179,181,191,193,197,199,211,223,227,229,233,239,241,251,257,263,269,271,277,281,283,293,307,311,313,317,331,337,347,349,353,359,367,373,379,383,389,397,401,409,419,421,431,433,439,443,449,457,461,463,467,479,487,491,499,503,509,521,523,541,547,557,563,569,571,577,587,593,599,601,607,613,617,619,631,641,643,647,653,659,661,673,677,683,691,701,709,719,727,733,739,743,751,757,761,769,773,787,797,809,811,821,823,827,829,839,853,857,859,863,877,881,883,887,907,911,919,929,937,941,947,953,967,971,977,983,991,997,1009,1013,1019,1021,1031,1033,1039,1049,1051,1061,1063,1069,1087,1091,1093,1097,1103,1109,1117,1123,1129,1151,1153,1163,1171,1181,1187,1193,1201,1213,1217,1223,1229,1231,1237,1249,1259,1277,1279,1283,1289,1291,1297,1301,1303,1307,1319,1321,1327,1361,1367,1373,1381,1399,1409,1423,1427,1429,1433,1439,1447,1451,1453,1459,1471,1481,1483,1487,1489,1493,1499,1511,1523,1531,1543,1549,1553,1559,1567,1571,1579,1583,1597,1601,1607,1609,1613,1619,1621,1627,1637,1657,1663,1667,1669,1693,1697,1699,1709,1721,1723,1733,1741,1747,1753,1759,1777,1783,1787,1789,1801,1811,1823,1831,1847,1861,1867,1871,1873,1877,1879,1889,1901,1907,1913,1931,1933,1949,1951,1973,1979,1987,1993,1997,1999,2003,2011,2017,2027,2029,2039,2053,2063,2069,2081,2083,2087,2089,2099,2111,2113,2129,2131,2137,2141,2143,2153,2161,2179,2203,2207,2213,2221,2237,2239,2243,2251,2267,2269,2273,2281,2287,2293,2297,2309,2311,2333,2339,2341,2347,2351,2357,2371,2377,2381,2383,2389,2393,2399,2411,2417,2423,2437,2441,2447,2459,2467,2473,2477,2503,2521,2531,2539,2543,2549,2551,2557,2579,2591,2593,2609,2617,2621,2633,2647,2657,2659,2663,2671,2677,2683,2687,2689,2693,2699,2707,2711,2713,2719,2729,2731,2741,2749,2753,2767,2777,2789,2791,2797,2801,2803,2819,2833,2837,2843,2851,2857,2861,2879,2887,2897,2903,2909,2917,2927,2939,2953,2957,2963,2969,2971,2999,3001,3011,3019,3023,3037,3041,3049,3061,3067,3079,3083,3089,3109,3119,3121,3137,3163,3167,3169,3181,3187,3191,3203,3209,3217,3221,3229,3251,3253,3257,3259,3271,3299,3301,3307,3313,3319,3323,3329,3331,3343,3347,3359,3361,3371,3373,3389,3391,3407,3413,3433,3449,3457,3461,3463,3467,3469,3491,3499,3511,3517,3527,3529,3533,3539,3541,3547,3557,3559,3571,3581,3583,3593,3607,3613,3617,3623,3631,3637,3643,3659,3671,3673,3677,3691,3697,3701,3709,3719,3727,3733,3739,3761,3767,3769,3779,3793,3797,3803,3821,3823,3833,3847,3851,3853,3863,3877,3881,3889,3907,3911,3917,3919,3923,3929,3931,3943,3947,3967,3989,4001,4003,4007,4013,4019,4021,4027,4049,4051,4057,4073,4079,4091,4093,4099,4111,4127,4129,4133,4139,4153,4157,4159,4177,4201,4211,4217,4219,4229,4231,4241,4243,4253,4259,4261,4271,4273,4283,4289,4297,4327,4337,4339,4349,4357,4363,4373,4391,4397,4409,4421,4423,4441,4447,4451,4457,4463,4481,4483,4493,4507,4513,4517,4519,4523,4547,4549,4561,4567,4583,4591,4597,4603,4621,4637,4639,4643,4649,4651,4657,4663,4673,4679,4691,4703,4721,4723,4729,4733,4751,4759,4783,4787,4789,4793,4799,4801,4813,4817,4831,4861,4871,4877,4889,4903,4909,4919,4931,4933,4937,4943,4951,4957,4967,4969,4973,4987,4993,4999,5003,5009,5011,5021,5023,5039,5051,5059,5077,5081,5087,5099,5101,5107,5113,5119,5147,5153,5167,5171,5179,5189,5197,5209,5227,5231,5233,5237,5261,5273,5279,5281,5297,5303,5309,5323,5333,5347,5351,5381,5387,5393,5399,5407,5413,5417,5419,5431,5437,5441,5443,5449,5471,5477,5479,5483,5501,5503,5507,5519,5521,5527,5531,5557,5563,5569,5573,5581,5591,5623,5639,5641,5647,5651,5653,5657,5659,5669,5683,5689,5693,5701,5711,5717,5737,5741,5743,5749,5779,5783,5791,5801,5807,5813,5821,5827,5839,5843,5849,5851,5857,5861,5867,5869,5879,5881,5897,5903,5923,5927,5939,5953,5981,5987,6007,6011,6029,6037,6043,6047,6053,6067,6073,6079,6089,6091,6101,6113,6121,6131,6133,6143,6151,6163,6173,6197,6199,6203,6211,6217,6221,6229,6247,6257,6263,6269,6271,6277,6287,6299,6301,6311,6317,6323,6329,6337,6343,6353,6359,6361,6367,6373,6379,6389,6397,6421,6427,6449,6451,6469,6473,6481,6491,6521,6529,6547,6551,6553,6563,6569,6571,6577,6581,6599,6607,6619,6637,6653,6659,6661,6673,6679,6689,6691,6701,6703,6709,6719,6733,6737,6761,6763,6779,6781,6791,6793,6803,6823,6827,6829,6833,6841,6857,6863,6869,6871,6883,6899,6907,6911,6917,6947,6949,6959,6961,6967,6971,6977,6983,6991,6997,7001,7013,7019,7027,7039,7043,7057,7069,7079,7103,7109,7121,7127,7129,7151,7159,7177,7187,7193,7207,7211,7213,7219,7229,7237,7243,7247,7253,7283,7297,7307,7309,7321,7331,7333,7349,7351,7369,7393,7411,7417,7433,7451,7457,7459,7477,7481,7487,7489,7499,7507,7517,7523,7529,7537,7541,7547,7549,7559,7561,7573,7577,7583,7589,7591,7603,7607,7621,7639,7643,7649,7669,7673,7681,7687,7691,7699,7703,7717,7723,7727,7741,7753,7757,7759,7789,7793,7817,7823,7829,7841,7853,7867,7873,7877,7879,7883,7901,7907,7919]
[14,{"$error":"#N/A"},{"$error":"#N/A"},0,{"$f":"IF(D30=0,\"\",D30)","v":""},{"$f":"IF($B6/F$6=ROUND($B6/F$6,0),$B6/F$6,0)","v":84},56,0,24,0,0,0,0,0,0,0,0,0,0,0,0,0,0,0,0,0,0,0,0,0,0,0,0,0,0,0,0,0,0,0,0,0,0,0,0,0,0,0,0,0,0,0,0,0,0,0,0,0,0,0,0,0,0,0,0,0,0,0,0,{"$f":"IF($B6/BR$6=ROUND($B6/BR$6,0),$B6/BR$6,0)","v":0},0,0,0,0,0,0,0,0,0,0,0,0,0,0,0,0,0,0,0,0,0,0,0,0,0,0,0,0,0,0,0,0,0,0,0,0,0,0,0,0,0,0,0,0,0,0,0,0,0,0,0,0,0,0,0,0,0,0,0,0,0,0,0,{"$f":"IF($B6/ED$6=ROUND($B6/ED$6,0),$B6/ED$6,0)","v":0},0,0,0,0,0,0,0,0,0,0,0,0,0,0,0,0,0,0,0,0,0,0,0,0,0,0,0,0,0,0,0,0,0,0,0,0,0,0,0,0,0,0,0,0,0,0,0,0,0,0,0,0,0,0,0,0,0,0,0,0,0,0,0,{"$f":"IF($B6/GP$6=ROUND($B6/GP$6,0),$B6/GP$6,0)","v":0},0,0,0,0,0,0,0,0,0,0,0,0,0,0,0,0,0,0,0,0,0,0,0,0,0,0,0,0,0,0,0,0,0,0,0,0,0,0,0,0,0,0,0,0,0,0,0,0,0,0,0,0,0,0,0,0,0,0,0,0,0,0,0,{"$f":"IF($B6/JB$6=ROUND($B6/JB$6,0),$B6/JB$6,0)","v":0},0,0,0,0,0,0,0,0,0,0,0,0,0,0,0,0,0,0,0,0,0,0,0,0,0,0,0,0,0,0,0,0,0,0,0,0,0,0,0,0,0,0,0,0,0,0,0,0,0,0,0,0,0,0,0,0,0,0,0,0,0,0,0,{"$f":"IF($B6/LN$6=ROUND($B6/LN$6,0),$B6/LN$6,0)","v":0},0,0,0,0,0,0,0,0,0,0,0,0,0,0,0,0,0,0,0,0,0,0,0,0,0,0,0,0,0,0,0,0,0,0,0,0,0,0,0,0,0,0,0,0,0,0,0,0,0,0,0,0,0,0,0,0,0,0,0,0,0,0,0,{"$f":"IF($B6/NZ$6=ROUND($B6/NZ$6,0),$B6/NZ$6,0)","v":0},0,0,0,0,0,0,0,0,0,0,0,0,0,0,0,0,0,0,0,0,0,0,0,0,0,0,0,0,0,0,0,0,0,0,0,0,0,0,0,0,0,0,0,0,0,0,0,0,0,0,0,0,0,0,0,0,0,0,0,0,0,0,0,{"$f":"IF($B6/QL$6=ROUND($B6/QL$6,0),$B6/QL$6,0)","v":0},0,0,0,0,0,0,0,0,0,0,0,0,0,0,0,0,0,0,0,0,0,0,0,0,0,0,0,0,0,0,0,0,0,0,0,0,0,0,0,0,0,0,0,0,0,0,0,0,0,0,0,0,0,0,0,0,0,0,0,0,0,0,0,{"$f":"IF($B6/SX$6=ROUND($B6/SX$6,0),$B6/SX$6,0)","v":0},0,0,0,0,0,0,0,0,0,0,0,0,0,0,0,0,0,0,0,0,0,0,0,0,0,0,0,0,0,0,0,0,0,0,0,0,0,0,0,0,0,0,0,0,0,0,0,0,0,0,0,0,0,0,0,0,0,0,0,0,0,0,0,{"$f":"IF($B6/VJ$6=ROUND($B6/VJ$6,0),$B6/VJ$6,0)","v":0},0,0,0,0,0,0,0,0,0,0,0,0,0,0,0,0,0,0,0,0,0,0,0,0,0,0,0,0,0,0,0,0,0,0,0,0,0,0,0,0,0,0,0,0,0,0,0,0,0,0,0,0,0,0,0,0,0,0,0,0,0,0,0,{"$f":"IF($B6/XV$6=ROUND($B6/XV$6,0),$B6/XV$6,0)","v":0},0,0,0,0,0,0,0,0,0,0,0,0,0,0,0,0,0,0,0,0,0,0,0,0,0,0,0,0,0,0,0,0,0,0,0,0,0,0,0,0,0,0,0,0,0,0,0,0,0,0,0,0,0,0,0,0,0,0,0,0,0,0,0,{"$f":"IF($B6/AAH$6=ROUND($B6/AAH$6,0),$B6/AAH$6,0)","v":0},0,0,0,0,0,0,0,0,0,0,0,0,0,0,0,0,0,0,0,0,0,0,0,0,0,0,0,0,0,0,0,0,0,0,0,0,0,0,0,0,0,0,0,0,0,0,0,0,0,0,0,0,0,0,0,0,0,0,0,0,0,0,0,{"$f":"IF($B6/ACT$6=ROUND($B6/ACT$6,0),$B6/ACT$6,0)","v":0},0,0,0,0,0,0,0,0,0,0,0,0,0,0,0,0,0,0,0,0,0,0,0,0,0,0,0,0,0,0,0,0,0,0,0,0,0,0,0,0,0,0,0,0,0,0,0,0,0,0,0,0,0,0,0,0,0,0,0,0,0,0,0,{"$f":"IF($B6/AFF$6=ROUND($B6/AFF$6,0),$B6/AFF$6,0)","v":0},0,0,0,0,0,0,0,0,0,0,0,0,0,0,0,0,0,0,0,0,0,0,0,0,0,0,0,0,0,0,0,0,0,0,0,0,0,0,0,0,0,0,0,0,0,0,0,0,0,0,0,0,0,0,0,0,0,0,0,0,0,0,0,{"$f":"IF($B6/AHR$6=ROUND($B6/AHR$6,0),$B6/AHR$6,0)","v":0},0,0,0,0,0,0,0,0,0,0,0,0,0,0,0,0,0,0,0,0,0,0,0,0,0,0,0,0,0,0,0,0,0,0,0,0,0,0,0,0,0,0,0,0,0,0,0,0,0,0,0,0,0,0,0,0,0,0,0,0,0,0,0,{"$f":"IF($B6/AKD$6=ROUND($B6/AKD$6,0),$B6/AKD$6,0)","v":0},0,0,0,0,0,0,0,0,0,0,0,0,0,0,0,0,0,0,0,0,0,0,0,0,0,0,0,0,0,0,0,0,0,0,0,0,0,0,0]
[null,null,null,null,null,{"$f":"IF(AND(F30/F$6=ROUND(F30/F$6,0),NOT(F30=0)),F30/F$6,0)","v":42},0,0,0,0,0,0,0,0,0,0,0,0,0,0,0,0,0,0,0,0,0,0,0,0,0,0,0,0,0,0,0,0,0,0,0,0,0,0,0,0,0,0,0,0,0,0,0,0,0,0,0,0,0,0,0,0,0,0,0,0,0,0,0,{"$f":"IF(AND(BR30/BR$6=ROUND(BR30/BR$6,0),NOT(BR30=0)),BR30/BR$6,0)","v":0},0,0,0,0,0,0,0,0,0,0,0,0,0,0,0,0,0,0,0,0,0,0,0,0,0,0,0,0,0,0,0,0,0,0,0,0,0,0,0,0,0,0,0,0,0,0,0,0,0,0,0,0,0,0,0,0,0,0,0,0,0,0,0,{"$f":"IF(AND(ED30/ED$6=ROUND(ED30/ED$6,0),NOT(ED30=0)),ED30/ED$6,0)","v":0},0,0,0,0,0,0,0,0,0,0,0,0,0,0,0,0,0,0,0,0,0,0,0,0,0,0,0,0,0,0,0,0,0,0,0,0,0,0,0,0,0,0,0,0,0,0,0,0,0,0,0,0,0,0,0,0,0,0,0,0,0,0,0,{"$f":"IF(AND(GP30/GP$6=ROUND(GP30/GP$6,0),NOT(GP30=0)),GP30/GP$6,0)","v":0},0,0,0,0,0,0,0,0,0,0,0,0,0,0,0,0,0,0,0,0,0,0,0,0,0,0,0,0,0,0,0,0,0,0,0,0,0,0,0,0,0,0,0,0,0,0,0,0,0,0,0,0,0,0,0,0,0,0,0,0,0,0,0,{"$f":"IF(AND(JB30/JB$6=ROUND(JB30/JB$6,0),NOT(JB30=0)),JB30/JB$6,0)","v":0},0,0,0,0,0,0,0,0,0,0,0,0,0,0,0,0,0,0,0,0,0,0,0,0,0,0,0,0,0,0,0,0,0,0,0,0,0,0,0,0,0,0,0,0,0,0,0,0,0,0,0,0,0,0,0,0,0,0,0,0,0,0,0,{"$f":"IF(AND(LN30/LN$6=ROUND(LN30/LN$6,0),NOT(LN30=0)),LN30/LN$6,0)","v":0},0,0,0,0,0,0,0,0,0,0,0,0,0,0,0,0,0,0,0,0,0,0,0,0,0,0,0,0,0,0,0,0,0,0,0,0,0,0,0,0,0,0,0,0,0,0,0,0,0,0,0,0,0,0,0,0,0,0,0,0,0,0,0,{"$f":"IF(AND(NZ30/NZ$6=ROUND(NZ30/NZ$6,0),NOT(NZ30=0)),NZ30/NZ$6,0)","v":0},0,0,0,0,0,0,0,0,0,0,0,0,0,0,0,0,0,0,0,0,0,0,0,0,0,0,0,0,0,0,0,0,0,0,0,0,0,0,0,0,0,0,0,0,0,0,0,0,0,0,0,0,0,0,0,0,0,0,0,0,0,0,0,{"$f":"IF(AND(QL30/QL$6=ROUND(QL30/QL$6,0),NOT(QL30=0)),QL30/QL$6,0)","v":0},0,0,0,0,0,0,0,0,0,0,0,0,0,0,0,0,0,0,0,0,0,0,0,0,0,0,0,0,0,0,0,0,0,0,0,0,0,0,0,0,0,0,0,0,0,0,0,0,0,0,0,0,0,0,0,0,0,0,0,0,0,0,0,{"$f":"IF(AND(SX30/SX$6=ROUND(SX30/SX$6,0),NOT(SX30=0)),SX30/SX$6,0)","v":0},0,0,0,0,0,0,0,0,0,0,0,0,0,0,0,0,0,0,0,0,0,0,0,0,0,0,0,0,0,0,0,0,0,0,0,0,0,0,0,0,0,0,0,0,0,0,0,0,0,0,0,0,0,0,0,0,0,0,0,0,0,0,0,{"$f":"IF(AND(VJ30/VJ$6=ROUND(VJ30/VJ$6,0),NOT(VJ30=0)),VJ30/VJ$6,0)","v":0},0,0,0,0,0,0,0,0,0,0,0,0,0,0,0,0,0,0,0,0,0,0,0,0,0,0,0,0,0,0,0,0,0,0,0,0,0,0,0,0,0,0,0,0,0,0,0,0,0,0,0,0,0,0,0,0,0,0,0,0,0,0,0,{"$f":"IF(AND(XV30/XV$6=ROUND(XV30/XV$6,0),NOT(XV30=0)),XV30/XV$6,0)","v":0},0,0,0,0,0,0,0,0,0,0,0,0,0,0,0,0,0,0,0,0,0,0,0,0,0,0,0,0,0,0,0,0,0,0,0,0,0,0,0,0,0,0,0,0,0,0,0,0,0,0,0,0,0,0,0,0,0,0,0,0,0,0,0,{"$f":"IF(AND(AAH30/AAH$6=ROUND(AAH30/AAH$6,0),NOT(AAH30=0)),AAH30/AAH$6,0)","v":0},0,0,0,0,0,0,0,0,0,0,0,0,0,0,0,0,0,0,0,0,0,0,0,0,0,0,0,0,0,0,0,0,0,0,0,0,0,0,0,0,0,0,0,0,0,0,0,0,0,0,0,0,0,0,0,0,0,0,0,0,0,0,0,{"$f":"IF(AND(ACT30/ACT$6=ROUND(ACT30/ACT$6,0),NOT(ACT30=0)),ACT30/ACT$6,0)","v":0},0,0,0,0,0,0,0,0,0,0,0,0,0,0,0,0,0,0,0,0,0,0,0,0,0,0,0,0,0,0,0,0,0,0,0,0,0,0,0,0,0,0,0,0,0,0,0,0,0,0,0,0,0,0,0,0,0,0,0,0,0,0,0,{"$f":"IF(AND(AFF30/AFF$6=ROUND(AFF30/AFF$6,0),NOT(AFF30=0)),AFF30/AFF$6,0)","v":0},0,0,0,0,0,0,0,0,0,0,0,0,0,0,0,0,0,0,0,0,0,0,0,0,0,0,0,0,0,0,0,0,0,0,0,0,0,0,0,0,0,0,0,0,0,0,0,0,0,0,0,0,0,0,0,0,0,0,0,0,0,0,0,{"$f":"IF(AND(AHR30/AHR$6=ROUND(AHR30/AHR$6,0),NOT(AHR30=0)),AHR30/AHR$6,0)","v":0},0,0,0,0,0,0,0,0,0,0,0,0,0,0,0,0,0,0,0,0,0,0,0,0,0,0,0,0,0,0,0,0,0,0,0,0,0,0,0,0,0,0,0,0,0,0,0,0,0,0,0,0,0,0,0,0,0,0,0,0,0,0,0,{"$f":"IF(AND(AKD30/AKD$6=ROUND(AKD30/AKD$6,0),NOT(AKD30=0)),AKD30/AKD$6,0)","v":0},0,0,0,0,0,0,0,0,0,0,0,0,0,0,0,0,0,0,0,0,0,0,0,0,0,0,0,0,0,0,0,0,0,0,0,0,0,0,0]
["#2:",null,null,null,null,21,0,0,0,0,0,0,0,0,0,0,0,0,0,0,0,0,0,0,0,0,0,0,0,0,0,0,0,0,0,0,0,0,0,0,0,0,0,0,0,0,0,0,0,0,0,0,0,0,0,0,0,0,0,0,0,0,0,0,0,0,0,0,0,0,0,0,0,0,0,0,0,0,0,0,0,0,0,0,0,0,0,0,0,0,0,0,0,0,0,0,0,0,0,0,0,0,0,0,0,0,0,0,0,0,0,0,0,0,0,0,0,0,0,0,0,0,0,0,0,0,0,0,0,0,0,0,0,0,0,0,0,0,0,0,0,0,0,0,0,0,0,0,0,0,0,0,0,0,0,0,0,0,0,0,0,0,0,0,0,0,0,0,0,0,0,0,0,0,0,0,0,0,0,0,0,0,0,0,0,0,0,0,0,0,0,0,0,0,0,0,0,0,0,0,0,0,0,0,0,0,0,0,0,0,0,0,0,0,0,0,0,0,0,0,0,0,0,0,0,0,0,0,0,0,0,0,0,0,0,0,0,0,0,0,0,0,0,0,0,0,0,0,0,0,0,0,0,0,0,0,0,0,0,0,0,0,0,0,0,0,0,0,0,0,0,0,0,0,0,0,0,0,0,0,0,0,0,0,0,0,0,0,0,0,0,0,0,0,0,0,0,0,0,0,0,0,0,0,0,0,0,0,0,0,0,0,0,0,0,0,0,0,0,0,0,0,0,0,0,0,0,0,0,0,0,0,0,0,0,0,0,0,0,0,0,0,0,0,0,0,0,0,0,0,0,0,0,0,0,0,0,0,0,0,0,0,0,0,0,0,0,0,0,0,0,0,0,0,0,0,0,0,0,0,0,0,0,0,0,0,0,0,0,0,0,0,0,0,0,0,0,0,0,0,0,0,0,0,0,0,0,0,0,0,0,0,0,0,0,0,0,0,0,0,0,0,0,0,0,0,0,0,0,0,0,0,0,0,0,0,0,0,0,0,0,0,0,0,0,0,0,0,0,0,0,0,0,0,0,0,0,0,0,0,0,0,0,0,0,0,0,0,0,0,0,0,0,0,0,0,0,0,0,0,0,0,0,0,0,0,0,0,0,0,0,0,0,0,0,0,0,0,0,0,0,0,0,0,0,0,0,0,0,0,0,0,0,0,0,0,0,0,0,0,0,0,0,0,0,0,0,0,0,0,0,0,0,0,0,0,0,0,0,0,0,0,0,0,0,0,0,0,0,0,0,0,0,0,0,0,0,0,0,0,0,0,0,0,0,0,0,0,0,0,0,0,0,0,0,0,0,0,0,0,0,0,0,0,0,0,0,0,0,0,0,0,0,0,0,0,0,0,0,0,0,0,0,0,0,0,0,0,0,0,0,0,0,0,0,0,0,0,0,0,0,0,0,0,0,0,0,0,0,0,0,0,0,0,0,0,0,0,0,0,0,0,0,0,0,0,0,0,0,0,0,0,0,0,0,0,0,0,0,0,0,0,0,0,0,0,0,0,0,0,0,0,0,0,0,0,0,0,0,0,0,0,0,0,0,0,0,0,0,0,0,0,0,0,0,0,0,0,0,0,0,0,0,0,0,0,0,0,0,0,0,0,0,0,0,0,0,0,0,0,0,0,0,0,0,0,0,0,0,0,0,0,0,0,0,0,0,0,0,0,0,0,0,0,0,0,0,0,0,0,0,0,0,0,0,0,0,0,0,0,0,0,0,0,0,0,0,0,0,0,0,0,0,0,0,0,0,0,0,0,0,0,0,0,0,0,0,0,0,0,0,0,0,0,0,0,0,0,0,0,0,0,0,0,0,0,0,0,0,0,0,0,0,0,0,0,0,0,0,0,0,0,0,0,0,0,0,0,0,0,0,0,0,0,0,0,0,0,0,0,0,0,0,0,0,0,0,0,0,0,0,0,0,0,0,0,0,0,0,0,0,0,0,0,0,0,0,0,0,0,0,0,0,0,0,0,0,0,0,0,0,0,0,0,0,0,0,0,0,0,0,0,0,0,0,0,0,0,0,0,0,0,0,0,0,0,0,0,0,0,0,0,0,0,0,0,0,0,0,0,0,0,0,0,0,0,0,0,0,0,0,0,0,0,0,0,0,0,0,0,0,0,0,0,0,0,0,0,0,0,0,0,0,0,0,0,0,0,0,0,0,0,0,0,0,0,0,0,0,0,0,0,0,0,0,0,0,0,0,0,0,0,0,0,0,0,0,0,0,0,0,0,0,0,0,0,0,0,0,0,0,0,0,0,0]
[1,{"$f":"MATCH(A33,$F$26:$ALQ$26,0)","v":{"$error":"#N/A"}},{"$f":"LOOKUP(B33,$F$1:$ALQ$1,$F$6:$ALQ$6)","v":{"$error":"#N/A"}},{"$f":"IF(ISERROR(C33),0,C33)","v":0},{"$f":"IF(D33=0,IF(SUM(D34:$D$46)=0,\"\",E34),D33)","v":2},0,0,0,0,0,0,0,0,0,0,0,0,0,0,0,0,0,0,0,0,0,0,0,0,0,0,0,0,0,0,0,0,0,0,0,0,0,0,0,0,0,0,0,0,0,0,0,0,0,0,0,0,0,0,0,0,0,0,0,0,0,0,0,0,0,0,0,0,0,0,0,0,0,0,0,0,0,0,0,0,0,0,0,0,0,0,0,0,0,0,0,0,0,0,0,0,0,0,0,0,0,0,0,0,0,0,0,0,0,0,0,0,0,0,0,0,0,0,0,0,0,0,0,0,0,0,0,0,0,0,0,0,0,0,0,0,0,0,0,0,0,0,0,0,0,0,0,0,0,0,0,0,0,0,0,0,0,0,0,0,0,0,0,0,0,0,0,0,0,0,0,0,0,0,0,0,0,0,0,0,0,0,0,0,0,0,0,0,0,0,0,0,0,0,0,0,0,0,0,0,0,0,0,0,0,0,0,0,0,0,0,0,0,0,0,0,0,0,0,0,0,0,0,0,0,0,0,0,0,0,0,0,0,0,0,0,0,0,0,0,0,0,0,0,0,0,0,0,0,0,0,0,0,0,0,0,0,0,0,0,0,0,0,0,0,0,0,0,0,0,0,0,0,0,0,0,0,0,0,0,0,0,0,0,0,0,0,0,0,0,0,0,0,0,0,0,0,0,0,0,0,0,0,0,0,0,0,0,0,0,0,0,0,0,0,0,0,0,0,0,0,0,0,0,0,0,0,0,0,0,0,0,0,0,0,0,0,0,0,0,0,0,0,0,0,0,0,0,0,0,0,0,0,0,0,0,0,0,0,0,0,0,0,0,0,0,0,0,0,0,0,0,0,0,0,0,0,0,0,0,0,0,0,0,0,0,0,0,0,0,0,0,0,0,0,0,0,0,0,0,0,0,0,0,0,0,0,0,0,0,0,0,0,0,0,0,0,0,0,0,0,0,0,0,0,0,0,0,0,0,0,0,0,0,0,0,0,0,0,0,0,0,0,0,0,0,0,0,0,0,0,0,0,0,0,0,0,0,0,0,0,0,0,0,0,0,0,0,0,0,0,0,0,0,0,0,0,0,0,0,0,0,0,0,0,0,0,0,0,0,0,0,0,0,0,0,0,0,0,0,0,0,0,0,0,0,0,0,0,0,0,0,0,0,0,0,0,0,0,0,0,0,0,0,0,0,0,0,0,0,0,0,0,0,0,0,0,0,0,0,0,0,0,0,0,0,0,0,0,0,0,0,0,0,0,0,0,0,0,0,0,0,0,0,0,0,0,0,0,0,0,0,0,0,0,0,0,0,0,0,0,0,0,0,0,0,0,0,0,0,0,0,0,0,0,0,0,0,0,0,0,0,0,0,0,0,0,0,0,0,0,0,0,0,0,0,0,0,0,0,0,0,0,0,0,0,0,0,0,0,0,0,0,0,0,0,0,0,0,0,0,0,0,0,0,0,0,0,0,0,0,0,0,0,0,0,0,0,0,0,0,0,0,0,0,0,0,0,0,0,0,0,0,0,0,0,0,0,0,0,0,0,0,0,0,0,0,0,0,0,0,0,0,0,0,0,0,0,0,0,0,0,0,0,0,0,0,0,0,0,0,0,0,0,0,0,0,0,0,0,0,0,0,0,0,0,0,0,0,0,0,0,0,0,0,0,0,0,0,0,0,0,0,0,0,0,0,0,0,0,0,0,0,0,0,0,0,0,0,0,0,0,0,0,0,0,0,0,0,0,0,0,0,0,0,0,0,0,0,0,0,0,0,0,0,0,0,0,0,0,0,0,0,0,0,0,0,0,0,0,0,0,0,0,0,0,0,0,0,0,0,0,0,0,0,0,0,0,0,0,0,0,0,0,0,0,0,0,0,0,0,0,0,0,0,0,0,0,0,0,0,0,0,0,0,0,0,0,0,0,0,0,0,0,0,0,0,0,0,0,0,0,0,0,0,0,0,0,0,0,0,0,0,0,0,0,0,0,0,0,0,0,0,0,0,0,0,0,0,0,0,0,0,0,0,0,0,0,0,0,0,0,0,0,0,0,0,0,0,0,0,0,0,0,0,0,0,0,0,0,0,0,0,0,0,0,0,0,0,0,0,0,0,0,0,0,0,0,0,0,0,0,0,0,0,0,0,0,0,0,0,0,0,0,0,0,0,0,0,0,0,0,0,0,0,0,0,0,0,0,0,0,0,0,0,0,0,0,0,0,0,0,0,0,0,0,0,0,0,0,0,0,0,0,0,0,0,0,0,0]
[2,{"$f":"MATCH(A34,$F$26:$ALQ$26,0)","v":{"$error":"#N/A"}},{"$f":"LOOKUP(B34,$F$1:$ALQ$1,$F$6:$ALQ$6)","v":{"$error":"#N/A"}},{"$f":"IF(ISERROR(C34),0,C34)","v":0},{"$f":"IF(D34=0,IF(SUM(D35:$D$46)=0,\"\",E35),D34)","v":2},0,0,0,0,0,0,0,0,0,0,0,0,0,0,0,0,0,0,0,0,0,0,0,0,0,0,0,0,0,0,0,0,0,0,0,0,0,0,0,0,0,0,0,0,0,0,0,0,0,0,0,0,0,0,0,0,0,0,0,0,0,0,0,{"$f":"IF(AND(BQ33/BQ$6=ROUND(BQ33/BQ$6,0),NOT(BQ33=0)),BQ33/BQ$6,0)","v":0},0,0,0,0,0,0,0,0,0,0,0,0,0,0,0,0,0,0,0,0,0,0,0,0,0,0,0,0,0,0,0,0,0,0,0,0,0,0,0,0,0,0,0,0,0,0,0,0,0,0,0,0,0,0,0,0,0,0,0,0,0,0,0,{"$f":"IF(AND(EC33/EC$6=ROUND(EC33/EC$6,0),NOT(EC33=0)),EC33/EC$6,0)","v":0},0,0,0,0,0,0,0,0,0,0,0,0,0,0,0,0,0,0,0,0,0,0,0,0,0,0,0,0,0,0,0,0,0,0,0,0,0,0,0,0,0,0,0,0,0,0,0,0,0,0,0,0,0,0,0,0,0,0,0,0,0,0,0,{"$f":"IF(AND(GO33/GO$6=ROUND(GO33/GO$6,0),NOT(GO33=0)),GO33/GO$6,0)","v":0},0,0,0,0,0,0,0,0,0,0,0,0,0,0,0,0,0,0,0,0,0,0,0,0,0,0,0,0,0,0,0,0,0,0,0,0,0,0,0,0,0,0,0,0,0,0,0,0,0,0,0,0,0,0,0,0,0,0,0,0,0,0,0,{"$f":"IF(AND(JA33/JA$6=ROUND(JA33/JA$6,0),NOT(JA33=0)),JA33/JA$6,0)","v":0},0,0,0,0,0,0,0,0,0,0,0,0,0,0,0,0,0,0,0,0,0,0,0,0,0,0,0,0,0,0,0,0,0,0,0,0,0,0,0,0,0,0,0,0,0,0,0,0,0,0,0,0,0,0,0,0,0,0,0,0,0,0,0,{"$f":"IF(AND(LM33/LM$6=ROUND(LM33/LM$6,0),NOT(LM33=0)),LM33/LM$6,0)","v":0},0,0,0,0,0,0,0,0,0,0,0,0,0,0,0,0,0,0,0,0,0,0,0,0,0,0,0,0,0,0,0,0,0,0,0,0,0,0,0,0,0,0,0,0,0,0,0,0,0,0,0,0,0,0,0,0,0,0,0,0,0,0,0,{"$f":"IF(AND(NY33/NY$6=ROUND(NY33/NY$6,0),NOT(NY33=0)),NY33/NY$6,0)","v":0},0,0,0,0,0,0,0,0,0,0,0,0,0,0,0,0,0,0,0,0,0,0,0,0,0,0,0,0,0,0,0,0,0,0,0,0,0,0,0,0,0,0,0,0,0,0,0,0,0,0,0,0,0,0,0,0,0,0,0,0,0,0,0,{"$f":"IF(AND(QK33/QK$6=ROUND(QK33/QK$6,0),NOT(QK33=0)),QK33/QK$6,0)","v":0},0,0,0,0,0,0,0,0,0,0,0,0,0,0,0,0,0,0,0,0,0,0,0,0,0,0,0,0,0,0,0,0,0,0,0,0,0,0,0,0,0,0,0,0,0,0,0,0,0,0,0,0,0,0,0,0,0,0,0,0,0,0,0,{"$f":"IF(AND(SW33/SW$6=ROUND(SW33/SW$6,0),NOT(SW33=0)),SW33/SW$6,0)","v":0},0,0,0,0,0,0,0,0,0,0,0,0,0,0,0,0,0,0,0,0,0,0,0,0,0,0,0,0,0,0,0,0,0,0,0,0,0,0,0,0,0,0,0,0,0,0,0,0,0,0,0,0,0,0,0,0,0,0,0,0,0,0,0,{"$f":"IF(AND(VI33/VI$6=ROUND(VI33/VI$6,0),NOT(VI33=0)),VI33/VI$6,0)","v":0},0,0,0,0,0,0,0,0,0,0,0,0,0,0,0,0,0,0,0,0,0,0,0,0,0,0,0,0,0,0,0,0,0,0,0,0,0,0,0,0,0,0,0,0,0,0,0,0,0,0,0,0,0,0,0,0,0,0,0,0,0,0,0,{"$f":"IF(AND(XU33/XU$6=ROUND(XU33/XU$6,0),NOT(XU33=0)),XU33/XU$6,0)","v":0},0,0,0,0,0,0,0,0,0,0,0,0,0,0,0,0,0,0,0,0,0,0,0,0,0,0,0,0,0,0,0,0,0,0,0,0,0,0,0,0,0,0,0,0,0,0,0,0,0,0,0,0,0,0,0,0,0,0,0,0,0,0,0,{"$f":"IF(AND(AAG33/AAG$6=ROUND(AAG33/AAG$6,0),NOT(AAG33=0)),AAG33/AAG$6,0)","v":0},0,0,0,0,0,0,0,0,0,0,0,0,0,0,0,0,0,0,0,0,0,0,0,0,0,0,0,0,0,0,0,0,0,0,0,0,0,0,0,0,0,0,0,0,0,0,0,0,0,0,0,0,0,0,0,0,0,0,0,0,0,0,0,{"$f":"IF(AND(ACS33/ACS$6=ROUND(ACS33/ACS$6,0),NOT(ACS33=0)),ACS33/ACS$6,0)","v":0},0,0,0,0,0,0,0,0,0,0,0,0,0,0,0,0,0,0,0,0,0,0,0,0,0,0,0,0,0,0,0,0,0,0,0,0,0,0,0,0,0,0,0,0,0,0,0,0,0,0,0,0,0,0,0,0,0,0,0,0,0,0,0,{"$f":"IF(AND(AFE33/AFE$6=ROUND(AFE33/AFE$6,0),NOT(AFE33=0)),AFE33/AFE$6,0)","v":0},0,0,0,0,0,0,0,0,0,0,0,0,0,0,0,0,0,0,0,0,0,0,0,0,0,0,0,0,0,0,0,0,0,0,0,0,0,0,0,0,0,0,0,0,0,0,0,0,0,0,0,0,0,0,0,0,0,0,0,0,0,0,0,{"$f":"IF(AND(AHQ33/AHQ$6=ROUND(AHQ33/AHQ$6,0),NOT(AHQ33=0)),AHQ33/AHQ$6,0)","v":0},0,0,0,0,0,0,0,0,0,0,0,0,0,0,0,0,0,0,0,0,0,0,0,0,0,0,0,0,0,0,0,0,0,0,0,0,0,0,0,0,0,0,0,0,0,0,0,0,0,0,0,0,0,0,0,0,0,0,0,0,0,0,0,{"$f":"IF(AND(AKC33/AKC$6=ROUND(AKC33/AKC$6,0),NOT(AKC33=0)),AKC33/AKC$6,0)","v":0},0,0,0,0,0,0,0,0,0,0,0,0,0,0,0,0,0,0,0,0,0,0,0,0,0,0,0,0,0,0,0,0,0,0,0,0,0,0,0,0]
[3,1,2,2,{"$f":"IF(D35=0,IF(SUM(D36:$D$46)=0,\"\",E36),D35)","v":2},{"$f":"IF(AND(F34/F$6=ROUND(F34/F$6,0),NOT(F34=0)),F34/F$6,0)","v":0},0,0,0,0,0,0,0,0,0,0,0,0,0,0,0,0,0,0,0,0,0,0,0,0,0,0,0,0,0,0,0,0,0,0,0,0,0,0,0,0,0,0,0,0,0,0,0,0,0,0,0,0,0,0,0,0,0,0,0,0,0,0,0,0,0,0,0,0,0,0,0,0,0,0,0,0,0,0,{"$f":"IF(AND(CG34/CG$6=ROUND(CG34/CG$6,0),NOT(CG34=0)),CG34/CG$6,0)","v":0},0,0,0,0,0,0,0,0,0,0,0,0,0,0,0,0,0,0,0,0,0,0,0,0,0,0,0,0,0,0,0,0,0,0,0,0,0,0,0,0,0,0,0,0,0,0,0,0,0,0,0,0,0,0,0,0,0,0,0,0,0,0,0,{"$f":"IF(AND(ES34/ES$6=ROUND(ES34/ES$6,0),NOT(ES34=0)),ES34/ES$6,0)","v":0},0,0,0,0,0,0,0,0,0,0,0,0,0,0,0,0,0,0,0,0,0,0,0,0,0,0,0,0,0,0,0,0,0,0,0,0,0,0,0,0,0,0,0,0,0,0,0,0,0,0,0,0,0,0,0,0,0,0,0,0,0,0,0,{"$f":"IF(AND(HE34/HE$6=ROUND(HE34/HE$6,0),NOT(HE34=0)),HE34/HE$6,0)","v":0},0,0,0,0,0,0,0,0,0,0,0,0,0,0,0,0,0,0,0,0,0,0,0,0,0,0,0,0,0,0,0,0,0,0,0,0,0,0,0,0,0,0,0,0,0,0,0,0,0,0,0,0,0,0,0,0,0,0,0,0,0,0,0,{"$f":"IF(AND(JQ34/JQ$6=ROUND(JQ34/JQ$6,0),NOT(JQ34=0)),JQ34/JQ$6,0)","v":0},0,0,0,0,0,0,0,0,0,0,0,0,0,0,0,0,0,0,0,0,0,0,0,0,0,0,0,0,0,0,0,0,0,0,0,0,0,0,0,0,0,0,0,0,0,0,0,0,0,0,0,0,0,0,0,0,0,0,0,0,0,0,0,{"$f":"IF(AND(MC34/MC$6=ROUND(MC34/MC$6,0),NOT(MC34=0)),MC34/MC$6,0)","v":0},0,0,0,0,0,0,0,0,0,0,0,0,0,0,0,0,0,0,0,0,0,0,0,0,0,0,0,0,0,0,0,0,0,0,0,0,0,0,0,0,0,0,0,0,0,0,0,0,0,0,0,0,0,0,0,0,0,0,0,0,0,0,0,{"$f":"IF(AND(OO34/OO$6=ROUND(OO34/OO$6,0),NOT(OO34=0)),OO34/OO$6,0)","v":0},0,0,0,0,0,0,0,0,0,0,0,0,0,0,0,0,0,0,0,0,0,0,0,0,0,0,0,0,0,0,0,0,0,0,0,0,0,0,0,0,0,0,0,0,0,0,0,0,0,0,0,0,0,0,0,0,0,0,0,0,0,0,0,{"$f":"IF(AND(RA34/RA$6=ROUND(RA34/RA$6,0),NOT(RA34=0)),RA34/RA$6,0)","v":0},0,0,0,0,0,0,0,0,0,0,0,0,0,0,0,0,0,0,0,0,0,0,0,0,0,0,0,0,0,0,0,0,0,0,0,0,0,0,0,0,0,0,0,0,0,0,0,0,0,0,0,0,0,0,0,0,0,0,0,0,0,0,0,{"$f":"IF(AND(TM34/TM$6=ROUND(TM34/TM$6,0),NOT(TM34=0)),TM34/TM$6,0)","v":0},0,0,0,0,0,0,0,0,0,0,0,0,0,0,0,0,0,0,0,0,0,0,0,0,0,0,0,0,0,0,0,0,0,0,0,0,0,0,0,0,0,0,0,0,0,0,0,0,0,0,0,0,0,0,0,0,0,0,0,0,0,0,0,{"$f":"IF(AND(VY34/VY$6=ROUND(VY34/VY$6,0),NOT(VY34=0)),VY34/VY$6,0)","v":0},0,0,0,0,0,0,0,0,0,0,0,0,0,0,0,0,0,0,0,0,0,0,0,0,0,0,0,0,0,0,0,0,0,0,0,0,0,0,0,0,0,0,0,0,0,0,0,0,0,0,0,0,0,0,0,0,0,0,0,0,0,0,0,{"$f":"IF(AND(YK34/YK$6=ROUND(YK34/YK$6,0),NOT(YK34=0)),YK34/YK$6,0)","v":0},0,0,0,0,0,0,0,0,0,0,0,0,0,0,0,0,0,0,0,0,0,0,0,0,0,0,0,0,0,0,0,0,0,0,0,0,0,0,0,0,0,0,0,0,0,0,0,0,0,0,0,0,0,0,0,0,0,0,0,0,0,0,0,{"$f":"IF(AND(AAW34/AAW$6=ROUND(AAW34/AAW$6,0),NOT(AAW34=0)),AAW34/AAW$6,0)","v":0},0,0,0,0,0,0,0,0,0,0,0,0,0,0,0,0,0,0,0,0,0,0,0,0,0,0,0,0,0,0,0,0,0,0,0,0,0,0,0,0,0,0,0,0,0,0,0,0,0,0,0,0,0,0,0,0,0,0,0,0,0,0,0,{"$f":"IF(AND(ADI34/ADI$6=ROUND(ADI34/ADI$6,0),NOT(ADI34=0)),ADI34/ADI$6,0)","v":0},0,0,0,0,0,0,0,0,0,0,0,0,0,0,0,0,0,0,0,0,0,0,0,0,0,0,0,0,0,0,0,0,0,0,0,0,0,0,0,0,0,0,0,0,0,0,0,0,0,0,0,0,0,0,0,0,0,0,0,0,0,0,0,{"$f":"IF(AND(AFU34/AFU$6=ROUND(AFU34/AFU$6,0),NOT(AFU34=0)),AFU34/AFU$6,0)","v":0},0,0,0,0,0,0,0,0,0,0,0,0,0,0,0,0,0,0,0,0,0,0,0,0,0,0,0,0,0,0,0,0,0,0,0,0,0,0,0,0,0,0,0,0,0,0,0,0,0,0,0,0,0,0,0,0,0,0,0,0,0,0,0,{"$f":"IF(AND(AIG34/AIG$6=ROUND(AIG34/AIG$6,0),NOT(AIG34=0)),AIG34/AIG$6,0)","v":0},0,0,0,0,0,0,0,0,0,0,0,0,0,0,0,0,0,0,0,0,0,0,0,0,0,0,0,0,0,0,0,0,0,0,0,0,0,0,0,0,0,0,0,0,0,0,0,0,0,0,0,0,0,0,0,0,0,0,0,0,0,0,0,0,0,0,0,0,0,0,0,0,0,0,0,0,0,0,0,0,0,0,0,0,0,0,0,0]
[4,2,3,3,{"$f":"IF(D36=0,IF(SUM(D37:$D$46)=0,\"\",E37),D36)","v":3},0,0,0,0,0,0,0,0,0,0,0,0,0,0,0,0,0,0,0,0,0,0,0,0,0,0,0,0,0,0,0,0,0,0,0,0,0,0,0,0,0,0,0,0,0,0,0,0,0,0,0,0,0,0,0,0,0,0,0,0,0,0,0,0,0,0,0,0,0,0,0,0,0,0,0,0,0,0,0,0,0,0,0,0,0,0,0,0,0,0,0,0,0,0,0,0,0,0,0,0,0,0,0,0,0,0,0,0,0,0,0,0,0,0,0,0,0,0,0,0,0,0,0,0,0,0,0,0,0,0,0,0,0,0,0,0,0,0,0,0,0,0,0,0,0,0,0,0,0,0,0,0,0,0,0,0,0,0,0,0,0,0,0,0,0,0,0,0,0,0,0,0,0,0,0,0,0,0,0,0,0,0,0,0,0,0,0,0,0,0,0,0,0,0,0,0,0,0,0,0,0,0,0,0,0,0,0,0,0,0,0,0,0,0,0,0,0,0,0,0,0,0,0,0,0,0,0,0,0,0,0,0,0,0,0,0,0,0,0,0,0,0,0,0,0,0,0,0,0,0,0,0,0,0,0,0,0,0,0,0,0,0,0,0,0,0,0,0,0,0,0,0,0,0,0,0,0,0,0,0,0,0,0,0,0,0,0,0,0,0,0,0,0,0,0,0,0,0,0,0,0,0,0,0,0,0,0,0,0,0,0,0,0,0,0,0,0,0,0,0,0,0,0,0,0,0,0,0,0,0,0,0,0,0,0,0,0,0,0,0,0,0,0,0,0,0,0,0,0,0,0,0,0,0,0,0,0,0,0,0,0,0,0,0,0,0,0,0,0,0,0,0,0,0,0,0,0,0,0,0,0,0,0,0,0,0,0,0,0,0,0,0,0,0,0,0,0,0,0,0,0,0,0,0,0,0,0,0,0,0,0,0,0,0,0,0,0,0,0,0,0,0,0,0,0,0,0,0,0,0,0,0,0,0,0,0,0,0,0,0,0,0,0,0,0,0,0,0,0,0,0,0,0,0,0,0,0,0,0,0,0,0,0,0,0,0,0,0,0,0,0,0,0,0,0,0,0,0,0,0,0,0,0,0,0,0,0,0,0,0,0,0,0,0,0,0,0,0,0,0,0,0,0,0,0,0,0,0,0,0,0,0,0,0,0,0,0,0,0,0,0,0,0,0,0,0,0,0,0,0,0,0,0,0,0,0,0,0,0,0,0,0,0,0,0,0,0,0,0,0,0,0,0,0,0,0,0,0,0,0,0,0,0,0,0,0,0,0,0,0,0,0,0,0,0,0,0,0,0,0,0,0,0,0,0,0,0,0,0,0,0,0,0,0,0,0,0,0,0,0,0,0,0,0,0,0,0,0,0,0,0,0,0,0,0,0,0,0,0,0,0,0,0,0,0,0,0,0,0,0,0,0,0,0,0,0,0,0,0,0,0,0,0,0,0,0,0,0,0,0,0,0,0,0,0,0,0,0,0,0,0,0,0,0,0,0,0,0,0,0,0,0,0,0,0,0,0,0,0,0,0,0,0,0,0,0,0,0,0,0,0,0,0,0,0,0,0,0,0,0,0,0,0,0,0,0,0,0,0,0,0,0,0,0,0,0,0,0,0,0,0,0,0,0,0,0,0,0,0,0,0,0,0,0,0,0,0,0,0,0,0,0,0,0,0,0,0,0,0,0,0,0,0,0,0,0,0,0,0,0,0,0,0,0,0,0,0,0,0,0,0,0,0,0,0,0,0,0,0,0,0,0,0,0,0,0,0,0,0,0,0,0,0,0,0,0,0,0,0,0,0,0,0,0,0,0,0,0,0,0,0,0,0,0,0,0,0,0,0,0,0,0,0,0,0,0,0,0,0,0,0,0,0,0,0,0,0,0,0,0,0,0,0,0,0,0,0,0,0,0,0,0,0,0,0,0,0,0,0,0,0,0,0,0,0,0,0,0,0,0,0,0,0,0,0,0,0,0,0,0,0,0,0,0,0,0,0,0,0,0,0,0,0,0,0,0,0,0,0,0,0,0,0,0,0,0,0,0,0,0,0,0,0,0,0,0,0,0,0,0,0,0,0,0,0,0,0,0,0,0,0,0,0,0,0,0,0,0,0,0,0,0,0,0,0,0,0,0,0,0,0,0,0,0,0,0,0,0,0,0,0,0,0,0,0,0,0,0,0,0,0,0,0,0,0,0,0,0,0,0,0,0,0,0,0,0,0,0,0,0,0,0,0,0,0,0,0,0,0,0]
[5,4,7,7,{"$f":"IF(D37=0,IF(SUM(D38:$D$46)=0,\"\",E38),D37)","v":7},0,0,0,0,0,0,0,0,0,0,0,0,0,0,0,0,0,0,0,0,0,0,0,0,0,0,0,0,0,0,0,0,0,0,0,0,0,0,0,0,0,0,0,0,0,0,0,0,0,0,0,0,0,0,0,0,0,0,0,0,0,0,0,0,0,0,0,0,0,0,0,0,0,0,0,0,0,0,0,0,0,0,0,0,0,0,0,0,0,0,0,0,0,0,0,0,0,0,0,0,0,0,0,0,0,0,0,0,0,0,0,0,0,0,0,0,0,0,0,0,0,0,0,0,0,0,0,0,0,0,0,0,0,0,0,0,0,0,0,0,0,0,0,0,0,0,0,0,0,0,0,0,0,0,0,0,0,0,0,0,0,0,0,0,0,0,0,0,0,0,0,0,0,0,0,0,0,0,0,0,0,0,0,0,0,0,0,0,0,0,0,0,0,0,0,0,0,0,0,0,0,0,0,0,0,0,0,0,0,0,0,0,0,0,0,0,0,0,0,0,0,0,0,0,0,0,0,0,0,0,0,0,0,0,0,0,0,0,0,0,0,0,0,0,0,0,0,0,0,0,0,0,0,0,0,0,0,0,0,0,0,0,0,0,0,0,0,0,0,0,0,0,0,0,0,0,0,0,0,0,0,0,0,0,0,0,0,0,0,0,0,0,0,0,0,0,0,0,0,0,0,0,0,0,0,0,0,0,0,0,0,0,0,0,0,0,0,0,0,0,0,0,0,0,0,0,0,0,0,0,0,0,0,0,0,0,0,0,0,0,0,0,0,0,0,0,0,0,0,0,0,0,0,0,0,0,0,0,0,0,0,0,0,0,0,0,0,0,0,0,0,0,0,0,0,0,0,0,0,0,0,0,0,0,0,0,0,0,0,0,0,0,0,0,0,0,0,0,0,0,0,0,0,0,0,0,0,0,0,0,0,0,0,0,0,0,0,0,0,0,0,0,0,0,0,0,0,0,0,0,0,0,0,0,0,0,0,0,0,0,0,0,0,0,0,0,0,0,0,0,0,0,0,0,0,0,0,0,0,0,0,0,0,0,0,0,0,0,0,0,0,0,0,0,0,0,0,0,0,0,0,0,0,0,0,0,0,0,0,0,0,0,0,0,0,0,0,0,0,0,0,0,0,0,0,0,0,0,0,0,0,0,0,0,0,0,0,0,0,0,0,0,0,0,0,0,0,0,0,0,0,0,0,0,0,0,0,0,0,0,0,0,0,0,0,0,0,0,0,0,0,0,0,0,0,0,0,0,0,0,0,0,0,0,0,0,0,0,0,0,0,0,0,0,0,0,0,0,0,0,0,0,0,0,0,0,0,0,0,0,0,0,0,0,0,0,0,0,0,0,0,0,0,0,0,0,0,0,0,0,0,0,0,0,0,0,0,0,0,0,0,0,0,0,0,0,0,0,0,0,0,0,0,0,0,0,0,0,0,0,0,0,0,0,0,0,0,0,0,0,0,0,0,0,0,0,0,0,0,0,0,0,0,0,0,0,0,0,0,0,0,0,0,0,0,0,0,0,0,0,0,0,0,0,0,0,0,0,0,0,0,0,0,0,0,0,0,0,0,0,0,0,0,0,0,0,0,0,0,0,0,0,0,0,0,0,0,0,0,0,0,0,0,0,0,0,0,0,0,0,0,0,0,0,0,0,0,0,0,0,0,0,0,0,0,0,0,0,0,0,0,0,0,0,0,0,0,0,0,0,0,0,0,0,0,0,0,0,0,0,0,0,0,0,0,0,0,0,0,0,0,0,0,0,0,0,0,0,0,0,0,0,0,0,0,0,0,0,0,0,0,0,0,0,0,0,0,0,0,0,0,0,0,0,0,0,0,0,0,0,0,0,0,0,0,0,0,0,0,0,0,0,0,0,0,0,0,0,0,0,0,0,0,0,0,0,0,0,0,0,0,0,0,0,0,0,0,0,0,0,0,0,0,0,0,0,0,0,0,0,0,0,0,0,0,0,0,0,0,0,0,0,0,0,0,0,0,0,0,0,0,0,0,0,0,0,0,0,0,0,0,0,0,0,0,0,0,0,0,0,0,0,0,0,0,0,0,0,0,0,0,0,0,0,0,0,0,0,0,0,0,0,0,0,0,0,0,0,0,0,0,0,0,0,0,0,0,0,0,0,0,0,0,0,0,0,0,0,0,0,0,0,0,0,0,0,0,0,0,0,0,0,0,0,0,{"$f":"IF(AND(AKS36/AKS$6=ROUND(AKS36/AKS$6,0),NOT(AKS36=0)),AKS36/AKS$6,0)","v":0},0,0,0,0,0,0,0,0,0,0,0,0,0,0,0,0,0,0,0,0,0,0,0,0]
[6,{"$error":"#N/A"},{"$error":"#N/A"},0,{"$f":"IF(D38=0,IF(SUM(D39:$D$46)=0,\"\",E39),D38)","v":""},0,0,0,0,0,0,0,0,0,0,0,0,0,0,0,0,0,0,0,0,0,0,0,0,0,0,0,0,0,0,0,0,0,0,0,0,0,0,0,0,0,0,0,0,0,0,0,0,0,0,0,0,0,0,0,0,0,0,0,0,0,0,0,0,0,0,0,0,0,0,0,0,0,0,0,0,0,0,0,0,0,0,0,0,0,0,0,0,0,0,0,0,0,0,0,0,0,0,0,0,0,0,0,0,0,0,0,0,0,0,0,0,0,0,0,0,0,0,0,0,0,0,0,0,0,0,0,0,0,0,0,0,0,0,0,0,0,0,0,0,0,0,0,0,0,0,0,0,0,0,0,0,0,0,0,0,0,0,0,0,0,0,0,0,0,0,0,0,0,0,0,0,0,0,0,0,0,0,0,0,0,0,0,0,0,0,0,0,0,0,0,0,0,0,0,0,0,0,0,0,0,0,0,0,0,0,0,0,0,0,0,0,0,0,0,0,0,0,0,0,0,0,0,0,0,0,0,0,0,0,0,0,0,0,0,0,0,0,0,0,0,0,0,0,0,0,0,0,0,0,0,0,0,0,0,0,0,0,0,0,0,0,0,0,0,0,0,0,0,0,0,0,0,0,0,0,0,0,0,0,0,0,0,0,0,0,0,0,0,0,0,0,0,0,0,0,0,0,0,0,0,0,0,0,0,0,0,0,0,0,0,0,0,0,0,0,0,0,0,0,0,0,0,0,0,0,0,0,0,0,0,0,0,0,0,0,0,0,0,0,0,0,0,0,0,0,0,0,0,0,0,0,0,0,0,0,0,0,0,0,0,0,0,0,0,0,0,0,0,0,0,0,0,0,0,0,0,0,0,0,0,0,0,0,0,0,0,0,0,0,0,0,0,0,0,0,0,0,0,0,0,0,0,0,0,0,0,0,0,0,0,0,0,0,0,0,0,0,0,0,0,0,0,0,0,0,0,0,0,0,0,0,0,0,0,0,0,0,0,0,0,0,0,0,0,0,0,0,0,0,0,0,0,0,0,0,0,0,0,0,0,0,0,0,0,0,0,0,0,0,0,0,0,0,0,0,0,0,0,0,0,0,0,0,0,0,0,0,0,0,0,0,0,0,0,0,0,0,0,0,0,0,0,0,0,0,0,0,0,0,0,0,0,0,0,0,0,0,0,0,0,0,0,0,0,0,0,0,0,0,0,0,0,0,0,0,0,0,0,0,0,0,0,0,0,0,0,0,0,0,0,0,0,0,0,0,0,0,0,0,0,0,0,0,0,0,0,0,0,0,0,0,0,0,0,0,0,0,0,0,0,0,0,0,0,0,0,0,0,0,0,0,0,0,0,0,0,0,0,0,0,0,0,0,0,0,0,0,0,0,0,0,0,0,0,0,0,0,0,0,0,0,0,0,0,0,0,0,0,0,0,0,0,0,0,0,0,0,0,0,0,0,0,0,0,0,0,0,0,0,0,0,0,0,0,0,0,0,0,0,0,0,0,0,0,0,0,0,0,0,0,0,0,0,0,0,0,0,0,0,0,0,0,0,0,0,0,0,0,0,0,0,0,0,0,0,0,0,0,0,0,0,0,0,0,0,0,0,0,0,0,0,0,0,0,0,0,0,0,0,0,0,0,0,0,0,0,0,0,0,0,0,0,0,0,0,0,0,0,0,0,0,0,0,0,0,0,0,0,0,0,0,0,0,0,0,0,0,0,0,0,0,0,0,0,0,0,0,0,0,0,0,0,0,0,0,0,0,0,0,0,0,0,0,0,0,0,0,0,0,0,0,0,0,0,0,0,0,0,0,0,0,0,0,0,0,0,0,0,0,0,0,0,0,0,0,0,0,0,0,0,0,0,0,0,0,0,0,0,0,0,0,0,0,0,0,0,0,0,0,0,0,0,0,0,0,0,0,0,0,0,0,0,0,0,0,0,0,0,0,0,0,0,0,0,0,0,0,0,0,0,0,0,0,0,0,0,0,0,0,0,0,0,0,0,0,0,0,0,0,0,0,0,0,0,0,0,0,0,0,0,0,0,0,0,0,0,0,0,0,0,0,0,0,0,0,0,0,0,0,0,0,0,0,0,0,0,0,0,0,0,0,0,0,0,0,0,0,0,0,0,0,0,0,0,0,0,0,0,0,0,0,0,0,0,0,0,0,0,0,0,0,0,0,0,0,0,0,0,0,0,0,0,0,0,0,0,0,0,0,0,0,0,0,0,0,0,0,0,0,0,0,0,0,0,0,0,0,0,0]
[7,{"$error":"#N/A"},{"$error":"#N/A"},0,{"$f":"IF(D39=0,IF(SUM(D40:$D$46)=0,\"\",E40),D39)","v":""},0,0,0,{"$f":"IF(AND(I38/I$6=ROUND(I38/I$6,0),NOT(I38=0)),I38/I$6,0)","v":0},0,0,0,0,0,0,0,0,0,0,0,0,0,0,0,0,0,0,0,0,0,0,0,0,0,0,0,0,0,0,0,0,0,0,0,0,0,0,0,0,0,0,0,0,0,0,0,0,0,0,0,0,0,0,0,0,0,0,0,0,0,0,0,0,0,0,0,0,0,0,0,0,0,0,0,0,0,0,0,0,0,0,0,0,0,0,0,0,0,0,0,0,0,0,0,0,0,0,0,0,0,0,0,0,0,0,0,0,0,0,0,0,0,0,0,0,0,0,0,0,0,0,0,0,0,0,0,0,0,0,0,0,0,0,0,0,0,0,0,0,0,0,0,0,0,0,0,0,0,0,0,0,0,0,0,0,0,0,0,0,0,0,0,0,0,0,0,0,0,0,0,0,0,0,0,0,0,0,0,0,0,0,0,0,0,0,0,0,0,0,0,0,0,0,0,0,0,0,0,0,0,0,0,0,0,0,0,0,0,0,0,0,0,0,0,0,0,0,0,0,0,0,0,0,0,0,0,0,0,0,0,0,0,0,0,0,0,0,0,0,0,0,0,0,0,0,0,0,0,0,0,0,0,0,0,0,0,0,0,0,0,0,0,0,0,0,0,0,0,0,0,0,0,0,0,0,0,0,0,0,0,0,0,0,0,0,0,0,0,0,0,0,0,0,0,0,0,0,0,0,0,0,0,0,0,0,0,0,0,0,0,0,0,0,0,0,0,0,0,0,0,0,0,0,0,0,0,0,0,0,0,0,0,0,0,0,0,0,0,0,0,0,0,0,0,0,0,0,0,0,0,0,0,0,0,0,0,0,0,0,0,0,0,0,0,0,0,0,0,0,0,0,0,0,0,0,0,0,0,0,0,0,0,0,0,0,0,0,0,0,0,0,0,0,0,0,0,0,0,0,0,0,0,0,0,0,0,0,0,0,0,0,0,0,0,0,0,0,0,0,0,0,0,0,0,0,0,0,0,0,0,0,0,0,0,0,0,0,0,0,0,0,0,0,0,0,0,0,0,0,0,0,0,0,0,0,0,0,0,0,0,0,0,0,0,0,0,0,0,0,0,0,0,0,0,0,0,0,0,0,0,0,0,0,0,0,0,0,0,0,0,0,0,0,0,0,0,0,0,0,0,0,0,0,0,0,0,0,0,0,0,0,0,0,0,0,0,0,0,0,0,0,0,0,0,0,0,0,0,0,0,0,0,0,0,0,0,0,0,0,0,0,0,0,0,0,0,0,0,0,0,0,0,0,0,0,0,0,0,0,0,0,0,0,0,0,0,0,0,0,0,0,0,0,0,0,0,0,0,0,0,0,0,0,0,0,0,0,0,0,0,0,0,0,0,0,0,0,0,0,0,0,0,0,0,0,0,0,0,0,0,0,0,0,0,0,0,0,0,0,0,0,0,0,0,0,0,0,0,0,0,0,0,0,0,0,0,0,0,0,0,0,0,0,0,0,0,0,0,0,0,0,0,0,0,0,0,0,0,0,0,0,0,0,0,0,0,0,0,0,0,0,0,0,0,0,0,0,0,0,0,0,0,0,0,0,0,0,0,0,0,0,0,0,0,0,0,0,0,0,0,0,0,0,0,0,0,0,0,0,0,0,0,0,0,0,0,0,0,0,0,0,0,0,0,0,0,0,0,0,0,0,0,0,0,0,0,0,0,0,0,0,0,0,0,0,0,0,0,0,0,0,0,0,0,0,0,0,0,0,0,0,0,0,0,0,0,0,0,0,0,0,0,0,0,0,0,0,0,0,0,0,0,0,0,0,0,0,0,0,0,0,0,0,0,0,0,0,0,0,0,0,0,0,0,0,0,0,0,0,0,0,0,0,0,0,0,0,0,0,0,0,0,0,0,0,0,0,0,0,0,0,0,0,0,0,0,0,0,0,0,0,0,0,0,0,0,0,0,0,0,0,0,0,0,0,0,0,0,0,0,0,0,0,0,0,0,0,0,0,0,0,0,0,0,0,0,0,0,0,0,0,0,0,0,0,0,0,0,0,0,0,0,0,0,0,0,0,0,0,0,0,0,0,0,0,0,0,0,0,0,0,0,0,0,0,0,0,0,0,0,0,0,0,0,0,0,0,0,0,0,0,0,0,0,0,0,0,0,0,0,0,0,0,0,0,0,0,0,0,0,0,0,0,0,0,0,0,0,0,0,0,0,0,0,0,0,0,0,0,0,0,0,0,0,0,0,0,0,0,0,0,0,0,0,0,0,0,0,0,0,0,0,0,0,0]
[8,{"$error":"#N/A"},{"$error":"#N/A"},0,{"$f":"IF(D40=0,IF(SUM(D41:$D$46)=0,\"\",E41),D40)","v":""},{"$f":"IF(AND(F39/F$6=ROUND(F39/F$6,0),NOT(F39=0)),F39/F$6,0)","v":0},0,0,0,0,0,0,0,0,0,0,0,0,0,0,0,0,0,0,0,0,0,0,0,0,0,0,0,0,0,0,0,0,0,0,0,0,0,0,0,0,0,0,0,0,0,0,0,0,0,0,0,0,0,0,0,0,0,0,0,0,0,0,0,0,0,0,0,0,0,0,0,0,0,0,0,0,0,0,0,0,0,0,0,0,0,0,0,0,0,0,0,0,0,{"$f":"IF(AND(CV39/CV$6=ROUND(CV39/CV$6,0),NOT(CV39=0)),CV39/CV$6,0)","v":0},0,0,0,0,0,0,0,0,0,0,0,0,0,0,0,0,0,0,0,0,0,0,0,0,0,0,0,0,0,0,0,0,0,0,0,0,0,0,0,0,0,0,0,0,0,0,0,0,0,0,0,0,0,0,0,0,0,0,0,0,0,0,0,{"$f":"IF(AND(FH39/FH$6=ROUND(FH39/FH$6,0),NOT(FH39=0)),FH39/FH$6,0)","v":0},0,0,0,0,0,0,0,0,0,0,0,0,0,0,0,0,0,0,0,0,0,0,0,0,0,0,0,0,0,0,0,0,0,0,0,0,0,0,0,0,0,0,0,0,0,0,0,0,0,0,0,0,0,0,0,0,0,0,0,0,0,0,0,{"$f":"IF(AND(HT39/HT$6=ROUND(HT39/HT$6,0),NOT(HT39=0)),HT39/HT$6,0)","v":0},0,0,0,0,0,0,0,0,0,0,0,0,0,0,0,0,0,0,0,0,0,0,0,0,0,0,0,0,0,0,0,0,0,0,0,0,0,0,0,0,0,0,0,0,0,0,0,0,0,0,0,0,0,0,0,0,0,0,0,0,0,0,0,{"$f":"IF(AND(KF39/KF$6=ROUND(KF39/KF$6,0),NOT(KF39=0)),KF39/KF$6,0)","v":0},0,0,0,0,0,0,0,0,0,0,0,0,0,0,0,0,0,0,0,0,0,0,0,0,0,0,0,0,0,0,0,0,0,0,0,0,0,0,0,0,0,0,0,0,0,0,0,0,0,0,0,0,0,0,0,0,0,0,0,0,0,0,0,{"$f":"IF(AND(MR39/MR$6=ROUND(MR39/MR$6,0),NOT(MR39=0)),MR39/MR$6,0)","v":0},0,0,0,0,0,0,0,0,0,0,0,0,0,0,0,0,0,0,0,0,0,0,0,0,0,0,0,0,0,0,0,0,0,0,0,0,0,0,0,0,0,0,0,0,0,0,0,0,0,0,0,0,0,0,0,0,0,0,0,0,0,0,0,{"$f":"IF(AND(PD39/PD$6=ROUND(PD39/PD$6,0),NOT(PD39=0)),PD39/PD$6,0)","v":0},0,0,0,0,0,0,0,0,0,0,0,0,0,0,0,0,0,0,0,0,0,0,0,0,0,0,0,0,0,0,0,0,0,0,0,0,0,0,0,0,0,0,0,0,0,0,0,0,0,0,0,0,0,0,0,0,0,0,0,0,0,0,0,{"$f":"IF(AND(RP39/RP$6=ROUND(RP39/RP$6,0),NOT(RP39=0)),RP39/RP$6,0)","v":0},0,0,0,0,0,0,0,0,0,0,0,0,0,0,0,0,0,0,0,0,0,0,0,0,0,0,0,0,0,0,0,0,0,0,0,0,0,0,0,0,0,0,0,0,0,0,0,0,0,0,0,0,0,0,0,0,0,0,0,0,0,0,0,{"$f":"IF(AND(UB39/UB$6=ROUND(UB39/UB$6,0),NOT(UB39=0)),UB39/UB$6,0)","v":0},0,0,0,0,0,0,0,0,0,0,0,0,0,0,0,0,0,0,0,0,0,0,0,0,0,0,0,0,0,0,0,0,0,0,0,0,0,0,0,0,0,0,0,0,0,0,0,0,0,0,0,0,0,0,0,0,0,0,0,0,0,0,0,{"$f":"IF(AND(WN39/WN$6=ROUND(WN39/WN$6,0),NOT(WN39=0)),WN39/WN$6,0)","v":0},0,0,0,0,0,0,0,0,0,0,0,0,0,0,0,0,0,0,0,0,0,0,0,0,0,0,0,0,0,0,0,0,0,0,0,0,0,0,0,0,0,0,0,0,0,0,0,0,0,0,0,0,0,0,0,0,0,0,0,0,0,0,0,{"$f":"IF(AND(YZ39/YZ$6=ROUND(YZ39/YZ$6,0),NOT(YZ39=0)),YZ39/YZ$6,0)","v":0},0,0,0,0,0,0,0,0,0,0,0,0,0,0,0,0,0,0,0,0,0,0,0,0,0,0,0,0,0,0,0,0,0,0,0,0,0,0,0,0,0,0,0,0,0,0,0,0,0,0,0,0,0,0,0,0,0,0,0,0,0,0,0,{"$f":"IF(AND(ABL39/ABL$6=ROUND(ABL39/ABL$6,0),NOT(ABL39=0)),ABL39/ABL$6,0)","v":0},0,0,0,0,0,0,0,0,0,0,0,0,0,0,0,0,0,0,0,0,0,0,0,0,0,0,0,0,0,0,0,0,0,0,0,0,0,0,0,0,0,0,0,0,0,0,0,0,0,0,0,0,0,0,0,0,0,0,0,0,0,0,0,{"$f":"IF(AND(ADX39/ADX$6=ROUND(ADX39/ADX$6,0),NOT(ADX39=0)),ADX39/ADX$6,0)","v":0},0,0,0,0,0,0,0,0,0,0,0,0,0,0,0,0,0,0,0,0,0,0,0,0,0,0,0,0,0,0,0,0,0,0,0,0,0,0,0,0,0,0,0,0,0,0,0,0,0,0,0,0,0,0,0,0,0,0,0,0,0,0,0,{"$f":"IF(AND(AGJ39/AGJ$6=ROUND(AGJ39/AGJ$6,0),NOT(AGJ39=0)),AGJ39/AGJ$6,0)","v":0},0,0,0,0,0,0,0,0,0,0,0,0,0,0,0,0,0,0,0,0,0,0,0,0,0,0,0,0,0,0,0,0,0,0,0,0,0,0,0,0,0,0,0,0,0,0,0,0,0,0,0,0,0,0,0,0,0,0,0,0,0,0,0,{"$f":"IF(AND(AIV39/AIV$6=ROUND(AIV39/AIV$6,0),NOT(AIV39=0)),AIV39/AIV$6,0)","v":0},0,0,0,0,0,0,0,0,0,0,0,0,0,0,0,0,0,0,0,0,0,0,0,0,0,0,0,0,0,0,0,0,0,0,0,0,0,0,0,0,0,0,0,0,0,0,0,0,0,0,0,0,0,0,0,0,0,0,0,0,0,0,0,0,0,0,0,0,0,0,0,0,0]
[9,{"$error":"#N/A"},{"$error":"#N/A"},0,{"$f":"IF(D41=0,IF(SUM(D42:$D$46)=0,\"\",E42),D41)","v":""},0,0,0,0,0,0,0,0,0,0,0,0,0,0,0,0,0,0,0,0,0,0,0,0,0,0,0,0,0,0,0,0,0,0,0,0,0,0,0,0,0,0,0,0,0,0,0,0,0,0,0,0,0,0,0,0,0,0,0,0,0,0,0,0,0,0,0,0,0,0,0,0,0,0,0,0,0,0,0,{"$f":"IF(AND(CG40/CG$6=ROUND(CG40/CG$6,0),NOT(CG40=0)),CG40/CG$6,0)","v":0},0,0,0,0,0,0,0,0,0,0,0,0,0,0,0,0,0,0,0,0,0,0,0,0,0,0,0,0,0,0,0,0,0,0,0,0,0,0,0,0,0,0,0,0,0,0,0,0,0,0,0,0,0,0,0,0,0,0,0,0,0,0,0,{"$f":"IF(AND(ES40/ES$6=ROUND(ES40/ES$6,0),NOT(ES40=0)),ES40/ES$6,0)","v":0},0,0,0,0,0,0,0,0,0,0,0,0,0,0,0,0,0,0,0,0,0,0,0,0,0,0,0,0,0,0,0,0,0,0,0,0,0,0,0,0,0,0,0,0,0,0,0,0,0,0,0,0,0,0,0,0,0,0,0,0,0,0,0,{"$f":"IF(AND(HE40/HE$6=ROUND(HE40/HE$6,0),NOT(HE40=0)),HE40/HE$6,0)","v":0},0,0,0,0,0,0,0,0,0,0,0,0,0,0,0,0,0,0,0,0,0,0,0,0,0,0,0,0,0,0,0,0,0,0,0,0,0,0,0,0,0,0,0,0,0,0,0,0,0,0,0,0,0,0,0,0,0,0,0,0,0,0,0,{"$f":"IF(AND(JQ40/JQ$6=ROUND(JQ40/JQ$6,0),NOT(JQ40=0)),JQ40/JQ$6,0)","v":0},0,0,0,0,0,0,0,0,0,0,0,0,0,0,0,0,0,0,0,0,0,0,0,0,0,0,0,0,0,0,0,0,0,0,0,0,0,0,0,0,0,0,0,0,0,0,0,0,0,0,0,0,0,0,0,0,0,0,0,0,0,0,0,{"$f":"IF(AND(MC40/MC$6=ROUND(MC40/MC$6,0),NOT(MC40=0)),MC40/MC$6,0)","v":0},0,0,0,0,0,0,0,0,0,0,0,0,0,0,0,0,0,0,0,0,0,0,0,0,0,0,0,0,0,0,0,0,0,0,0,0,0,0,0,0,0,0,0,0,0,0,0,0,0,0,0,0,0,0,0,0,0,0,0,0,0,0,0,{"$f":"IF(AND(OO40/OO$6=ROUND(OO40/OO$6,0),NOT(OO40=0)),OO40/OO$6,0)","v":0},0,0,0,0,0,0,0,0,0,0,0,0,0,0,0,0,0,0,0,0,0,0,0,0,0,0,0,0,0,0,0,0,0,0,0,0,0,0,0,0,0,0,0,0,0,0,0,0,0,0,0,0,0,0,0,0,0,0,0,0,0,0,0,{"$f":"IF(AND(RA40/RA$6=ROUND(RA40/RA$6,0),NOT(RA40=0)),RA40/RA$6,0)","v":0},0,0,0,0,0,0,0,0,0,0,0,0,0,0,0,0,0,0,0,0,0,0,0,0,0,0,0,0,0,0,0,0,0,0,0,0,0,0,0,0,0,0,0,0,0,0,0,0,0,0,0,0,0,0,0,0,0,0,0,0,0,0,0,{"$f":"IF(AND(TM40/TM$6=ROUND(TM40/TM$6,0),NOT(TM40=0)),TM40/TM$6,0)","v":0},0,0,0,0,0,0,0,0,0,0,0,0,0,0,0,0,0,0,0,0,0,0,0,0,0,0,0,0,0,0,0,0,0,0,0,0,0,0,0,0,0,0,0,0,0,0,0,0,0,0,0,0,0,0,0,0,0,0,0,0,0,0,0,{"$f":"IF(AND(VY40/VY$6=ROUND(VY40/VY$6,0),NOT(VY40=0)),VY40/VY$6,0)","v":0},0,0,0,0,0,0,0,0,0,0,0,0,0,0,0,0,0,0,0,0,0,0,0,0,0,0,0,0,0,0,0,0,0,0,0,0,0,0,0,0,0,0,0,0,0,0,0,0,0,0,0,0,0,0,0,0,0,0,0,0,0,0,0,{"$f":"IF(AND(YK40/YK$6=ROUND(YK40/YK$6,0),NOT(YK40=0)),YK40/YK$6,0)","v":0},0,0,0,0,0,0,0,0,0,0,0,0,0,0,0,0,0,0,0,0,0,0,0,0,0,0,0,0,0,0,0,0,0,0,0,0,0,0,0,0,0,0,0,0,0,0,0,0,0,0,0,0,0,0,0,0,0,0,0,0,0,0,0,{"$f":"IF(AND(AAW40/AAW$6=ROUND(AAW40/AAW$6,0),NOT(AAW40=0)),AAW40/AAW$6,0)","v":0},0,0,0,0,0,0,0,0,0,0,0,0,0,0,0,0,0,0,0,0,0,0,0,0,0,0,0,0,0,0,0,0,0,0,0,0,0,0,0,0,0,0,0,0,0,0,0,0,0,0,0,0,0,0,0,0,0,0,0,0,0,0,0,{"$f":"IF(AND(ADI40/ADI$6=ROUND(ADI40/ADI$6,0),NOT(ADI40=0)),ADI40/ADI$6,0)","v":0},0,0,0,0,0,0,0,0,0,0,0,0,0,0,0,0,0,0,0,0,0,0,0,0,0,0,0,0,0,0,0,0,0,0,0,0,0,0,0,0,0,0,0,0,0,0,0,0,0,0,0,0,0,0,0,0,0,0,0,0,0,0,0,{"$f":"IF(AND(AFU40/AFU$6=ROUND(AFU40/AFU$6,0),NOT(AFU40=0)),AFU40/AFU$6,0)","v":0},0,0,0,0,0,0,0,0,0,0,0,0,0,0,0,0,0,0,0,0,0,0,0,0,0,0,0,0,0,0,0,0,0,0,0,0,0,0,0,0,0,0,0,0,0,0,0,0,0,0,0,0,0,0,0,0,0,0,0,0,0,0,0,{"$f":"IF(AND(AIG40/AIG$6=ROUND(AIG40/AIG$6,0),NOT(AIG40=0)),AIG40/AIG$6,0)","v":0},0,0,0,0,0,0,0,0,0,0,0,0,0,0,0,0,0,0,0,0,0,0,0,0,0,0,0,0,0,0,0,0,0,0,0,0,0,0,0,0,0,0,0,0,0,0,0,0,0,0,0,0,0,0,0,0,0,0,0,0,0,0,0,0,0,0,0,0,0,0,0,0,0,0,0,0,0,0,0,0,0,0,0,0,0,0,0,0]
[10,{"$error":"#N/A"},{"$error":"#N/A"},0,{"$f":"IF(D42=0,IF(SUM(D43:$D$46)=0,\"\",E43),D42)","v":""},0,0,0,0,0,0,0,0,0,0,0,0,0,0,0,0,0,0,0,0,0,0,0,0,0,0,0,0,0,0,0,0,0,0,0,0,0,0,0,0,0,0,0,0,0,0,0,0,0,0,0,0,0,0,0,0,0,0,0,0,0,0,0,0,0,0,0,0,0,0,0,0,0,0,0,0,0,0,0,0,0,0,0,0,0,0,0,0,0,0,0,0,0,0,0,0,0,0,0,0,0,0,0,0,0,0,0,0,0,0,0,0,0,0,0,0,0,0,0,0,0,0,0,0,0,0,0,0,0,0,0,0,0,0,0,0,0,0,0,0,0,0,0,0,0,0,0,0,0,0,0,0,0,0,0,0,0,0,0,0,0,0,0,0,0,0,0,0,0,0,0,0,0,0,0,0,0,0,0,0,0,0,0,0,0,0,0,0,0,0,0,0,0,0,0,0,0,0,0,0,0,0,0,0,0,0,0,0,0,0,0,0,0,0,0,0,0,0,0,0,0,0,0,0,0,0,0,0,0,0,0,0,0,0,0,0,0,0,0,0,0,0,0,0,0,0,0,0,0,0,0,0,0,0,0,0,0,0,0,0,0,0,0,0,0,0,0,0,0,0,0,0,0,0,0,0,0,0,0,0,0,0,0,0,0,0,0,0,0,0,0,0,0,0,0,0,0,0,0,0,0,0,0,0,0,0,0,0,0,0,0,0,0,0,0,0,0,0,0,0,0,0,0,0,0,0,0,0,0,0,0,0,0,0,0,0,0,0,0,0,0,0,0,0,0,0,0,0,0,0,0,0,0,0,0,0,0,0,0,0,0,0,0,0,0,0,0,0,0,0,0,0,0,0,0,0,0,0,0,0,0,0,0,0,0,0,0,0,0,0,0,0,0,0,0,0,0,0,0,0,0,0,0,0,0,0,0,0,0,0,0,0,0,0,0,0,0,0,0,0,0,0,0,0,0,0,0,0,0,0,0,0,0,0,0,0,0,0,0,0,0,0,0,0,0,0,0,0,0,0,0,0,0,0,0,0,0,0,0,0,0,0,0,0,0,0,0,0,0,0,0,0,0,0,0,0,0,0,0,0,0,0,0,0,0,0,0,0,0,0,0,0,0,0,0,0,0,0,0,0,0,0,0,0,0,0,0,0,0,0,0,0,0,0,0,0,0,0,0,0,0,0,0,0,0,0,0,0,0,0,0,0,0,0,0,0,0,0,0,0,0,0,0,0,0,0,0,0,0,0,0,0,0,0,0,0,0,0,0,0,0,0,0,0,0,0,0,0,0,0,0,0,0,0,0,0,0,0,0,0,0,0,0,0,0,0,0,0,0,0,0,0,0,0,0,0,0,0,0,0,0,0,0,0,0,0,0,0,0,0,0,0,0,0,0,0,0,0,0,0,0,0,0,0,0,0,0,0,0,0,0,0,0,0,0,0,0,0,0,0,0,0,0,0,0,0,0,0,0,0,0,0,0,0,0,0,0,0,0,0,0,0,0,0,0,0,0,0,0,0,0,0,0,0,0,0,0,0,0,0,0,0,0,0,0,0,0,0,0,0,0,0,0,0,0,0,0,0,0,0,0,0,0,0,0,0,0,0,0,0,0,0,0,0,0,0,0,0,0,0,0,0,0,0,0,0,0,0,0,0,0,0,0,0,0,0,0,0,0,0,0,0,0,0,0,0,0,0,0,0,0,0,0,0,0,0,0,0,0,0,0,0,0,0,0,0,0,0,0,0,0,0,0,0,0,0,0,0,0,0,0,0,0,0,0,0,0,0,0,0,0,0,0,0,0,0,0,0,0,0,0,0,0,0,0,0,0,0,0,0,0,0,0,0,0,0,0,0,0,0,0,0,0,0,0,0,0,0,0,0,0,0,0,0,0,0,0,0,0,0,0,0,0,0,0,0,0,0,0,0,0,0,0,0,0,0,0,0,0,0,0,0,0,0,0,0,0,0,0,0,0,0,0,0,0,0,0,0,0,0,0,0,0,0,0,0,0,0,0,0,0,0,0,0,0,0,0,0,0,0,0,0,0,0,0,0,0,0,0,0,0,0,0,0,0,0,0,0,0,0,0,0,0,0,0,0,0,0,0,0,0,0,0,0,0,0,0,0,0,0,0,0,0,0,0,0,0,0,0,0,0,0,0,0,0,0,0,0,0,0,0,0,0,0,0,0,0,0,0,0,0,0,0,0,0,0,0,0,0,0,0,0,0,0,0,0,0,0,0,0,0,0,0,0,0,0,0,0,0,0]
[11,{"$error":"#N/A"},{"$error":"#N/A"},0,{"$f":"IF(D43=0,IF(SUM(D44:$D$46)=0,\"\",E44),D43)","v":""},0,0,0,0,0,0,0,0,0,0,0,0,0,0,0,0,0,0,{"$f":"IF(AND(X42/X$6=ROUND(X42/X$6,0),NOT(X42=0)),X42/X$6,0)","v":0},0,0,0,0,0,0,0,0,0,0,0,0,0,0,0,0,0,0,0,0,0,0,0,0,0,0,0,0,0,0,0,0,0,0,0,0,0,0,0,0,0,0,0,0,0,0,0,0,0,0,0,0,0,0,0,0,0,0,0,0,0,0,0,0,0,0,0,0,0,0,0,0,0,0,0,0,0,0,0,0,0,0,0,0,0,0,0,0,0,0,0,0,0,0,0,0,0,0,0,0,0,0,0,0,0,0,0,0,0,0,0,0,0,0,0,0,0,0,0,0,0,0,0,0,0,0,0,0,0,0,0,0,0,0,0,0,0,0,0,0,0,0,0,0,0,0,0,0,0,0,0,0,0,0,0,0,0,0,0,0,0,0,0,0,0,0,0,0,0,0,0,0,0,0,0,0,0,0,0,0,0,0,0,0,0,0,0,0,0,0,0,0,0,0,0,0,0,0,0,0,0,0,0,0,0,0,0,0,0,0,0,0,0,0,0,0,0,0,0,0,0,0,0,0,0,0,0,0,0,0,0,0,0,0,0,0,0,0,0,0,0,0,0,0,0,0,0,0,0,0,0,0,0,0,0,0,0,0,0,0,0,0,0,0,0,0,0,0,0,0,0,0,0,0,0,0,0,0,0,0,0,0,0,0,0,0,0,0,0,0,0,0,0,0,0,0,0,0,0,0,0,0,0,0,0,0,0,0,0,0,0,0,0,0,0,0,0,0,0,0,0,0,0,0,0,0,0,0,0,0,0,0,0,0,0,0,0,0,0,0,0,0,0,0,0,0,0,0,0,0,0,0,0,0,0,0,0,0,0,0,0,0,0,0,0,0,0,0,0,0,0,0,0,0,0,0,0,0,0,0,0,0,0,0,0,0,0,0,0,0,0,0,0,0,0,0,0,0,0,0,0,0,0,0,0,0,0,0,0,0,0,0,0,0,0,0,0,0,0,0,0,0,0,0,0,0,0,0,0,0,0,0,0,0,0,0,0,0,0,0,0,0,0,0,0,0,0,0,0,0,0,0,0,0,0,0,0,0,0,0,0,0,0,0,0,0,0,0,0,0,0,0,0,0,0,0,0,0,0,0,0,0,0,0,0,0,0,0,0,0,0,0,0,0,0,0,0,0,0,0,0,0,0,0,0,0,0,0,0,0,0,0,0,0,0,0,0,0,0,0,0,0,0,0,0,0,0,0,0,0,0,0,0,0,0,0,0,0,0,0,0,0,0,0,0,0,0,0,0,0,0,0,0,0,0,0,0,0,0,0,0,0,0,0,0,0,0,0,0,0,0,0,0,0,0,0,0,0,0,0,0,0,0,0,0,0,0,0,0,0,0,0,0,0,0,0,0,0,0,0,0,0,0,0,0,0,0,0,0,0,0,0,0,0,0,0,0,0,0,0,0,0,0,0,0,0,0,0,0,0,0,0,0,0,0,0,0,0,0,0,0,0,0,0,0,0,0,0,0,0,0,0,0,0,0,0,0,0,0,0,0,0,0,0,0,0,0,0,0,0,0,0,0,0,0,0,0,0,0,0,0,0,0,0,0,0,0,0,0,0,0,0,0,0,0,0,0,0,0,0,0,0,0,0,0,0,0,0,0,0,0,0,0,0,0,0,0,0,0,0,0,0,0,0,0,0,0,0,0,0,0,0,0,0,0,0,0,0,0,0,0,0,0,0,0,0,0,0,0,0,0,0,0,0,0,0,0,0,0,0,0,0,0,0,0,0,0,0,0,0,0,0,0,0,0,0,0,0,0,0,0,0,0,0,0,0,0,0,0,0,0,0,0,0,0,0,0,0,0,0,0,0,0,0,0,0,0,0,0,0,0,0,0,0,0,0,0,0,0,0,0,0,0,0,0,0,0,0,0,0,0,0,0,0,0,0,0,0,0,0,0,0,0,0,0,0,0,0,0,0,0,0,0,0,0,0,0,0,0,0,0,0,0,0,0,0,0,0,0,0,0,0,0,0,0,0,0,0,0,0,0,0,0,0,0,0,0,0,0,0,0,0,0,0,0,0,0,0,0,0,0,0,0,0,0,0,0,0,0,0,0,0,0,0,0,0,0,0,0,0,0,0,0,0,0,0,0,0,0,0,0,0,0,0,0,0,0,0,0,0,0,0,0,0,0,0,0,0,0,0,0,0,0,0,0,0,0,0,0,0,0,0,0,0,0,0,0,0,0,0,0,0,0,0,0,0,0,0,0,0,0]
[12,{"$error":"#N/A"},{"$error":"#N/A"},0,{"$f":"IF(D44=0,IF(SUM(D45:$D$46)=0,\"\",E45),D44)","v":""},{"$f":"F28+1","v":4},{"$f":"G28+1","v":2},1,2,1,1,1,1,1,1,1,1,1,1,1,1,1,1,1,1,1,1,1,1,1,1,1,1,1,1,1,1,1,1,1,1,1,1,1,1,1,1,1,1,1,1,1,1,1,1,1,1,1,1,1,1,1,1,1,1,1,1,1,1,1,{"$f":"BS28+1","v":1},1,1,1,1,1,1,1,1,1,1,1,1,1,1,1,1,1,1,1,1,1,1,1,1,1,1,1,1,1,1,1,1,1,1,1,1,1,1,1,1,1,1,1,1,1,1,1,1,1,1,1,1,1,1,1,1,1,1,1,1,1,1,1,{"$f":"EE28+1","v":1},1,1,1,1,1,1,1,1,1,1,1,1,1,1,1,1,1,1,1,1,1,1,1,1,1,1,1,1,1,1,1,1,1,1,1,1,1,1,1,1,1,1,1,1,1,1,1,1,1,1,1,1,1,1,1,1,1,1,1,1,1,1,1,{"$f":"GQ28+1","v":1},1,1,1,1,1,1,1,1,1,1,1,1,1,1,1,1,1,1,1,1,1,1,1,1,1,1,1,1,1,1,1,1,1,1,1,1,1,1,1,1,1,1,1,1,1,1,1,1,1,1,1,1,1,1,1,1,1,1,1,1,1,1,1,{"$f":"JC28+1","v":1},1,1,1,1,1,1,1,1,1,1,1,1,1,1,1,1,1,1,1,1,1,1,1,1,1,1,1,1,1,1,1,1,1,1,1,1,1,1,1,1,1,1,1,1,1,1,1,1,1,1,1,1,1,1,1,1,1,1,1,1,1,1,1,{"$f":"LO28+1","v":1},1,1,1,1,1,1,1,1,1,1,1,1,1,1,1,1,1,1,1,1,1,1,1,1,1,1,1,1,1,1,1,1,1,1,1,1,1,1,1,1,1,1,1,1,1,1,1,1,1,1,1,1,1,1,1,1,1,1,1,1,1,1,1,{"$f":"OA28+1","v":1},1,1,1,1,1,1,1,1,1,1,1,1,1,1,1,1,1,1,1,1,1,1,1,1,1,1,1,1,1,1,1,1,1,1,1,1,1,1,1,1,1,1,1,1,1,1,1,1,1,1,1,1,1,1,1,1,1,1,1,1,1,1,1,{"$f":"QM28+1","v":1},1,1,1,1,1,1,1,1,1,1,1,1,1,1,1,1,1,1,1,1,1,1,1,1,1,1,1,1,1,1,1,1,1,1,1,1,1,1,1,1,1,1,1,1,1,1,1,1,1,1,1,1,1,1,1,1,1,1,1,1,1,1,1,{"$f":"SY28+1","v":1},1,1,1,1,1,1,1,1,1,1,1,1,1,1,1,1,1,1,1,1,1,1,1,1,1,1,1,1,1,1,1,1,1,1,1,1,1,1,1,1,1,1,1,1,1,1,1,1,1,1,1,1,1,1,1,1,1,1,1,1,1,1,1,{"$f":"VK28+1","v":1},1,1,1,1,1,1,1,1,1,1,1,1,1,1,1,1,1,1,1,1,1,1,1,1,1,1,1,1,1,1,1,1,1,1,1,1,1,1,1,1,1,1,1,1,1,1,1,1,1,1,1,1,1,1,1,1,1,1,1,1,1,1,1,{"$f":"XW28+1","v":1},1,1,1,1,1,1,1,1,1,1,1,1,1,1,1,1,1,1,1,1,1,1,1,1,1,1,1,1,1,1,1,1,1,1,1,1,1,1,1,1,1,1,1,1,1,1,1,1,1,1,1,1,1,1,1,1,1,1,1,1,1,1,1,{"$f":"AAI28+1","v":1},1,1,1,1,1,1,1,1,1,1,1,1,1,1,1,1,1,1,1,1,1,1,1,1,1,1,1,1,1,1,1,1,1,1,1,1,1,1,1,1,1,1,1,1,1,1,1,1,1,1,1,1,1,1,1,1,1,1,1,1,1,1,1,{"$f":"ACU28+1","v":1},1,1,1,1,1,1,1,1,1,1,1,1,1,1,1,1,1,1,1,1,1,1,1,1,1,1,1,1,1,1,1,1,1,1,1,1,1,1,1,1,1,1,1,1,1,1,1,1,1,1,1,1,1,1,1,1,1,1,1,1,1,1,1,{"$f":"AFG28+1","v":1},1,1,1,1,1,1,1,1,1,1,1,1,1,1,1,1,1,1,1,1,1,1,1,1,1,1,1,1,1,1,1,1,1,1,1,1,1,1,1,1,1,1,1,1,1,1,1,1,1,1,1,1,1,1,1,1,1,1,1,1,1,1,1,{"$f":"AHS28+1","v":1},1,1,1,1,1,1,1,1,1,1,1,1,1,1,1,1,1,1,1,1,1,1,1,1,1,1,1,1,1,1,1,1,1,1,1,1,1,1,1,1,1,1,1,1,1,1,1,1,1,1,1,1,1,1,1,1,1,1,1,1,1,1,1,{"$f":"AKE28+1","v":1},1,1,1,1,1,1,1,1,1,1,1,1,1,1,1,1,1,1,1,1,1,1,1,1,1,1,1,1,1,1,1,1,1,1,1,1,1,1]
[13,{"$error":"#N/A"},{"$error":"#N/A"},0,{"$f":"IF(D45=0,IF(SUM(D46:$D$46)=0,\"\",E46),D45)","v":""},"Common Factors"]
[14,{"$error":"#N/A"},{"$error":"#N/A"},0,{"$f":"IF(D46=0,IF(SUM(D$46:$D47)=0,\"\",E47),D46)","v":""},2,3,5,7,11,13,17,19,23,29,31,37,41,43,47,53,59,61,67,71,73,79,83,89,97,101,103,107,109,113,127,131,137,139,149,151,157,163,167,173,179,181,191,193,197,199,211,223,227,229,233,239,241,251,257,263,269,271,277,281,283,293,307,311,313,317,331,337,347,349,353,359,367,373,379,383,389,397,401,409,419,421,431,433,439,443,449,457,461,463,467,479,487,491,499,503,509,521,523,541,547,557,563,569,571,577,587,593,599,601,607,613,617,619,631,641,643,647,653,659,661,673,677,683,691,701,709,719,727,733,739,743,751,757,761,769,773,787,797,809,811,821,823,827,829,839,853,857,859,863,877,881,883,887,907,911,919,929,937,941,947,953,967,971,977,983,991,997,1009,1013,1019,1021,1031,1033,1039,1049,1051,1061,1063,1069,1087,1091,1093,1097,1103,1109,1117,1123,1129,1151,1153,1163,1171,1181,1187,1193,1201,1213,1217,1223,1229,1231,1237,1249,1259,1277,1279,1283,1289,1291,1297,1301,1303,1307,1319,1321,1327,1361,1367,1373,1381,1399,1409,1423,1427,1429,1433,1439,1447,1451,1453,1459,1471,1481,1483,1487,1489,1493,1499,1511,1523,1531,1543,1549,1553,1559,1567,1571,1579,1583,1597,1601,1607,1609,1613,1619,1621,1627,1637,1657,1663,1667,1669,1693,1697,1699,1709,1721,1723,1733,1741,1747,1753,1759,1777,1783,1787,1789,1801,1811,1823,1831,1847,1861,1867,1871,1873,1877,1879,1889,1901,1907,1913,1931,1933,1949,1951,1973,1979,1987,1993,1997,1999,2003,2011,2017,2027,2029,2039,2053,2063,2069,2081,2083,2087,2089,2099,2111,2113,2129,2131,2137,2141,2143,2153,2161,2179,2203,2207,2213,2221,2237,2239,2243,2251,2267,2269,2273,2281,2287,2293,2297,2309,2311,2333,2339,2341,2347,2351,2357,2371,2377,2381,2383,2389,2393,2399,2411,2417,2423,2437,2441,2447,2459,2467,2473,2477,2503,2521,2531,2539,2543,2549,2551,2557,2579,2591,2593,2609,2617,2621,2633,2647,2657,2659,2663,2671,2677,2683,2687,2689,2693,2699,2707,2711,2713,2719,2729,2731,2741,2749,2753,2767,2777,2789,2791,2797,2801,2803,2819,2833,2837,2843,2851,2857,2861,2879,2887,2897,2903,2909,2917,2927,2939,2953,2957,2963,2969,2971,2999,3001,3011,3019,3023,3037,3041,3049,3061,3067,3079,3083,3089,3109,3119,3121,3137,3163,3167,3169,3181,3187,3191,3203,3209,3217,3221,3229,3251,3253,3257,3259,3271,3299,3301,3307,3313,3319,3323,3329,3331,3343,3347,3359,3361,3371,3373,3389,3391,3407,3413,3433,3449,3457,3461,3463,3467,3469,3491,3499,3511,3517,3527,3529,3533,3539,3541,3547,3557,3559,3571,3581,3583,3593,3607,3613,3617,3623,3631,3637,3643,3659,3671,3673,3677,3691,3697,3701,3709,3719,3727,3733,3739,3761,3767,3769,3779,3793,3797,3803,3821,3823,3833,3847,3851,3853,3863,3877,3881,3889,3907,3911,3917,3919,3923,3929,3931,3943,3947,3967,3989,4001,4003,4007,4013,4019,4021,4027,4049,4051,4057,4073,4079,4091,4093,4099,4111,4127,4129,4133,4139,4153,4157,4159,4177,4201,4211,4217,4219,4229,4231,4241,4243,4253,4259,4261,4271,4273,4283,4289,4297,4327,4337,4339,4349,4357,4363,4373,4391,4397,4409,4421,4423,4441,4447,4451,4457,4463,4481,4483,4493,4507,4513,4517,4519,4523,4547,4549,4561,4567,4583,4591,4597,4603,4621,4637,4639,4643,4649,4651,4657,4663,4673,4679,4691,4703,4721,4723,4729,4733,4751,4759,4783,4787,4789,4793,4799,4801,4813,4817,4831,4861,4871,4877,4889,4903,4909,4919,4931,4933,4937,4943,4951,4957,4967,4969,4973,4987,4993,4999,5003,5009,5011,5021,5023,5039,5051,5059,5077,5081,5087,5099,5101,5107,5113,5119,5147,5153,5167,5171,5179,5189,5197,5209,5227,5231,5233,5237,5261,5273,5279,5281,5297,5303,5309,5323,5333,5347,5351,5381,5387,5393,5399,5407,5413,5417,5419,5431,5437,5441,5443,5449,5471,5477,5479,5483,5501,5503,5507,5519,5521,5527,5531,5557,5563,5569,5573,5581,5591,5623,5639,5641,5647,5651,5653,5657,5659,5669,5683,5689,5693,5701,5711,5717,5737,5741,5743,5749,5779,5783,5791,5801,5807,5813,5821,5827,5839,5843,5849,5851,5857,5861,5867,5869,5879,5881,5897,5903,5923,5927,5939,5953,5981,5987,6007,6011,6029,6037,6043,6047,6053,6067,6073,6079,6089,6091,6101,6113,6121,6131,6133,6143,6151,6163,6173,6197,6199,6203,6211,6217,6221,6229,6247,6257,6263,6269,6271,6277,6287,6299,6301,6311,6317,6323,6329,6337,6343,6353,6359,6361,6367,6373,6379,6389,6397,6421,6427,6449,6451,6469,6473,6481,6491,6521,6529,6547,6551,6553,6563,6569,6571,6577,6581,6599,6607,6619,6637,6653,6659,6661,6673,6679,6689,6691,6701,6703,6709,6719,6733,6737,6761,6763,6779,6781,6791,6793,6803,6823,6827,6829,6833,6841,6857,6863,6869,6871,6883,6899,6907,6911,6917,6947,6949,6959,6961,6967,6971,6977,6983,6991,6997,7001,7013,7019,7027,7039,7043,7057,7069,7079,7103,7109,7121,7127,7129,7151,7159,7177,7187,7193,7207,7211,7213,7219,7229,7237,7243,7247,7253,7283,7297,7307,7309,7321,7331,7333,7349,7351,7369,7393,7411,7417,7433,7451,7457,7459,7477,7481,7487,7489,7499,7507,7517,7523,7529,7537,7541,7547,7549,7559,7561,7573,7577,7583,7589,7591,7603,7607,7621,7639,7643,7649,7669,7673,7681,7687,7691,7699,7703,7717,7723,7727,7741,7753,7757,7759,7789,7793,7817,7823,7829,7841,7853,7867,7873,7877,7879,7883,7901,7907,7919]
[null,null,null,null,null,{"$f":"MIN(F28,F5)","v":3},1,0,0,0,0,0,0,0,0,0,0,0,0,0,0,0,0,0,0,0,0,0,0,0,0,0,0,0,0,0,0,0,0,0,0,0,0,0,0,0,0,0,0,0,0,0,0,0,0,0,0,0,0,0,0,0,0,0,0,0,0,0,0,{"$f":"MIN(BR28,BR5)","v":0},0,0,0,0,0,0,0,0,0,0,0,0,0,0,0,0,0,0,0,0,0,0,0,0,0,0,0,0,0,0,0,0,0,0,0,0,0,0,0,0,0,0,0,0,0,0,0,0,0,0,0,0,0,0,0,0,0,0,0,0,0,0,0,{"$f":"MIN(ED28,ED5)","v":0},0,0,0,0,0,0,0,0,0,0,0,0,0,0,0,0,0,0,0,0,0,0,0,0,0,0,0,0,0,0,0,0,0,0,0,0,0,0,0,0,0,0,0,0,0,0,0,0,0,0,0,0,0,0,0,0,0,0,0,0,0,0,0,{"$f":"MIN(GP28,GP5)","v":0},0,0,0,0,0,0,0,0,0,0,0,0,0,0,0,0,0,0,0,0,0,0,0,0,0,0,0,0,0,0,0,0,0,0,0,0,0,0,0,0,0,0,0,0,0,0,0,0,0,0,0,0,0,0,0,0,0,0,0,0,0,0,0,{"$f":"MIN(JB28,JB5)","v":0},0,0,0,0,0,0,0,0,0,0,0,0,0,0,0,0,0,0,0,0,0,0,0,0,0,0,0,0,0,0,0,0,0,0,0,0,0,0,0,0,0,0,0,0,0,0,0,0,0,0,0,0,0,0,0,0,0,0,0,0,0,0,0,{"$f":"MIN(LN28,LN5)","v":0},0,0,0,0,0,0,0,0,0,0,0,0,0,0,0,0,0,0,0,0,0,0,0,0,0,0,0,0,0,0,0,0,0,0,0,0,0,0,0,0,0,0,0,0,0,0,0,0,0,0,0,0,0,0,0,0,0,0,0,0,0,0,0,{"$f":"MIN(NZ28,NZ5)","v":0},0,0,0,0,0,0,0,0,0,0,0,0,0,0,0,0,0,0,0,0,0,0,0,0,0,0,0,0,0,0,0,0,0,0,0,0,0,0,0,0,0,0,0,0,0,0,0,0,0,0,0,0,0,0,0,0,0,0,0,0,0,0,0,{"$f":"MIN(QL28,QL5)","v":0},0,0,0,0,0,0,0,0,0,0,0,0,0,0,0,0,0,0,0,0,0,0,0,0,0,0,0,0,0,0,0,0,0,0,0,0,0,0,0,0,0,0,0,0,0,0,0,0,0,0,0,0,0,0,0,0,0,0,0,0,0,0,0,{"$f":"MIN(SX28,SX5)","v":0},0,0,0,0,0,0,0,0,0,0,0,0,0,0,0,0,0,0,0,0,0,0,0,0,0,0,0,0,0,0,0,0,0,0,0,0,0,0,0,0,0,0,0,0,0,0,0,0,0,0,0,0,0,0,0,0,0,0,0,0,0,0,0,{"$f":"MIN(VJ28,VJ5)","v":0},0,0,0,0,0,0,0,0,0,0,0,0,0,0,0,0,0,0,0,0,0,0,0,0,0,0,0,0,0,0,0,0,0,0,0,0,0,0,0,0,0,0,0,0,0,0,0,0,0,0,0,0,0,0,0,0,0,0,0,0,0,0,0,{"$f":"MIN(XV28,XV5)","v":0},0,0,0,0,0,0,0,0,0,0,0,0,0,0,0,0,0,0,0,0,0,0,0,0,0,0,0,0,0,0,0,0,0,0,0,0,0,0,0,0,0,0,0,0,0,0,0,0,0,0,0,0,0,0,0,0,0,0,0,0,0,0,0,{"$f":"MIN(AAH28,AAH5)","v":0},0,0,0,0,0,0,0,0,0,0,0,0,0,0,0,0,0,0,0,0,0,0,0,0,0,0,0,0,0,0,0,0,0,0,0,0,0,0,0,0,0,0,0,0,0,0,0,0,0,0,0,0,0,0,0,0,0,0,0,0,0,0,0,{"$f":"MIN(ACT28,ACT5)","v":0},0,0,0,0,0,0,0,0,0,0,0,0,0,0,0,0,0,0,0,0,0,0,0,0,0,0,0,0,0,0,0,0,0,0,0,0,0,0,0,0,0,0,0,0,0,0,0,0,0,0,0,0,0,0,0,0,0,0,0,0,0,0,0,{"$f":"MIN(AFF28,AFF5)","v":0},0,0,0,0,0,0,0,0,0,0,0,0,0,0,0,0,0,0,0,0,0,0,0,0,0,0,0,0,0,0,0,0,0,0,0,0,0,0,0,0,0,0,0,0,0,0,0,0,0,0,0,0,0,0,0,0,0,0,0,0,0,0,0,{"$f":"MIN(AHR28,AHR5)","v":0},0,0,0,0,0,0,0,0,0,0,0,0,0,0,0,0,0,0,0,0,0,0,0,0,0,0,0,0,0,0,0,0,0,0,0,0,0,0,0,0,0,0,0,0,0,0,0,0,0,0,0,0,0,0,0,0,0,0,0,0,0,0,0,{"$f":"MIN(AKD28,AKD5)","v":0},0,0,0,0,0,0,0,0,0,0,0,0,0,0,0,0,0,0,0,0,0,0,0,0,0,0,0,0,0,0,0,0,0,0,0,0,0,0,0]
["HCF:",null,null,null,null,{"$f":"F46^F47","v":8},{"$f":"G46^G47","v":3},1,1,1,1,1,1,1,1,1,1,1,1,1,1,1,1,1,1,1,1,1,1,1,1,1,1,1,1,1,1,1,1,1,1,1,1,1,1,1,1,1,1,1,1,1,1,1,1,1,1,1,1,1,1,1,1,1,1,1,1,1,1,1,{"$f":"BS46^BS47","v":1},1,1,1,1,1,1,1,1,1,1,1,1,1,1,1,1,1,1,1,1,1,1,1,1,1,1,1,1,1,1,1,1,1,1,1,1,1,1,1,1,1,1,1,1,1,1,1,1,1,1,1,1,1,1,1,1,1,1,1,1,1,1,1,{"$f":"EE46^EE47","v":1},1,1,1,1,1,1,1,1,1,1,1,1,1,1,1,1,1,1,1,1,1,1,1,1,1,1,1,1,1,1,1,1,1,1,1,1,1,1,1,1,1,1,1,1,1,1,1,1,1,1,1,1,1,1,1,1,1,1,1,1,1,1,1,{"$f":"GQ46^GQ47","v":1},1,1,1,1,1,1,1,1,1,1,1,1,1,1,1,1,1,1,1,1,1,1,1,1,1,1,1,1,1,1,1,1,1,1,1,1,1,1,1,1,1,1,1,1,1,1,1,1,1,1,1,1,1,1,1,1,1,1,1,1,1,1,1,{"$f":"JC46^JC47","v":1},1,1,1,1,1,1,1,1,1,1,1,1,1,1,1,1,1,1,1,1,1,1,1,1,1,1,1,1,1,1,1,1,1,1,1,1,1,1,1,1,1,1,1,1,1,1,1,1,1,1,1,1,1,1,1,1,1,1,1,1,1,1,1,{"$f":"LO46^LO47","v":1},1,1,1,1,1,1,1,1,1,1,1,1,1,1,1,1,1,1,1,1,1,1,1,1,1,1,1,1,1,1,1,1,1,1,1,1,1,1,1,1,1,1,1,1,1,1,1,1,1,1,1,1,1,1,1,1,1,1,1,1,1,1,1,{"$f":"OA46^OA47","v":1},1,1,1,1,1,1,1,1,1,1,1,1,1,1,1,1,1,1,1,1,1,1,1,1,1,1,1,1,1,1,1,1,1,1,1,1,1,1,1,1,1,1,1,1,1,1,1,1,1,1,1,1,1,1,1,1,1,1,1,1,1,1,1,{"$f":"QM46^QM47","v":1},1,1,1,1,1,1,1,1,1,1,1,1,1,1,1,1,1,1,1,1,1,1,1,1,1,1,1,1,1,1,1,1,1,1,1,1,1,1,1,1,1,1,1,1,1,1,1,1,1,1,1,1,1,1,1,1,1,1,1,1,1,1,1,{"$f":"SY46^SY47","v":1},1,1,1,1,1,1,1,1,1,1,1,1,1,1,1,1,1,1,1,1,1,1,1,1,1,1,1,1,1,1,1,1,1,1,1,1,1,1,1,1,1,1,1,1,1,1,1,1,1,1,1,1,1,1,1,1,1,1,1,1,1,1,1,{"$f":"VK46^VK47","v":1},1,1,1,1,1,1,1,1,1,1,1,1,1,1,1,1,1,1,1,1,1,1,1,1,1,1,1,1,1,1,1,1,1,1,1,1,1,1,1,1,1,1,1,1,1,1,1,1,1,1,1,1,1,1,1,1,1,1,1,1,1,1,1,{"$f":"XW46^XW47","v":1},1,1,1,1,1,1,1,1,1,1,1,1,1,1,1,1,1,1,1,1,1,1,1,1,1,1,1,1,1,1,1,1,1,1,1,1,1,1,1,1,1,1,1,1,1,1,1,1,1,1,1,1,1,1,1,1,1,1,1,1,1,1,1,{"$f":"AAI46^AAI47","v":1},1,1,1,1,1,1,1,1,1,1,1,1,1,1,1,1,1,1,1,1,1,1,1,1,1,1,1,1,1,1,1,1,1,1,1,1,1,1,1,1,1,1,1,1,1,1,1,1,1,1,1,1,1,1,1,1,1,1,1,1,1,1,1,{"$f":"ACU46^ACU47","v":1},1,1,1,1,1,1,1,1,1,1,1,1,1,1,1,1,1,1,1,1,1,1,1,1,1,1,1,1,1,1,1,1,1,1,1,1,1,1,1,1,1,1,1,1,1,1,1,1,1,1,1,1,1,1,1,1,1,1,1,1,1,1,1,{"$f":"AFG46^AFG47","v":1},1,1,1,1,1,1,1,1,1,1,1,1,1,1,1,1,1,1,1,1,1,1,1,1,1,1,1,1,1,1,1,1,1,1,1,1,1,1,1,1,1,1,1,1,1,1,1,1,1,1,1,1,1,1,1,1,1,1,1,1,1,1,1,{"$f":"AHS46^AHS47","v":1},1,1,1,1,1,1,1,1,1,1,1,1,1,1,1,1,1,1,1,1,1,1,1,1,1,1,1,1,1,1,1,1,1,1,1,1,1,1,1,1,1,1,1,1,1,1,1,1,1,1,1,1,1,1,1,1,1,1,1,1,1,1,1,{"$f":"AKE46^AKE47","v":1},1,1,1,1,1,1,1,1,1,1,1,1,1,1,1,1,1,1,1,1,1,1,1,1,1,1,1,1,1,1,1,1,1,1,1,1,1,1]
[1,{"$f":"MATCH(A49,$F$52:$ALQ$52,0)","v":{"$error":"#N/A"}},{"$f":"LOOKUP(B49,$F$1:$ALQ$1,$F$6:$ALQ$6)","v":{"$error":"#N/A"}},{"$f":"IF(ISERROR(C49),0,C49)","v":0},{"$f":"IF(D49=0,IF(SUM(D50:$D$62)=0,\"\",E50),D49)","v":2},{"$f":"F5-F47","v":1},{"$f":"G5-G47","v":1},1,0,0,0,0,0,0,0,0,0,0,0,0,0,0,0,0,0,0,0,0,0,0,0,0,0,0,0,0,0,0,0,0,0,0,0,0,0,0,0,0,0,0,0,0,0,0,0,0,0,0,0,0,0,0,0,0,0,0,0,0,0,0,{"$f":"BS5-BS47","v":0},0,0,0,0,0,0,0,0,0,0,0,0,0,0,0,0,0,0,0,0,0,0,0,0,0,0,0,0,0,0,0,0,0,0,0,0,0,0,0,0,0,0,0,0,0,0,0,0,0,0,0,0,0,0,0,0,0,0,0,0,0,0,0,{"$f":"EE5-EE47","v":0},0,0,0,0,0,0,0,0,0,0,0,0,0,0,0,0,0,0,0,0,0,0,0,0,0,0,0,0,0,0,0,0,0,0,0,0,0,0,0,0,0,0,0,0,0,0,0,0,0,0,0,0,0,0,0,0,0,0,0,0,0,0,0,{"$f":"GQ5-GQ47","v":0},0,0,0,0,0,0,0,0,0,0,0,0,0,0,0,0,0,0,0,0,0,0,0,0,0,0,0,0,0,0,0,0,0,0,0,0,0,0,0,0,0,0,0,0,0,0,0,0,0,0,0,0,0,0,0,0,0,0,0,0,0,0,0,{"$f":"JC5-JC47","v":0},0,0,0,0,0,0,0,0,0,0,0,0,0,0,0,0,0,0,0,0,0,0,0,0,0,0,0,0,0,0,0,0,0,0,0,0,0,0,0,0,0,0,0,0,0,0,0,0,0,0,0,0,0,0,0,0,0,0,0,0,0,0,0,{"$f":"LO5-LO47","v":0},0,0,0,0,0,0,0,0,0,0,0,0,0,0,0,0,0,0,0,0,0,0,0,0,0,0,0,0,0,0,0,0,0,0,0,0,0,0,0,0,0,0,0,0,0,0,0,0,0,0,0,0,0,0,0,0,0,0,0,0,0,0,0,{"$f":"OA5-OA47","v":0},0,0,0,0,0,0,0,0,0,0,0,0,0,0,0,0,0,0,0,0,0,0,0,0,0,0,0,0,0,0,0,0,0,0,0,0,0,0,0,0,0,0,0,0,0,0,0,0,0,0,0,0,0,0,0,0,0,0,0,0,0,0,0,{"$f":"QM5-QM47","v":0},0,0,0,0,0,0,0,0,0,0,0,0,0,0,0,0,0,0,0,0,0,0,0,0,0,0,0,0,0,0,0,0,0,0,0,0,0,0,0,0,0,0,0,0,0,0,0,0,0,0,0,0,0,0,0,0,0,0,0,0,0,0,0,{"$f":"SY5-SY47","v":0},0,0,0,0,0,0,0,0,0,0,0,0,0,0,0,0,0,0,0,0,0,0,0,0,0,0,0,0,0,0,0,0,0,0,0,0,0,0,0,0,0,0,0,0,0,0,0,0,0,0,0,0,0,0,0,0,0,0,0,0,0,0,0,{"$f":"VK5-VK47","v":0},0,0,0,0,0,0,0,0,0,0,0,0,0,0,0,0,0,0,0,0,0,0,0,0,0,0,0,0,0,0,0,0,0,0,0,0,0,0,0,0,0,0,0,0,0,0,0,0,0,0,0,0,0,0,0,0,0,0,0,0,0,0,0,{"$f":"XW5-XW47","v":0},0,0,0,0,0,0,0,0,0,0,0,0,0,0,0,0,0,0,0,0,0,0,0,0,0,0,0,0,0,0,0,0,0,0,0,0,0,0,0,0,0,0,0,0,0,0,0,0,0,0,0,0,0,0,0,0,0,0,0,0,0,0,0,{"$f":"AAI5-AAI47","v":0},0,0,0,0,0,0,0,0,0,0,0,0,0,0,0,0,0,0,0,0,0,0,0,0,0,0,0,0,0,0,0,0,0,0,0,0,0,0,0,0,0,0,0,0,0,0,0,0,0,0,0,0,0,0,0,0,0,0,0,0,0,0,0,{"$f":"ACU5-ACU47","v":0},0,0,0,0,0,0,0,0,0,0,0,0,0,0,0,0,0,0,0,0,0,0,0,0,0,0,0,0,0,0,0,0,0,0,0,0,0,0,0,0,0,0,0,0,0,0,0,0,0,0,0,0,0,0,0,0,0,0,0,0,0,0,0,{"$f":"AFG5-AFG47","v":0},0,0,0,0,0,0,0,0,0,0,0,0,0,0,0,0,0,0,0,0,0,0,0,0,0,0,0,0,0,0,0,0,0,0,0,0,0,0,0,0,0,0,0,0,0,0,0,0,0,0,0,0,0,0,0,0,0,0,0,0,0,0,0,{"$f":"AHS5-AHS47","v":0},0,0,0,0,0,0,0,0,0,0,0,0,0,0,0,0,0,0,0,0,0,0,0,0,0,0,0,0,0,0,0,0,0,0,0,0,0,0,0,0,0,0,0,0,0,0,0,0,0,0,0,0,0,0,0,0,0,0,0,0,0,0,0,{"$f":"AKE5-AKE47","v":0},0,0,0,0,0,0,0,0,0,0,0,0,0,0,0,0,0,0,0,0,0,0,0,0,0,0,0,0,0,0,0,0,0,0,0,0,0,0]
[2,{"$f":"MATCH(A50,$F$52:$ALQ$52,0)","v":{"$error":"#N/A"}},{"$f":"LOOKUP(B50,$F$1:$ALQ$1,$F$6:$ALQ$6)","v":{"$error":"#N/A"}},{"$f":"IF(ISERROR(C50),0,C50)","v":0},{"$f":"IF(D50=0,IF(SUM(D51:$D$62)=0,\"\",E51),D50)","v":2},{"$f":"F28-F47","v":0},{"$f":"G28-G47","v":0},0,1,0,0,0,0,0,0,0,0,0,0,0,0,0,0,0,0,0,0,0,0,0,0,0,0,0,0,0,0,0,0,0,0,0,0,0,0,0,0,0,0,0,0,0,0,0,0,0,0,0,0,0,0,0,0,0,0,0,0,0,0,0,{"$f":"BS28-BS47","v":0},0,0,0,0,0,0,0,0,0,0,0,0,0,0,0,0,0,0,0,0,0,0,0,0,0,0,0,0,0,0,0,0,0,0,0,0,0,0,0,0,0,0,0,0,0,0,0,0,0,0,0,0,0,0,0,0,0,0,0,0,0,0,0,{"$f":"EE28-EE47","v":0},0,0,0,0,0,0,0,0,0,0,0,0,0,0,0,0,0,0,0,0,0,0,0,0,0,0,0,0,0,0,0,0,0,0,0,0,0,0,0,0,0,0,0,0,0,0,0,0,0,0,0,0,0,0,0,0,0,0,0,0,0,0,0,{"$f":"GQ28-GQ47","v":0},0,0,0,0,0,0,0,0,0,0,0,0,0,0,0,0,0,0,0,0,0,0,0,0,0,0,0,0,0,0,0,0,0,0,0,0,0,0,0,0,0,0,0,0,0,0,0,0,0,0,0,0,0,0,0,0,0,0,0,0,0,0,0,{"$f":"JC28-JC47","v":0},0,0,0,0,0,0,0,0,0,0,0,0,0,0,0,0,0,0,0,0,0,0,0,0,0,0,0,0,0,0,0,0,0,0,0,0,0,0,0,0,0,0,0,0,0,0,0,0,0,0,0,0,0,0,0,0,0,0,0,0,0,0,0,{"$f":"LO28-LO47","v":0},0,0,0,0,0,0,0,0,0,0,0,0,0,0,0,0,0,0,0,0,0,0,0,0,0,0,0,0,0,0,0,0,0,0,0,0,0,0,0,0,0,0,0,0,0,0,0,0,0,0,0,0,0,0,0,0,0,0,0,0,0,0,0,{"$f":"OA28-OA47","v":0},0,0,0,0,0,0,0,0,0,0,0,0,0,0,0,0,0,0,0,0,0,0,0,0,0,0,0,0,0,0,0,0,0,0,0,0,0,0,0,0,0,0,0,0,0,0,0,0,0,0,0,0,0,0,0,0,0,0,0,0,0,0,0,{"$f":"QM28-QM47","v":0},0,0,0,0,0,0,0,0,0,0,0,0,0,0,0,0,0,0,0,0,0,0,0,0,0,0,0,0,0,0,0,0,0,0,0,0,0,0,0,0,0,0,0,0,0,0,0,0,0,0,0,0,0,0,0,0,0,0,0,0,0,0,0,{"$f":"SY28-SY47","v":0},0,0,0,0,0,0,0,0,0,0,0,0,0,0,0,0,0,0,0,0,0,0,0,0,0,0,0,0,0,0,0,0,0,0,0,0,0,0,0,0,0,0,0,0,0,0,0,0,0,0,0,0,0,0,0,0,0,0,0,0,0,0,0,{"$f":"VK28-VK47","v":0},0,0,0,0,0,0,0,0,0,0,0,0,0,0,0,0,0,0,0,0,0,0,0,0,0,0,0,0,0,0,0,0,0,0,0,0,0,0,0,0,0,0,0,0,0,0,0,0,0,0,0,0,0,0,0,0,0,0,0,0,0,0,0,{"$f":"XW28-XW47","v":0},0,0,0,0,0,0,0,0,0,0,0,0,0,0,0,0,0,0,0,0,0,0,0,0,0,0,0,0,0,0,0,0,0,0,0,0,0,0,0,0,0,0,0,0,0,0,0,0,0,0,0,0,0,0,0,0,0,0,0,0,0,0,0,{"$f":"AAI28-AAI47","v":0},0,0,0,0,0,0,0,0,0,0,0,0,0,0,0,0,0,0,0,0,0,0,0,0,0,0,0,0,0,0,0,0,0,0,0,0,0,0,0,0,0,0,0,0,0,0,0,0,0,0,0,0,0,0,0,0,0,0,0,0,0,0,0,{"$f":"ACU28-ACU47","v":0},0,0,0,0,0,0,0,0,0,0,0,0,0,0,0,0,0,0,0,0,0,0,0,0,0,0,0,0,0,0,0,0,0,0,0,0,0,0,0,0,0,0,0,0,0,0,0,0,0,0,0,0,0,0,0,0,0,0,0,0,0,0,0,{"$f":"AFG28-AFG47","v":0},0,0,0,0,0,0,0,0,0,0,0,0,0,0,0,0,0,0,0,0,0,0,0,0,0,0,0,0,0,0,0,0,0,0,0,0,0,0,0,0,0,0,0,0,0,0,0,0,0,0,0,0,0,0,0,0,0,0,0,0,0,0,0,{"$f":"AHS28-AHS47","v":0},0,0,0,0,0,0,0,0,0,0,0,0,0,0,0,0,0,0,0,0,0,0,0,0,0,0,0,0,0,0,0,0,0,0,0,0,0,0,0,0,0,0,0,0,0,0,0,0,0,0,0,0,0,0,0,0,0,0,0,0,0,0,0,{"$f":"AKE28-AKE47","v":0},0,0,0,0,0,0,0,0,0,0,0,0,0,0,0,0,0,0,0,0,0,0,0,0,0,0,0,0,0,0,0,0,0,0,0,0,0,0]
[3,1,2,2,{"$f":"IF(D51=0,IF(SUM(D52:$D$62)=0,\"\",E52),D51)","v":2},{"$f":"F5","v":4},2,1,0,0,0,0,0,0,0,0,0,0,0,0,0,0,0,0,0,0,0,0,0,0,0,0,0,0,0,0,0,0,0,0,0,0,0,0,0,0,0,0,0,0,0,0,0,0,0,0,0,0,0,0,0,0,0,0,0,0,0,0,0,{"$f":"BR5","v":0},0,0,0,0,0,0,0,0,0,0,0,0,0,0,0,0,0,0,0,0,0,0,0,0,0,0,0,0,0,0,0,0,0,0,0,0,0,0,0,0,0,0,0,0,0,0,0,0,0,0,0,0,0,0,0,0,0,0,0,0,0,0,0,{"$f":"ED5","v":0},0,0,0,0,0,0,0,0,0,0,0,0,0,0,0,0,0,0,0,0,0,0,0,0,0,0,0,0,0,0,0,0,0,0,0,0,0,0,0,0,0,0,0,0,0,0,0,0,0,0,0,0,0,0,0,0,0,0,0,0,0,0,0,{"$f":"GP5","v":0},0,0,0,0,0,0,0,0,0,0,0,0,0,0,0,0,0,0,0,0,0,0,0,0,0,0,0,0,0,0,0,0,0,0,0,0,0,0,0,0,0,0,0,0,0,0,0,0,0,0,0,0,0,0,0,0,0,0,0,0,0,0,0,{"$f":"JB5","v":0},0,0,0,0,0,0,0,0,0,0,0,0,0,0,0,0,0,0,0,0,0,0,0,0,0,0,0,0,0,0,0,0,0,0,0,0,0,0,0,0,0,0,0,0,0,0,0,0,0,0,0,0,0,0,0,0,0,0,0,0,0,0,0,{"$f":"LN5","v":0},0,0,0,0,0,0,0,0,0,0,0,0,0,0,0,0,0,0,0,0,0,0,0,0,0,0,0,0,0,0,0,0,0,0,0,0,0,0,0,0,0,0,0,0,0,0,0,0,0,0,0,0,0,0,0,0,0,0,0,0,0,0,0,{"$f":"NZ5","v":0},0,0,0,0,0,0,0,0,0,0,0,0,0,0,0,0,0,0,0,0,0,0,0,0,0,0,0,0,0,0,0,0,0,0,0,0,0,0,0,0,0,0,0,0,0,0,0,0,0,0,0,0,0,0,0,0,0,0,0,0,0,0,0,{"$f":"QL5","v":0},0,0,0,0,0,0,0,0,0,0,0,0,0,0,0,0,0,0,0,0,0,0,0,0,0,0,0,0,0,0,0,0,0,0,0,0,0,0,0,0,0,0,0,0,0,0,0,0,0,0,0,0,0,0,0,0,0,0,0,0,0,0,0,{"$f":"SX5","v":0},0,0,0,0,0,0,0,0,0,0,0,0,0,0,0,0,0,0,0,0,0,0,0,0,0,0,0,0,0,0,0,0,0,0,0,0,0,0,0,0,0,0,0,0,0,0,0,0,0,0,0,0,0,0,0,0,0,0,0,0,0,0,0,{"$f":"VJ5","v":0},0,0,0,0,0,0,0,0,0,0,0,0,0,0,0,0,0,0,0,0,0,0,0,0,0,0,0,0,0,0,0,0,0,0,0,0,0,0,0,0,0,0,0,0,0,0,0,0,0,0,0,0,0,0,0,0,0,0,0,0,0,0,0,{"$f":"XV5","v":0},0,0,0,0,0,0,0,0,0,0,0,0,0,0,0,0,0,0,0,0,0,0,0,0,0,0,0,0,0,0,0,0,0,0,0,0,0,0,0,0,0,0,0,0,0,0,0,0,0,0,0,0,0,0,0,0,0,0,0,0,0,0,0,{"$f":"AAH5","v":0},0,0,0,0,0,0,0,0,0,0,0,0,0,0,0,0,0,0,0,0,0,0,0,0,0,0,0,0,0,0,0,0,0,0,0,0,0,0,0,0,0,0,0,0,0,0,0,0,0,0,0,0,0,0,0,0,0,0,0,0,0,0,0,{"$f":"ACT5","v":0},0,0,0,0,0,0,0,0,0,0,0,0,0,0,0,0,0,0,0,0,0,0,0,0,0,0,0,0,0,0,0,0,0,0,0,0,0,0,0,0,0,0,0,0,0,0,0,0,0,0,0,0,0,0,0,0,0,0,0,0,0,0,0,{"$f":"AFF5","v":0},0,0,0,0,0,0,0,0,0,0,0,0,0,0,0,0,0,0,0,0,0,0,0,0,0,0,0,0,0,0,0,0,0,0,0,0,0,0,0,0,0,0,0,0,0,0,0,0,0,0,0,0,0,0,0,0,0,0,0,0,0,0,0,{"$f":"AHR5","v":0},0,0,0,0,0,0,0,0,0,0,0,0,0,0,0,0,0,0,0,0,0,0,0,0,0,0,0,0,0,0,0,0,0,0,0,0,0,0,0,0,0,0,0,0,0,0,0,0,0,0,0,0,0,0,0,0,0,0,0,0,0,0,0,{"$f":"AKD5","v":0},0,0,0,0,0,0,0,0,0,0,0,0,0,0,0,0,0,0,0,0,0,0,0,0,0,0,0,0,0,0,0,0,0,0,0,0,0,0,0]
[4,2,3,3,{"$f":"IF(D52=0,IF(SUM(D53:$D$62)=0,\"\",E53),D52)","v":3},{"$f":"SUM($F47:F47)","v":3},{"$f":"SUM($F$47:G47)","v":4},{"$f":"SUM($F$47:H47)","v":4},{"$f":"SUM($F$47:I47)","v":4},{"$f":"SUM($F$47:J47)","v":4},{"$f":"SUM($F$47:K47)","v":4},{"$f":"SUM($F$47:L47)","v":4},{"$f":"SUM($F$47:M47)","v":4},{"$f":"SUM($F$47:N47)","v":4},{"$f":"SUM($F$47:O47)","v":4},{"$f":"SUM($F$47:P47)","v":4},{"$f":"SUM($F$47:Q47)","v":4},{"$f":"SUM($F$47:R47)","v":4},{"$f":"SUM($F$47:S47)","v":4},{"$f":"SUM($F$47:T47)","v":4},{"$f":"SUM($F$47:U47)","v":4},{"$f":"SUM($F$47:V47)","v":4},{"$f":"SUM($F$47:W47)","v":4},{"$f":"SUM($F$47:X47)","v":4},{"$f":"SUM($F$47:Y47)","v":4},{"$f":"SUM($F$47:Z47)","v":4},{"$f":"SUM($F$47:AA47)","v":4},{"$f":"SUM($F$47:AB47)","v":4},{"$f":"SUM($F$47:AC47)","v":4},{"$f":"SUM($F$47:AD47)","v":4},{"$f":"SUM($F$47:AE47)","v":4},{"$f":"SUM($F$47:AF47)","v":4},{"$f":"SUM($F$47:AG47)","v":4},{"$f":"SUM($F$47:AH47)","v":4},{"$f":"SUM($F$47:AI47)","v":4},{"$f":"SUM($F$47:AJ47)","v":4},{"$f":"SUM($F$47:AK47)","v":4},{"$f":"SUM($F$47:AL47)","v":4},{"$f":"SUM($F$47:AM47)","v":4},{"$f":"SUM($F$47:AN47)","v":4},{"$f":"SUM($F$47:AO47)","v":4},{"$f":"SUM($F$47:AP47)","v":4},{"$f":"SUM($F$47:AQ47)","v":4},{"$f":"SUM($F$47:AR47)","v":4},{"$f":"SUM($F$47:AS47)","v":4},{"$f":"SUM($F$47:AT47)","v":4},{"$f":"SUM($F$47:AU47)","v":4},{"$f":"SUM($F$47:AV47)","v":4},{"$f":"SUM($F$47:AW47)","v":4},{"$f":"SUM($F$47:AX47)","v":4},{"$f":"SUM($F$47:AY47)","v":4},{"$f":"SUM($F$47:AZ47)","v":4},{"$f":"SUM($F$47:BA47)","v":4},{"$f":"SUM($F$47:BB47)","v":4},{"$f":"SUM($F$47:BC47)","v":4},{"$f":"SUM($F$47:BD47)","v":4},{"$f":"SUM($F$47:BE47)","v":4},{"$f":"SUM($F$47:BF47)","v":4},{"$f":"SUM($F$47:BG47)","v":4},{"$f":"SUM($F$47:BH47)","v":4},{"$f":"SUM($F$47:BI47)","v":4},{"$f":"SUM($F$47:BJ47)","v":4},{"$f":"SUM($F$47:BK47)","v":4},{"$f":"SUM($F$47:BL47)","v":4},{"$f":"SUM($F$47:BM47)","v":4},{"$f":"SUM($F$47:BN47)","v":4},{"$f":"SUM($F$47:BO47)","v":4},{"$f":"SUM($F$47:BP47)","v":4},{"$f":"SUM($F$47:BQ47)","v":4},{"$f":"SUM($F$47:BR47)","v":4},{"$f":"SUM($F$47:BS47)","v":4},{"$f":"SUM($F$47:BT47)","v":4},{"$f":"SUM($F$47:BU47)","v":4},{"$f":"SUM($F$47:BV47)","v":4},{"$f":"SUM($F$47:BW47)","v":4},{"$f":"SUM($F$47:BX47)","v":4},{"$f":"SUM($F$47:BY47)","v":4},{"$f":"SUM($F$47:BZ47)","v":4},{"$f":"SUM($F$47:CA47)","v":4},{"$f":"SUM($F$47:CB47)","v":4},{"$f":"SUM($F$47:CC47)","v":4},{"$f":"SUM($F$47:CD47)","v":4},{"$f":"SUM($F$47:CE47)","v":4},{"$f":"SUM($F$47:CF47)","v":4},{"$f":"SUM($F$47:CG47)","v":4},{"$f":"SUM($F$47:CH47)","v":4},{"$f":"SUM($F$47:CI47)","v":4},{"$f":"SUM($F$47:CJ47)","v":4},{"$f":"SUM($F$47:CK47)","v":4},{"$f":"SUM($F$47:CL47)","v":4},{"$f":"SUM($F$47:CM47)","v":4},{"$f":"SUM($F$47:CN47)","v":4},{"$f":"SUM($F$47:CO47)","v":4},{"$f":"SUM($F$47:CP47)","v":4},{"$f":"SUM($F$47:CQ47)","v":4},{"$f":"SUM($F$47:CR47)","v":4},{"$f":"SUM($F$47:CS47)","v":4},{"$f":"SUM($F$47:CT47)","v":4},{"$f":"SUM($F$47:CU47)","v":4},{"$f":"SUM($F$47:CV47)","v":4},{"$f":"SUM($F$47:CW47)","v":4},{"$f":"SUM($F$47:CX47)","v":4},{"$f":"SUM($F$47:CY47)","v":4},{"$f":"SUM($F$47:CZ47)","v":4},{"$f":"SUM($F$47:DA47)","v":4},{"$f":"SUM($F$47:DB47)","v":4},{"$f":"SUM($F$47:DC47)","v":4},{"$f":"SUM($F$47:DD47)","v":4},{"$f":"SUM($F$47:DE47)","v":4},{"$f":"SUM($F$47:DF47)","v":4},{"$f":"SUM($F$47:DG47)","v":4},{"$f":"SUM($F$47:DH47)","v":4},{"$f":"SUM($F$47:DI47)","v":4},{"$f":"SUM($F$47:DJ47)","v":4},{"$f":"SUM($F$47:DK47)","v":4},{"$f":"SUM($F$47:DL47)","v":4},{"$f":"SUM($F$47:DM47)","v":4},{"$f":"SUM($F$47:DN47)","v":4},{"$f":"SUM($F$47:DO47)","v":4},{"$f":"SUM($F$47:DP47)","v":4},{"$f":"SUM($F$47:DQ47)","v":4},{"$f":"SUM($F$47:DR47)","v":4},{"$f":"SUM($F$47:DS47)","v":4},{"$f":"SUM($F$47:DT47)","v":4},{"$f":"SUM($F$47:DU47)","v":4},{"$f":"SUM($F$47:DV47)","v":4},{"$f":"SUM($F$47:DW47)","v":4},{"$f":"SUM($F$47:DX47)","v":4},{"$f":"SUM($F$47:DY47)","v":4},{"$f":"SUM($F$47:DZ47)","v":4},{"$f":"SUM($F$47:EA47)","v":4},{"$f":"SUM($F$47:EB47)","v":4},{"$f":"SUM($F$47:EC47)","v":4},{"$f":"SUM($F$47:ED47)","v":4},{"$f":"SUM($F$47:EE47)","v":4},{"$f":"SUM($F$47:EF47)","v":4},{"$f":"SUM($F$47:EG47)","v":4},{"$f":"SUM($F$47:EH47)","v":4},{"$f":"SUM($F$47:EI47)","v":4},{"$f":"SUM($F$47:EJ47)","v":4},{"$f":"SUM($F$47:EK47)","v":4},{"$f":"SUM($F$47:EL47)","v":4},{"$f":"SUM($F$47:EM47)","v":4},{"$f":"SUM($F$47:EN47)","v":4},{"$f":"SUM($F$47:EO47)","v":4},{"$f":"SUM($F$47:EP47)","v":4},{"$f":"SUM($F$47:EQ47)","v":4},{"$f":"SUM($F$47:ER47)","v":4},{"$f":"SUM($F$47:ES47)","v":4},{"$f":"SUM($F$47:ET47)","v":4},{"$f":"SUM($F$47:EU47)","v":4},{"$f":"SUM($F$47:EV47)","v":4},{"$f":"SUM($F$47:EW47)","v":4},{"$f":"SUM($F$47:EX47)","v":4},{"$f":"SUM($F$47:EY47)","v":4},{"$f":"SUM($F$47:EZ47)","v":4},{"$f":"SUM($F$47:FA47)","v":4},{"$f":"SUM($F$47:FB47)","v":4},{"$f":"SUM($F$47:FC47)","v":4},{"$f":"SUM($F$47:FD47)","v":4},{"$f":"SUM($F$47:FE47)","v":4},{"$f":"SUM($F$47:FF47)","v":4},{"$f":"SUM($F$47:FG47)","v":4},{"$f":"SUM($F$47:FH47)","v":4},{"$f":"SUM($F$47:FI47)","v":4},{"$f":"SUM($F$47:FJ47)","v":4},{"$f":"SUM($F$47:FK47)","v":4},{"$f":"SUM($F$47:FL47)","v":4},{"$f":"SUM($F$47:FM47)","v":4},{"$f":"SUM($F$47:FN47)","v":4},{"$f":"SUM($F$47:FO47)","v":4},{"$f":"SUM($F$47:FP47)","v":4},{"$f":"SUM($F$47:FQ47)","v":4},{"$f":"SUM($F$47:FR47)","v":4},{"$f":"SUM($F$47:FS47)","v":4},{"$f":"SUM($F$47:FT47)","v":4},{"$f":"SUM($F$47:FU47)","v":4},{"$f":"SUM($F$47:FV47)","v":4},{"$f":"SUM($F$47:FW47)","v":4},{"$f":"SUM($F$47:FX47)","v":4},{"$f":"SUM($F$47:FY47)","v":4},{"$f":"SUM($F$47:FZ47)","v":4},{"$f":"SUM($F$47:GA47)","v":4},{"$f":"SUM($F$47:GB47)","v":4},{"$f":"SUM($F$47:GC47)","v":4},{"$f":"SUM($F$47:GD47)","v":4},{"$f":"SUM($F$47:GE47)","v":4},{"$f":"SUM($F$47:GF47)","v":4},{"$f":"SUM($F$47:GG47)","v":4},{"$f":"SUM($F$47:GH47)","v":4},{"$f":"SUM($F$47:GI47)","v":4},{"$f":"SUM($F$47:GJ47)","v":4},{"$f":"SUM($F$47:GK47)","v":4},{"$f":"SUM($F$47:GL47)","v":4},{"$f":"SUM($F$47:GM47)","v":4},{"$f":"SUM($F$47:GN47)","v":4},{"$f":"SUM($F$47:GO47)","v":4},{"$f":"SUM($F$47:GP47)","v":4},{"$f":"SUM($F$47:GQ47)","v":4},{"$f":"SUM($F$47:GR47)","v":4},{"$f":"SUM($F$47:GS47)","v":4},{"$f":"SUM($F$47:GT47)","v":4},{"$f":"SUM($F$47:GU47)","v":4},{"$f":"SUM($F$47:GV47)","v":4},{"$f":"SUM($F$47:GW47)","v":4},{"$f":"SUM($F$47:GX47)","v":4},{"$f":"SUM($F$47:GY47)","v":4},{"$f":"SUM($F$47:GZ47)","v":4},{"$f":"SUM($F$47:HA47)","v":4},{"$f":"SUM($F$47:HB47)","v":4},{"$f":"SUM($F$47:HC47)","v":4},{"$f":"SUM($F$47:HD47)","v":4},{"$f":"SUM($F$47:HE47)","v":4},{"$f":"SUM($F$47:HF47)","v":4},{"$f":"SUM($F$47:HG47)","v":4},{"$f":"SUM($F$47:HH47)","v":4},{"$f":"SUM($F$47:HI47)","v":4},{"$f":"SUM($F$47:HJ47)","v":4},{"$f":"SUM($F$47:HK47)","v":4},{"$f":"SUM($F$47:HL47)","v":4},{"$f":"SUM($F$47:HM47)","v":4},{"$f":"SUM($F$47:HN47)","v":4},{"$f":"SUM($F$47:HO47)","v":4},{"$f":"SUM($F$47:HP47)","v":4},{"$f":"SUM($F$47:HQ47)","v":4},{"$f":"SUM($F$47:HR47)","v":4},{"$f":"SUM($F$47:HS47)","v":4},{"$f":"SUM($F$47:HT47)","v":4},{"$f":"SUM($F$47:HU47)","v":4},{"$f":"SUM($F$47:HV47)","v":4},{"$f":"SUM($F$47:HW47)","v":4},{"$f":"SUM($F$47:HX47)","v":4},{"$f":"SUM($F$47:HY47)","v":4},{"$f":"SUM($F$47:HZ47)","v":4},{"$f":"SUM($F$47:IA47)","v":4},{"$f":"SUM($F$47:IB47)","v":4},{"$f":"SUM($F$47:IC47)","v":4},{"$f":"SUM($F$47:ID47)","v":4},{"$f":"SUM($F$47:IE47)","v":4},{"$f":"SUM($F$47:IF47)","v":4},{"$f":"SUM($F$47:IG47)","v":4},{"$f":"SUM($F$47:IH47)","v":4},{"$f":"SUM($F$47:II47)","v":4},{"$f":"SUM($F$47:IJ47)","v":4},{"$f":"SUM($F$47:IK47)","v":4},{"$f":"SUM($F$47:IL47)","v":4},{"$f":"SUM($F$47:IM47)","v":4},{"$f":"SUM($F$47:IN47)","v":4},{"$f":"SUM($F$47:IO47)","v":4},{"$f":"SUM($F$47:IP47)","v":4},{"$f":"SUM($F$47:IQ47)","v":4},{"$f":"SUM($F$47:IR47)","v":4},{"$f":"SUM($F$47:IS47)","v":4},{"$f":"SUM($F$47:IT47)","v":4},{"$f":"SUM($F$47:IU47)","v":4},{"$f":"SUM($F$47:IV47)","v":4},{"$f":"SUM($F$47:IW47)","v":4},{"$f":"SUM($F$47:IX47)","v":4},{"$f":"SUM($F$47:IY47)","v":4},{"$f":"SUM($F$47:IZ47)","v":4},{"$f":"SUM($F$47:JA47)","v":4},{"$f":"SUM($F$47:JB47)","v":4},{"$f":"SUM($F$47:JC47)","v":4},{"$f":"SUM($F$47:JD47)","v":4},{"$f":"SUM($F$47:JE47)","v":4},{"$f":"SUM($F$47:JF47)","v":4},{"$f":"SUM($F$47:JG47)","v":4},{"$f":"SUM($F$47:JH47)","v":4},{"$f":"SUM($F$47:JI47)","v":4},{"$f":"SUM($F$47:JJ47)","v":4},{"$f":"SUM($F$47:JK47)","v":4},{"$f":"SUM($F$47:JL47)","v":4},{"$f":"SUM($F$47:JM47)","v":4},{"$f":"SUM($F$47:JN47)","v":4},{"$f":"SUM($F$47:JO47)","v":4},{"$f":"SUM($F$47:JP47)","v":4},{"$f":"SUM($F$47:JQ47)","v":4},{"$f":"SUM($F$47:JR47)","v":4},{"$f":"SUM($F$47:JS47)","v":4},{"$f":"SUM($F$47:JT47)","v":4},{"$f":"SUM($F$47:JU47)","v":4},{"$f":"SUM($F$47:JV47)","v":4},{"$f":"SUM($F$47:JW47)","v":4},{"$f":"SUM($F$47:JX47)","v":4},{"$f":"SUM($F$47:JY47)","v":4},{"$f":"SUM($F$47:JZ47)","v":4},{"$f":"SUM($F$47:KA47)","v":4},{"$f":"SUM($F$47:KB47)","v":4},{"$f":"SUM($F$47:KC47)","v":4},{"$f":"SUM($F$47:KD47)","v":4},{"$f":"SUM($F$47:KE47)","v":4},{"$f":"SUM($F$47:KF47)","v":4},{"$f":"SUM($F$47:KG47)","v":4},{"$f":"SUM($F$47:KH47)","v":4},{"$f":"SUM($F$47:KI47)","v":4},{"$f":"SUM($F$47:KJ47)","v":4},{"$f":"SUM($F$47:KK47)","v":4},{"$f":"SUM($F$47:KL47)","v":4},{"$f":"SUM($F$47:KM47)","v":4},{"$f":"SUM($F$47:KN47)","v":4},{"$f":"SUM($F$47:KO47)","v":4},{"$f":"SUM($F$47:KP47)","v":4},{"$f":"SUM($F$47:KQ47)","v":4},{"$f":"SUM($F$47:KR47)","v":4},{"$f":"SUM($F$47:KS47)","v":4},{"$f":"SUM($F$47:KT47)","v":4},{"$f":"SUM($F$47:KU47)","v":4},{"$f":"SUM($F$47:KV47)","v":4},{"$f":"SUM($F$47:KW47)","v":4},{"$f":"SUM($F$47:KX47)","v":4},{"$f":"SUM($F$47:KY47)","v":4},{"$f":"SUM($F$47:KZ47)","v":4},{"$f":"SUM($F$47:LA47)","v":4},{"$f":"SUM($F$47:LB47)","v":4},{"$f":"SUM($F$47:LC47)","v":4},{"$f":"SUM($F$47:LD47)","v":4},{"$f":"SUM($F$47:LE47)","v":4},{"$f":"SUM($F$47:LF47)","v":4},{"$f":"SUM($F$47:LG47)","v":4},{"$f":"SUM($F$47:LH47)","v":4},{"$f":"SUM($F$47:LI47)","v":4},{"$f":"SUM($F$47:LJ47)","v":4},{"$f":"SUM($F$47:LK47)","v":4},{"$f":"SUM($F$47:LL47)","v":4},{"$f":"SUM($F$47:LM47)","v":4},{"$f":"SUM($F$47:LN47)","v":4},{"$f":"SUM($F$47:LO47)","v":4},{"$f":"SUM($F$47:LP47)","v":4},{"$f":"SUM($F$47:LQ47)","v":4},{"$f":"SUM($F$47:LR47)","v":4},{"$f":"SUM($F$47:LS47)","v":4},{"$f":"SUM($F$47:LT47)","v":4},{"$f":"SUM($F$47:LU47)","v":4},{"$f":"SUM($F$47:LV47)","v":4},{"$f":"SUM($F$47:LW47)","v":4},{"$f":"SUM($F$47:LX47)","v":4},{"$f":"SUM($F$47:LY47)","v":4},{"$f":"SUM($F$47:LZ47)","v":4},{"$f":"SUM($F$47:MA47)","v":4},{"$f":"SUM($F$47:MB47)","v":4},{"$f":"SUM($F$47:MC47)","v":4},{"$f":"SUM($F$47:MD47)","v":4},{"$f":"SUM($F$47:ME47)","v":4},{"$f":"SUM($F$47:MF47)","v":4},{"$f":"SUM($F$47:MG47)","v":4},{"$f":"SUM($F$47:MH47)","v":4},{"$f":"SUM($F$47:MI47)","v":4},{"$f":"SUM($F$47:MJ47)","v":4},{"$f":"SUM($F$47:MK47)","v":4},{"$f":"SUM($F$47:ML47)","v":4},{"$f":"SUM($F$47:MM47)","v":4},{"$f":"SUM($F$47:MN47)","v":4},{"$f":"SUM($F$47:MO47)","v":4},{"$f":"SUM($F$47:MP47)","v":4},{"$f":"SUM($F$47:MQ47)","v":4},{"$f":"SUM($F$47:MR47)","v":4},{"$f":"SUM($F$47:MS47)","v":4},{"$f":"SUM($F$47:MT47)","v":4},{"$f":"SUM($F$47:MU47)","v":4},{"$f":"SUM($F$47:MV47)","v":4},{"$f":"SUM($F$47:MW47)","v":4},{"$f":"SUM($F$47:MX47)","v":4},{"$f":"SUM($F$47:MY47)","v":4},{"$f":"SUM($F$47:MZ47)","v":4},{"$f":"SUM($F$47:NA47)","v":4},{"$f":"SUM($F$47:NB47)","v":4},{"$f":"SUM($F$47:NC47)","v":4},{"$f":"SUM($F$47:ND47)","v":4},{"$f":"SUM($F$47:NE47)","v":4},{"$f":"SUM($F$47:NF47)","v":4},{"$f":"SUM($F$47:NG47)","v":4},{"$f":"SUM($F$47:NH47)","v":4},{"$f":"SUM($F$47:NI47)","v":4},{"$f":"SUM($F$47:NJ47)","v":4},{"$f":"SUM($F$47:NK47)","v":4},{"$f":"SUM($F$47:NL47)","v":4},{"$f":"SUM($F$47:NM47)","v":4},{"$f":"SUM($F$47:NN47)","v":4},{"$f":"SUM($F$47:NO47)","v":4},{"$f":"SUM($F$47:NP47)","v":4},{"$f":"SUM($F$47:NQ47)","v":4},{"$f":"SUM($F$47:NR47)","v":4},{"$f":"SUM($F$47:NS47)","v":4},{"$f":"SUM($F$47:NT47)","v":4},{"$f":"SUM($F$47:NU47)","v":4},{"$f":"SUM($F$47:NV47)","v":4},{"$f":"SUM($F$47:NW47)","v":4},{"$f":"SUM($F$47:NX47)","v":4},{"$f":"SUM($F$47:NY47)","v":4},{"$f":"SUM($F$47:NZ47)","v":4},{"$f":"SUM($F$47:OA47)","v":4},{"$f":"SUM($F$47:OB47)","v":4},{"$f":"SUM($F$47:OC47)","v":4},{"$f":"SUM($F$47:OD47)","v":4},{"$f":"SUM($F$47:OE47)","v":4},{"$f":"SUM($F$47:OF47)","v":4},{"$f":"SUM($F$47:OG47)","v":4},{"$f":"SUM($F$47:OH47)","v":4},{"$f":"SUM($F$47:OI47)","v":4},{"$f":"SUM($F$47:OJ47)","v":4},{"$f":"SUM($F$47:OK47)","v":4},{"$f":"SUM($F$47:OL47)","v":4},{"$f":"SUM($F$47:OM47)","v":4},{"$f":"SUM($F$47:ON47)","v":4},{"$f":"SUM($F$47:OO47)","v":4},{"$f":"SUM($F$47:OP47)","v":4},{"$f":"SUM($F$47:OQ47)","v":4},{"$f":"SUM($F$47:OR47)","v":4},{"$f":"SUM($F$47:OS47)","v":4},{"$f":"SUM($F$47:OT47)","v":4},{"$f":"SUM($F$47:OU47)","v":4},{"$f":"SUM($F$47:OV47)","v":4},{"$f":"SUM($F$47:OW47)","v":4},{"$f":"SUM($F$47:OX47)","v":4},{"$f":"SUM($F$47:OY47)","v":4},{"$f":"SUM($F$47:OZ47)","v":4},{"$f":"SUM($F$47:PA47)","v":4},{"$f":"SUM($F$47:PB47)","v":4},{"$f":"SUM($F$47:PC47)","v":4},{"$f":"SUM($F$47:PD47)","v":4},{"$f":"SUM($F$47:PE47)","v":4},{"$f":"SUM($F$47:PF47)","v":4},{"$f":"SUM($F$47:PG47)","v":4},{"$f":"SUM($F$47:PH47)","v":4},{"$f":"SUM($F$47:PI47)","v":4},{"$f":"SUM($F$47:PJ47)","v":4},{"$f":"SUM($F$47:PK47)","v":4},{"$f":"SUM($F$47:PL47)","v":4},{"$f":"SUM($F$47:PM47)","v":4},{"$f":"SUM($F$47:PN47)","v":4},{"$f":"SUM($F$47:PO47)","v":4},{"$f":"SUM($F$47:PP47)","v":4},{"$f":"SUM($F$47:PQ47)","v":4},{"$f":"SUM($F$47:PR47)","v":4},{"$f":"SUM($F$47:PS47)","v":4},{"$f":"SUM($F$47:PT47)","v":4},{"$f":"SUM($F$47:PU47)","v":4},{"$f":"SUM($F$47:PV47)","v":4},{"$f":"SUM($F$47:PW47)","v":4},{"$f":"SUM($F$47:PX47)","v":4},{"$f":"SUM($F$47:PY47)","v":4},{"$f":"SUM($F$47:PZ47)","v":4},{"$f":"SUM($F$47:QA47)","v":4},{"$f":"SUM($F$47:QB47)","v":4},{"$f":"SUM($F$47:QC47)","v":4},{"$f":"SUM($F$47:QD47)","v":4},{"$f":"SUM($F$47:QE47)","v":4},{"$f":"SUM($F$47:QF47)","v":4},{"$f":"SUM($F$47:QG47)","v":4},{"$f":"SUM($F$47:QH47)","v":4},{"$f":"SUM($F$47:QI47)","v":4},{"$f":"SUM($F$47:QJ47)","v":4},{"$f":"SUM($F$47:QK47)","v":4},{"$f":"SUM($F$47:QL47)","v":4},{"$f":"SUM($F$47:QM47)","v":4},{"$f":"SUM($F$47:QN47)","v":4},{"$f":"SUM($F$47:QO47)","v":4},{"$f":"SUM($F$47:QP47)","v":4},{"$f":"SUM($F$47:QQ47)","v":4},{"$f":"SUM($F$47:QR47)","v":4},{"$f":"SUM($F$47:QS47)","v":4},{"$f":"SUM($F$47:QT47)","v":4},{"$f":"SUM($F$47:QU47)","v":4},{"$f":"SUM($F$47:QV47)","v":4},{"$f":"SUM($F$47:QW47)","v":4},{"$f":"SUM($F$47:QX47)","v":4},{"$f":"SUM($F$47:QY47)","v":4},{"$f":"SUM($F$47:QZ47)","v":4},{"$f":"SUM($F$47:RA47)","v":4},{"$f":"SUM($F$47:RB47)","v":4},{"$f":"SUM($F$47:RC47)","v":4},{"$f":"SUM($F$47:RD47)","v":4},{"$f":"SUM($F$47:RE47)","v":4},{"$f":"SUM($F$47:RF47)","v":4},{"$f":"SUM($F$47:RG47)","v":4},{"$f":"SUM($F$47:RH47)","v":4},{"$f":"SUM($F$47:RI47)","v":4},{"$f":"SUM($F$47:RJ47)","v":4},{"$f":"SUM($F$47:RK47)","v":4},{"$f":"SUM($F$47:RL47)","v":4},{"$f":"SUM($F$47:RM47)","v":4},{"$f":"SUM($F$47:RN47)","v":4},{"$f":"SUM($F$47:RO47)","v":4},{"$f":"SUM($F$47:RP47)","v":4},{"$f":"SUM($F$47:RQ47)","v":4},{"$f":"SUM($F$47:RR47)","v":4},{"$f":"SUM($F$47:RS47)","v":4},{"$f":"SUM($F$47:RT47)","v":4},{"$f":"SUM($F$47:RU47)","v":4},{"$f":"SUM($F$47:RV47)","v":4},{"$f":"SUM($F$47:RW47)","v":4},{"$f":"SUM($F$47:RX47)","v":4},{"$f":"SUM($F$47:RY47)","v":4},{"$f":"SUM($F$47:RZ47)","v":4},{"$f":"SUM($F$47:SA47)","v":4},{"$f":"SUM($F$47:SB47)","v":4},{"$f":"SUM($F$47:SC47)","v":4},{"$f":"SUM($F$47:SD47)","v":4},{"$f":"SUM($F$47:SE47)","v":4},{"$f":"SUM($F$47:SF47)","v":4},{"$f":"SUM($F$47:SG47)","v":4},{"$f":"SUM($F$47:SH47)","v":4},{"$f":"SUM($F$47:SI47)","v":4},{"$f":"SUM($F$47:SJ47)","v":4},{"$f":"SUM($F$47:SK47)","v":4},{"$f":"SUM($F$47:SL47)","v":4},{"$f":"SUM($F$47:SM47)","v":4},{"$f":"SUM($F$47:SN47)","v":4},{"$f":"SUM($F$47:SO47)","v":4},{"$f":"SUM($F$47:SP47)","v":4},{"$f":"SUM($F$47:SQ47)","v":4},{"$f":"SUM($F$47:SR47)","v":4},{"$f":"SUM($F$47:SS47)","v":4},{"$f":"SUM($F$47:ST47)","v":4},{"$f":"SUM($F$47:SU47)","v":4},{"$f":"SUM($F$47:SV47)","v":4},{"$f":"SUM($F$47:SW47)","v":4},{"$f":"SUM($F$47:SX47)","v":4},{"$f":"SUM($F$47:SY47)","v":4},{"$f":"SUM($F$47:SZ47)","v":4},{"$f":"SUM($F$47:TA47)","v":4},{"$f":"SUM($F$47:TB47)","v":4},{"$f":"SUM($F$47:TC47)","v":4},{"$f":"SUM($F$47:TD47)","v":4},{"$f":"SUM($F$47:TE47)","v":4},{"$f":"SUM($F$47:TF47)","v":4},{"$f":"SUM($F$47:TG47)","v":4},{"$f":"SUM($F$47:TH47)","v":4},{"$f":"SUM($F$47:TI47)","v":4},{"$f":"SUM($F$47:TJ47)","v":4},{"$f":"SUM($F$47:TK47)","v":4},{"$f":"SUM($F$47:TL47)","v":4},{"$f":"SUM($F$47:TM47)","v":4},{"$f":"SUM($F$47:TN47)","v":4},{"$f":"SUM($F$47:TO47)","v":4},{"$f":"SUM($F$47:TP47)","v":4},{"$f":"SUM($F$47:TQ47)","v":4},{"$f":"SUM($F$47:TR47)","v":4},{"$f":"SUM($F$47:TS47)","v":4},{"$f":"SUM($F$47:TT47)","v":4},{"$f":"SUM($F$47:TU47)","v":4},{"$f":"SUM($F$47:TV47)","v":4},{"$f":"SUM($F$47:TW47)","v":4},{"$f":"SUM($F$47:TX47)","v":4},{"$f":"SUM($F$47:TY47)","v":4},{"$f":"SUM($F$47:TZ47)","v":4},{"$f":"SUM($F$47:UA47)","v":4},{"$f":"SUM($F$47:UB47)","v":4},{"$f":"SUM($F$47:UC47)","v":4},{"$f":"SUM($F$47:UD47)","v":4},{"$f":"SUM($F$47:UE47)","v":4},{"$f":"SUM($F$47:UF47)","v":4},{"$f":"SUM($F$47:UG47)","v":4},{"$f":"SUM($F$47:UH47)","v":4},{"$f":"SUM($F$47:UI47)","v":4},{"$f":"SUM($F$47:UJ47)","v":4},{"$f":"SUM($F$47:UK47)","v":4},{"$f":"SUM($F$47:UL47)","v":4},{"$f":"SUM($F$47:UM47)","v":4},{"$f":"SUM($F$47:UN47)","v":4},{"$f":"SUM($F$47:UO47)","v":4},{"$f":"SUM($F$47:UP47)","v":4},{"$f":"SUM($F$47:UQ47)","v":4},{"$f":"SUM($F$47:UR47)","v":4},{"$f":"SUM($F$47:US47)","v":4},{"$f":"SUM($F$47:UT47)","v":4},{"$f":"SUM($F$47:UU47)","v":4},{"$f":"SUM($F$47:UV47)","v":4},{"$f":"SUM($F$47:UW47)","v":4},{"$f":"SUM($F$47:UX47)","v":4},{"$f":"SUM($F$47:UY47)","v":4},{"$f":"SUM($F$47:UZ47)","v":4},{"$f":"SUM($F$47:VA47)","v":4},{"$f":"SUM($F$47:VB47)","v":4},{"$f":"SUM($F$47:VC47)","v":4},{"$f":"SUM($F$47:VD47)","v":4},{"$f":"SUM($F$47:VE47)","v":4},{"$f":"SUM($F$47:VF47)","v":4},{"$f":"SUM($F$47:VG47)","v":4},{"$f":"SUM($F$47:VH47)","v":4},{"$f":"SUM($F$47:VI47)","v":4},{"$f":"SUM($F$47:VJ47)","v":4},{"$f":"SUM($F$47:VK47)","v":4},{"$f":"SUM($F$47:VL47)","v":4},{"$f":"SUM($F$47:VM47)","v":4},{"$f":"SUM($F$47:VN47)","v":4},{"$f":"SUM($F$47:VO47)","v":4},{"$f":"SUM($F$47:VP47)","v":4},{"$f":"SUM($F$47:VQ47)","v":4},{"$f":"SUM($F$47:VR47)","v":4},{"$f":"SUM($F$47:VS47)","v":4},{"$f":"SUM($F$47:VT47)","v":4},{"$f":"SUM($F$47:VU47)","v":4},{"$f":"SUM($F$47:VV47)","v":4},{"$f":"SUM($F$47:VW47)","v":4},{"$f":"SUM($F$47:VX47)","v":4},{"$f":"SUM($F$47:VY47)","v":4},{"$f":"SUM($F$47:VZ47)","v":4},{"$f":"SUM($F$47:WA47)","v":4},{"$f":"SUM($F$47:WB47)","v":4},{"$f":"SUM($F$47:WC47)","v":4},{"$f":"SUM($F$47:WD47)","v":4},{"$f":"SUM($F$47:WE47)","v":4},{"$f":"SUM($F$47:WF47)","v":4},{"$f":"SUM($F$47:WG47)","v":4},{"$f":"SUM($F$47:WH47)","v":4},{"$f":"SUM($F$47:WI47)","v":4},{"$f":"SUM($F$47:WJ47)","v":4},{"$f":"SUM($F$47:WK47)","v":4},{"$f":"SUM($F$47:WL47)","v":4},{"$f":"SUM($F$47:WM47)","v":4},{"$f":"SUM($F$47:WN47)","v":4},{"$f":"SUM($F$47:WO47)","v":4},{"$f":"SUM($F$47:WP47)","v":4},{"$f":"SUM($F$47:WQ47)","v":4},{"$f":"SUM($F$47:WR47)","v":4},{"$f":"SUM($F$47:WS47)","v":4},{"$f":"SUM($F$47:WT47)","v":4},{"$f":"SUM($F$47:WU47)","v":4},{"$f":"SUM($F$47:WV47)","v":4},{"$f":"SUM($F$47:WW47)","v":4},{"$f":"SUM($F$47:WX47)","v":4},{"$f":"SUM($F$47:WY47)","v":4},{"$f":"SUM($F$47:WZ47)","v":4},{"$f":"SUM($F$47:XA47)","v":4},{"$f":"SUM($F$47:XB47)","v":4},{"$f":"SUM($F$47:XC47)","v":4},{"$f":"SUM($F$47:XD47)","v":4},{"$f":"SUM($F$47:XE47)","v":4},{"$f":"SUM($F$47:XF47)","v":4},{"$f":"SUM($F$47:XG47)","v":4},{"$f":"SUM($F$47:XH47)","v":4},{"$f":"SUM($F$47:XI47)","v":4},{"$f":"SUM($F$47:XJ47)","v":4},{"$f":"SUM($F$47:XK47)","v":4},{"$f":"SUM($F$47:XL47)","v":4},{"$f":"SUM($F$47:XM47)","v":4},{"$f":"SUM($F$47:XN47)","v":4},{"$f":"SUM($F$47:XO47)","v":4},{"$f":"SUM($F$47:XP47)","v":4},{"$f":"SUM($F$47:XQ47)","v":4},{"$f":"SUM($F$47:XR47)","v":4},{"$f":"SUM($F$47:XS47)","v":4},{"$f":"SUM($F$47:XT47)","v":4},{"$f":"SUM($F$47:XU47)","v":4},{"$f":"SUM($F$47:XV47)","v":4},{"$f":"SUM($F$47:XW47)","v":4},{"$f":"SUM($F$47:XX47)","v":4},{"$f":"SUM($F$47:XY47)","v":4},{"$f":"SUM($F$47:XZ47)","v":4},{"$f":"SUM($F$47:YA47)","v":4},{"$f":"SUM($F$47:YB47)","v":4},{"$f":"SUM($F$47:YC47)","v":4},{"$f":"SUM($F$47:YD47)","v":4},{"$f":"SUM($F$47:YE47)","v":4},{"$f":"SUM($F$47:YF47)","v":4},{"$f":"SUM($F$47:YG47)","v":4},{"$f":"SUM($F$47:YH47)","v":4},{"$f":"SUM($F$47:YI47)","v":4},{"$f":"SUM($F$47:YJ47)","v":4},{"$f":"SUM($F$47:YK47)","v":4},{"$f":"SUM($F$47:YL47)","v":4},{"$f":"SUM($F$47:YM47)","v":4},{"$f":"SUM($F$47:YN47)","v":4},{"$f":"SUM($F$47:YO47)","v":4},{"$f":"SUM($F$47:YP47)","v":4},{"$f":"SUM($F$47:YQ47)","v":4},{"$f":"SUM($F$47:YR47)","v":4},{"$f":"SUM($F$47:YS47)","v":4},{"$f":"SUM($F$47:YT47)","v":4},{"$f":"SUM($F$47:YU47)","v":4},{"$f":"SUM($F$47:YV47)","v":4},{"$f":"SUM($F$47:YW47)","v":4},{"$f":"SUM($F$47:YX47)","v":4},{"$f":"SUM($F$47:YY47)","v":4},{"$f":"SUM($F$47:YZ47)","v":4},{"$f":"SUM($F$47:ZA47)","v":4},{"$f":"SUM($F$47:ZB47)","v":4},{"$f":"SUM($F$47:ZC47)","v":4},{"$f":"SUM($F$47:ZD47)","v":4},{"$f":"SUM($F$47:ZE47)","v":4},{"$f":"SUM($F$47:ZF47)","v":4},{"$f":"SUM($F$47:ZG47)","v":4},{"$f":"SUM($F$47:ZH47)","v":4},{"$f":"SUM($F$47:ZI47)","v":4},{"$f":"SUM($F$47:ZJ47)","v":4},{"$f":"SUM($F$47:ZK47)","v":4},{"$f":"SUM($F$47:ZL47)","v":4},{"$f":"SUM($F$47:ZM47)","v":4},{"$f":"SUM($F$47:ZN47)","v":4},{"$f":"SUM($F$47:ZO47)","v":4},{"$f":"SUM($F$47:ZP47)","v":4},{"$f":"SUM($F$47:ZQ47)","v":4},{"$f":"SUM($F$47:ZR47)","v":4},{"$f":"SUM($F$47:ZS47)","v":4},{"$f":"SUM($F$47:ZT47)","v":4},{"$f":"SUM($F$47:ZU47)","v":4},{"$f":"SUM($F$47:ZV47)","v":4},{"$f":"SUM($F$47:ZW47)","v":4},{"$f":"SUM($F$47:ZX47)","v":4},{"$f":"SUM($F$47:ZY47)","v":4},{"$f":"SUM($F$47:ZZ47)","v":4},{"$f":"SUM($F$47:AAA47)","v":4},{"$f":"SUM($F$47:AAB47)","v":4},{"$f":"SUM($F$47:AAC47)","v":4},{"$f":"SUM($F$47:AAD47)","v":4},{"$f":"SUM($F$47:AAE47)","v":4},{"$f":"SUM($F$47:AAF47)","v":4},{"$f":"SUM($F$47:AAG47)","v":4},{"$f":"SUM($F$47:AAH47)","v":4},{"$f":"SUM($F$47:AAI47)","v":4},{"$f":"SUM($F$47:AAJ47)","v":4},{"$f":"SUM($F$47:AAK47)","v":4},{"$f":"SUM($F$47:AAL47)","v":4},{"$f":"SUM($F$47:AAM47)","v":4},{"$f":"SUM($F$47:AAN47)","v":4},{"$f":"SUM($F$47:AAO47)","v":4},{"$f":"SUM($F$47:AAP47)","v":4},{"$f":"SUM($F$47:AAQ47)","v":4},{"$f":"SUM($F$47:AAR47)","v":4},{"$f":"SUM($F$47:AAS47)","v":4},{"$f":"SUM($F$47:AAT47)","v":4},{"$f":"SUM($F$47:AAU47)","v":4},{"$f":"SUM($F$47:AAV47)","v":4},{"$f":"SUM($F$47:AAW47)","v":4},{"$f":"SUM($F$47:AAX47)","v":4},{"$f":"SUM($F$47:AAY47)","v":4},{"$f":"SUM($F$47:AAZ47)","v":4},{"$f":"SUM($F$47:ABA47)","v":4},{"$f":"SUM($F$47:ABB47)","v":4},{"$f":"SUM($F$47:ABC47)","v":4},{"$f":"SUM($F$47:ABD47)","v":4},{"$f":"SUM($F$47:ABE47)","v":4},{"$f":"SUM($F$47:ABF47)","v":4},{"$f":"SUM($F$47:ABG47)","v":4},{"$f":"SUM($F$47:ABH47)","v":4},{"$f":"SUM($F$47:ABI47)","v":4},{"$f":"SUM($F$47:ABJ47)","v":4},{"$f":"SUM($F$47:ABK47)","v":4},{"$f":"SUM($F$47:ABL47)","v":4},{"$f":"SUM($F$47:ABM47)","v":4},{"$f":"SUM($F$47:ABN47)","v":4},{"$f":"SUM($F$47:ABO47)","v":4},{"$f":"SUM($F$47:ABP47)","v":4},{"$f":"SUM($F$47:ABQ47)","v":4},{"$f":"SUM($F$47:ABR47)","v":4},{"$f":"SUM($F$47:ABS47)","v":4},{"$f":"SUM($F$47:ABT47)","v":4},{"$f":"SUM($F$47:ABU47)","v":4},{"$f":"SUM($F$47:ABV47)","v":4},{"$f":"SUM($F$47:ABW47)","v":4},{"$f":"SUM($F$47:ABX47)","v":4},{"$f":"SUM($F$47:ABY47)","v":4},{"$f":"SUM($F$47:ABZ47)","v":4},{"$f":"SUM($F$47:ACA47)","v":4},{"$f":"SUM($F$47:ACB47)","v":4},{"$f":"SUM($F$47:ACC47)","v":4},{"$f":"SUM($F$47:ACD47)","v":4},{"$f":"SUM($F$47:ACE47)","v":4},{"$f":"SUM($F$47:ACF47)","v":4},{"$f":"SUM($F$47:ACG47)","v":4},{"$f":"SUM($F$47:ACH47)","v":4},{"$f":"SUM($F$47:ACI47)","v":4},{"$f":"SUM($F$47:ACJ47)","v":4},{"$f":"SUM($F$47:ACK47)","v":4},{"$f":"SUM($F$47:ACL47)","v":4},{"$f":"SUM($F$47:ACM47)","v":4},{"$f":"SUM($F$47:ACN47)","v":4},{"$f":"SUM($F$47:ACO47)","v":4},{"$f":"SUM($F$47:ACP47)","v":4},{"$f":"SUM($F$47:ACQ47)","v":4},{"$f":"SUM($F$47:ACR47)","v":4},{"$f":"SUM($F$47:ACS47)","v":4},{"$f":"SUM($F$47:ACT47)","v":4},{"$f":"SUM($F$47:ACU47)","v":4},{"$f":"SUM($F$47:ACV47)","v":4},{"$f":"SUM($F$47:ACW47)","v":4},{"$f":"SUM($F$47:ACX47)","v":4},{"$f":"SUM($F$47:ACY47)","v":4},{"$f":"SUM($F$47:ACZ47)","v":4},{"$f":"SUM($F$47:ADA47)","v":4},{"$f":"SUM($F$47:ADB47)","v":4},{"$f":"SUM($F$47:ADC47)","v":4},{"$f":"SUM($F$47:ADD47)","v":4},{"$f":"SUM($F$47:ADE47)","v":4},{"$f":"SUM($F$47:ADF47)","v":4},{"$f":"SUM($F$47:ADG47)","v":4},{"$f":"SUM($F$47:ADH47)","v":4},{"$f":"SUM($F$47:ADI47)","v":4},{"$f":"SUM($F$47:ADJ47)","v":4},{"$f":"SUM($F$47:ADK47)","v":4},{"$f":"SUM($F$47:ADL47)","v":4},{"$f":"SUM($F$47:ADM47)","v":4},{"$f":"SUM($F$47:ADN47)","v":4},{"$f":"SUM($F$47:ADO47)","v":4},{"$f":"SUM($F$47:ADP47)","v":4},{"$f":"SUM($F$47:ADQ47)","v":4},{"$f":"SUM($F$47:ADR47)","v":4},{"$f":"SUM($F$47:ADS47)","v":4},{"$f":"SUM($F$47:ADT47)","v":4},{"$f":"SUM($F$47:ADU47)","v":4},{"$f":"SUM($F$47:ADV47)","v":4},{"$f":"SUM($F$47:ADW47)","v":4},{"$f":"SUM($F$47:ADX47)","v":4},{"$f":"SUM($F$47:ADY47)","v":4},{"$f":"SUM($F$47:ADZ47)","v":4},{"$f":"SUM($F$47:AEA47)","v":4},{"$f":"SUM($F$47:AEB47)","v":4},{"$f":"SUM($F$47:AEC47)","v":4},{"$f":"SUM($F$47:AED47)","v":4},{"$f":"SUM($F$47:AEE47)","v":4},{"$f":"SUM($F$47:AEF47)","v":4},{"$f":"SUM($F$47:AEG47)","v":4},{"$f":"SUM($F$47:AEH47)","v":4},{"$f":"SUM($F$47:AEI47)","v":4},{"$f":"SUM($F$47:AEJ47)","v":4},{"$f":"SUM($F$47:AEK47)","v":4},{"$f":"SUM($F$47:AEL47)","v":4},{"$f":"SUM($F$47:AEM47)","v":4},{"$f":"SUM($F$47:AEN47)","v":4},{"$f":"SUM($F$47:AEO47)","v":4},{"$f":"SUM($F$47:AEP47)","v":4},{"$f":"SUM($F$47:AEQ47)","v":4},{"$f":"SUM($F$47:AER47)","v":4},{"$f":"SUM($F$47:AES47)","v":4},{"$f":"SUM($F$47:AET47)","v":4},{"$f":"SUM($F$47:AEU47)","v":4},{"$f":"SUM($F$47:AEV47)","v":4},{"$f":"SUM($F$47:AEW47)","v":4},{"$f":"SUM($F$47:AEX47)","v":4},{"$f":"SUM($F$47:AEY47)","v":4},{"$f":"SUM($F$47:AEZ47)","v":4},{"$f":"SUM($F$47:AFA47)","v":4},{"$f":"SUM($F$47:AFB47)","v":4},{"$f":"SUM($F$47:AFC47)","v":4},{"$f":"SUM($F$47:AFD47)","v":4},{"$f":"SUM($F$47:AFE47)","v":4},{"$f":"SUM($F$47:AFF47)","v":4},{"$f":"SUM($F$47:AFG47)","v":4},{"$f":"SUM($F$47:AFH47)","v":4},{"$f":"SUM($F$47:AFI47)","v":4},{"$f":"SUM($F$47:AFJ47)","v":4},{"$f":"SUM($F$47:AFK47)","v":4},{"$f":"SUM($F$47:AFL47)","v":4},{"$f":"SUM($F$47:AFM47)","v":4},{"$f":"SUM($F$47:AFN47)","v":4},{"$f":"SUM($F$47:AFO47)","v":4},{"$f":"SUM($F$47:AFP47)","v":4},{"$f":"SUM($F$47:AFQ47)","v":4},{"$f":"SUM($F$47:AFR47)","v":4},{"$f":"SUM($F$47:AFS47)","v":4},{"$f":"SUM($F$47:AFT47)","v":4},{"$f":"SUM($F$47:AFU47)","v":4},{"$f":"SUM($F$47:AFV47)","v":4},{"$f":"SUM($F$47:AFW47)","v":4},{"$f":"SUM($F$47:AFX47)","v":4},{"$f":"SUM($F$47:AFY47)","v":4},{"$f":"SUM($F$47:AFZ47)","v":4},{"$f":"SUM($F$47:AGA47)","v":4},{"$f":"SUM($F$47:AGB47)","v":4},{"$f":"SUM($F$47:AGC47)","v":4},{"$f":"SUM($F$47:AGD47)","v":4},{"$f":"SUM($F$47:AGE47)","v":4},{"$f":"SUM($F$47:AGF47)","v":4},{"$f":"SUM($F$47:AGG47)","v":4},{"$f":"SUM($F$47:AGH47)","v":4},{"$f":"SUM($F$47:AGI47)","v":4},{"$f":"SUM($F$47:AGJ47)","v":4},{"$f":"SUM($F$47:AGK47)","v":4},{"$f":"SUM($F$47:AGL47)","v":4},{"$f":"SUM($F$47:AGM47)","v":4},{"$f":"SUM($F$47:AGN47)","v":4},{"$f":"SUM($F$47:AGO47)","v":4},{"$f":"SUM($F$47:AGP47)","v":4},{"$f":"SUM($F$47:AGQ47)","v":4},{"$f":"SUM($F$47:AGR47)","v":4},{"$f":"SUM($F$47:AGS47)","v":4},{"$f":"SUM($F$47:AGT47)","v":4},{"$f":"SUM($F$47:AGU47)","v":4},{"$f":"SUM($F$47:AGV47)","v":4},{"$f":"SUM($F$47:AGW47)","v":4},{"$f":"SUM($F$47:AGX47)","v":4},{"$f":"SUM($F$47:AGY47)","v":4},{"$f":"SUM($F$47:AGZ47)","v":4},{"$f":"SUM($F$47:AHA47)","v":4},{"$f":"SUM($F$47:AHB47)","v":4},{"$f":"SUM($F$47:AHC47)","v":4},{"$f":"SUM($F$47:AHD47)","v":4},{"$f":"SUM($F$47:AHE47)","v":4},{"$f":"SUM($F$47:AHF47)","v":4},{"$f":"SUM($F$47:AHG47)","v":4},{"$f":"SUM($F$47:AHH47)","v":4},{"$f":"SUM($F$47:AHI47)","v":4},{"$f":"SUM($F$47:AHJ47)","v":4},{"$f":"SUM($F$47:AHK47)","v":4},{"$f":"SUM($F$47:AHL47)","v":4},{"$f":"SUM($F$47:AHM47)","v":4},{"$f":"SUM($F$47:AHN47)","v":4},{"$f":"SUM($F$47:AHO47)","v":4},{"$f":"SUM($F$47:AHP47)","v":4},{"$f":"SUM($F$47:AHQ47)","v":4},{"$f":"SUM($F$47:AHR47)","v":4},{"$f":"SUM($F$47:AHS47)","v":4},{"$f":"SUM($F$47:AHT47)","v":4},{"$f":"SUM($F$47:AHU47)","v":4},{"$f":"SUM($F$47:AHV47)","v":4},{"$f":"SUM($F$47:AHW47)","v":4},{"$f":"SUM($F$47:AHX47)","v":4},{"$f":"SUM($F$47:AHY47)","v":4},{"$f":"SUM($F$47:AHZ47)","v":4},{"$f":"SUM($F$47:AIA47)","v":4},{"$f":"SUM($F$47:AIB47)","v":4},{"$f":"SUM($F$47:AIC47)","v":4},{"$f":"SUM($F$47:AID47)","v":4},{"$f":"SUM($F$47:AIE47)","v":4},{"$f":"SUM($F$47:AIF47)","v":4},{"$f":"SUM($F$47:AIG47)","v":4},{"$f":"SUM($F$47:AIH47)","v":4},{"$f":"SUM($F$47:AII47)","v":4},{"$f":"SUM($F$47:AIJ47)","v":4},{"$f":"SUM($F$47:AIK47)","v":4},{"$f":"SUM($F$47:AIL47)","v":4},{"$f":"SUM($F$47:AIM47)","v":4},{"$f":"SUM($F$47:AIN47)","v":4},{"$f":"SUM($F$47:AIO47)","v":4},{"$f":"SUM($F$47:AIP47)","v":4},{"$f":"SUM($F$47:AIQ47)","v":4},{"$f":"SUM($F$47:AIR47)","v":4},{"$f":"SUM($F$47:AIS47)","v":4},{"$f":"SUM($F$47:AIT47)","v":4},{"$f":"SUM($F$47:AIU47)","v":4},{"$f":"SUM($F$47:AIV47)","v":4},{"$f":"SUM($F$47:AIW47)","v":4},{"$f":"SUM($F$47:AIX47)","v":4},{"$f":"SUM($F$47:AIY47)","v":4},{"$f":"SUM($F$47:AIZ47)","v":4},{"$f":"SUM($F$47:AJA47)","v":4},{"$f":"SUM($F$47:AJB47)","v":4},{"$f":"SUM($F$47:AJC47)","v":4},{"$f":"SUM($F$47:AJD47)","v":4},{"$f":"SUM($F$47:AJE47)","v":4},{"$f":"SUM($F$47:AJF47)","v":4},{"$f":"SUM($F$47:AJG47)","v":4},{"$f":"SUM($F$47:AJH47)","v":4},{"$f":"SUM($F$47:AJI47)","v":4},{"$f":"SUM($F$47:AJJ47)","v":4},{"$f":"SUM($F$47:AJK47)","v":4},{"$f":"SUM($F$47:AJL47)","v":4},{"$f":"SUM($F$47:AJM47)","v":4},{"$f":"SUM($F$47:AJN47)","v":4},{"$f":"SUM($F$47:AJO47)","v":4},{"$f":"SUM($F$47:AJP47)","v":4},{"$f":"SUM($F$47:AJQ47)","v":4},{"$f":"SUM($F$47:AJR47)","v":4},{"$f":"SUM($F$47:AJS47)","v":4},{"$f":"SUM($F$47:AJT47)","v":4},{"$f":"SUM($F$47:AJU47)","v":4},{"$f":"SUM($F$47:AJV47)","v":4},{"$f":"SUM($F$47:AJW47)","v":4},{"$f":"SUM($F$47:AJX47)","v":4},{"$f":"SUM($F$47:AJY47)","v":4},{"$f":"SUM($F$47:AJZ47)","v":4},{"$f":"SUM($F$47:AKA47)","v":4},{"$f":"SUM($F$47:AKB47)","v":4},{"$f":"SUM($F$47:AKC47)","v":4},{"$f":"SUM($F$47:AKD47)","v":4},{"$f":"SUM($F$47:AKE47)","v":4},{"$f":"SUM($F$47:AKF47)","v":4},{"$f":"SUM($F$47:AKG47)","v":4},{"$f":"SUM($F$47:AKH47)","v":4},{"$f":"SUM($F$47:AKI47)","v":4},{"$f":"SUM($F$47:AKJ47)","v":4},{"$f":"SUM($F$47:AKK47)","v":4},{"$f":"SUM($F$47:AKL47)","v":4},{"$f":"SUM($F$47:AKM47)","v":4},{"$f":"SUM($F$47:AKN47)","v":4},{"$f":"SUM($F$47:AKO47)","v":4},{"$f":"SUM($F$47:AKP47)","v":4},{"$f":"SUM($F$47:AKQ47)","v":4},{"$f":"SUM($F$47:AKR47)","v":4},{"$f":"SUM($F$47:AKS47)","v":4},{"$f":"SUM($F$47:AKT47)","v":4},{"$f":"SUM($F$47:AKU47)","v":4},{"$f":"SUM($F$47:AKV47)","v":4},{"$f":"SUM($F$47:AKW47)","v":4},{"$f":"SUM($F$47:AKX47)","v":4},{"$f":"SUM($F$47:AKY47)","v":4},{"$f":"SUM($F$47:AKZ47)","v":4},{"$f":"SUM($F$47:ALA47)","v":4},{"$f":"SUM($F$47:ALB47)","v":4},{"$f":"SUM($F$47:ALC47)","v":4},{"$f":"SUM($F$47:ALD47)","v":4},{"$f":"SUM($F$47:ALE47)","v":4},{"$f":"SUM($F$47:ALF47)","v":4},{"$f":"SUM($F$47:ALG47)","v":4},{"$f":"SUM($F$47:ALH47)","v":4},{"$f":"SUM($F$47:ALI47)","v":4},{"$f":"SUM($F$47:ALJ47)","v":4},{"$f":"SUM($F$47:ALK47)","v":4},{"$f":"SUM($F$47:ALL47)","v":4},{"$f":"SUM($F$47:ALM47)","v":4},{"$f":"SUM($F$47:ALN47)","v":4},{"$f":"SUM($F$47:ALO47)","v":4},{"$f":"SUM($F$47:ALP47)","v":4},{"$f":"SUM($F$47:ALQ47)","v":4}]
[5,{"$error":"#N/A"},{"$error":"#N/A"},0,{"$f":"IF(D53=0,IF(SUM(D54:$D$62)=0,\"\",E54),D53)","v":""}]
[6,{"$error":"#N/A"},{"$error":"#N/A"},0,{"$f":"IF(D54=0,IF(SUM(D55:$D$62)=0,\"\",E55),D54)","v":""},{"$f":"SUM($F49:F49)","v":1},{"$f":"SUM($F49:G49)","v":2},{"$f":"SUM($F49:H49)","v":3},{"$f":"SUM($F49:I49)","v":3},{"$f":"SUM($F49:J49)","v":3},{"$f":"SUM($F49:K49)","v":3},{"$f":"SUM($F49:L49)","v":3},{"$f":"SUM($F49:M49)","v":3},{"$f":"SUM($F49:N49)","v":3},{"$f":"SUM($F49:O49)","v":3},{"$f":"SUM($F49:P49)","v":3},{"$f":"SUM($F49:Q49)","v":3},{"$f":"SUM($F49:R49)","v":3},{"$f":"SUM($F49:S49)","v":3},{"$f":"SUM($F49:T49)","v":3},{"$f":"SUM($F49:U49)","v":3},{"$f":"SUM($F49:V49)","v":3},{"$f":"SUM($F49:W49)","v":3},{"$f":"SUM($F49:X49)","v":3},{"$f":"SUM($F49:Y49)","v":3},{"$f":"SUM($F49:Z49)","v":3},{"$f":"SUM($F49:AA49)","v":3},{"$f":"SUM($F49:AB49)","v":3},{"$f":"SUM($F49:AC49)","v":3},{"$f":"SUM($F49:AD49)","v":3},{"$f":"SUM($F49:AE49)","v":3},{"$f":"SUM($F49:AF49)","v":3},{"$f":"SUM($F49:AG49)","v":3},{"$f":"SUM($F49:AH49)","v":3},{"$f":"SUM($F49:AI49)","v":3},{"$f":"SUM($F49:AJ49)","v":3},{"$f":"SUM($F49:AK49)","v":3},{"$f":"SUM($F49:AL49)","v":3},{"$f":"SUM($F49:AM49)","v":3},{"$f":"SUM($F49:AN49)","v":3},{"$f":"SUM($F49:AO49)","v":3},{"$f":"SUM($F49:AP49)","v":3},{"$f":"SUM($F49:AQ49)","v":3},{"$f":"SUM($F49:AR49)","v":3},{"$f":"SUM($F49:AS49)","v":3},{"$f":"SUM($F49:AT49)","v":3},{"$f":"SUM($F49:AU49)","v":3},{"$f":"SUM($F49:AV49)","v":3},{"$f":"SUM($F49:AW49)","v":3},{"$f":"SUM($F49:AX49)","v":3},{"$f":"SUM($F49:AY49)","v":3},{"$f":"SUM($F49:AZ49)","v":3},{"$f":"SUM($F49:BA49)","v":3},{"$f":"SUM($F49:BB49)","v":3},{"$f":"SUM($F49:BC49)","v":3},{"$f":"SUM($F49:BD49)","v":3},{"$f":"SUM($F49:BE49)","v":3},{"$f":"SUM($F49:BF49)","v":3},{"$f":"SUM($F49:BG49)","v":3},{"$f":"SUM($F49:BH49)","v":3},{"$f":"SUM($F49:BI49)","v":3},{"$f":"SUM($F49:BJ49)","v":3},{"$f":"SUM($F49:BK49)","v":3},{"$f":"SUM($F49:BL49)","v":3},{"$f":"SUM($F49:BM49)","v":3},{"$f":"SUM($F49:BN49)","v":3},{"$f":"SUM($F49:BO49)","v":3},{"$f":"SUM($F49:BP49)","v":3},{"$f":"SUM($F49:BQ49)","v":3},{"$f":"SUM($F49:BR49)","v":3},{"$f":"SUM($F49:BS49)","v":3},{"$f":"SUM($F49:BT49)","v":3},{"$f":"SUM($F49:BU49)","v":3},{"$f":"SUM($F49:BV49)","v":3},{"$f":"SUM($F49:BW49)","v":3},{"$f":"SUM($F49:BX49)","v":3},{"$f":"SUM($F49:BY49)","v":3},{"$f":"SUM($F49:BZ49)","v":3},{"$f":"SUM($F49:CA49)","v":3},{"$f":"SUM($F49:CB49)","v":3},{"$f":"SUM($F49:CC49)","v":3},{"$f":"SUM($F49:CD49)","v":3},{"$f":"SUM($F49:CE49)","v":3},{"$f":"SUM($F49:CF49)","v":3},{"$f":"SUM($F49:CG49)","v":3},{"$f":"SUM($F49:CH49)","v":3},{"$f":"SUM($F49:CI49)","v":3},{"$f":"SUM($F49:CJ49)","v":3},{"$f":"SUM($F49:CK49)","v":3},{"$f":"SUM($F49:CL49)","v":3},{"$f":"SUM($F49:CM49)","v":3},{"$f":"SUM($F49:CN49)","v":3},{"$f":"SUM($F49:CO49)","v":3},{"$f":"SUM($F49:CP49)","v":3},{"$f":"SUM($F49:CQ49)","v":3},{"$f":"SUM($F49:CR49)","v":3},{"$f":"SUM($F49:CS49)","v":3},{"$f":"SUM($F49:CT49)","v":3},{"$f":"SUM($F49:CU49)","v":3},{"$f":"SUM($F49:CV49)","v":3},{"$f":"SUM($F49:CW49)","v":3},{"$f":"SUM($F49:CX49)","v":3},{"$f":"SUM($F49:CY49)","v":3},{"$f":"SUM($F49:CZ49)","v":3},{"$f":"SUM($F49:DA49)","v":3},{"$f":"SUM($F49:DB49)","v":3},{"$f":"SUM($F49:DC49)","v":3},{"$f":"SUM($F49:DD49)","v":3},{"$f":"SUM($F49:DE49)","v":3},{"$f":"SUM($F49:DF49)","v":3},{"$f":"SUM($F49:DG49)","v":3},{"$f":"SUM($F49:DH49)","v":3},{"$f":"SUM($F49:DI49)","v":3},{"$f":"SUM($F49:DJ49)","v":3},{"$f":"SUM($F49:DK49)","v":3},{"$f":"SUM($F49:DL49)","v":3},{"$f":"SUM($F49:DM49)","v":3},{"$f":"SUM($F49:DN49)","v":3},{"$f":"SUM($F49:DO49)","v":3},{"$f":"SUM($F49:DP49)","v":3},{"$f":"SUM($F49:DQ49)","v":3},{"$f":"SUM($F49:DR49)","v":3},{"$f":"SUM($F49:DS49)","v":3},{"$f":"SUM($F49:DT49)","v":3},{"$f":"SUM($F49:DU49)","v":3},{"$f":"SUM($F49:DV49)","v":3},{"$f":"SUM($F49:DW49)","v":3},{"$f":"SUM($F49:DX49)","v":3},{"$f":"SUM($F49:DY49)","v":3},{"$f":"SUM($F49:DZ49)","v":3},{"$f":"SUM($F49:EA49)","v":3},{"$f":"SUM($F49:EB49)","v":3},{"$f":"SUM($F49:EC49)","v":3},{"$f":"SUM($F49:ED49)","v":3},{"$f":"SUM($F49:EE49)","v":3},{"$f":"SUM($F49:EF49)","v":3},{"$f":"SUM($F49:EG49)","v":3},{"$f":"SUM($F49:EH49)","v":3},{"$f":"SUM($F49:EI49)","v":3},{"$f":"SUM($F49:EJ49)","v":3},{"$f":"SUM($F49:EK49)","v":3},{"$f":"SUM($F49:EL49)","v":3},{"$f":"SUM($F49:EM49)","v":3},{"$f":"SUM($F49:EN49)","v":3},{"$f":"SUM($F49:EO49)","v":3},{"$f":"SUM($F49:EP49)","v":3},{"$f":"SUM($F49:EQ49)","v":3},{"$f":"SUM($F49:ER49)","v":3},{"$f":"SUM($F49:ES49)","v":3},{"$f":"SUM($F49:ET49)","v":3},{"$f":"SUM($F49:EU49)","v":3},{"$f":"SUM($F49:EV49)","v":3},{"$f":"SUM($F49:EW49)","v":3},{"$f":"SUM($F49:EX49)","v":3},{"$f":"SUM($F49:EY49)","v":3},{"$f":"SUM($F49:EZ49)","v":3},{"$f":"SUM($F49:FA49)","v":3},{"$f":"SUM($F49:FB49)","v":3},{"$f":"SUM($F49:FC49)","v":3},{"$f":"SUM($F49:FD49)","v":3},{"$f":"SUM($F49:FE49)","v":3},{"$f":"SUM($F49:FF49)","v":3},{"$f":"SUM($F49:FG49)","v":3},{"$f":"SUM($F49:FH49)","v":3},{"$f":"SUM($F49:FI49)","v":3},{"$f":"SUM($F49:FJ49)","v":3},{"$f":"SUM($F49:FK49)","v":3},{"$f":"SUM($F49:FL49)","v":3},{"$f":"SUM($F49:FM49)","v":3},{"$f":"SUM($F49:FN49)","v":3},{"$f":"SUM($F49:FO49)","v":3},{"$f":"SUM($F49:FP49)","v":3},{"$f":"SUM($F49:FQ49)","v":3},{"$f":"SUM($F49:FR49)","v":3},{"$f":"SUM($F49:FS49)","v":3},{"$f":"SUM($F49:FT49)","v":3},{"$f":"SUM($F49:FU49)","v":3},{"$f":"SUM($F49:FV49)","v":3},{"$f":"SUM($F49:FW49)","v":3},{"$f":"SUM($F49:FX49)","v":3},{"$f":"SUM($F49:FY49)","v":3},{"$f":"SUM($F49:FZ49)","v":3},{"$f":"SUM($F49:GA49)","v":3},{"$f":"SUM($F49:GB49)","v":3},{"$f":"SUM($F49:GC49)","v":3},{"$f":"SUM($F49:GD49)","v":3},{"$f":"SUM($F49:GE49)","v":3},{"$f":"SUM($F49:GF49)","v":3},{"$f":"SUM($F49:GG49)","v":3},{"$f":"SUM($F49:GH49)","v":3},{"$f":"SUM($F49:GI49)","v":3},{"$f":"SUM($F49:GJ49)","v":3},{"$f":"SUM($F49:GK49)","v":3},{"$f":"SUM($F49:GL49)","v":3},{"$f":"SUM($F49:GM49)","v":3},{"$f":"SUM($F49:GN49)","v":3},{"$f":"SUM($F49:GO49)","v":3},{"$f":"SUM($F49:GP49)","v":3},{"$f":"SUM($F49:GQ49)","v":3},{"$f":"SUM($F49:GR49)","v":3},{"$f":"SUM($F49:GS49)","v":3},{"$f":"SUM($F49:GT49)","v":3},{"$f":"SUM($F49:GU49)","v":3},{"$f":"SUM($F49:GV49)","v":3},{"$f":"SUM($F49:GW49)","v":3},{"$f":"SUM($F49:GX49)","v":3},{"$f":"SUM($F49:GY49)","v":3},{"$f":"SUM($F49:GZ49)","v":3},{"$f":"SUM($F49:HA49)","v":3},{"$f":"SUM($F49:HB49)","v":3},{"$f":"SUM($F49:HC49)","v":3},{"$f":"SUM($F49:HD49)","v":3},{"$f":"SUM($F49:HE49)","v":3},{"$f":"SUM($F49:HF49)","v":3},{"$f":"SUM($F49:HG49)","v":3},{"$f":"SUM($F49:HH49)","v":3},{"$f":"SUM($F49:HI49)","v":3},{"$f":"SUM($F49:HJ49)","v":3},{"$f":"SUM($F49:HK49)","v":3},{"$f":"SUM($F49:HL49)","v":3},{"$f":"SUM($F49:HM49)","v":3},{"$f":"SUM($F49:HN49)","v":3},{"$f":"SUM($F49:HO49)","v":3},{"$f":"SUM($F49:HP49)","v":3},{"$f":"SUM($F49:HQ49)","v":3},{"$f":"SUM($F49:HR49)","v":3},{"$f":"SUM($F49:HS49)","v":3},{"$f":"SUM($F49:HT49)","v":3},{"$f":"SUM($F49:HU49)","v":3},{"$f":"SUM($F49:HV49)","v":3},{"$f":"SUM($F49:HW49)","v":3},{"$f":"SUM($F49:HX49)","v":3},{"$f":"SUM($F49:HY49)","v":3},{"$f":"SUM($F49:HZ49)","v":3},{"$f":"SUM($F49:IA49)","v":3},{"$f":"SUM($F49:IB49)","v":3},{"$f":"SUM($F49:IC49)","v":3},{"$f":"SUM($F49:ID49)","v":3},{"$f":"SUM($F49:IE49)","v":3},{"$f":"SUM($F49:IF49)","v":3},{"$f":"SUM($F49:IG49)","v":3},{"$f":"SUM($F49:IH49)","v":3},{"$f":"SUM($F49:II49)","v":3},{"$f":"SUM($F49:IJ49)","v":3},{"$f":"SUM($F49:IK49)","v":3},{"$f":"SUM($F49:IL49)","v":3},{"$f":"SUM($F49:IM49)","v":3},{"$f":"SUM($F49:IN49)","v":3},{"$f":"SUM($F49:IO49)","v":3},{"$f":"SUM($F49:IP49)","v":3},{"$f":"SUM($F49:IQ49)","v":3},{"$f":"SUM($F49:IR49)","v":3},{"$f":"SUM($F49:IS49)","v":3},{"$f":"SUM($F49:IT49)","v":3},{"$f":"SUM($F49:IU49)","v":3},{"$f":"SUM($F49:IV49)","v":3},{"$f":"SUM($F49:IW49)","v":3},{"$f":"SUM($F49:IX49)","v":3},{"$f":"SUM($F49:IY49)","v":3},{"$f":"SUM($F49:IZ49)","v":3},{"$f":"SUM($F49:JA49)","v":3},{"$f":"SUM($F49:JB49)","v":3},{"$f":"SUM($F49:JC49)","v":3},{"$f":"SUM($F49:JD49)","v":3},{"$f":"SUM($F49:JE49)","v":3},{"$f":"SUM($F49:JF49)","v":3},{"$f":"SUM($F49:JG49)","v":3},{"$f":"SUM($F49:JH49)","v":3},{"$f":"SUM($F49:JI49)","v":3},{"$f":"SUM($F49:JJ49)","v":3},{"$f":"SUM($F49:JK49)","v":3},{"$f":"SUM($F49:JL49)","v":3},{"$f":"SUM($F49:JM49)","v":3},{"$f":"SUM($F49:JN49)","v":3},{"$f":"SUM($F49:JO49)","v":3},{"$f":"SUM($F49:JP49)","v":3},{"$f":"SUM($F49:JQ49)","v":3},{"$f":"SUM($F49:JR49)","v":3},{"$f":"SUM($F49:JS49)","v":3},{"$f":"SUM($F49:JT49)","v":3},{"$f":"SUM($F49:JU49)","v":3},{"$f":"SUM($F49:JV49)","v":3},{"$f":"SUM($F49:JW49)","v":3},{"$f":"SUM($F49:JX49)","v":3},{"$f":"SUM($F49:JY49)","v":3},{"$f":"SUM($F49:JZ49)","v":3},{"$f":"SUM($F49:KA49)","v":3},{"$f":"SUM($F49:KB49)","v":3},{"$f":"SUM($F49:KC49)","v":3},{"$f":"SUM($F49:KD49)","v":3},{"$f":"SUM($F49:KE49)","v":3},{"$f":"SUM($F49:KF49)","v":3},{"$f":"SUM($F49:KG49)","v":3},{"$f":"SUM($F49:KH49)","v":3},{"$f":"SUM($F49:KI49)","v":3},{"$f":"SUM($F49:KJ49)","v":3},{"$f":"SUM($F49:KK49)","v":3},{"$f":"SUM($F49:KL49)","v":3},{"$f":"SUM($F49:KM49)","v":3},{"$f":"SUM($F49:KN49)","v":3},{"$f":"SUM($F49:KO49)","v":3},{"$f":"SUM($F49:KP49)","v":3},{"$f":"SUM($F49:KQ49)","v":3},{"$f":"SUM($F49:KR49)","v":3},{"$f":"SUM($F49:KS49)","v":3},{"$f":"SUM($F49:KT49)","v":3},{"$f":"SUM($F49:KU49)","v":3},{"$f":"SUM($F49:KV49)","v":3},{"$f":"SUM($F49:KW49)","v":3},{"$f":"SUM($F49:KX49)","v":3},{"$f":"SUM($F49:KY49)","v":3},{"$f":"SUM($F49:KZ49)","v":3},{"$f":"SUM($F49:LA49)","v":3},{"$f":"SUM($F49:LB49)","v":3},{"$f":"SUM($F49:LC49)","v":3},{"$f":"SUM($F49:LD49)","v":3},{"$f":"SUM($F49:LE49)","v":3},{"$f":"SUM($F49:LF49)","v":3},{"$f":"SUM($F49:LG49)","v":3},{"$f":"SUM($F49:LH49)","v":3},{"$f":"SUM($F49:LI49)","v":3},{"$f":"SUM($F49:LJ49)","v":3},{"$f":"SUM($F49:LK49)","v":3},{"$f":"SUM($F49:LL49)","v":3},{"$f":"SUM($F49:LM49)","v":3},{"$f":"SUM($F49:LN49)","v":3},{"$f":"SUM($F49:LO49)","v":3},{"$f":"SUM($F49:LP49)","v":3},{"$f":"SUM($F49:LQ49)","v":3},{"$f":"SUM($F49:LR49)","v":3},{"$f":"SUM($F49:LS49)","v":3},{"$f":"SUM($F49:LT49)","v":3},{"$f":"SUM($F49:LU49)","v":3},{"$f":"SUM($F49:LV49)","v":3},{"$f":"SUM($F49:LW49)","v":3},{"$f":"SUM($F49:LX49)","v":3},{"$f":"SUM($F49:LY49)","v":3},{"$f":"SUM($F49:LZ49)","v":3},{"$f":"SUM($F49:MA49)","v":3},{"$f":"SUM($F49:MB49)","v":3},{"$f":"SUM($F49:MC49)","v":3},{"$f":"SUM($F49:MD49)","v":3},{"$f":"SUM($F49:ME49)","v":3},{"$f":"SUM($F49:MF49)","v":3},{"$f":"SUM($F49:MG49)","v":3},{"$f":"SUM($F49:MH49)","v":3},{"$f":"SUM($F49:MI49)","v":3},{"$f":"SUM($F49:MJ49)","v":3},{"$f":"SUM($F49:MK49)","v":3},{"$f":"SUM($F49:ML49)","v":3},{"$f":"SUM($F49:MM49)","v":3},{"$f":"SUM($F49:MN49)","v":3},{"$f":"SUM($F49:MO49)","v":3},{"$f":"SUM($F49:MP49)","v":3},{"$f":"SUM($F49:MQ49)","v":3},{"$f":"SUM($F49:MR49)","v":3},{"$f":"SUM($F49:MS49)","v":3},{"$f":"SUM($F49:MT49)","v":3},{"$f":"SUM($F49:MU49)","v":3},{"$f":"SUM($F49:MV49)","v":3},{"$f":"SUM($F49:MW49)","v":3},{"$f":"SUM($F49:MX49)","v":3},{"$f":"SUM($F49:MY49)","v":3},{"$f":"SUM($F49:MZ49)","v":3},{"$f":"SUM($F49:NA49)","v":3},{"$f":"SUM($F49:NB49)","v":3},{"$f":"SUM($F49:NC49)","v":3},{"$f":"SUM($F49:ND49)","v":3},{"$f":"SUM($F49:NE49)","v":3},{"$f":"SUM($F49:NF49)","v":3},{"$f":"SUM($F49:NG49)","v":3},{"$f":"SUM($F49:NH49)","v":3},{"$f":"SUM($F49:NI49)","v":3},{"$f":"SUM($F49:NJ49)","v":3},{"$f":"SUM($F49:NK49)","v":3},{"$f":"SUM($F49:NL49)","v":3},{"$f":"SUM($F49:NM49)","v":3},{"$f":"SUM($F49:NN49)","v":3},{"$f":"SUM($F49:NO49)","v":3},{"$f":"SUM($F49:NP49)","v":3},{"$f":"SUM($F49:NQ49)","v":3},{"$f":"SUM($F49:NR49)","v":3},{"$f":"SUM($F49:NS49)","v":3},{"$f":"SUM($F49:NT49)","v":3},{"$f":"SUM($F49:NU49)","v":3},{"$f":"SUM($F49:NV49)","v":3},{"$f":"SUM($F49:NW49)","v":3},{"$f":"SUM($F49:NX49)","v":3},{"$f":"SUM($F49:NY49)","v":3},{"$f":"SUM($F49:NZ49)","v":3},{"$f":"SUM($F49:OA49)","v":3},{"$f":"SUM($F49:OB49)","v":3},{"$f":"SUM($F49:OC49)","v":3},{"$f":"SUM($F49:OD49)","v":3},{"$f":"SUM($F49:OE49)","v":3},{"$f":"SUM($F49:OF49)","v":3},{"$f":"SUM($F49:OG49)","v":3},{"$f":"SUM($F49:OH49)","v":3},{"$f":"SUM($F49:OI49)","v":3},{"$f":"SUM($F49:OJ49)","v":3},{"$f":"SUM($F49:OK49)","v":3},{"$f":"SUM($F49:OL49)","v":3},{"$f":"SUM($F49:OM49)","v":3},{"$f":"SUM($F49:ON49)","v":3},{"$f":"SUM($F49:OO49)","v":3},{"$f":"SUM($F49:OP49)","v":3},{"$f":"SUM($F49:OQ49)","v":3},{"$f":"SUM($F49:OR49)","v":3},{"$f":"SUM($F49:OS49)","v":3},{"$f":"SUM($F49:OT49)","v":3},{"$f":"SUM($F49:OU49)","v":3},{"$f":"SUM($F49:OV49)","v":3},{"$f":"SUM($F49:OW49)","v":3},{"$f":"SUM($F49:OX49)","v":3},{"$f":"SUM($F49:OY49)","v":3},{"$f":"SUM($F49:OZ49)","v":3},{"$f":"SUM($F49:PA49)","v":3},{"$f":"SUM($F49:PB49)","v":3},{"$f":"SUM($F49:PC49)","v":3},{"$f":"SUM($F49:PD49)","v":3},{"$f":"SUM($F49:PE49)","v":3},{"$f":"SUM($F49:PF49)","v":3},{"$f":"SUM($F49:PG49)","v":3},{"$f":"SUM($F49:PH49)","v":3},{"$f":"SUM($F49:PI49)","v":3},{"$f":"SUM($F49:PJ49)","v":3},{"$f":"SUM($F49:PK49)","v":3},{"$f":"SUM($F49:PL49)","v":3},{"$f":"SUM($F49:PM49)","v":3},{"$f":"SUM($F49:PN49)","v":3},{"$f":"SUM($F49:PO49)","v":3},{"$f":"SUM($F49:PP49)","v":3},{"$f":"SUM($F49:PQ49)","v":3},{"$f":"SUM($F49:PR49)","v":3},{"$f":"SUM($F49:PS49)","v":3},{"$f":"SUM($F49:PT49)","v":3},{"$f":"SUM($F49:PU49)","v":3},{"$f":"SUM($F49:PV49)","v":3},{"$f":"SUM($F49:PW49)","v":3},{"$f":"SUM($F49:PX49)","v":3},{"$f":"SUM($F49:PY49)","v":3},{"$f":"SUM($F49:PZ49)","v":3},{"$f":"SUM($F49:QA49)","v":3},{"$f":"SUM($F49:QB49)","v":3},{"$f":"SUM($F49:QC49)","v":3},{"$f":"SUM($F49:QD49)","v":3},{"$f":"SUM($F49:QE49)","v":3},{"$f":"SUM($F49:QF49)","v":3},{"$f":"SUM($F49:QG49)","v":3},{"$f":"SUM($F49:QH49)","v":3},{"$f":"SUM($F49:QI49)","v":3},{"$f":"SUM($F49:QJ49)","v":3},{"$f":"SUM($F49:QK49)","v":3},{"$f":"SUM($F49:QL49)","v":3},{"$f":"SUM($F49:QM49)","v":3},{"$f":"SUM($F49:QN49)","v":3},{"$f":"SUM($F49:QO49)","v":3},{"$f":"SUM($F49:QP49)","v":3},{"$f":"SUM($F49:QQ49)","v":3},{"$f":"SUM($F49:QR49)","v":3},{"$f":"SUM($F49:QS49)","v":3},{"$f":"SUM($F49:QT49)","v":3},{"$f":"SUM($F49:QU49)","v":3},{"$f":"SUM($F49:QV49)","v":3},{"$f":"SUM($F49:QW49)","v":3},{"$f":"SUM($F49:QX49)","v":3},{"$f":"SUM($F49:QY49)","v":3},{"$f":"SUM($F49:QZ49)","v":3},{"$f":"SUM($F49:RA49)","v":3},{"$f":"SUM($F49:RB49)","v":3},{"$f":"SUM($F49:RC49)","v":3},{"$f":"SUM($F49:RD49)","v":3},{"$f":"SUM($F49:RE49)","v":3},{"$f":"SUM($F49:RF49)","v":3},{"$f":"SUM($F49:RG49)","v":3},{"$f":"SUM($F49:RH49)","v":3},{"$f":"SUM($F49:RI49)","v":3},{"$f":"SUM($F49:RJ49)","v":3},{"$f":"SUM($F49:RK49)","v":3},{"$f":"SUM($F49:RL49)","v":3},{"$f":"SUM($F49:RM49)","v":3},{"$f":"SUM($F49:RN49)","v":3},{"$f":"SUM($F49:RO49)","v":3},{"$f":"SUM($F49:RP49)","v":3},{"$f":"SUM($F49:RQ49)","v":3},{"$f":"SUM($F49:RR49)","v":3},{"$f":"SUM($F49:RS49)","v":3},{"$f":"SUM($F49:RT49)","v":3},{"$f":"SUM($F49:RU49)","v":3},{"$f":"SUM($F49:RV49)","v":3},{"$f":"SUM($F49:RW49)","v":3},{"$f":"SUM($F49:RX49)","v":3},{"$f":"SUM($F49:RY49)","v":3},{"$f":"SUM($F49:RZ49)","v":3},{"$f":"SUM($F49:SA49)","v":3},{"$f":"SUM($F49:SB49)","v":3},{"$f":"SUM($F49:SC49)","v":3},{"$f":"SUM($F49:SD49)","v":3},{"$f":"SUM($F49:SE49)","v":3},{"$f":"SUM($F49:SF49)","v":3},{"$f":"SUM($F49:SG49)","v":3},{"$f":"SUM($F49:SH49)","v":3},{"$f":"SUM($F49:SI49)","v":3},{"$f":"SUM($F49:SJ49)","v":3},{"$f":"SUM($F49:SK49)","v":3},{"$f":"SUM($F49:SL49)","v":3},{"$f":"SUM($F49:SM49)","v":3},{"$f":"SUM($F49:SN49)","v":3},{"$f":"SUM($F49:SO49)","v":3},{"$f":"SUM($F49:SP49)","v":3},{"$f":"SUM($F49:SQ49)","v":3},{"$f":"SUM($F49:SR49)","v":3},{"$f":"SUM($F49:SS49)","v":3},{"$f":"SUM($F49:ST49)","v":3},{"$f":"SUM($F49:SU49)","v":3},{"$f":"SUM($F49:SV49)","v":3},{"$f":"SUM($F49:SW49)","v":3},{"$f":"SUM($F49:SX49)","v":3},{"$f":"SUM($F49:SY49)","v":3},{"$f":"SUM($F49:SZ49)","v":3},{"$f":"SUM($F49:TA49)","v":3},{"$f":"SUM($F49:TB49)","v":3},{"$f":"SUM($F49:TC49)","v":3},{"$f":"SUM($F49:TD49)","v":3},{"$f":"SUM($F49:TE49)","v":3},{"$f":"SUM($F49:TF49)","v":3},{"$f":"SUM($F49:TG49)","v":3},{"$f":"SUM($F49:TH49)","v":3},{"$f":"SUM($F49:TI49)","v":3},{"$f":"SUM($F49:TJ49)","v":3},{"$f":"SUM($F49:TK49)","v":3},{"$f":"SUM($F49:TL49)","v":3},{"$f":"SUM($F49:TM49)","v":3},{"$f":"SUM($F49:TN49)","v":3},{"$f":"SUM($F49:TO49)","v":3},{"$f":"SUM($F49:TP49)","v":3},{"$f":"SUM($F49:TQ49)","v":3},{"$f":"SUM($F49:TR49)","v":3},{"$f":"SUM($F49:TS49)","v":3},{"$f":"SUM($F49:TT49)","v":3},{"$f":"SUM($F49:TU49)","v":3},{"$f":"SUM($F49:TV49)","v":3},{"$f":"SUM($F49:TW49)","v":3},{"$f":"SUM($F49:TX49)","v":3},{"$f":"SUM($F49:TY49)","v":3},{"$f":"SUM($F49:TZ49)","v":3},{"$f":"SUM($F49:UA49)","v":3},{"$f":"SUM($F49:UB49)","v":3},{"$f":"SUM($F49:UC49)","v":3},{"$f":"SUM($F49:UD49)","v":3},{"$f":"SUM($F49:UE49)","v":3},{"$f":"SUM($F49:UF49)","v":3},{"$f":"SUM($F49:UG49)","v":3},{"$f":"SUM($F49:UH49)","v":3},{"$f":"SUM($F49:UI49)","v":3},{"$f":"SUM($F49:UJ49)","v":3},{"$f":"SUM($F49:UK49)","v":3},{"$f":"SUM($F49:UL49)","v":3},{"$f":"SUM($F49:UM49)","v":3},{"$f":"SUM($F49:UN49)","v":3},{"$f":"SUM($F49:UO49)","v":3},{"$f":"SUM($F49:UP49)","v":3},{"$f":"SUM($F49:UQ49)","v":3},{"$f":"SUM($F49:UR49)","v":3},{"$f":"SUM($F49:US49)","v":3},{"$f":"SUM($F49:UT49)","v":3},{"$f":"SUM($F49:UU49)","v":3},{"$f":"SUM($F49:UV49)","v":3},{"$f":"SUM($F49:UW49)","v":3},{"$f":"SUM($F49:UX49)","v":3},{"$f":"SUM($F49:UY49)","v":3},{"$f":"SUM($F49:UZ49)","v":3},{"$f":"SUM($F49:VA49)","v":3},{"$f":"SUM($F49:VB49)","v":3},{"$f":"SUM($F49:VC49)","v":3},{"$f":"SUM($F49:VD49)","v":3},{"$f":"SUM($F49:VE49)","v":3},{"$f":"SUM($F49:VF49)","v":3},{"$f":"SUM($F49:VG49)","v":3},{"$f":"SUM($F49:VH49)","v":3},{"$f":"SUM($F49:VI49)","v":3},{"$f":"SUM($F49:VJ49)","v":3},{"$f":"SUM($F49:VK49)","v":3},{"$f":"SUM($F49:VL49)","v":3},{"$f":"SUM($F49:VM49)","v":3},{"$f":"SUM($F49:VN49)","v":3},{"$f":"SUM($F49:VO49)","v":3},{"$f":"SUM($F49:VP49)","v":3},{"$f":"SUM($F49:VQ49)","v":3},{"$f":"SUM($F49:VR49)","v":3},{"$f":"SUM($F49:VS49)","v":3},{"$f":"SUM($F49:VT49)","v":3},{"$f":"SUM($F49:VU49)","v":3},{"$f":"SUM($F49:VV49)","v":3},{"$f":"SUM($F49:VW49)","v":3},{"$f":"SUM($F49:VX49)","v":3},{"$f":"SUM($F49:VY49)","v":3},{"$f":"SUM($F49:VZ49)","v":3},{"$f":"SUM($F49:WA49)","v":3},{"$f":"SUM($F49:WB49)","v":3},{"$f":"SUM($F49:WC49)","v":3},{"$f":"SUM($F49:WD49)","v":3},{"$f":"SUM($F49:WE49)","v":3},{"$f":"SUM($F49:WF49)","v":3},{"$f":"SUM($F49:WG49)","v":3},{"$f":"SUM($F49:WH49)","v":3},{"$f":"SUM($F49:WI49)","v":3},{"$f":"SUM($F49:WJ49)","v":3},{"$f":"SUM($F49:WK49)","v":3},{"$f":"SUM($F49:WL49)","v":3},{"$f":"SUM($F49:WM49)","v":3},{"$f":"SUM($F49:WN49)","v":3},{"$f":"SUM($F49:WO49)","v":3},{"$f":"SUM($F49:WP49)","v":3},{"$f":"SUM($F49:WQ49)","v":3},{"$f":"SUM($F49:WR49)","v":3},{"$f":"SUM($F49:WS49)","v":3},{"$f":"SUM($F49:WT49)","v":3},{"$f":"SUM($F49:WU49)","v":3},{"$f":"SUM($F49:WV49)","v":3},{"$f":"SUM($F49:WW49)","v":3},{"$f":"SUM($F49:WX49)","v":3},{"$f":"SUM($F49:WY49)","v":3},{"$f":"SUM($F49:WZ49)","v":3},{"$f":"SUM($F49:XA49)","v":3},{"$f":"SUM($F49:XB49)","v":3},{"$f":"SUM($F49:XC49)","v":3},{"$f":"SUM($F49:XD49)","v":3},{"$f":"SUM($F49:XE49)","v":3},{"$f":"SUM($F49:XF49)","v":3},{"$f":"SUM($F49:XG49)","v":3},{"$f":"SUM($F49:XH49)","v":3},{"$f":"SUM($F49:XI49)","v":3},{"$f":"SUM($F49:XJ49)","v":3},{"$f":"SUM($F49:XK49)","v":3},{"$f":"SUM($F49:XL49)","v":3},{"$f":"SUM($F49:XM49)","v":3},{"$f":"SUM($F49:XN49)","v":3},{"$f":"SUM($F49:XO49)","v":3},{"$f":"SUM($F49:XP49)","v":3},{"$f":"SUM($F49:XQ49)","v":3},{"$f":"SUM($F49:XR49)","v":3},{"$f":"SUM($F49:XS49)","v":3},{"$f":"SUM($F49:XT49)","v":3},{"$f":"SUM($F49:XU49)","v":3},{"$f":"SUM($F49:XV49)","v":3},{"$f":"SUM($F49:XW49)","v":3},{"$f":"SUM($F49:XX49)","v":3},{"$f":"SUM($F49:XY49)","v":3},{"$f":"SUM($F49:XZ49)","v":3},{"$f":"SUM($F49:YA49)","v":3},{"$f":"SUM($F49:YB49)","v":3},{"$f":"SUM($F49:YC49)","v":3},{"$f":"SUM($F49:YD49)","v":3},{"$f":"SUM($F49:YE49)","v":3},{"$f":"SUM($F49:YF49)","v":3},{"$f":"SUM($F49:YG49)","v":3},{"$f":"SUM($F49:YH49)","v":3},{"$f":"SUM($F49:YI49)","v":3},{"$f":"SUM($F49:YJ49)","v":3},{"$f":"SUM($F49:YK49)","v":3},{"$f":"SUM($F49:YL49)","v":3},{"$f":"SUM($F49:YM49)","v":3},{"$f":"SUM($F49:YN49)","v":3},{"$f":"SUM($F49:YO49)","v":3},{"$f":"SUM($F49:YP49)","v":3},{"$f":"SUM($F49:YQ49)","v":3},{"$f":"SUM($F49:YR49)","v":3},{"$f":"SUM($F49:YS49)","v":3},{"$f":"SUM($F49:YT49)","v":3},{"$f":"SUM($F49:YU49)","v":3},{"$f":"SUM($F49:YV49)","v":3},{"$f":"SUM($F49:YW49)","v":3},{"$f":"SUM($F49:YX49)","v":3},{"$f":"SUM($F49:YY49)","v":3},{"$f":"SUM($F49:YZ49)","v":3},{"$f":"SUM($F49:ZA49)","v":3},{"$f":"SUM($F49:ZB49)","v":3},{"$f":"SUM($F49:ZC49)","v":3},{"$f":"SUM($F49:ZD49)","v":3},{"$f":"SUM($F49:ZE49)","v":3},{"$f":"SUM($F49:ZF49)","v":3},{"$f":"SUM($F49:ZG49)","v":3},{"$f":"SUM($F49:ZH49)","v":3},{"$f":"SUM($F49:ZI49)","v":3},{"$f":"SUM($F49:ZJ49)","v":3},{"$f":"SUM($F49:ZK49)","v":3},{"$f":"SUM($F49:ZL49)","v":3},{"$f":"SUM($F49:ZM49)","v":3},{"$f":"SUM($F49:ZN49)","v":3},{"$f":"SUM($F49:ZO49)","v":3},{"$f":"SUM($F49:ZP49)","v":3},{"$f":"SUM($F49:ZQ49)","v":3},{"$f":"SUM($F49:ZR49)","v":3},{"$f":"SUM($F49:ZS49)","v":3},{"$f":"SUM($F49:ZT49)","v":3},{"$f":"SUM($F49:ZU49)","v":3},{"$f":"SUM($F49:ZV49)","v":3},{"$f":"SUM($F49:ZW49)","v":3},{"$f":"SUM($F49:ZX49)","v":3},{"$f":"SUM($F49:ZY49)","v":3},{"$f":"SUM($F49:ZZ49)","v":3},{"$f":"SUM($F49:AAA49)","v":3},{"$f":"SUM($F49:AAB49)","v":3},{"$f":"SUM($F49:AAC49)","v":3},{"$f":"SUM($F49:AAD49)","v":3},{"$f":"SUM($F49:AAE49)","v":3},{"$f":"SUM($F49:AAF49)","v":3},{"$f":"SUM($F49:AAG49)","v":3},{"$f":"SUM($F49:AAH49)","v":3},{"$f":"SUM($F49:AAI49)","v":3},{"$f":"SUM($F49:AAJ49)","v":3},{"$f":"SUM($F49:AAK49)","v":3},{"$f":"SUM($F49:AAL49)","v":3},{"$f":"SUM($F49:AAM49)","v":3},{"$f":"SUM($F49:AAN49)","v":3},{"$f":"SUM($F49:AAO49)","v":3},{"$f":"SUM($F49:AAP49)","v":3},{"$f":"SUM($F49:AAQ49)","v":3},{"$f":"SUM($F49:AAR49)","v":3},{"$f":"SUM($F49:AAS49)","v":3},{"$f":"SUM($F49:AAT49)","v":3},{"$f":"SUM($F49:AAU49)","v":3},{"$f":"SUM($F49:AAV49)","v":3},{"$f":"SUM($F49:AAW49)","v":3},{"$f":"SUM($F49:AAX49)","v":3},{"$f":"SUM($F49:AAY49)","v":3},{"$f":"SUM($F49:AAZ49)","v":3},{"$f":"SUM($F49:ABA49)","v":3},{"$f":"SUM($F49:ABB49)","v":3},{"$f":"SUM($F49:ABC49)","v":3},{"$f":"SUM($F49:ABD49)","v":3},{"$f":"SUM($F49:ABE49)","v":3},{"$f":"SUM($F49:ABF49)","v":3},{"$f":"SUM($F49:ABG49)","v":3},{"$f":"SUM($F49:ABH49)","v":3},{"$f":"SUM($F49:ABI49)","v":3},{"$f":"SUM($F49:ABJ49)","v":3},{"$f":"SUM($F49:ABK49)","v":3},{"$f":"SUM($F49:ABL49)","v":3},{"$f":"SUM($F49:ABM49)","v":3},{"$f":"SUM($F49:ABN49)","v":3},{"$f":"SUM($F49:ABO49)","v":3},{"$f":"SUM($F49:ABP49)","v":3},{"$f":"SUM($F49:ABQ49)","v":3},{"$f":"SUM($F49:ABR49)","v":3},{"$f":"SUM($F49:ABS49)","v":3},{"$f":"SUM($F49:ABT49)","v":3},{"$f":"SUM($F49:ABU49)","v":3},{"$f":"SUM($F49:ABV49)","v":3},{"$f":"SUM($F49:ABW49)","v":3},{"$f":"SUM($F49:ABX49)","v":3},{"$f":"SUM($F49:ABY49)","v":3},{"$f":"SUM($F49:ABZ49)","v":3},{"$f":"SUM($F49:ACA49)","v":3},{"$f":"SUM($F49:ACB49)","v":3},{"$f":"SUM($F49:ACC49)","v":3},{"$f":"SUM($F49:ACD49)","v":3},{"$f":"SUM($F49:ACE49)","v":3},{"$f":"SUM($F49:ACF49)","v":3},{"$f":"SUM($F49:ACG49)","v":3},{"$f":"SUM($F49:ACH49)","v":3},{"$f":"SUM($F49:ACI49)","v":3},{"$f":"SUM($F49:ACJ49)","v":3},{"$f":"SUM($F49:ACK49)","v":3},{"$f":"SUM($F49:ACL49)","v":3},{"$f":"SUM($F49:ACM49)","v":3},{"$f":"SUM($F49:ACN49)","v":3},{"$f":"SUM($F49:ACO49)","v":3},{"$f":"SUM($F49:ACP49)","v":3},{"$f":"SUM($F49:ACQ49)","v":3},{"$f":"SUM($F49:ACR49)","v":3},{"$f":"SUM($F49:ACS49)","v":3},{"$f":"SUM($F49:ACT49)","v":3},{"$f":"SUM($F49:ACU49)","v":3},{"$f":"SUM($F49:ACV49)","v":3},{"$f":"SUM($F49:ACW49)","v":3},{"$f":"SUM($F49:ACX49)","v":3},{"$f":"SUM($F49:ACY49)","v":3},{"$f":"SUM($F49:ACZ49)","v":3},{"$f":"SUM($F49:ADA49)","v":3},{"$f":"SUM($F49:ADB49)","v":3},{"$f":"SUM($F49:ADC49)","v":3},{"$f":"SUM($F49:ADD49)","v":3},{"$f":"SUM($F49:ADE49)","v":3},{"$f":"SUM($F49:ADF49)","v":3},{"$f":"SUM($F49:ADG49)","v":3},{"$f":"SUM($F49:ADH49)","v":3},{"$f":"SUM($F49:ADI49)","v":3},{"$f":"SUM($F49:ADJ49)","v":3},{"$f":"SUM($F49:ADK49)","v":3},{"$f":"SUM($F49:ADL49)","v":3},{"$f":"SUM($F49:ADM49)","v":3},{"$f":"SUM($F49:ADN49)","v":3},{"$f":"SUM($F49:ADO49)","v":3},{"$f":"SUM($F49:ADP49)","v":3},{"$f":"SUM($F49:ADQ49)","v":3},{"$f":"SUM($F49:ADR49)","v":3},{"$f":"SUM($F49:ADS49)","v":3},{"$f":"SUM($F49:ADT49)","v":3},{"$f":"SUM($F49:ADU49)","v":3},{"$f":"SUM($F49:ADV49)","v":3},{"$f":"SUM($F49:ADW49)","v":3},{"$f":"SUM($F49:ADX49)","v":3},{"$f":"SUM($F49:ADY49)","v":3},{"$f":"SUM($F49:ADZ49)","v":3},{"$f":"SUM($F49:AEA49)","v":3},{"$f":"SUM($F49:AEB49)","v":3},{"$f":"SUM($F49:AEC49)","v":3},{"$f":"SUM($F49:AED49)","v":3},{"$f":"SUM($F49:AEE49)","v":3},{"$f":"SUM($F49:AEF49)","v":3},{"$f":"SUM($F49:AEG49)","v":3},{"$f":"SUM($F49:AEH49)","v":3},{"$f":"SUM($F49:AEI49)","v":3},{"$f":"SUM($F49:AEJ49)","v":3},{"$f":"SUM($F49:AEK49)","v":3},{"$f":"SUM($F49:AEL49)","v":3},{"$f":"SUM($F49:AEM49)","v":3},{"$f":"SUM($F49:AEN49)","v":3},{"$f":"SUM($F49:AEO49)","v":3},{"$f":"SUM($F49:AEP49)","v":3},{"$f":"SUM($F49:AEQ49)","v":3},{"$f":"SUM($F49:AER49)","v":3},{"$f":"SUM($F49:AES49)","v":3},{"$f":"SUM($F49:AET49)","v":3},{"$f":"SUM($F49:AEU49)","v":3},{"$f":"SUM($F49:AEV49)","v":3},{"$f":"SUM($F49:AEW49)","v":3},{"$f":"SUM($F49:AEX49)","v":3},{"$f":"SUM($F49:AEY49)","v":3},{"$f":"SUM($F49:AEZ49)","v":3},{"$f":"SUM($F49:AFA49)","v":3},{"$f":"SUM($F49:AFB49)","v":3},{"$f":"SUM($F49:AFC49)","v":3},{"$f":"SUM($F49:AFD49)","v":3},{"$f":"SUM($F49:AFE49)","v":3},{"$f":"SUM($F49:AFF49)","v":3},{"$f":"SUM($F49:AFG49)","v":3},{"$f":"SUM($F49:AFH49)","v":3},{"$f":"SUM($F49:AFI49)","v":3},{"$f":"SUM($F49:AFJ49)","v":3},{"$f":"SUM($F49:AFK49)","v":3},{"$f":"SUM($F49:AFL49)","v":3},{"$f":"SUM($F49:AFM49)","v":3},{"$f":"SUM($F49:AFN49)","v":3},{"$f":"SUM($F49:AFO49)","v":3},{"$f":"SUM($F49:AFP49)","v":3},{"$f":"SUM($F49:AFQ49)","v":3},{"$f":"SUM($F49:AFR49)","v":3},{"$f":"SUM($F49:AFS49)","v":3},{"$f":"SUM($F49:AFT49)","v":3},{"$f":"SUM($F49:AFU49)","v":3},{"$f":"SUM($F49:AFV49)","v":3},{"$f":"SUM($F49:AFW49)","v":3},{"$f":"SUM($F49:AFX49)","v":3},{"$f":"SUM($F49:AFY49)","v":3},{"$f":"SUM($F49:AFZ49)","v":3},{"$f":"SUM($F49:AGA49)","v":3},{"$f":"SUM($F49:AGB49)","v":3},{"$f":"SUM($F49:AGC49)","v":3},{"$f":"SUM($F49:AGD49)","v":3},{"$f":"SUM($F49:AGE49)","v":3},{"$f":"SUM($F49:AGF49)","v":3},{"$f":"SUM($F49:AGG49)","v":3},{"$f":"SUM($F49:AGH49)","v":3},{"$f":"SUM($F49:AGI49)","v":3},{"$f":"SUM($F49:AGJ49)","v":3},{"$f":"SUM($F49:AGK49)","v":3},{"$f":"SUM($F49:AGL49)","v":3},{"$f":"SUM($F49:AGM49)","v":3},{"$f":"SUM($F49:AGN49)","v":3},{"$f":"SUM($F49:AGO49)","v":3},{"$f":"SUM($F49:AGP49)","v":3},{"$f":"SUM($F49:AGQ49)","v":3},{"$f":"SUM($F49:AGR49)","v":3},{"$f":"SUM($F49:AGS49)","v":3},{"$f":"SUM($F49:AGT49)","v":3},{"$f":"SUM($F49:AGU49)","v":3},{"$f":"SUM($F49:AGV49)","v":3},{"$f":"SUM($F49:AGW49)","v":3},{"$f":"SUM($F49:AGX49)","v":3},{"$f":"SUM($F49:AGY49)","v":3},{"$f":"SUM($F49:AGZ49)","v":3},{"$f":"SUM($F49:AHA49)","v":3},{"$f":"SUM($F49:AHB49)","v":3},{"$f":"SUM($F49:AHC49)","v":3},{"$f":"SUM($F49:AHD49)","v":3},{"$f":"SUM($F49:AHE49)","v":3},{"$f":"SUM($F49:AHF49)","v":3},{"$f":"SUM($F49:AHG49)","v":3},{"$f":"SUM($F49:AHH49)","v":3},{"$f":"SUM($F49:AHI49)","v":3},{"$f":"SUM($F49:AHJ49)","v":3},{"$f":"SUM($F49:AHK49)","v":3},{"$f":"SUM($F49:AHL49)","v":3},{"$f":"SUM($F49:AHM49)","v":3},{"$f":"SUM($F49:AHN49)","v":3},{"$f":"SUM($F49:AHO49)","v":3},{"$f":"SUM($F49:AHP49)","v":3},{"$f":"SUM($F49:AHQ49)","v":3},{"$f":"SUM($F49:AHR49)","v":3},{"$f":"SUM($F49:AHS49)","v":3},{"$f":"SUM($F49:AHT49)","v":3},{"$f":"SUM($F49:AHU49)","v":3},{"$f":"SUM($F49:AHV49)","v":3},{"$f":"SUM($F49:AHW49)","v":3},{"$f":"SUM($F49:AHX49)","v":3},{"$f":"SUM($F49:AHY49)","v":3},{"$f":"SUM($F49:AHZ49)","v":3},{"$f":"SUM($F49:AIA49)","v":3},{"$f":"SUM($F49:AIB49)","v":3},{"$f":"SUM($F49:AIC49)","v":3},{"$f":"SUM($F49:AID49)","v":3},{"$f":"SUM($F49:AIE49)","v":3},{"$f":"SUM($F49:AIF49)","v":3},{"$f":"SUM($F49:AIG49)","v":3},{"$f":"SUM($F49:AIH49)","v":3},{"$f":"SUM($F49:AII49)","v":3},{"$f":"SUM($F49:AIJ49)","v":3},{"$f":"SUM($F49:AIK49)","v":3},{"$f":"SUM($F49:AIL49)","v":3},{"$f":"SUM($F49:AIM49)","v":3},{"$f":"SUM($F49:AIN49)","v":3},{"$f":"SUM($F49:AIO49)","v":3},{"$f":"SUM($F49:AIP49)","v":3},{"$f":"SUM($F49:AIQ49)","v":3},{"$f":"SUM($F49:AIR49)","v":3},{"$f":"SUM($F49:AIS49)","v":3},{"$f":"SUM($F49:AIT49)","v":3},{"$f":"SUM($F49:AIU49)","v":3},{"$f":"SUM($F49:AIV49)","v":3},{"$f":"SUM($F49:AIW49)","v":3},{"$f":"SUM($F49:AIX49)","v":3},{"$f":"SUM($F49:AIY49)","v":3},{"$f":"SUM($F49:AIZ49)","v":3},{"$f":"SUM($F49:AJA49)","v":3},{"$f":"SUM($F49:AJB49)","v":3},{"$f":"SUM($F49:AJC49)","v":3},{"$f":"SUM($F49:AJD49)","v":3},{"$f":"SUM($F49:AJE49)","v":3},{"$f":"SUM($F49:AJF49)","v":3},{"$f":"SUM($F49:AJG49)","v":3},{"$f":"SUM($F49:AJH49)","v":3},{"$f":"SUM($F49:AJI49)","v":3},{"$f":"SUM($F49:AJJ49)","v":3},{"$f":"SUM($F49:AJK49)","v":3},{"$f":"SUM($F49:AJL49)","v":3},{"$f":"SUM($F49:AJM49)","v":3},{"$f":"SUM($F49:AJN49)","v":3},{"$f":"SUM($F49:AJO49)","v":3},{"$f":"SUM($F49:AJP49)","v":3},{"$f":"SUM($F49:AJQ49)","v":3},{"$f":"SUM($F49:AJR49)","v":3},{"$f":"SUM($F49:AJS49)","v":3},{"$f":"SUM($F49:AJT49)","v":3},{"$f":"SUM($F49:AJU49)","v":3},{"$f":"SUM($F49:AJV49)","v":3},{"$f":"SUM($F49:AJW49)","v":3},{"$f":"SUM($F49:AJX49)","v":3},{"$f":"SUM($F49:AJY49)","v":3},{"$f":"SUM($F49:AJZ49)","v":3},{"$f":"SUM($F49:AKA49)","v":3},{"$f":"SUM($F49:AKB49)","v":3},{"$f":"SUM($F49:AKC49)","v":3},{"$f":"SUM($F49:AKD49)","v":3},{"$f":"SUM($F49:AKE49)","v":3},{"$f":"SUM($F49:AKF49)","v":3},{"$f":"SUM($F49:AKG49)","v":3},{"$f":"SUM($F49:AKH49)","v":3},{"$f":"SUM($F49:AKI49)","v":3},{"$f":"SUM($F49:AKJ49)","v":3},{"$f":"SUM($F49:AKK49)","v":3},{"$f":"SUM($F49:AKL49)","v":3},{"$f":"SUM($F49:AKM49)","v":3},{"$f":"SUM($F49:AKN49)","v":3},{"$f":"SUM($F49:AKO49)","v":3},{"$f":"SUM($F49:AKP49)","v":3},{"$f":"SUM($F49:AKQ49)","v":3},{"$f":"SUM($F49:AKR49)","v":3},{"$f":"SUM($F49:AKS49)","v":3},{"$f":"SUM($F49:AKT49)","v":3},{"$f":"SUM($F49:AKU49)","v":3},{"$f":"SUM($F49:AKV49)","v":3},{"$f":"SUM($F49:AKW49)","v":3},{"$f":"SUM($F49:AKX49)","v":3},{"$f":"SUM($F49:AKY49)","v":3},{"$f":"SUM($F49:AKZ49)","v":3},{"$f":"SUM($F49:ALA49)","v":3},{"$f":"SUM($F49:ALB49)","v":3},{"$f":"SUM($F49:ALC49)","v":3},{"$f":"SUM($F49:ALD49)","v":3},{"$f":"SUM($F49:ALE49)","v":3},{"$f":"SUM($F49:ALF49)","v":3},{"$f":"SUM($F49:ALG49)","v":3},{"$f":"SUM($F49:ALH49)","v":3},{"$f":"SUM($F49:ALI49)","v":3},{"$f":"SUM($F49:ALJ49)","v":3},{"$f":"SUM($F49:ALK49)","v":3},{"$f":"SUM($F49:ALL49)","v":3},{"$f":"SUM($F49:ALM49)","v":3},{"$f":"SUM($F49:ALN49)","v":3},{"$f":"SUM($F49:ALO49)","v":3},{"$f":"SUM($F49:ALP49)","v":3},{"$f":"SUM($F49:ALQ49)","v":3}]
[7,{"$error":"#N/A"},{"$error":"#N/A"},0,{"$f":"IF(D55=0,IF(SUM(D56:$D$62)=0,\"\",E56),D55)","v":""},{"$f":"SUM($F50:F50)","v":0},{"$f":"SUM($F50:G50)","v":0},{"$f":"SUM($F50:H50)","v":0},{"$f":"SUM($F50:I50)","v":1},{"$f":"SUM($F50:J50)","v":1},{"$f":"SUM($F50:K50)","v":1},{"$f":"SUM($F50:L50)","v":1},{"$f":"SUM($F50:M50)","v":1},{"$f":"SUM($F50:N50)","v":1},{"$f":"SUM($F50:O50)","v":1},{"$f":"SUM($F50:P50)","v":1},{"$f":"SUM($F50:Q50)","v":1},{"$f":"SUM($F50:R50)","v":1},{"$f":"SUM($F50:S50)","v":1},{"$f":"SUM($F50:T50)","v":1},{"$f":"SUM($F50:U50)","v":1},{"$f":"SUM($F50:V50)","v":1},{"$f":"SUM($F50:W50)","v":1},{"$f":"SUM($F50:X50)","v":1},{"$f":"SUM($F50:Y50)","v":1},{"$f":"SUM($F50:Z50)","v":1},{"$f":"SUM($F50:AA50)","v":1},{"$f":"SUM($F50:AB50)","v":1},{"$f":"SUM($F50:AC50)","v":1},{"$f":"SUM($F50:AD50)","v":1},{"$f":"SUM($F50:AE50)","v":1},{"$f":"SUM($F50:AF50)","v":1},{"$f":"SUM($F50:AG50)","v":1},{"$f":"SUM($F50:AH50)","v":1},{"$f":"SUM($F50:AI50)","v":1},{"$f":"SUM($F50:AJ50)","v":1},{"$f":"SUM($F50:AK50)","v":1},{"$f":"SUM($F50:AL50)","v":1},{"$f":"SUM($F50:AM50)","v":1},{"$f":"SUM($F50:AN50)","v":1},{"$f":"SUM($F50:AO50)","v":1},{"$f":"SUM($F50:AP50)","v":1},{"$f":"SUM($F50:AQ50)","v":1},{"$f":"SUM($F50:AR50)","v":1},{"$f":"SUM($F50:AS50)","v":1},{"$f":"SUM($F50:AT50)","v":1},{"$f":"SUM($F50:AU50)","v":1},{"$f":"SUM($F50:AV50)","v":1},{"$f":"SUM($F50:AW50)","v":1},{"$f":"SUM($F50:AX50)","v":1},{"$f":"SUM($F50:AY50)","v":1},{"$f":"SUM($F50:AZ50)","v":1},{"$f":"SUM($F50:BA50)","v":1},{"$f":"SUM($F50:BB50)","v":1},{"$f":"SUM($F50:BC50)","v":1},{"$f":"SUM($F50:BD50)","v":1},{"$f":"SUM($F50:BE50)","v":1},{"$f":"SUM($F50:BF50)","v":1},{"$f":"SUM($F50:BG50)","v":1},{"$f":"SUM($F50:BH50)","v":1},{"$f":"SUM($F50:BI50)","v":1},{"$f":"SUM($F50:BJ50)","v":1},{"$f":"SUM($F50:BK50)","v":1},{"$f":"SUM($F50:BL50)","v":1},{"$f":"SUM($F50:BM50)","v":1},{"$f":"SUM($F50:BN50)","v":1},{"$f":"SUM($F50:BO50)","v":1},{"$f":"SUM($F50:BP50)","v":1},{"$f":"SUM($F50:BQ50)","v":1},{"$f":"SUM($F50:BR50)","v":1},{"$f":"SUM($F50:BS50)","v":1},{"$f":"SUM($F50:BT50)","v":1},{"$f":"SUM($F50:BU50)","v":1},{"$f":"SUM($F50:BV50)","v":1},{"$f":"SUM($F50:BW50)","v":1},{"$f":"SUM($F50:BX50)","v":1},{"$f":"SUM($F50:BY50)","v":1},{"$f":"SUM($F50:BZ50)","v":1},{"$f":"SUM($F50:CA50)","v":1},{"$f":"SUM($F50:CB50)","v":1},{"$f":"SUM($F50:CC50)","v":1},{"$f":"SUM($F50:CD50)","v":1},{"$f":"SUM($F50:CE50)","v":1},{"$f":"SUM($F50:CF50)","v":1},{"$f":"SUM($F50:CG50)","v":1},{"$f":"SUM($F50:CH50)","v":1},{"$f":"SUM($F50:CI50)","v":1},{"$f":"SUM($F50:CJ50)","v":1},{"$f":"SUM($F50:CK50)","v":1},{"$f":"SUM($F50:CL50)","v":1},{"$f":"SUM($F50:CM50)","v":1},{"$f":"SUM($F50:CN50)","v":1},{"$f":"SUM($F50:CO50)","v":1},{"$f":"SUM($F50:CP50)","v":1},{"$f":"SUM($F50:CQ50)","v":1},{"$f":"SUM($F50:CR50)","v":1},{"$f":"SUM($F50:CS50)","v":1},{"$f":"SUM($F50:CT50)","v":1},{"$f":"SUM($F50:CU50)","v":1},{"$f":"SUM($F50:CV50)","v":1},{"$f":"SUM($F50:CW50)","v":1},{"$f":"SUM($F50:CX50)","v":1},{"$f":"SUM($F50:CY50)","v":1},{"$f":"SUM($F50:CZ50)","v":1},{"$f":"SUM($F50:DA50)","v":1},{"$f":"SUM($F50:DB50)","v":1},{"$f":"SUM($F50:DC50)","v":1},{"$f":"SUM($F50:DD50)","v":1},{"$f":"SUM($F50:DE50)","v":1},{"$f":"SUM($F50:DF50)","v":1},{"$f":"SUM($F50:DG50)","v":1},{"$f":"SUM($F50:DH50)","v":1},{"$f":"SUM($F50:DI50)","v":1},{"$f":"SUM($F50:DJ50)","v":1},{"$f":"SUM($F50:DK50)","v":1},{"$f":"SUM($F50:DL50)","v":1},{"$f":"SUM($F50:DM50)","v":1},{"$f":"SUM($F50:DN50)","v":1},{"$f":"SUM($F50:DO50)","v":1},{"$f":"SUM($F50:DP50)","v":1},{"$f":"SUM($F50:DQ50)","v":1},{"$f":"SUM($F50:DR50)","v":1},{"$f":"SUM($F50:DS50)","v":1},{"$f":"SUM($F50:DT50)","v":1},{"$f":"SUM($F50:DU50)","v":1},{"$f":"SUM($F50:DV50)","v":1},{"$f":"SUM($F50:DW50)","v":1},{"$f":"SUM($F50:DX50)","v":1},{"$f":"SUM($F50:DY50)","v":1},{"$f":"SUM($F50:DZ50)","v":1},{"$f":"SUM($F50:EA50)","v":1},{"$f":"SUM($F50:EB50)","v":1},{"$f":"SUM($F50:EC50)","v":1},{"$f":"SUM($F50:ED50)","v":1},{"$f":"SUM($F50:EE50)","v":1},{"$f":"SUM($F50:EF50)","v":1},{"$f":"SUM($F50:EG50)","v":1},{"$f":"SUM($F50:EH50)","v":1},{"$f":"SUM($F50:EI50)","v":1},{"$f":"SUM($F50:EJ50)","v":1},{"$f":"SUM($F50:EK50)","v":1},{"$f":"SUM($F50:EL50)","v":1},{"$f":"SUM($F50:EM50)","v":1},{"$f":"SUM($F50:EN50)","v":1},{"$f":"SUM($F50:EO50)","v":1},{"$f":"SUM($F50:EP50)","v":1},{"$f":"SUM($F50:EQ50)","v":1},{"$f":"SUM($F50:ER50)","v":1},{"$f":"SUM($F50:ES50)","v":1},{"$f":"SUM($F50:ET50)","v":1},{"$f":"SUM($F50:EU50)","v":1},{"$f":"SUM($F50:EV50)","v":1},{"$f":"SUM($F50:EW50)","v":1},{"$f":"SUM($F50:EX50)","v":1},{"$f":"SUM($F50:EY50)","v":1},{"$f":"SUM($F50:EZ50)","v":1},{"$f":"SUM($F50:FA50)","v":1},{"$f":"SUM($F50:FB50)","v":1},{"$f":"SUM($F50:FC50)","v":1},{"$f":"SUM($F50:FD50)","v":1},{"$f":"SUM($F50:FE50)","v":1},{"$f":"SUM($F50:FF50)","v":1},{"$f":"SUM($F50:FG50)","v":1},{"$f":"SUM($F50:FH50)","v":1},{"$f":"SUM($F50:FI50)","v":1},{"$f":"SUM($F50:FJ50)","v":1},{"$f":"SUM($F50:FK50)","v":1},{"$f":"SUM($F50:FL50)","v":1},{"$f":"SUM($F50:FM50)","v":1},{"$f":"SUM($F50:FN50)","v":1},{"$f":"SUM($F50:FO50)","v":1},{"$f":"SUM($F50:FP50)","v":1},{"$f":"SUM($F50:FQ50)","v":1},{"$f":"SUM($F50:FR50)","v":1},{"$f":"SUM($F50:FS50)","v":1},{"$f":"SUM($F50:FT50)","v":1},{"$f":"SUM($F50:FU50)","v":1},{"$f":"SUM($F50:FV50)","v":1},{"$f":"SUM($F50:FW50)","v":1},{"$f":"SUM($F50:FX50)","v":1},{"$f":"SUM($F50:FY50)","v":1},{"$f":"SUM($F50:FZ50)","v":1},{"$f":"SUM($F50:GA50)","v":1},{"$f":"SUM($F50:GB50)","v":1},{"$f":"SUM($F50:GC50)","v":1},{"$f":"SUM($F50:GD50)","v":1},{"$f":"SUM($F50:GE50)","v":1},{"$f":"SUM($F50:GF50)","v":1},{"$f":"SUM($F50:GG50)","v":1},{"$f":"SUM($F50:GH50)","v":1},{"$f":"SUM($F50:GI50)","v":1},{"$f":"SUM($F50:GJ50)","v":1},{"$f":"SUM($F50:GK50)","v":1},{"$f":"SUM($F50:GL50)","v":1},{"$f":"SUM($F50:GM50)","v":1},{"$f":"SUM($F50:GN50)","v":1},{"$f":"SUM($F50:GO50)","v":1},{"$f":"SUM($F50:GP50)","v":1},{"$f":"SUM($F50:GQ50)","v":1},{"$f":"SUM($F50:GR50)","v":1},{"$f":"SUM($F50:GS50)","v":1},{"$f":"SUM($F50:GT50)","v":1},{"$f":"SUM($F50:GU50)","v":1},{"$f":"SUM($F50:GV50)","v":1},{"$f":"SUM($F50:GW50)","v":1},{"$f":"SUM($F50:GX50)","v":1},{"$f":"SUM($F50:GY50)","v":1},{"$f":"SUM($F50:GZ50)","v":1},{"$f":"SUM($F50:HA50)","v":1},{"$f":"SUM($F50:HB50)","v":1},{"$f":"SUM($F50:HC50)","v":1},{"$f":"SUM($F50:HD50)","v":1},{"$f":"SUM($F50:HE50)","v":1},{"$f":"SUM($F50:HF50)","v":1},{"$f":"SUM($F50:HG50)","v":1},{"$f":"SUM($F50:HH50)","v":1},{"$f":"SUM($F50:HI50)","v":1},{"$f":"SUM($F50:HJ50)","v":1},{"$f":"SUM($F50:HK50)","v":1},{"$f":"SUM($F50:HL50)","v":1},{"$f":"SUM($F50:HM50)","v":1},{"$f":"SUM($F50:HN50)","v":1},{"$f":"SUM($F50:HO50)","v":1},{"$f":"SUM($F50:HP50)","v":1},{"$f":"SUM($F50:HQ50)","v":1},{"$f":"SUM($F50:HR50)","v":1},{"$f":"SUM($F50:HS50)","v":1},{"$f":"SUM($F50:HT50)","v":1},{"$f":"SUM($F50:HU50)","v":1},{"$f":"SUM($F50:HV50)","v":1},{"$f":"SUM($F50:HW50)","v":1},{"$f":"SUM($F50:HX50)","v":1},{"$f":"SUM($F50:HY50)","v":1},{"$f":"SUM($F50:HZ50)","v":1},{"$f":"SUM($F50:IA50)","v":1},{"$f":"SUM($F50:IB50)","v":1},{"$f":"SUM($F50:IC50)","v":1},{"$f":"SUM($F50:ID50)","v":1},{"$f":"SUM($F50:IE50)","v":1},{"$f":"SUM($F50:IF50)","v":1},{"$f":"SUM($F50:IG50)","v":1},{"$f":"SUM($F50:IH50)","v":1},{"$f":"SUM($F50:II50)","v":1},{"$f":"SUM($F50:IJ50)","v":1},{"$f":"SUM($F50:IK50)","v":1},{"$f":"SUM($F50:IL50)","v":1},{"$f":"SUM($F50:IM50)","v":1},{"$f":"SUM($F50:IN50)","v":1},{"$f":"SUM($F50:IO50)","v":1},{"$f":"SUM($F50:IP50)","v":1},{"$f":"SUM($F50:IQ50)","v":1},{"$f":"SUM($F50:IR50)","v":1},{"$f":"SUM($F50:IS50)","v":1},{"$f":"SUM($F50:IT50)","v":1},{"$f":"SUM($F50:IU50)","v":1},{"$f":"SUM($F50:IV50)","v":1},{"$f":"SUM($F50:IW50)","v":1},{"$f":"SUM($F50:IX50)","v":1},{"$f":"SUM($F50:IY50)","v":1},{"$f":"SUM($F50:IZ50)","v":1},{"$f":"SUM($F50:JA50)","v":1},{"$f":"SUM($F50:JB50)","v":1},{"$f":"SUM($F50:JC50)","v":1},{"$f":"SUM($F50:JD50)","v":1},{"$f":"SUM($F50:JE50)","v":1},{"$f":"SUM($F50:JF50)","v":1},{"$f":"SUM($F50:JG50)","v":1},{"$f":"SUM($F50:JH50)","v":1},{"$f":"SUM($F50:JI50)","v":1},{"$f":"SUM($F50:JJ50)","v":1},{"$f":"SUM($F50:JK50)","v":1},{"$f":"SUM($F50:JL50)","v":1},{"$f":"SUM($F50:JM50)","v":1},{"$f":"SUM($F50:JN50)","v":1},{"$f":"SUM($F50:JO50)","v":1},{"$f":"SUM($F50:JP50)","v":1},{"$f":"SUM($F50:JQ50)","v":1},{"$f":"SUM($F50:JR50)","v":1},{"$f":"SUM($F50:JS50)","v":1},{"$f":"SUM($F50:JT50)","v":1},{"$f":"SUM($F50:JU50)","v":1},{"$f":"SUM($F50:JV50)","v":1},{"$f":"SUM($F50:JW50)","v":1},{"$f":"SUM($F50:JX50)","v":1},{"$f":"SUM($F50:JY50)","v":1},{"$f":"SUM($F50:JZ50)","v":1},{"$f":"SUM($F50:KA50)","v":1},{"$f":"SUM($F50:KB50)","v":1},{"$f":"SUM($F50:KC50)","v":1},{"$f":"SUM($F50:KD50)","v":1},{"$f":"SUM($F50:KE50)","v":1},{"$f":"SUM($F50:KF50)","v":1},{"$f":"SUM($F50:KG50)","v":1},{"$f":"SUM($F50:KH50)","v":1},{"$f":"SUM($F50:KI50)","v":1},{"$f":"SUM($F50:KJ50)","v":1},{"$f":"SUM($F50:KK50)","v":1},{"$f":"SUM($F50:KL50)","v":1},{"$f":"SUM($F50:KM50)","v":1},{"$f":"SUM($F50:KN50)","v":1},{"$f":"SUM($F50:KO50)","v":1},{"$f":"SUM($F50:KP50)","v":1},{"$f":"SUM($F50:KQ50)","v":1},{"$f":"SUM($F50:KR50)","v":1},{"$f":"SUM($F50:KS50)","v":1},{"$f":"SUM($F50:KT50)","v":1},{"$f":"SUM($F50:KU50)","v":1},{"$f":"SUM($F50:KV50)","v":1},{"$f":"SUM($F50:KW50)","v":1},{"$f":"SUM($F50:KX50)","v":1},{"$f":"SUM($F50:KY50)","v":1},{"$f":"SUM($F50:KZ50)","v":1},{"$f":"SUM($F50:LA50)","v":1},{"$f":"SUM($F50:LB50)","v":1},{"$f":"SUM($F50:LC50)","v":1},{"$f":"SUM($F50:LD50)","v":1},{"$f":"SUM($F50:LE50)","v":1},{"$f":"SUM($F50:LF50)","v":1},{"$f":"SUM($F50:LG50)","v":1},{"$f":"SUM($F50:LH50)","v":1},{"$f":"SUM($F50:LI50)","v":1},{"$f":"SUM($F50:LJ50)","v":1},{"$f":"SUM($F50:LK50)","v":1},{"$f":"SUM($F50:LL50)","v":1},{"$f":"SUM($F50:LM50)","v":1},{"$f":"SUM($F50:LN50)","v":1},{"$f":"SUM($F50:LO50)","v":1},{"$f":"SUM($F50:LP50)","v":1},{"$f":"SUM($F50:LQ50)","v":1},{"$f":"SUM($F50:LR50)","v":1},{"$f":"SUM($F50:LS50)","v":1},{"$f":"SUM($F50:LT50)","v":1},{"$f":"SUM($F50:LU50)","v":1},{"$f":"SUM($F50:LV50)","v":1},{"$f":"SUM($F50:LW50)","v":1},{"$f":"SUM($F50:LX50)","v":1},{"$f":"SUM($F50:LY50)","v":1},{"$f":"SUM($F50:LZ50)","v":1},{"$f":"SUM($F50:MA50)","v":1},{"$f":"SUM($F50:MB50)","v":1},{"$f":"SUM($F50:MC50)","v":1},{"$f":"SUM($F50:MD50)","v":1},{"$f":"SUM($F50:ME50)","v":1},{"$f":"SUM($F50:MF50)","v":1},{"$f":"SUM($F50:MG50)","v":1},{"$f":"SUM($F50:MH50)","v":1},{"$f":"SUM($F50:MI50)","v":1},{"$f":"SUM($F50:MJ50)","v":1},{"$f":"SUM($F50:MK50)","v":1},{"$f":"SUM($F50:ML50)","v":1},{"$f":"SUM($F50:MM50)","v":1},{"$f":"SUM($F50:MN50)","v":1},{"$f":"SUM($F50:MO50)","v":1},{"$f":"SUM($F50:MP50)","v":1},{"$f":"SUM($F50:MQ50)","v":1},{"$f":"SUM($F50:MR50)","v":1},{"$f":"SUM($F50:MS50)","v":1},{"$f":"SUM($F50:MT50)","v":1},{"$f":"SUM($F50:MU50)","v":1},{"$f":"SUM($F50:MV50)","v":1},{"$f":"SUM($F50:MW50)","v":1},{"$f":"SUM($F50:MX50)","v":1},{"$f":"SUM($F50:MY50)","v":1},{"$f":"SUM($F50:MZ50)","v":1},{"$f":"SUM($F50:NA50)","v":1},{"$f":"SUM($F50:NB50)","v":1},{"$f":"SUM($F50:NC50)","v":1},{"$f":"SUM($F50:ND50)","v":1},{"$f":"SUM($F50:NE50)","v":1},{"$f":"SUM($F50:NF50)","v":1},{"$f":"SUM($F50:NG50)","v":1},{"$f":"SUM($F50:NH50)","v":1},{"$f":"SUM($F50:NI50)","v":1},{"$f":"SUM($F50:NJ50)","v":1},{"$f":"SUM($F50:NK50)","v":1},{"$f":"SUM($F50:NL50)","v":1},{"$f":"SUM($F50:NM50)","v":1},{"$f":"SUM($F50:NN50)","v":1},{"$f":"SUM($F50:NO50)","v":1},{"$f":"SUM($F50:NP50)","v":1},{"$f":"SUM($F50:NQ50)","v":1},{"$f":"SUM($F50:NR50)","v":1},{"$f":"SUM($F50:NS50)","v":1},{"$f":"SUM($F50:NT50)","v":1},{"$f":"SUM($F50:NU50)","v":1},{"$f":"SUM($F50:NV50)","v":1},{"$f":"SUM($F50:NW50)","v":1},{"$f":"SUM($F50:NX50)","v":1},{"$f":"SUM($F50:NY50)","v":1},{"$f":"SUM($F50:NZ50)","v":1},{"$f":"SUM($F50:OA50)","v":1},{"$f":"SUM($F50:OB50)","v":1},{"$f":"SUM($F50:OC50)","v":1},{"$f":"SUM($F50:OD50)","v":1},{"$f":"SUM($F50:OE50)","v":1},{"$f":"SUM($F50:OF50)","v":1},{"$f":"SUM($F50:OG50)","v":1},{"$f":"SUM($F50:OH50)","v":1},{"$f":"SUM($F50:OI50)","v":1},{"$f":"SUM($F50:OJ50)","v":1},{"$f":"SUM($F50:OK50)","v":1},{"$f":"SUM($F50:OL50)","v":1},{"$f":"SUM($F50:OM50)","v":1},{"$f":"SUM($F50:ON50)","v":1},{"$f":"SUM($F50:OO50)","v":1},{"$f":"SUM($F50:OP50)","v":1},{"$f":"SUM($F50:OQ50)","v":1},{"$f":"SUM($F50:OR50)","v":1},{"$f":"SUM($F50:OS50)","v":1},{"$f":"SUM($F50:OT50)","v":1},{"$f":"SUM($F50:OU50)","v":1},{"$f":"SUM($F50:OV50)","v":1},{"$f":"SUM($F50:OW50)","v":1},{"$f":"SUM($F50:OX50)","v":1},{"$f":"SUM($F50:OY50)","v":1},{"$f":"SUM($F50:OZ50)","v":1},{"$f":"SUM($F50:PA50)","v":1},{"$f":"SUM($F50:PB50)","v":1},{"$f":"SUM($F50:PC50)","v":1},{"$f":"SUM($F50:PD50)","v":1},{"$f":"SUM($F50:PE50)","v":1},{"$f":"SUM($F50:PF50)","v":1},{"$f":"SUM($F50:PG50)","v":1},{"$f":"SUM($F50:PH50)","v":1},{"$f":"SUM($F50:PI50)","v":1},{"$f":"SUM($F50:PJ50)","v":1},{"$f":"SUM($F50:PK50)","v":1},{"$f":"SUM($F50:PL50)","v":1},{"$f":"SUM($F50:PM50)","v":1},{"$f":"SUM($F50:PN50)","v":1},{"$f":"SUM($F50:PO50)","v":1},{"$f":"SUM($F50:PP50)","v":1},{"$f":"SUM($F50:PQ50)","v":1},{"$f":"SUM($F50:PR50)","v":1},{"$f":"SUM($F50:PS50)","v":1},{"$f":"SUM($F50:PT50)","v":1},{"$f":"SUM($F50:PU50)","v":1},{"$f":"SUM($F50:PV50)","v":1},{"$f":"SUM($F50:PW50)","v":1},{"$f":"SUM($F50:PX50)","v":1},{"$f":"SUM($F50:PY50)","v":1},{"$f":"SUM($F50:PZ50)","v":1},{"$f":"SUM($F50:QA50)","v":1},{"$f":"SUM($F50:QB50)","v":1},{"$f":"SUM($F50:QC50)","v":1},{"$f":"SUM($F50:QD50)","v":1},{"$f":"SUM($F50:QE50)","v":1},{"$f":"SUM($F50:QF50)","v":1},{"$f":"SUM($F50:QG50)","v":1},{"$f":"SUM($F50:QH50)","v":1},{"$f":"SUM($F50:QI50)","v":1},{"$f":"SUM($F50:QJ50)","v":1},{"$f":"SUM($F50:QK50)","v":1},{"$f":"SUM($F50:QL50)","v":1},{"$f":"SUM($F50:QM50)","v":1},{"$f":"SUM($F50:QN50)","v":1},{"$f":"SUM($F50:QO50)","v":1},{"$f":"SUM($F50:QP50)","v":1},{"$f":"SUM($F50:QQ50)","v":1},{"$f":"SUM($F50:QR50)","v":1},{"$f":"SUM($F50:QS50)","v":1},{"$f":"SUM($F50:QT50)","v":1},{"$f":"SUM($F50:QU50)","v":1},{"$f":"SUM($F50:QV50)","v":1},{"$f":"SUM($F50:QW50)","v":1},{"$f":"SUM($F50:QX50)","v":1},{"$f":"SUM($F50:QY50)","v":1},{"$f":"SUM($F50:QZ50)","v":1},{"$f":"SUM($F50:RA50)","v":1},{"$f":"SUM($F50:RB50)","v":1},{"$f":"SUM($F50:RC50)","v":1},{"$f":"SUM($F50:RD50)","v":1},{"$f":"SUM($F50:RE50)","v":1},{"$f":"SUM($F50:RF50)","v":1},{"$f":"SUM($F50:RG50)","v":1},{"$f":"SUM($F50:RH50)","v":1},{"$f":"SUM($F50:RI50)","v":1},{"$f":"SUM($F50:RJ50)","v":1},{"$f":"SUM($F50:RK50)","v":1},{"$f":"SUM($F50:RL50)","v":1},{"$f":"SUM($F50:RM50)","v":1},{"$f":"SUM($F50:RN50)","v":1},{"$f":"SUM($F50:RO50)","v":1},{"$f":"SUM($F50:RP50)","v":1},{"$f":"SUM($F50:RQ50)","v":1},{"$f":"SUM($F50:RR50)","v":1},{"$f":"SUM($F50:RS50)","v":1},{"$f":"SUM($F50:RT50)","v":1},{"$f":"SUM($F50:RU50)","v":1},{"$f":"SUM($F50:RV50)","v":1},{"$f":"SUM($F50:RW50)","v":1},{"$f":"SUM($F50:RX50)","v":1},{"$f":"SUM($F50:RY50)","v":1},{"$f":"SUM($F50:RZ50)","v":1},{"$f":"SUM($F50:SA50)","v":1},{"$f":"SUM($F50:SB50)","v":1},{"$f":"SUM($F50:SC50)","v":1},{"$f":"SUM($F50:SD50)","v":1},{"$f":"SUM($F50:SE50)","v":1},{"$f":"SUM($F50:SF50)","v":1},{"$f":"SUM($F50:SG50)","v":1},{"$f":"SUM($F50:SH50)","v":1},{"$f":"SUM($F50:SI50)","v":1},{"$f":"SUM($F50:SJ50)","v":1},{"$f":"SUM($F50:SK50)","v":1},{"$f":"SUM($F50:SL50)","v":1},{"$f":"SUM($F50:SM50)","v":1},{"$f":"SUM($F50:SN50)","v":1},{"$f":"SUM($F50:SO50)","v":1},{"$f":"SUM($F50:SP50)","v":1},{"$f":"SUM($F50:SQ50)","v":1},{"$f":"SUM($F50:SR50)","v":1},{"$f":"SUM($F50:SS50)","v":1},{"$f":"SUM($F50:ST50)","v":1},{"$f":"SUM($F50:SU50)","v":1},{"$f":"SUM($F50:SV50)","v":1},{"$f":"SUM($F50:SW50)","v":1},{"$f":"SUM($F50:SX50)","v":1},{"$f":"SUM($F50:SY50)","v":1},{"$f":"SUM($F50:SZ50)","v":1},{"$f":"SUM($F50:TA50)","v":1},{"$f":"SUM($F50:TB50)","v":1},{"$f":"SUM($F50:TC50)","v":1},{"$f":"SUM($F50:TD50)","v":1},{"$f":"SUM($F50:TE50)","v":1},{"$f":"SUM($F50:TF50)","v":1},{"$f":"SUM($F50:TG50)","v":1},{"$f":"SUM($F50:TH50)","v":1},{"$f":"SUM($F50:TI50)","v":1},{"$f":"SUM($F50:TJ50)","v":1},{"$f":"SUM($F50:TK50)","v":1},{"$f":"SUM($F50:TL50)","v":1},{"$f":"SUM($F50:TM50)","v":1},{"$f":"SUM($F50:TN50)","v":1},{"$f":"SUM($F50:TO50)","v":1},{"$f":"SUM($F50:TP50)","v":1},{"$f":"SUM($F50:TQ50)","v":1},{"$f":"SUM($F50:TR50)","v":1},{"$f":"SUM($F50:TS50)","v":1},{"$f":"SUM($F50:TT50)","v":1},{"$f":"SUM($F50:TU50)","v":1},{"$f":"SUM($F50:TV50)","v":1},{"$f":"SUM($F50:TW50)","v":1},{"$f":"SUM($F50:TX50)","v":1},{"$f":"SUM($F50:TY50)","v":1},{"$f":"SUM($F50:TZ50)","v":1},{"$f":"SUM($F50:UA50)","v":1},{"$f":"SUM($F50:UB50)","v":1},{"$f":"SUM($F50:UC50)","v":1},{"$f":"SUM($F50:UD50)","v":1},{"$f":"SUM($F50:UE50)","v":1},{"$f":"SUM($F50:UF50)","v":1},{"$f":"SUM($F50:UG50)","v":1},{"$f":"SUM($F50:UH50)","v":1},{"$f":"SUM($F50:UI50)","v":1},{"$f":"SUM($F50:UJ50)","v":1},{"$f":"SUM($F50:UK50)","v":1},{"$f":"SUM($F50:UL50)","v":1},{"$f":"SUM($F50:UM50)","v":1},{"$f":"SUM($F50:UN50)","v":1},{"$f":"SUM($F50:UO50)","v":1},{"$f":"SUM($F50:UP50)","v":1},{"$f":"SUM($F50:UQ50)","v":1},{"$f":"SUM($F50:UR50)","v":1},{"$f":"SUM($F50:US50)","v":1},{"$f":"SUM($F50:UT50)","v":1},{"$f":"SUM($F50:UU50)","v":1},{"$f":"SUM($F50:UV50)","v":1},{"$f":"SUM($F50:UW50)","v":1},{"$f":"SUM($F50:UX50)","v":1},{"$f":"SUM($F50:UY50)","v":1},{"$f":"SUM($F50:UZ50)","v":1},{"$f":"SUM($F50:VA50)","v":1},{"$f":"SUM($F50:VB50)","v":1},{"$f":"SUM($F50:VC50)","v":1},{"$f":"SUM($F50:VD50)","v":1},{"$f":"SUM($F50:VE50)","v":1},{"$f":"SUM($F50:VF50)","v":1},{"$f":"SUM($F50:VG50)","v":1},{"$f":"SUM($F50:VH50)","v":1},{"$f":"SUM($F50:VI50)","v":1},{"$f":"SUM($F50:VJ50)","v":1},{"$f":"SUM($F50:VK50)","v":1},{"$f":"SUM($F50:VL50)","v":1},{"$f":"SUM($F50:VM50)","v":1},{"$f":"SUM($F50:VN50)","v":1},{"$f":"SUM($F50:VO50)","v":1},{"$f":"SUM($F50:VP50)","v":1},{"$f":"SUM($F50:VQ50)","v":1},{"$f":"SUM($F50:VR50)","v":1},{"$f":"SUM($F50:VS50)","v":1},{"$f":"SUM($F50:VT50)","v":1},{"$f":"SUM($F50:VU50)","v":1},{"$f":"SUM($F50:VV50)","v":1},{"$f":"SUM($F50:VW50)","v":1},{"$f":"SUM($F50:VX50)","v":1},{"$f":"SUM($F50:VY50)","v":1},{"$f":"SUM($F50:VZ50)","v":1},{"$f":"SUM($F50:WA50)","v":1},{"$f":"SUM($F50:WB50)","v":1},{"$f":"SUM($F50:WC50)","v":1},{"$f":"SUM($F50:WD50)","v":1},{"$f":"SUM($F50:WE50)","v":1},{"$f":"SUM($F50:WF50)","v":1},{"$f":"SUM($F50:WG50)","v":1},{"$f":"SUM($F50:WH50)","v":1},{"$f":"SUM($F50:WI50)","v":1},{"$f":"SUM($F50:WJ50)","v":1},{"$f":"SUM($F50:WK50)","v":1},{"$f":"SUM($F50:WL50)","v":1},{"$f":"SUM($F50:WM50)","v":1},{"$f":"SUM($F50:WN50)","v":1},{"$f":"SUM($F50:WO50)","v":1},{"$f":"SUM($F50:WP50)","v":1},{"$f":"SUM($F50:WQ50)","v":1},{"$f":"SUM($F50:WR50)","v":1},{"$f":"SUM($F50:WS50)","v":1},{"$f":"SUM($F50:WT50)","v":1},{"$f":"SUM($F50:WU50)","v":1},{"$f":"SUM($F50:WV50)","v":1},{"$f":"SUM($F50:WW50)","v":1},{"$f":"SUM($F50:WX50)","v":1},{"$f":"SUM($F50:WY50)","v":1},{"$f":"SUM($F50:WZ50)","v":1},{"$f":"SUM($F50:XA50)","v":1},{"$f":"SUM($F50:XB50)","v":1},{"$f":"SUM($F50:XC50)","v":1},{"$f":"SUM($F50:XD50)","v":1},{"$f":"SUM($F50:XE50)","v":1},{"$f":"SUM($F50:XF50)","v":1},{"$f":"SUM($F50:XG50)","v":1},{"$f":"SUM($F50:XH50)","v":1},{"$f":"SUM($F50:XI50)","v":1},{"$f":"SUM($F50:XJ50)","v":1},{"$f":"SUM($F50:XK50)","v":1},{"$f":"SUM($F50:XL50)","v":1},{"$f":"SUM($F50:XM50)","v":1},{"$f":"SUM($F50:XN50)","v":1},{"$f":"SUM($F50:XO50)","v":1},{"$f":"SUM($F50:XP50)","v":1},{"$f":"SUM($F50:XQ50)","v":1},{"$f":"SUM($F50:XR50)","v":1},{"$f":"SUM($F50:XS50)","v":1},{"$f":"SUM($F50:XT50)","v":1},{"$f":"SUM($F50:XU50)","v":1},{"$f":"SUM($F50:XV50)","v":1},{"$f":"SUM($F50:XW50)","v":1},{"$f":"SUM($F50:XX50)","v":1},{"$f":"SUM($F50:XY50)","v":1},{"$f":"SUM($F50:XZ50)","v":1},{"$f":"SUM($F50:YA50)","v":1},{"$f":"SUM($F50:YB50)","v":1},{"$f":"SUM($F50:YC50)","v":1},{"$f":"SUM($F50:YD50)","v":1},{"$f":"SUM($F50:YE50)","v":1},{"$f":"SUM($F50:YF50)","v":1},{"$f":"SUM($F50:YG50)","v":1},{"$f":"SUM($F50:YH50)","v":1},{"$f":"SUM($F50:YI50)","v":1},{"$f":"SUM($F50:YJ50)","v":1},{"$f":"SUM($F50:YK50)","v":1},{"$f":"SUM($F50:YL50)","v":1},{"$f":"SUM($F50:YM50)","v":1},{"$f":"SUM($F50:YN50)","v":1},{"$f":"SUM($F50:YO50)","v":1},{"$f":"SUM($F50:YP50)","v":1},{"$f":"SUM($F50:YQ50)","v":1},{"$f":"SUM($F50:YR50)","v":1},{"$f":"SUM($F50:YS50)","v":1},{"$f":"SUM($F50:YT50)","v":1},{"$f":"SUM($F50:YU50)","v":1},{"$f":"SUM($F50:YV50)","v":1},{"$f":"SUM($F50:YW50)","v":1},{"$f":"SUM($F50:YX50)","v":1},{"$f":"SUM($F50:YY50)","v":1},{"$f":"SUM($F50:YZ50)","v":1},{"$f":"SUM($F50:ZA50)","v":1},{"$f":"SUM($F50:ZB50)","v":1},{"$f":"SUM($F50:ZC50)","v":1},{"$f":"SUM($F50:ZD50)","v":1},{"$f":"SUM($F50:ZE50)","v":1},{"$f":"SUM($F50:ZF50)","v":1},{"$f":"SUM($F50:ZG50)","v":1},{"$f":"SUM($F50:ZH50)","v":1},{"$f":"SUM($F50:ZI50)","v":1},{"$f":"SUM($F50:ZJ50)","v":1},{"$f":"SUM($F50:ZK50)","v":1},{"$f":"SUM($F50:ZL50)","v":1},{"$f":"SUM($F50:ZM50)","v":1},{"$f":"SUM($F50:ZN50)","v":1},{"$f":"SUM($F50:ZO50)","v":1},{"$f":"SUM($F50:ZP50)","v":1},{"$f":"SUM($F50:ZQ50)","v":1},{"$f":"SUM($F50:ZR50)","v":1},{"$f":"SUM($F50:ZS50)","v":1},{"$f":"SUM($F50:ZT50)","v":1},{"$f":"SUM($F50:ZU50)","v":1},{"$f":"SUM($F50:ZV50)","v":1},{"$f":"SUM($F50:ZW50)","v":1},{"$f":"SUM($F50:ZX50)","v":1},{"$f":"SUM($F50:ZY50)","v":1},{"$f":"SUM($F50:ZZ50)","v":1},{"$f":"SUM($F50:AAA50)","v":1},{"$f":"SUM($F50:AAB50)","v":1},{"$f":"SUM($F50:AAC50)","v":1},{"$f":"SUM($F50:AAD50)","v":1},{"$f":"SUM($F50:AAE50)","v":1},{"$f":"SUM($F50:AAF50)","v":1},{"$f":"SUM($F50:AAG50)","v":1},{"$f":"SUM($F50:AAH50)","v":1},{"$f":"SUM($F50:AAI50)","v":1},{"$f":"SUM($F50:AAJ50)","v":1},{"$f":"SUM($F50:AAK50)","v":1},{"$f":"SUM($F50:AAL50)","v":1},{"$f":"SUM($F50:AAM50)","v":1},{"$f":"SUM($F50:AAN50)","v":1},{"$f":"SUM($F50:AAO50)","v":1},{"$f":"SUM($F50:AAP50)","v":1},{"$f":"SUM($F50:AAQ50)","v":1},{"$f":"SUM($F50:AAR50)","v":1},{"$f":"SUM($F50:AAS50)","v":1},{"$f":"SUM($F50:AAT50)","v":1},{"$f":"SUM($F50:AAU50)","v":1},{"$f":"SUM($F50:AAV50)","v":1},{"$f":"SUM($F50:AAW50)","v":1},{"$f":"SUM($F50:AAX50)","v":1},{"$f":"SUM($F50:AAY50)","v":1},{"$f":"SUM($F50:AAZ50)","v":1},{"$f":"SUM($F50:ABA50)","v":1},{"$f":"SUM($F50:ABB50)","v":1},{"$f":"SUM($F50:ABC50)","v":1},{"$f":"SUM($F50:ABD50)","v":1},{"$f":"SUM($F50:ABE50)","v":1},{"$f":"SUM($F50:ABF50)","v":1},{"$f":"SUM($F50:ABG50)","v":1},{"$f":"SUM($F50:ABH50)","v":1},{"$f":"SUM($F50:ABI50)","v":1},{"$f":"SUM($F50:ABJ50)","v":1},{"$f":"SUM($F50:ABK50)","v":1},{"$f":"SUM($F50:ABL50)","v":1},{"$f":"SUM($F50:ABM50)","v":1},{"$f":"SUM($F50:ABN50)","v":1},{"$f":"SUM($F50:ABO50)","v":1},{"$f":"SUM($F50:ABP50)","v":1},{"$f":"SUM($F50:ABQ50)","v":1},{"$f":"SUM($F50:ABR50)","v":1},{"$f":"SUM($F50:ABS50)","v":1},{"$f":"SUM($F50:ABT50)","v":1},{"$f":"SUM($F50:ABU50)","v":1},{"$f":"SUM($F50:ABV50)","v":1},{"$f":"SUM($F50:ABW50)","v":1},{"$f":"SUM($F50:ABX50)","v":1},{"$f":"SUM($F50:ABY50)","v":1},{"$f":"SUM($F50:ABZ50)","v":1},{"$f":"SUM($F50:ACA50)","v":1},{"$f":"SUM($F50:ACB50)","v":1},{"$f":"SUM($F50:ACC50)","v":1},{"$f":"SUM($F50:ACD50)","v":1},{"$f":"SUM($F50:ACE50)","v":1},{"$f":"SUM($F50:ACF50)","v":1},{"$f":"SUM($F50:ACG50)","v":1},{"$f":"SUM($F50:ACH50)","v":1},{"$f":"SUM($F50:ACI50)","v":1},{"$f":"SUM($F50:ACJ50)","v":1},{"$f":"SUM($F50:ACK50)","v":1},{"$f":"SUM($F50:ACL50)","v":1},{"$f":"SUM($F50:ACM50)","v":1},{"$f":"SUM($F50:ACN50)","v":1},{"$f":"SUM($F50:ACO50)","v":1},{"$f":"SUM($F50:ACP50)","v":1},{"$f":"SUM($F50:ACQ50)","v":1},{"$f":"SUM($F50:ACR50)","v":1},{"$f":"SUM($F50:ACS50)","v":1},{"$f":"SUM($F50:ACT50)","v":1},{"$f":"SUM($F50:ACU50)","v":1},{"$f":"SUM($F50:ACV50)","v":1},{"$f":"SUM($F50:ACW50)","v":1},{"$f":"SUM($F50:ACX50)","v":1},{"$f":"SUM($F50:ACY50)","v":1},{"$f":"SUM($F50:ACZ50)","v":1},{"$f":"SUM($F50:ADA50)","v":1},{"$f":"SUM($F50:ADB50)","v":1},{"$f":"SUM($F50:ADC50)","v":1},{"$f":"SUM($F50:ADD50)","v":1},{"$f":"SUM($F50:ADE50)","v":1},{"$f":"SUM($F50:ADF50)","v":1},{"$f":"SUM($F50:ADG50)","v":1},{"$f":"SUM($F50:ADH50)","v":1},{"$f":"SUM($F50:ADI50)","v":1},{"$f":"SUM($F50:ADJ50)","v":1},{"$f":"SUM($F50:ADK50)","v":1},{"$f":"SUM($F50:ADL50)","v":1},{"$f":"SUM($F50:ADM50)","v":1},{"$f":"SUM($F50:ADN50)","v":1},{"$f":"SUM($F50:ADO50)","v":1},{"$f":"SUM($F50:ADP50)","v":1},{"$f":"SUM($F50:ADQ50)","v":1},{"$f":"SUM($F50:ADR50)","v":1},{"$f":"SUM($F50:ADS50)","v":1},{"$f":"SUM($F50:ADT50)","v":1},{"$f":"SUM($F50:ADU50)","v":1},{"$f":"SUM($F50:ADV50)","v":1},{"$f":"SUM($F50:ADW50)","v":1},{"$f":"SUM($F50:ADX50)","v":1},{"$f":"SUM($F50:ADY50)","v":1},{"$f":"SUM($F50:ADZ50)","v":1},{"$f":"SUM($F50:AEA50)","v":1},{"$f":"SUM($F50:AEB50)","v":1},{"$f":"SUM($F50:AEC50)","v":1},{"$f":"SUM($F50:AED50)","v":1},{"$f":"SUM($F50:AEE50)","v":1},{"$f":"SUM($F50:AEF50)","v":1},{"$f":"SUM($F50:AEG50)","v":1},{"$f":"SUM($F50:AEH50)","v":1},{"$f":"SUM($F50:AEI50)","v":1},{"$f":"SUM($F50:AEJ50)","v":1},{"$f":"SUM($F50:AEK50)","v":1},{"$f":"SUM($F50:AEL50)","v":1},{"$f":"SUM($F50:AEM50)","v":1},{"$f":"SUM($F50:AEN50)","v":1},{"$f":"SUM($F50:AEO50)","v":1},{"$f":"SUM($F50:AEP50)","v":1},{"$f":"SUM($F50:AEQ50)","v":1},{"$f":"SUM($F50:AER50)","v":1},{"$f":"SUM($F50:AES50)","v":1},{"$f":"SUM($F50:AET50)","v":1},{"$f":"SUM($F50:AEU50)","v":1},{"$f":"SUM($F50:AEV50)","v":1},{"$f":"SUM($F50:AEW50)","v":1},{"$f":"SUM($F50:AEX50)","v":1},{"$f":"SUM($F50:AEY50)","v":1},{"$f":"SUM($F50:AEZ50)","v":1},{"$f":"SUM($F50:AFA50)","v":1},{"$f":"SUM($F50:AFB50)","v":1},{"$f":"SUM($F50:AFC50)","v":1},{"$f":"SUM($F50:AFD50)","v":1},{"$f":"SUM($F50:AFE50)","v":1},{"$f":"SUM($F50:AFF50)","v":1},{"$f":"SUM($F50:AFG50)","v":1},{"$f":"SUM($F50:AFH50)","v":1},{"$f":"SUM($F50:AFI50)","v":1},{"$f":"SUM($F50:AFJ50)","v":1},{"$f":"SUM($F50:AFK50)","v":1},{"$f":"SUM($F50:AFL50)","v":1},{"$f":"SUM($F50:AFM50)","v":1},{"$f":"SUM($F50:AFN50)","v":1},{"$f":"SUM($F50:AFO50)","v":1},{"$f":"SUM($F50:AFP50)","v":1},{"$f":"SUM($F50:AFQ50)","v":1},{"$f":"SUM($F50:AFR50)","v":1},{"$f":"SUM($F50:AFS50)","v":1},{"$f":"SUM($F50:AFT50)","v":1},{"$f":"SUM($F50:AFU50)","v":1},{"$f":"SUM($F50:AFV50)","v":1},{"$f":"SUM($F50:AFW50)","v":1},{"$f":"SUM($F50:AFX50)","v":1},{"$f":"SUM($F50:AFY50)","v":1},{"$f":"SUM($F50:AFZ50)","v":1},{"$f":"SUM($F50:AGA50)","v":1},{"$f":"SUM($F50:AGB50)","v":1},{"$f":"SUM($F50:AGC50)","v":1},{"$f":"SUM($F50:AGD50)","v":1},{"$f":"SUM($F50:AGE50)","v":1},{"$f":"SUM($F50:AGF50)","v":1},{"$f":"SUM($F50:AGG50)","v":1},{"$f":"SUM($F50:AGH50)","v":1},{"$f":"SUM($F50:AGI50)","v":1},{"$f":"SUM($F50:AGJ50)","v":1},{"$f":"SUM($F50:AGK50)","v":1},{"$f":"SUM($F50:AGL50)","v":1},{"$f":"SUM($F50:AGM50)","v":1},{"$f":"SUM($F50:AGN50)","v":1},{"$f":"SUM($F50:AGO50)","v":1},{"$f":"SUM($F50:AGP50)","v":1},{"$f":"SUM($F50:AGQ50)","v":1},{"$f":"SUM($F50:AGR50)","v":1},{"$f":"SUM($F50:AGS50)","v":1},{"$f":"SUM($F50:AGT50)","v":1},{"$f":"SUM($F50:AGU50)","v":1},{"$f":"SUM($F50:AGV50)","v":1},{"$f":"SUM($F50:AGW50)","v":1},{"$f":"SUM($F50:AGX50)","v":1},{"$f":"SUM($F50:AGY50)","v":1},{"$f":"SUM($F50:AGZ50)","v":1},{"$f":"SUM($F50:AHA50)","v":1},{"$f":"SUM($F50:AHB50)","v":1},{"$f":"SUM($F50:AHC50)","v":1},{"$f":"SUM($F50:AHD50)","v":1},{"$f":"SUM($F50:AHE50)","v":1},{"$f":"SUM($F50:AHF50)","v":1},{"$f":"SUM($F50:AHG50)","v":1},{"$f":"SUM($F50:AHH50)","v":1},{"$f":"SUM($F50:AHI50)","v":1},{"$f":"SUM($F50:AHJ50)","v":1},{"$f":"SUM($F50:AHK50)","v":1},{"$f":"SUM($F50:AHL50)","v":1},{"$f":"SUM($F50:AHM50)","v":1},{"$f":"SUM($F50:AHN50)","v":1},{"$f":"SUM($F50:AHO50)","v":1},{"$f":"SUM($F50:AHP50)","v":1},{"$f":"SUM($F50:AHQ50)","v":1},{"$f":"SUM($F50:AHR50)","v":1},{"$f":"SUM($F50:AHS50)","v":1},{"$f":"SUM($F50:AHT50)","v":1},{"$f":"SUM($F50:AHU50)","v":1},{"$f":"SUM($F50:AHV50)","v":1},{"$f":"SUM($F50:AHW50)","v":1},{"$f":"SUM($F50:AHX50)","v":1},{"$f":"SUM($F50:AHY50)","v":1},{"$f":"SUM($F50:AHZ50)","v":1},{"$f":"SUM($F50:AIA50)","v":1},{"$f":"SUM($F50:AIB50)","v":1},{"$f":"SUM($F50:AIC50)","v":1},{"$f":"SUM($F50:AID50)","v":1},{"$f":"SUM($F50:AIE50)","v":1},{"$f":"SUM($F50:AIF50)","v":1},{"$f":"SUM($F50:AIG50)","v":1},{"$f":"SUM($F50:AIH50)","v":1},{"$f":"SUM($F50:AII50)","v":1},{"$f":"SUM($F50:AIJ50)","v":1},{"$f":"SUM($F50:AIK50)","v":1},{"$f":"SUM($F50:AIL50)","v":1},{"$f":"SUM($F50:AIM50)","v":1},{"$f":"SUM($F50:AIN50)","v":1},{"$f":"SUM($F50:AIO50)","v":1},{"$f":"SUM($F50:AIP50)","v":1},{"$f":"SUM($F50:AIQ50)","v":1},{"$f":"SUM($F50:AIR50)","v":1},{"$f":"SUM($F50:AIS50)","v":1},{"$f":"SUM($F50:AIT50)","v":1},{"$f":"SUM($F50:AIU50)","v":1},{"$f":"SUM($F50:AIV50)","v":1},{"$f":"SUM($F50:AIW50)","v":1},{"$f":"SUM($F50:AIX50)","v":1},{"$f":"SUM($F50:AIY50)","v":1},{"$f":"SUM($F50:AIZ50)","v":1},{"$f":"SUM($F50:AJA50)","v":1},{"$f":"SUM($F50:AJB50)","v":1},{"$f":"SUM($F50:AJC50)","v":1},{"$f":"SUM($F50:AJD50)","v":1},{"$f":"SUM($F50:AJE50)","v":1},{"$f":"SUM($F50:AJF50)","v":1},{"$f":"SUM($F50:AJG50)","v":1},{"$f":"SUM($F50:AJH50)","v":1},{"$f":"SUM($F50:AJI50)","v":1},{"$f":"SUM($F50:AJJ50)","v":1},{"$f":"SUM($F50:AJK50)","v":1},{"$f":"SUM($F50:AJL50)","v":1},{"$f":"SUM($F50:AJM50)","v":1},{"$f":"SUM($F50:AJN50)","v":1},{"$f":"SUM($F50:AJO50)","v":1},{"$f":"SUM($F50:AJP50)","v":1},{"$f":"SUM($F50:AJQ50)","v":1},{"$f":"SUM($F50:AJR50)","v":1},{"$f":"SUM($F50:AJS50)","v":1},{"$f":"SUM($F50:AJT50)","v":1},{"$f":"SUM($F50:AJU50)","v":1},{"$f":"SUM($F50:AJV50)","v":1},{"$f":"SUM($F50:AJW50)","v":1},{"$f":"SUM($F50:AJX50)","v":1},{"$f":"SUM($F50:AJY50)","v":1},{"$f":"SUM($F50:AJZ50)","v":1},{"$f":"SUM($F50:AKA50)","v":1},{"$f":"SUM($F50:AKB50)","v":1},{"$f":"SUM($F50:AKC50)","v":1},{"$f":"SUM($F50:AKD50)","v":1},{"$f":"SUM($F50:AKE50)","v":1},{"$f":"SUM($F50:AKF50)","v":1},{"$f":"SUM($F50:AKG50)","v":1},{"$f":"SUM($F50:AKH50)","v":1},{"$f":"SUM($F50:AKI50)","v":1},{"$f":"SUM($F50:AKJ50)","v":1},{"$f":"SUM($F50:AKK50)","v":1},{"$f":"SUM($F50:AKL50)","v":1},{"$f":"SUM($F50:AKM50)","v":1},{"$f":"SUM($F50:AKN50)","v":1},{"$f":"SUM($F50:AKO50)","v":1},{"$f":"SUM($F50:AKP50)","v":1},{"$f":"SUM($F50:AKQ50)","v":1},{"$f":"SUM($F50:AKR50)","v":1},{"$f":"SUM($F50:AKS50)","v":1},{"$f":"SUM($F50:AKT50)","v":1},{"$f":"SUM($F50:AKU50)","v":1},{"$f":"SUM($F50:AKV50)","v":1},{"$f":"SUM($F50:AKW50)","v":1},{"$f":"SUM($F50:AKX50)","v":1},{"$f":"SUM($F50:AKY50)","v":1},{"$f":"SUM($F50:AKZ50)","v":1},{"$f":"SUM($F50:ALA50)","v":1},{"$f":"SUM($F50:ALB50)","v":1},{"$f":"SUM($F50:ALC50)","v":1},{"$f":"SUM($F50:ALD50)","v":1},{"$f":"SUM($F50:ALE50)","v":1},{"$f":"SUM($F50:ALF50)","v":1},{"$f":"SUM($F50:ALG50)","v":1},{"$f":"SUM($F50:ALH50)","v":1},{"$f":"SUM($F50:ALI50)","v":1},{"$f":"SUM($F50:ALJ50)","v":1},{"$f":"SUM($F50:ALK50)","v":1},{"$f":"SUM($F50:ALL50)","v":1},{"$f":"SUM($F50:ALM50)","v":1},{"$f":"SUM($F50:ALN50)","v":1},{"$f":"SUM($F50:ALO50)","v":1},{"$f":"SUM($F50:ALP50)","v":1},{"$f":"SUM($F50:ALQ50)","v":1}]
[8,{"$error":"#N/A"},{"$error":"#N/A"},0,{"$f":"IF(D56=0,IF(SUM(D57:$D$62)=0,\"\",E57),D56)","v":""}]
[9,{"$error":"#N/A"},{"$error":"#N/A"},0,{"$f":"IF(D57=0,IF(SUM(D58:$D$62)=0,\"\",E58),D57)","v":""}]
[10,{"$error":"#N/A"},{"$error":"#N/A"},0,{"$f":"IF(D58=0,IF(SUM(D59:$D$62)=0,\"\",E59),D58)","v":""},{"$f":"F2","v":" x 2⁴"},{"$f":"F58&G2","v":" x 2⁴ x 3²"},{"$f":"G58&H2","v":" x 2⁴ x 3² x 5"}," x 2⁴ x 3² x 5"," x 2⁴ x 3² x 5"," x 2⁴ x 3² x 5"," x 2⁴ x 3² x 5"," x 2⁴ x 3² x 5"," x 2⁴ x 3² x 5"," x 2⁴ x 3² x 5"," x 2⁴ x 3² x 5"," x 2⁴ x 3² x 5"," x 2⁴ x 3² x 5"," x 2⁴ x 3² x 5"," x 2⁴ x 3² x 5"," x 2⁴ x 3² x 5"," x 2⁴ x 3² x 5"," x 2⁴ x 3² x 5"," x 2⁴ x 3² x 5"," x 2⁴ x 3² x 5"," x 2⁴ x 3² x 5"," x 2⁴ x 3² x 5"," x 2⁴ x 3² x 5"," x 2⁴ x 3² x 5"," x 2⁴ x 3² x 5"," x 2⁴ x 3² x 5"," x 2⁴ x 3² x 5"," x 2⁴ x 3² x 5"," x 2⁴ x 3² x 5"," x 2⁴ x 3² x 5"," x 2⁴ x 3² x 5"," x 2⁴ x 3² x 5"," x 2⁴ x 3² x 5"," x 2⁴ x 3² x 5"," x 2⁴ x 3² x 5"," x 2⁴ x 3² x 5"," x 2⁴ x 3² x 5"," x 2⁴ x 3² x 5"," x 2⁴ x 3² x 5"," x 2⁴ x 3² x 5"," x 2⁴ x 3² x 5"," x 2⁴ x 3² x 5"," x 2⁴ x 3² x 5"," x 2⁴ x 3² x 5"," x 2⁴ x 3² x 5"," x 2⁴ x 3² x 5"," x 2⁴ x 3² x 5"," x 2⁴ x 3² x 5"," x 2⁴ x 3² x 5"," x 2⁴ x 3² x 5"," x 2⁴ x 3² x 5"," x 2⁴ x 3² x 5"," x 2⁴ x 3² x 5"," x 2⁴ x 3² x 5"," x 2⁴ x 3² x 5"," x 2⁴ x 3² x 5"," x 2⁴ x 3² x 5"," x 2⁴ x 3² x 5"," x 2⁴ x 3² x 5"," x 2⁴ x 3² x 5"," x 2⁴ x 3² x 5"," x 2⁴ x 3² x 5"," x 2⁴ x 3² x 5"," x 2⁴ x 3² x 5"," x 2⁴ x 3² x 5"," x 2⁴ x 3² x 5",{"$f":"BS58&BT2","v":" x 2⁴ x 3² x 5"}," x 2⁴ x 3² x 5"," x 2⁴ x 3² x 5"," x 2⁴ x 3² x 5"," x 2⁴ x 3² x 5"," x 2⁴ x 3² x 5"," x 2⁴ x 3² x 5"," x 2⁴ x 3² x 5"," x 2⁴ x 3² x 5"," x 2⁴ x 3² x 5"," x 2⁴ x 3² x 5"," x 2⁴ x 3² x 5"," x 2⁴ x 3² x 5"," x 2⁴ x 3² x 5"," x 2⁴ x 3² x 5"," x 2⁴ x 3² x 5"," x 2⁴ x 3² x 5"," x 2⁴ x 3² x 5"," x 2⁴ x 3² x 5"," x 2⁴ x 3² x 5"," x 2⁴ x 3² x 5"," x 2⁴ x 3² x 5"," x 2⁴ x 3² x 5"," x 2⁴ x 3² x 5"," x 2⁴ x 3² x 5"," x 2⁴ x 3² x 5"," x 2⁴ x 3² x 5"," x 2⁴ x 3² x 5"," x 2⁴ x 3² x 5"," x 2⁴ x 3² x 5"," x 2⁴ x 3² x 5"," x 2⁴ x 3² x 5"," x 2⁴ x 3² x 5"," x 2⁴ x 3² x 5"," x 2⁴ x 3² x 5"," x 2⁴ x 3² x 5"," x 2⁴ x 3² x 5"," x 2⁴ x 3² x 5"," x 2⁴ x 3² x 5"," x 2⁴ x 3² x 5"," x 2⁴ x 3² x 5"," x 2⁴ x 3² x 5"," x 2⁴ x 3² x 5"," x 2⁴ x 3² x 5"," x 2⁴ x 3² x 5"," x 2⁴ x 3² x 5"," x 2⁴ x 3² x 5"," x 2⁴ x 3² x 5"," x 2⁴ x 3² x 5"," x 2⁴ x 3² x 5"," x 2⁴ x 3² x 5"," x 2⁴ x 3² x 5"," x 2⁴ x 3² x 5"," x 2⁴ x 3² x 5"," x 2⁴ x 3² x 5"," x 2⁴ x 3² x 5"," x 2⁴ x 3² x 5"," x 2⁴ x 3² x 5"," x 2⁴ x 3² x 5"," x 2⁴ x 3² x 5"," x 2⁴ x 3² x 5"," x 2⁴ x 3² x 5"," x 2⁴ x 3² x 5"," x 2⁴ x 3² x 5",{"$f":"EE58&EF2","v":" x 2⁴ x 3² x 5"}," x 2⁴ x 3² x 5"," x 2⁴ x 3² x 5"," x 2⁴ x 3² x 5"," x 2⁴ x 3² x 5"," x 2⁴ x 3² x 5"," x 2⁴ x 3² x 5"," x 2⁴ x 3² x 5"," x 2⁴ x 3² x 5"," x 2⁴ x 3² x 5"," x 2⁴ x 3² x 5"," x 2⁴ x 3² x 5"," x 2⁴ x 3² x 5"," x 2⁴ x 3² x 5"," x 2⁴ x 3² x 5"," x 2⁴ x 3² x 5"," x 2⁴ x 3² x 5"," x 2⁴ x 3² x 5"," x 2⁴ x 3² x 5"," x 2⁴ x 3² x 5"," x 2⁴ x 3² x 5"," x 2⁴ x 3² x 5"," x 2⁴ x 3² x 5"," x 2⁴ x 3² x 5"," x 2⁴ x 3² x 5"," x 2⁴ x 3² x 5"," x 2⁴ x 3² x 5"," x 2⁴ x 3² x 5"," x 2⁴ x 3² x 5"," x 2⁴ x 3² x 5"," x 2⁴ x 3² x 5"," x 2⁴ x 3² x 5"," x 2⁴ x 3² x 5"," x 2⁴ x 3² x 5"," x 2⁴ x 3² x 5"," x 2⁴ x 3² x 5"," x 2⁴ x 3² x 5"," x 2⁴ x 3² x 5"," x 2⁴ x 3² x 5"," x 2⁴ x 3² x 5"," x 2⁴ x 3² x 5"," x 2⁴ x 3² x 5"," x 2⁴ x 3² x 5"," x 2⁴ x 3² x 5"," x 2⁴ x 3² x 5"," x 2⁴ x 3² x 5"," x 2⁴ x 3² x 5"," x 2⁴ x 3² x 5"," x 2⁴ x 3² x 5"," x 2⁴ x 3² x 5"," x 2⁴ x 3² x 5"," x 2⁴ x 3² x 5"," x 2⁴ x 3² x 5"," x 2⁴ x 3² x 5"," x 2⁴ x 3² x 5"," x 2⁴ x 3² x 5"," x 2⁴ x 3² x 5"," x 2⁴ x 3² x 5"," x 2⁴ x 3² x 5"," x 2⁴ x 3² x 5"," x 2⁴ x 3² x 5"," x 2⁴ x 3² x 5"," x 2⁴ x 3² x 5"," x 2⁴ x 3² x 5",{"$f":"GQ58&GR2","v":" x 2⁴ x 3² x 5"}," x 2⁴ x 3² x 5"," x 2⁴ x 3² x 5"," x 2⁴ x 3² x 5"," x 2⁴ x 3² x 5"," x 2⁴ x 3² x 5"," x 2⁴ x 3² x 5"," x 2⁴ x 3² x 5"," x 2⁴ x 3² x 5"," x 2⁴ x 3² x 5"," x 2⁴ x 3² x 5"," x 2⁴ x 3² x 5"," x 2⁴ x 3² x 5"," x 2⁴ x 3² x 5"," x 2⁴ x 3² x 5"," x 2⁴ x 3² x 5"," x 2⁴ x 3² x 5"," x 2⁴ x 3² x 5"," x 2⁴ x 3² x 5"," x 2⁴ x 3² x 5"," x 2⁴ x 3² x 5"," x 2⁴ x 3² x 5"," x 2⁴ x 3² x 5"," x 2⁴ x 3² x 5"," x 2⁴ x 3² x 5"," x 2⁴ x 3² x 5"," x 2⁴ x 3² x 5"," x 2⁴ x 3² x 5"," x 2⁴ x 3² x 5"," x 2⁴ x 3² x 5"," x 2⁴ x 3² x 5"," x 2⁴ x 3² x 5"," x 2⁴ x 3² x 5"," x 2⁴ x 3² x 5"," x 2⁴ x 3² x 5"," x 2⁴ x 3² x 5"," x 2⁴ x 3² x 5"," x 2⁴ x 3² x 5"," x 2⁴ x 3² x 5"," x 2⁴ x 3² x 5"," x 2⁴ x 3² x 5"," x 2⁴ x 3² x 5"," x 2⁴ x 3² x 5"," x 2⁴ x 3² x 5"," x 2⁴ x 3² x 5"," x 2⁴ x 3² x 5"," x 2⁴ x 3² x 5"," x 2⁴ x 3² x 5"," x 2⁴ x 3² x 5"," x 2⁴ x 3² x 5"," x 2⁴ x 3² x 5"," x 2⁴ x 3² x 5"," x 2⁴ x 3² x 5"," x 2⁴ x 3² x 5"," x 2⁴ x 3² x 5"," x 2⁴ x 3² x 5"," x 2⁴ x 3² x 5"," x 2⁴ x 3² x 5"," x 2⁴ x 3² x 5"," x 2⁴ x 3² x 5"," x 2⁴ x 3² x 5"," x 2⁴ x 3² x 5"," x 2⁴ x 3² x 5"," x 2⁴ x 3² x 5",{"$f":"JC58&JD2","v":" x 2⁴ x 3² x 5"}," x 2⁴ x 3² x 5"," x 2⁴ x 3² x 5"," x 2⁴ x 3² x 5"," x 2⁴ x 3² x 5"," x 2⁴ x 3² x 5"," x 2⁴ x 3² x 5"," x 2⁴ x 3² x 5"," x 2⁴ x 3² x 5"," x 2⁴ x 3² x 5"," x 2⁴ x 3² x 5"," x 2⁴ x 3² x 5"," x 2⁴ x 3² x 5"," x 2⁴ x 3² x 5"," x 2⁴ x 3² x 5"," x 2⁴ x 3² x 5"," x 2⁴ x 3² x 5"," x 2⁴ x 3² x 5"," x 2⁴ x 3² x 5"," x 2⁴ x 3² x 5"," x 2⁴ x 3² x 5"," x 2⁴ x 3² x 5"," x 2⁴ x 3² x 5"," x 2⁴ x 3² x 5"," x 2⁴ x 3² x 5"," x 2⁴ x 3² x 5"," x 2⁴ x 3² x 5"," x 2⁴ x 3² x 5"," x 2⁴ x 3² x 5"," x 2⁴ x 3² x 5"," x 2⁴ x 3² x 5"," x 2⁴ x 3² x 5"," x 2⁴ x 3² x 5"," x 2⁴ x 3² x 5"," x 2⁴ x 3² x 5"," x 2⁴ x 3² x 5"," x 2⁴ x 3² x 5"," x 2⁴ x 3² x 5"," x 2⁴ x 3² x 5"," x 2⁴ x 3² x 5"," x 2⁴ x 3² x 5"," x 2⁴ x 3² x 5"," x 2⁴ x 3² x 5"," x 2⁴ x 3² x 5"," x 2⁴ x 3² x 5"," x 2⁴ x 3² x 5"," x 2⁴ x 3² x 5"," x 2⁴ x 3² x 5"," x 2⁴ x 3² x 5"," x 2⁴ x 3² x 5"," x 2⁴ x 3² x 5"," x 2⁴ x 3² x 5"," x 2⁴ x 3² x 5"," x 2⁴ x 3² x 5"," x 2⁴ x 3² x 5"," x 2⁴ x 3² x 5"," x 2⁴ x 3² x 5"," x 2⁴ x 3² x 5"," x 2⁴ x 3² x 5"," x 2⁴ x 3² x 5"," x 2⁴ x 3² x 5"," x 2⁴ x 3² x 5"," x 2⁴ x 3² x 5"," x 2⁴ x 3² x 5",{"$f":"LO58&LP2","v":" x 2⁴ x 3² x 5"}," x 2⁴ x 3² x 5"," x 2⁴ x 3² x 5"," x 2⁴ x 3² x 5"," x 2⁴ x 3² x 5"," x 2⁴ x 3² x 5"," x 2⁴ x 3² x 5"," x 2⁴ x 3² x 5"," x 2⁴ x 3² x 5"," x 2⁴ x 3² x 5"," x 2⁴ x 3² x 5"," x 2⁴ x 3² x 5"," x 2⁴ x 3² x 5"," x 2⁴ x 3² x 5"," x 2⁴ x 3² x 5"," x 2⁴ x 3² x 5"," x 2⁴ x 3² x 5"," x 2⁴ x 3² x 5"," x 2⁴ x 3² x 5"," x 2⁴ x 3² x 5"," x 2⁴ x 3² x 5"," x 2⁴ x 3² x 5"," x 2⁴ x 3² x 5"," x 2⁴ x 3² x 5"," x 2⁴ x 3² x 5"," x 2⁴ x 3² x 5"," x 2⁴ x 3² x 5"," x 2⁴ x 3² x 5"," x 2⁴ x 3² x 5"," x 2⁴ x 3² x 5"," x 2⁴ x 3² x 5"," x 2⁴ x 3² x 5"," x 2⁴ x 3² x 5"," x 2⁴ x 3² x 5"," x 2⁴ x 3² x 5"," x 2⁴ x 3² x 5"," x 2⁴ x 3² x 5"," x 2⁴ x 3² x 5"," x 2⁴ x 3² x 5"," x 2⁴ x 3² x 5"," x 2⁴ x 3² x 5"," x 2⁴ x 3² x 5"," x 2⁴ x 3² x 5"," x 2⁴ x 3² x 5"," x 2⁴ x 3² x 5"," x 2⁴ x 3² x 5"," x 2⁴ x 3² x 5"," x 2⁴ x 3² x 5"," x 2⁴ x 3² x 5"," x 2⁴ x 3² x 5"," x 2⁴ x 3² x 5"," x 2⁴ x 3² x 5"," x 2⁴ x 3² x 5"," x 2⁴ x 3² x 5"," x 2⁴ x 3² x 5"," x 2⁴ x 3² x 5"," x 2⁴ x 3² x 5"," x 2⁴ x 3² x 5"," x 2⁴ x 3² x 5"," x 2⁴ x 3² x 5"," x 2⁴ x 3² x 5"," x 2⁴ x 3² x 5"," x 2⁴ x 3² x 5"," x 2⁴ x 3² x 5",{"$f":"OA58&OB2","v":" x 2⁴ x 3² x 5"}," x 2⁴ x 3² x 5"," x 2⁴ x 3² x 5"," x 2⁴ x 3² x 5"," x 2⁴ x 3² x 5"," x 2⁴ x 3² x 5"," x 2⁴ x 3² x 5"," x 2⁴ x 3² x 5"," x 2⁴ x 3² x 5"," x 2⁴ x 3² x 5"," x 2⁴ x 3² x 5"," x 2⁴ x 3² x 5"," x 2⁴ x 3² x 5"," x 2⁴ x 3² x 5"," x 2⁴ x 3² x 5"," x 2⁴ x 3² x 5"," x 2⁴ x 3² x 5"," x 2⁴ x 3² x 5"," x 2⁴ x 3² x 5"," x 2⁴ x 3² x 5"," x 2⁴ x 3² x 5"," x 2⁴ x 3² x 5"," x 2⁴ x 3² x 5"," x 2⁴ x 3² x 5"," x 2⁴ x 3² x 5"," x 2⁴ x 3² x 5"," x 2⁴ x 3² x 5"," x 2⁴ x 3² x 5"," x 2⁴ x 3² x 5"," x 2⁴ x 3² x 5"," x 2⁴ x 3² x 5"," x 2⁴ x 3² x 5"," x 2⁴ x 3² x 5"," x 2⁴ x 3² x 5"," x 2⁴ x 3² x 5"," x 2⁴ x 3² x 5"," x 2⁴ x 3² x 5"," x 2⁴ x 3² x 5"," x 2⁴ x 3² x 5"," x 2⁴ x 3² x 5"," x 2⁴ x 3² x 5"," x 2⁴ x 3² x 5"," x 2⁴ x 3² x 5"," x 2⁴ x 3² x 5"," x 2⁴ x 3² x 5"," x 2⁴ x 3² x 5"," x 2⁴ x 3² x 5"," x 2⁴ x 3² x 5"," x 2⁴ x 3² x 5"," x 2⁴ x 3² x 5"," x 2⁴ x 3² x 5"," x 2⁴ x 3² x 5"," x 2⁴ x 3² x 5"," x 2⁴ x 3² x 5"," x 2⁴ x 3² x 5"," x 2⁴ x 3² x 5"," x 2⁴ x 3² x 5"," x 2⁴ x 3² x 5"," x 2⁴ x 3² x 5"," x 2⁴ x 3² x 5"," x 2⁴ x 3² x 5"," x 2⁴ x 3² x 5"," x 2⁴ x 3² x 5"," x 2⁴ x 3² x 5",{"$f":"QM58&QN2","v":" x 2⁴ x 3² x 5"}," x 2⁴ x 3² x 5"," x 2⁴ x 3² x 5"," x 2⁴ x 3² x 5"," x 2⁴ x 3² x 5"," x 2⁴ x 3² x 5"," x 2⁴ x 3² x 5"," x 2⁴ x 3² x 5"," x 2⁴ x 3² x 5"," x 2⁴ x 3² x 5"," x 2⁴ x 3² x 5"," x 2⁴ x 3² x 5"," x 2⁴ x 3² x 5"," x 2⁴ x 3² x 5"," x 2⁴ x 3² x 5"," x 2⁴ x 3² x 5"," x 2⁴ x 3² x 5"," x 2⁴ x 3² x 5"," x 2⁴ x 3² x 5"," x 2⁴ x 3² x 5"," x 2⁴ x 3² x 5"," x 2⁴ x 3² x 5"," x 2⁴ x 3² x 5"," x 2⁴ x 3² x 5"," x 2⁴ x 3² x 5"," x 2⁴ x 3² x 5"," x 2⁴ x 3² x 5"," x 2⁴ x 3² x 5"," x 2⁴ x 3² x 5"," x 2⁴ x 3² x 5"," x 2⁴ x 3² x 5"," x 2⁴ x 3² x 5"," x 2⁴ x 3² x 5"," x 2⁴ x 3² x 5"," x 2⁴ x 3² x 5"," x 2⁴ x 3² x 5"," x 2⁴ x 3² x 5"," x 2⁴ x 3² x 5"," x 2⁴ x 3² x 5"," x 2⁴ x 3² x 5"," x 2⁴ x 3² x 5"," x 2⁴ x 3² x 5"," x 2⁴ x 3² x 5"," x 2⁴ x 3² x 5"," x 2⁴ x 3² x 5"," x 2⁴ x 3² x 5"," x 2⁴ x 3² x 5"," x 2⁴ x 3² x 5"," x 2⁴ x 3² x 5"," x 2⁴ x 3² x 5"," x 2⁴ x 3² x 5"," x 2⁴ x 3² x 5"," x 2⁴ x 3² x 5"," x 2⁴ x 3² x 5"," x 2⁴ x 3² x 5"," x 2⁴ x 3² x 5"," x 2⁴ x 3² x 5"," x 2⁴ x 3² x 5"," x 2⁴ x 3² x 5"," x 2⁴ x 3² x 5"," x 2⁴ x 3² x 5"," x 2⁴ x 3² x 5"," x 2⁴ x 3² x 5"," x 2⁴ x 3² x 5",{"$f":"SY58&SZ2","v":" x 2⁴ x 3² x 5"}," x 2⁴ x 3² x 5"," x 2⁴ x 3² x 5"," x 2⁴ x 3² x 5"," x 2⁴ x 3² x 5"," x 2⁴ x 3² x 5"," x 2⁴ x 3² x 5"," x 2⁴ x 3² x 5"," x 2⁴ x 3² x 5"," x 2⁴ x 3² x 5"," x 2⁴ x 3² x 5"," x 2⁴ x 3² x 5"," x 2⁴ x 3² x 5"," x 2⁴ x 3² x 5"," x 2⁴ x 3² x 5"," x 2⁴ x 3² x 5"," x 2⁴ x 3² x 5"," x 2⁴ x 3² x 5"," x 2⁴ x 3² x 5"," x 2⁴ x 3² x 5"," x 2⁴ x 3² x 5"," x 2⁴ x 3² x 5"," x 2⁴ x 3² x 5"," x 2⁴ x 3² x 5"," x 2⁴ x 3² x 5"," x 2⁴ x 3² x 5"," x 2⁴ x 3² x 5"," x 2⁴ x 3² x 5"," x 2⁴ x 3² x 5"," x 2⁴ x 3² x 5"," x 2⁴ x 3² x 5"," x 2⁴ x 3² x 5"," x 2⁴ x 3² x 5"," x 2⁴ x 3² x 5"," x 2⁴ x 3² x 5"," x 2⁴ x 3² x 5"," x 2⁴ x 3² x 5"," x 2⁴ x 3² x 5"," x 2⁴ x 3² x 5"," x 2⁴ x 3² x 5"," x 2⁴ x 3² x 5"," x 2⁴ x 3² x 5"," x 2⁴ x 3² x 5"," x 2⁴ x 3² x 5"," x 2⁴ x 3² x 5"," x 2⁴ x 3² x 5"," x 2⁴ x 3² x 5"," x 2⁴ x 3² x 5"," x 2⁴ x 3² x 5"," x 2⁴ x 3² x 5"," x 2⁴ x 3² x 5"," x 2⁴ x 3² x 5"," x 2⁴ x 3² x 5"," x 2⁴ x 3² x 5"," x 2⁴ x 3² x 5"," x 2⁴ x 3² x 5"," x 2⁴ x 3² x 5"," x 2⁴ x 3² x 5"," x 2⁴ x 3² x 5"," x 2⁴ x 3² x 5"," x 2⁴ x 3² x 5"," x 2⁴ x 3² x 5"," x 2⁴ x 3² x 5"," x 2⁴ x 3² x 5",{"$f":"VK58&VL2","v":" x 2⁴ x 3² x 5"}," x 2⁴ x 3² x 5"," x 2⁴ x 3² x 5"," x 2⁴ x 3² x 5"," x 2⁴ x 3² x 5"," x 2⁴ x 3² x 5"," x 2⁴ x 3² x 5"," x 2⁴ x 3² x 5"," x 2⁴ x 3² x 5"," x 2⁴ x 3² x 5"," x 2⁴ x 3² x 5"," x 2⁴ x 3² x 5"," x 2⁴ x 3² x 5"," x 2⁴ x 3² x 5"," x 2⁴ x 3² x 5"," x 2⁴ x 3² x 5"," x 2⁴ x 3² x 5"," x 2⁴ x 3² x 5"," x 2⁴ x 3² x 5"," x 2⁴ x 3² x 5"," x 2⁴ x 3² x 5"," x 2⁴ x 3² x 5"," x 2⁴ x 3² x 5"," x 2⁴ x 3² x 5"," x 2⁴ x 3² x 5"," x 2⁴ x 3² x 5"," x 2⁴ x 3² x 5"," x 2⁴ x 3² x 5"," x 2⁴ x 3² x 5"," x 2⁴ x 3² x 5"," x 2⁴ x 3² x 5"," x 2⁴ x 3² x 5"," x 2⁴ x 3² x 5"," x 2⁴ x 3² x 5"," x 2⁴ x 3² x 5"," x 2⁴ x 3² x 5"," x 2⁴ x 3² x 5"," x 2⁴ x 3² x 5"," x 2⁴ x 3² x 5"," x 2⁴ x 3² x 5"," x 2⁴ x 3² x 5"," x 2⁴ x 3² x 5"," x 2⁴ x 3² x 5"," x 2⁴ x 3² x 5"," x 2⁴ x 3² x 5"," x 2⁴ x 3² x 5"," x 2⁴ x 3² x 5"," x 2⁴ x 3² x 5"," x 2⁴ x 3² x 5"," x 2⁴ x 3² x 5"," x 2⁴ x 3² x 5"," x 2⁴ x 3² x 5"," x 2⁴ x 3² x 5"," x 2⁴ x 3² x 5"," x 2⁴ x 3² x 5"," x 2⁴ x 3² x 5"," x 2⁴ x 3² x 5"," x 2⁴ x 3² x 5"," x 2⁴ x 3² x 5"," x 2⁴ x 3² x 5"," x 2⁴ x 3² x 5"," x 2⁴ x 3² x 5"," x 2⁴ x 3² x 5"," x 2⁴ x 3² x 5",{"$f":"XW58&XX2","v":" x 2⁴ x 3² x 5"}," x 2⁴ x 3² x 5"," x 2⁴ x 3² x 5"," x 2⁴ x 3² x 5"," x 2⁴ x 3² x 5"," x 2⁴ x 3² x 5"," x 2⁴ x 3² x 5"," x 2⁴ x 3² x 5"," x 2⁴ x 3² x 5"," x 2⁴ x 3² x 5"," x 2⁴ x 3² x 5"," x 2⁴ x 3² x 5"," x 2⁴ x 3² x 5"," x 2⁴ x 3² x 5"," x 2⁴ x 3² x 5"," x 2⁴ x 3² x 5"," x 2⁴ x 3² x 5"," x 2⁴ x 3² x 5"," x 2⁴ x 3² x 5"," x 2⁴ x 3² x 5"," x 2⁴ x 3² x 5"," x 2⁴ x 3² x 5"," x 2⁴ x 3² x 5"," x 2⁴ x 3² x 5"," x 2⁴ x 3² x 5"," x 2⁴ x 3² x 5"," x 2⁴ x 3² x 5"," x 2⁴ x 3² x 5"," x 2⁴ x 3² x 5"," x 2⁴ x 3² x 5"," x 2⁴ x 3² x 5"," x 2⁴ x 3² x 5"," x 2⁴ x 3² x 5"," x 2⁴ x 3² x 5"," x 2⁴ x 3² x 5"," x 2⁴ x 3² x 5"," x 2⁴ x 3² x 5"," x 2⁴ x 3² x 5"," x 2⁴ x 3² x 5"," x 2⁴ x 3² x 5"," x 2⁴ x 3² x 5"," x 2⁴ x 3² x 5"," x 2⁴ x 3² x 5"," x 2⁴ x 3² x 5"," x 2⁴ x 3² x 5"," x 2⁴ x 3² x 5"," x 2⁴ x 3² x 5"," x 2⁴ x 3² x 5"," x 2⁴ x 3² x 5"," x 2⁴ x 3² x 5"," x 2⁴ x 3² x 5"," x 2⁴ x 3² x 5"," x 2⁴ x 3² x 5"," x 2⁴ x 3² x 5"," x 2⁴ x 3² x 5"," x 2⁴ x 3² x 5"," x 2⁴ x 3² x 5"," x 2⁴ x 3² x 5"," x 2⁴ x 3² x 5"," x 2⁴ x 3² x 5"," x 2⁴ x 3² x 5"," x 2⁴ x 3² x 5"," x 2⁴ x 3² x 5"," x 2⁴ x 3² x 5",{"$f":"AAI58&AAJ2","v":" x 2⁴ x 3² x 5"}," x 2⁴ x 3² x 5"," x 2⁴ x 3² x 5"," x 2⁴ x 3² x 5"," x 2⁴ x 3² x 5"," x 2⁴ x 3² x 5"," x 2⁴ x 3² x 5"," x 2⁴ x 3² x 5"," x 2⁴ x 3² x 5"," x 2⁴ x 3² x 5"," x 2⁴ x 3² x 5"," x 2⁴ x 3² x 5"," x 2⁴ x 3² x 5"," x 2⁴ x 3² x 5"," x 2⁴ x 3² x 5"," x 2⁴ x 3² x 5"," x 2⁴ x 3² x 5"," x 2⁴ x 3² x 5"," x 2⁴ x 3² x 5"," x 2⁴ x 3² x 5"," x 2⁴ x 3² x 5"," x 2⁴ x 3² x 5"," x 2⁴ x 3² x 5"," x 2⁴ x 3² x 5"," x 2⁴ x 3² x 5"," x 2⁴ x 3² x 5"," x 2⁴ x 3² x 5"," x 2⁴ x 3² x 5"," x 2⁴ x 3² x 5"," x 2⁴ x 3² x 5"," x 2⁴ x 3² x 5"," x 2⁴ x 3² x 5"," x 2⁴ x 3² x 5"," x 2⁴ x 3² x 5"," x 2⁴ x 3² x 5"," x 2⁴ x 3² x 5"," x 2⁴ x 3² x 5"," x 2⁴ x 3² x 5"," x 2⁴ x 3² x 5"," x 2⁴ x 3² x 5"," x 2⁴ x 3² x 5"," x 2⁴ x 3² x 5"," x 2⁴ x 3² x 5"," x 2⁴ x 3² x 5"," x 2⁴ x 3² x 5"," x 2⁴ x 3² x 5"," x 2⁴ x 3² x 5"," x 2⁴ x 3² x 5"," x 2⁴ x 3² x 5"," x 2⁴ x 3² x 5"," x 2⁴ x 3² x 5"," x 2⁴ x 3² x 5"," x 2⁴ x 3² x 5"," x 2⁴ x 3² x 5"," x 2⁴ x 3² x 5"," x 2⁴ x 3² x 5"," x 2⁴ x 3² x 5"," x 2⁴ x 3² x 5"," x 2⁴ x 3² x 5"," x 2⁴ x 3² x 5"," x 2⁴ x 3² x 5"," x 2⁴ x 3² x 5"," x 2⁴ x 3² x 5"," x 2⁴ x 3² x 5",{"$f":"ACU58&ACV2","v":" x 2⁴ x 3² x 5"}," x 2⁴ x 3² x 5"," x 2⁴ x 3² x 5"," x 2⁴ x 3² x 5"," x 2⁴ x 3² x 5"," x 2⁴ x 3² x 5"," x 2⁴ x 3² x 5"," x 2⁴ x 3² x 5"," x 2⁴ x 3² x 5"," x 2⁴ x 3² x 5"," x 2⁴ x 3² x 5"," x 2⁴ x 3² x 5"," x 2⁴ x 3² x 5"," x 2⁴ x 3² x 5"," x 2⁴ x 3² x 5"," x 2⁴ x 3² x 5"," x 2⁴ x 3² x 5"," x 2⁴ x 3² x 5"," x 2⁴ x 3² x 5"," x 2⁴ x 3² x 5"," x 2⁴ x 3² x 5"," x 2⁴ x 3² x 5"," x 2⁴ x 3² x 5"," x 2⁴ x 3² x 5"," x 2⁴ x 3² x 5"," x 2⁴ x 3² x 5"," x 2⁴ x 3² x 5"," x 2⁴ x 3² x 5"," x 2⁴ x 3² x 5"," x 2⁴ x 3² x 5"," x 2⁴ x 3² x 5"," x 2⁴ x 3² x 5"," x 2⁴ x 3² x 5"," x 2⁴ x 3² x 5"," x 2⁴ x 3² x 5"," x 2⁴ x 3² x 5"," x 2⁴ x 3² x 5"," x 2⁴ x 3² x 5"," x 2⁴ x 3² x 5"," x 2⁴ x 3² x 5"," x 2⁴ x 3² x 5"," x 2⁴ x 3² x 5"," x 2⁴ x 3² x 5"," x 2⁴ x 3² x 5"," x 2⁴ x 3² x 5"," x 2⁴ x 3² x 5"," x 2⁴ x 3² x 5"," x 2⁴ x 3² x 5"," x 2⁴ x 3² x 5"," x 2⁴ x 3² x 5"," x 2⁴ x 3² x 5"," x 2⁴ x 3² x 5"," x 2⁴ x 3² x 5"," x 2⁴ x 3² x 5"," x 2⁴ x 3² x 5"," x 2⁴ x 3² x 5"," x 2⁴ x 3² x 5"," x 2⁴ x 3² x 5"," x 2⁴ x 3² x 5"," x 2⁴ x 3² x 5"," x 2⁴ x 3² x 5"," x 2⁴ x 3² x 5"," x 2⁴ x 3² x 5"," x 2⁴ x 3² x 5",{"$f":"AFG58&AFH2","v":" x 2⁴ x 3² x 5"}," x 2⁴ x 3² x 5"," x 2⁴ x 3² x 5"," x 2⁴ x 3² x 5"," x 2⁴ x 3² x 5"," x 2⁴ x 3² x 5"," x 2⁴ x 3² x 5"," x 2⁴ x 3² x 5"," x 2⁴ x 3² x 5"," x 2⁴ x 3² x 5"," x 2⁴ x 3² x 5"," x 2⁴ x 3² x 5"," x 2⁴ x 3² x 5"," x 2⁴ x 3² x 5"," x 2⁴ x 3² x 5"," x 2⁴ x 3² x 5"," x 2⁴ x 3² x 5"," x 2⁴ x 3² x 5"," x 2⁴ x 3² x 5"," x 2⁴ x 3² x 5"," x 2⁴ x 3² x 5"," x 2⁴ x 3² x 5"," x 2⁴ x 3² x 5"," x 2⁴ x 3² x 5"," x 2⁴ x 3² x 5"," x 2⁴ x 3² x 5"," x 2⁴ x 3² x 5"," x 2⁴ x 3² x 5"," x 2⁴ x 3² x 5"," x 2⁴ x 3² x 5"," x 2⁴ x 3² x 5"," x 2⁴ x 3² x 5"," x 2⁴ x 3² x 5"," x 2⁴ x 3² x 5"," x 2⁴ x 3² x 5"," x 2⁴ x 3² x 5"," x 2⁴ x 3² x 5"," x 2⁴ x 3² x 5"," x 2⁴ x 3² x 5"," x 2⁴ x 3² x 5"," x 2⁴ x 3² x 5"," x 2⁴ x 3² x 5"," x 2⁴ x 3² x 5"," x 2⁴ x 3² x 5"," x 2⁴ x 3² x 5"," x 2⁴ x 3² x 5"," x 2⁴ x 3² x 5"," x 2⁴ x 3² x 5"," x 2⁴ x 3² x 5"," x 2⁴ x 3² x 5"," x 2⁴ x 3² x 5"," x 2⁴ x 3² x 5"," x 2⁴ x 3² x 5"," x 2⁴ x 3² x 5"," x 2⁴ x 3² x 5"," x 2⁴ x 3² x 5"," x 2⁴ x 3² x 5"," x 2⁴ x 3² x 5"," x 2⁴ x 3² x 5"," x 2⁴ x 3² x 5"," x 2⁴ x 3² x 5"," x 2⁴ x 3² x 5"," x 2⁴ x 3² x 5"," x 2⁴ x 3² x 5",{"$f":"AHS58&AHT2","v":" x 2⁴ x 3² x 5"}," x 2⁴ x 3² x 5"," x 2⁴ x 3² x 5"," x 2⁴ x 3² x 5"," x 2⁴ x 3² x 5"," x 2⁴ x 3² x 5"," x 2⁴ x 3² x 5"," x 2⁴ x 3² x 5"," x 2⁴ x 3² x 5"," x 2⁴ x 3² x 5"," x 2⁴ x 3² x 5"," x 2⁴ x 3² x 5"," x 2⁴ x 3² x 5"," x 2⁴ x 3² x 5"," x 2⁴ x 3² x 5"," x 2⁴ x 3² x 5"," x 2⁴ x 3² x 5"," x 2⁴ x 3² x 5"," x 2⁴ x 3² x 5"," x 2⁴ x 3² x 5"," x 2⁴ x 3² x 5"," x 2⁴ x 3² x 5"," x 2⁴ x 3² x 5"," x 2⁴ x 3² x 5"," x 2⁴ x 3² x 5"," x 2⁴ x 3² x 5"," x 2⁴ x 3² x 5"," x 2⁴ x 3² x 5"," x 2⁴ x 3² x 5"," x 2⁴ x 3² x 5"," x 2⁴ x 3² x 5"," x 2⁴ x 3² x 5"," x 2⁴ x 3² x 5"," x 2⁴ x 3² x 5"," x 2⁴ x 3² x 5"," x 2⁴ x 3² x 5"," x 2⁴ x 3² x 5"," x 2⁴ x 3² x 5"," x 2⁴ x 3² x 5"," x 2⁴ x 3² x 5"," x 2⁴ x 3² x 5"," x 2⁴ x 3² x 5"," x 2⁴ x 3² x 5"," x 2⁴ x 3² x 5"," x 2⁴ x 3² x 5"," x 2⁴ x 3² x 5"," x 2⁴ x 3² x 5"," x 2⁴ x 3² x 5"," x 2⁴ x 3² x 5"," x 2⁴ x 3² x 5"," x 2⁴ x 3² x 5"," x 2⁴ x 3² x 5"," x 2⁴ x 3² x 5"," x 2⁴ x 3² x 5"," x 2⁴ x 3² x 5"," x 2⁴ x 3² x 5"," x 2⁴ x 3² x 5"," x 2⁴ x 3² x 5"," x 2⁴ x 3² x 5"," x 2⁴ x 3² x 5"," x 2⁴ x 3² x 5"," x 2⁴ x 3² x 5"," x 2⁴ x 3² x 5"," x 2⁴ x 3² x 5",{"$f":"AKE58&AKF2","v":" x 2⁴ x 3² x 5"}," x 2⁴ x 3² x 5"," x 2⁴ x 3² x 5"," x 2⁴ x 3² x 5"," x 2⁴ x 3² x 5"," x 2⁴ x 3² x 5"," x 2⁴ x 3² x 5"," x 2⁴ x 3² x 5"," x 2⁴ x 3² x 5"," x 2⁴ x 3² x 5"," x 2⁴ x 3² x 5"," x 2⁴ x 3² x 5"," x 2⁴ x 3² x 5"," x 2⁴ x 3² x 5"," x 2⁴ x 3² x 5"," x 2⁴ x 3² x 5"," x 2⁴ x 3² x 5"," x 2⁴ x 3² x 5"," x 2⁴ x 3² x 5"," x 2⁴ x 3² x 5"," x 2⁴ x 3² x 5"," x 2⁴ x 3² x 5"," x 2⁴ x 3² x 5"," x 2⁴ x 3² x 5"," x 2⁴ x 3² x 5"," x 2⁴ x 3² x 5"," x 2⁴ x 3² x 5"," x 2⁴ x 3² x 5"," x 2⁴ x 3² x 5"," x 2⁴ x 3² x 5"," x 2⁴ x 3² x 5"," x 2⁴ x 3² x 5"," x 2⁴ x 3² x 5"," x 2⁴ x 3² x 5"," x 2⁴ x 3² x 5"," x 2⁴ x 3² x 5"," x 2⁴ x 3² x 5"," x 2⁴ x 3² x 5"]
[11,{"$error":"#N/A"},{"$error":"#N/A"},0,{"$f":"IF(D59=0,IF(SUM(D60:$D$62)=0,\"\",E60),D59)","v":""},{"$f":"RIGHT(ALQ58,LEN(ALQ58)-3)","v":"2⁴ x 3² x 5"}]
[12,{"$error":"#N/A"},{"$error":"#N/A"},0,{"$f":"IF(D60=0,IF(SUM(D61:$D$62)=0,\"\",E61),D60)","v":""},{"$f":"F25","v":" x 2³"},{"$f":"F60&G25","v":" x 2³ x 3"}," x 2³ x 3"," x 2³ x 3 x 7"," x 2³ x 3 x 7"," x 2³ x 3 x 7"," x 2³ x 3 x 7"," x 2³ x 3 x 7"," x 2³ x 3 x 7"," x 2³ x 3 x 7"," x 2³ x 3 x 7"," x 2³ x 3 x 7"," x 2³ x 3 x 7"," x 2³ x 3 x 7"," x 2³ x 3 x 7"," x 2³ x 3 x 7"," x 2³ x 3 x 7"," x 2³ x 3 x 7"," x 2³ x 3 x 7"," x 2³ x 3 x 7"," x 2³ x 3 x 7"," x 2³ x 3 x 7"," x 2³ x 3 x 7"," x 2³ x 3 x 7"," x 2³ x 3 x 7"," x 2³ x 3 x 7"," x 2³ x 3 x 7"," x 2³ x 3 x 7"," x 2³ x 3 x 7"," x 2³ x 3 x 7"," x 2³ x 3 x 7"," x 2³ x 3 x 7"," x 2³ x 3 x 7"," x 2³ x 3 x 7"," x 2³ x 3 x 7"," x 2³ x 3 x 7"," x 2³ x 3 x 7"," x 2³ x 3 x 7"," x 2³ x 3 x 7"," x 2³ x 3 x 7"," x 2³ x 3 x 7"," x 2³ x 3 x 7"," x 2³ x 3 x 7"," x 2³ x 3 x 7"," x 2³ x 3 x 7"," x 2³ x 3 x 7"," x 2³ x 3 x 7"," x 2³ x 3 x 7"," x 2³ x 3 x 7"," x 2³ x 3 x 7"," x 2³ x 3 x 7"," x 2³ x 3 x 7"," x 2³ x 3 x 7"," x 2³ x 3 x 7"," x 2³ x 3 x 7"," x 2³ x 3 x 7"," x 2³ x 3 x 7"," x 2³ x 3 x 7"," x 2³ x 3 x 7"," x 2³ x 3 x 7"," x 2³ x 3 x 7"," x 2³ x 3 x 7"," x 2³ x 3 x 7"," x 2³ x 3 x 7"," x 2³ x 3 x 7",{"$f":"BR60&BS25","v":" x 2³ x 3 x 7"}," x 2³ x 3 x 7"," x 2³ x 3 x 7"," x 2³ x 3 x 7"," x 2³ x 3 x 7"," x 2³ x 3 x 7"," x 2³ x 3 x 7"," x 2³ x 3 x 7"," x 2³ x 3 x 7"," x 2³ x 3 x 7"," x 2³ x 3 x 7"," x 2³ x 3 x 7"," x 2³ x 3 x 7"," x 2³ x 3 x 7"," x 2³ x 3 x 7"," x 2³ x 3 x 7"," x 2³ x 3 x 7"," x 2³ x 3 x 7"," x 2³ x 3 x 7"," x 2³ x 3 x 7"," x 2³ x 3 x 7"," x 2³ x 3 x 7"," x 2³ x 3 x 7"," x 2³ x 3 x 7"," x 2³ x 3 x 7"," x 2³ x 3 x 7"," x 2³ x 3 x 7"," x 2³ x 3 x 7"," x 2³ x 3 x 7"," x 2³ x 3 x 7"," x 2³ x 3 x 7"," x 2³ x 3 x 7"," x 2³ x 3 x 7"," x 2³ x 3 x 7"," x 2³ x 3 x 7"," x 2³ x 3 x 7"," x 2³ x 3 x 7"," x 2³ x 3 x 7"," x 2³ x 3 x 7"," x 2³ x 3 x 7"," x 2³ x 3 x 7"," x 2³ x 3 x 7"," x 2³ x 3 x 7"," x 2³ x 3 x 7"," x 2³ x 3 x 7"," x 2³ x 3 x 7"," x 2³ x 3 x 7"," x 2³ x 3 x 7"," x 2³ x 3 x 7"," x 2³ x 3 x 7"," x 2³ x 3 x 7"," x 2³ x 3 x 7"," x 2³ x 3 x 7"," x 2³ x 3 x 7"," x 2³ x 3 x 7"," x 2³ x 3 x 7"," x 2³ x 3 x 7"," x 2³ x 3 x 7"," x 2³ x 3 x 7"," x 2³ x 3 x 7"," x 2³ x 3 x 7"," x 2³ x 3 x 7"," x 2³ x 3 x 7"," x 2³ x 3 x 7",{"$f":"ED60&EE25","v":" x 2³ x 3 x 7"}," x 2³ x 3 x 7"," x 2³ x 3 x 7"," x 2³ x 3 x 7"," x 2³ x 3 x 7"," x 2³ x 3 x 7"," x 2³ x 3 x 7"," x 2³ x 3 x 7"," x 2³ x 3 x 7"," x 2³ x 3 x 7"," x 2³ x 3 x 7"," x 2³ x 3 x 7"," x 2³ x 3 x 7"," x 2³ x 3 x 7"," x 2³ x 3 x 7"," x 2³ x 3 x 7"," x 2³ x 3 x 7"," x 2³ x 3 x 7"," x 2³ x 3 x 7"," x 2³ x 3 x 7"," x 2³ x 3 x 7"," x 2³ x 3 x 7"," x 2³ x 3 x 7"," x 2³ x 3 x 7"," x 2³ x 3 x 7"," x 2³ x 3 x 7"," x 2³ x 3 x 7"," x 2³ x 3 x 7"," x 2³ x 3 x 7"," x 2³ x 3 x 7"," x 2³ x 3 x 7"," x 2³ x 3 x 7"," x 2³ x 3 x 7"," x 2³ x 3 x 7"," x 2³ x 3 x 7"," x 2³ x 3 x 7"," x 2³ x 3 x 7"," x 2³ x 3 x 7"," x 2³ x 3 x 7"," x 2³ x 3 x 7"," x 2³ x 3 x 7"," x 2³ x 3 x 7"," x 2³ x 3 x 7"," x 2³ x 3 x 7"," x 2³ x 3 x 7"," x 2³ x 3 x 7"," x 2³ x 3 x 7"," x 2³ x 3 x 7"," x 2³ x 3 x 7"," x 2³ x 3 x 7"," x 2³ x 3 x 7"," x 2³ x 3 x 7"," x 2³ x 3 x 7"," x 2³ x 3 x 7"," x 2³ x 3 x 7"," x 2³ x 3 x 7"," x 2³ x 3 x 7"," x 2³ x 3 x 7"," x 2³ x 3 x 7"," x 2³ x 3 x 7"," x 2³ x 3 x 7"," x 2³ x 3 x 7"," x 2³ x 3 x 7"," x 2³ x 3 x 7",{"$f":"GP60&GQ25","v":" x 2³ x 3 x 7"}," x 2³ x 3 x 7"," x 2³ x 3 x 7"," x 2³ x 3 x 7"," x 2³ x 3 x 7"," x 2³ x 3 x 7"," x 2³ x 3 x 7"," x 2³ x 3 x 7"," x 2³ x 3 x 7"," x 2³ x 3 x 7"," x 2³ x 3 x 7"," x 2³ x 3 x 7"," x 2³ x 3 x 7"," x 2³ x 3 x 7"," x 2³ x 3 x 7"," x 2³ x 3 x 7"," x 2³ x 3 x 7"," x 2³ x 3 x 7"," x 2³ x 3 x 7"," x 2³ x 3 x 7"," x 2³ x 3 x 7"," x 2³ x 3 x 7"," x 2³ x 3 x 7"," x 2³ x 3 x 7"," x 2³ x 3 x 7"," x 2³ x 3 x 7"," x 2³ x 3 x 7"," x 2³ x 3 x 7"," x 2³ x 3 x 7"," x 2³ x 3 x 7"," x 2³ x 3 x 7"," x 2³ x 3 x 7"," x 2³ x 3 x 7"," x 2³ x 3 x 7"," x 2³ x 3 x 7"," x 2³ x 3 x 7"," x 2³ x 3 x 7"," x 2³ x 3 x 7"," x 2³ x 3 x 7"," x 2³ x 3 x 7"," x 2³ x 3 x 7"," x 2³ x 3 x 7"," x 2³ x 3 x 7"," x 2³ x 3 x 7"," x 2³ x 3 x 7"," x 2³ x 3 x 7"," x 2³ x 3 x 7"," x 2³ x 3 x 7"," x 2³ x 3 x 7"," x 2³ x 3 x 7"," x 2³ x 3 x 7"," x 2³ x 3 x 7"," x 2³ x 3 x 7"," x 2³ x 3 x 7"," x 2³ x 3 x 7"," x 2³ x 3 x 7"," x 2³ x 3 x 7"," x 2³ x 3 x 7"," x 2³ x 3 x 7"," x 2³ x 3 x 7"," x 2³ x 3 x 7"," x 2³ x 3 x 7"," x 2³ x 3 x 7"," x 2³ x 3 x 7",{"$f":"JB60&JC25","v":" x 2³ x 3 x 7"}," x 2³ x 3 x 7"," x 2³ x 3 x 7"," x 2³ x 3 x 7"," x 2³ x 3 x 7"," x 2³ x 3 x 7"," x 2³ x 3 x 7"," x 2³ x 3 x 7"," x 2³ x 3 x 7"," x 2³ x 3 x 7"," x 2³ x 3 x 7"," x 2³ x 3 x 7"," x 2³ x 3 x 7"," x 2³ x 3 x 7"," x 2³ x 3 x 7"," x 2³ x 3 x 7"," x 2³ x 3 x 7"," x 2³ x 3 x 7"," x 2³ x 3 x 7"," x 2³ x 3 x 7"," x 2³ x 3 x 7"," x 2³ x 3 x 7"," x 2³ x 3 x 7"," x 2³ x 3 x 7"," x 2³ x 3 x 7"," x 2³ x 3 x 7"," x 2³ x 3 x 7"," x 2³ x 3 x 7"," x 2³ x 3 x 7"," x 2³ x 3 x 7"," x 2³ x 3 x 7"," x 2³ x 3 x 7"," x 2³ x 3 x 7"," x 2³ x 3 x 7"," x 2³ x 3 x 7"," x 2³ x 3 x 7"," x 2³ x 3 x 7"," x 2³ x 3 x 7"," x 2³ x 3 x 7"," x 2³ x 3 x 7"," x 2³ x 3 x 7"," x 2³ x 3 x 7"," x 2³ x 3 x 7"," x 2³ x 3 x 7"," x 2³ x 3 x 7"," x 2³ x 3 x 7"," x 2³ x 3 x 7"," x 2³ x 3 x 7"," x 2³ x 3 x 7"," x 2³ x 3 x 7"," x 2³ x 3 x 7"," x 2³ x 3 x 7"," x 2³ x 3 x 7"," x 2³ x 3 x 7"," x 2³ x 3 x 7"," x 2³ x 3 x 7"," x 2³ x 3 x 7"," x 2³ x 3 x 7"," x 2³ x 3 x 7"," x 2³ x 3 x 7"," x 2³ x 3 x 7"," x 2³ x 3 x 7"," x 2³ x 3 x 7"," x 2³ x 3 x 7",{"$f":"LN60&LO25","v":" x 2³ x 3 x 7"}," x 2³ x 3 x 7"," x 2³ x 3 x 7"," x 2³ x 3 x 7"," x 2³ x 3 x 7"," x 2³ x 3 x 7"," x 2³ x 3 x 7"," x 2³ x 3 x 7"," x 2³ x 3 x 7"," x 2³ x 3 x 7"," x 2³ x 3 x 7"," x 2³ x 3 x 7"," x 2³ x 3 x 7"," x 2³ x 3 x 7"," x 2³ x 3 x 7"," x 2³ x 3 x 7"," x 2³ x 3 x 7"," x 2³ x 3 x 7"," x 2³ x 3 x 7"," x 2³ x 3 x 7"," x 2³ x 3 x 7"," x 2³ x 3 x 7"," x 2³ x 3 x 7"," x 2³ x 3 x 7"," x 2³ x 3 x 7"," x 2³ x 3 x 7"," x 2³ x 3 x 7"," x 2³ x 3 x 7"," x 2³ x 3 x 7"," x 2³ x 3 x 7"," x 2³ x 3 x 7"," x 2³ x 3 x 7"," x 2³ x 3 x 7"," x 2³ x 3 x 7"," x 2³ x 3 x 7"," x 2³ x 3 x 7"," x 2³ x 3 x 7"," x 2³ x 3 x 7"," x 2³ x 3 x 7"," x 2³ x 3 x 7"," x 2³ x 3 x 7"," x 2³ x 3 x 7"," x 2³ x 3 x 7"," x 2³ x 3 x 7"," x 2³ x 3 x 7"," x 2³ x 3 x 7"," x 2³ x 3 x 7"," x 2³ x 3 x 7"," x 2³ x 3 x 7"," x 2³ x 3 x 7"," x 2³ x 3 x 7"," x 2³ x 3 x 7"," x 2³ x 3 x 7"," x 2³ x 3 x 7"," x 2³ x 3 x 7"," x 2³ x 3 x 7"," x 2³ x 3 x 7"," x 2³ x 3 x 7"," x 2³ x 3 x 7"," x 2³ x 3 x 7"," x 2³ x 3 x 7"," x 2³ x 3 x 7"," x 2³ x 3 x 7"," x 2³ x 3 x 7",{"$f":"NZ60&OA25","v":" x 2³ x 3 x 7"}," x 2³ x 3 x 7"," x 2³ x 3 x 7"," x 2³ x 3 x 7"," x 2³ x 3 x 7"," x 2³ x 3 x 7"," x 2³ x 3 x 7"," x 2³ x 3 x 7"," x 2³ x 3 x 7"," x 2³ x 3 x 7"," x 2³ x 3 x 7"," x 2³ x 3 x 7"," x 2³ x 3 x 7"," x 2³ x 3 x 7"," x 2³ x 3 x 7"," x 2³ x 3 x 7"," x 2³ x 3 x 7"," x 2³ x 3 x 7"," x 2³ x 3 x 7"," x 2³ x 3 x 7"," x 2³ x 3 x 7"," x 2³ x 3 x 7"," x 2³ x 3 x 7"," x 2³ x 3 x 7"," x 2³ x 3 x 7"," x 2³ x 3 x 7"," x 2³ x 3 x 7"," x 2³ x 3 x 7"," x 2³ x 3 x 7"," x 2³ x 3 x 7"," x 2³ x 3 x 7"," x 2³ x 3 x 7"," x 2³ x 3 x 7"," x 2³ x 3 x 7"," x 2³ x 3 x 7"," x 2³ x 3 x 7"," x 2³ x 3 x 7"," x 2³ x 3 x 7"," x 2³ x 3 x 7"," x 2³ x 3 x 7"," x 2³ x 3 x 7"," x 2³ x 3 x 7"," x 2³ x 3 x 7"," x 2³ x 3 x 7"," x 2³ x 3 x 7"," x 2³ x 3 x 7"," x 2³ x 3 x 7"," x 2³ x 3 x 7"," x 2³ x 3 x 7"," x 2³ x 3 x 7"," x 2³ x 3 x 7"," x 2³ x 3 x 7"," x 2³ x 3 x 7"," x 2³ x 3 x 7"," x 2³ x 3 x 7"," x 2³ x 3 x 7"," x 2³ x 3 x 7"," x 2³ x 3 x 7"," x 2³ x 3 x 7"," x 2³ x 3 x 7"," x 2³ x 3 x 7"," x 2³ x 3 x 7"," x 2³ x 3 x 7"," x 2³ x 3 x 7",{"$f":"QL60&QM25","v":" x 2³ x 3 x 7"}," x 2³ x 3 x 7"," x 2³ x 3 x 7"," x 2³ x 3 x 7"," x 2³ x 3 x 7"," x 2³ x 3 x 7"," x 2³ x 3 x 7"," x 2³ x 3 x 7"," x 2³ x 3 x 7"," x 2³ x 3 x 7"," x 2³ x 3 x 7"," x 2³ x 3 x 7"," x 2³ x 3 x 7"," x 2³ x 3 x 7"," x 2³ x 3 x 7"," x 2³ x 3 x 7"," x 2³ x 3 x 7"," x 2³ x 3 x 7"," x 2³ x 3 x 7"," x 2³ x 3 x 7"," x 2³ x 3 x 7"," x 2³ x 3 x 7"," x 2³ x 3 x 7"," x 2³ x 3 x 7"," x 2³ x 3 x 7"," x 2³ x 3 x 7"," x 2³ x 3 x 7"," x 2³ x 3 x 7"," x 2³ x 3 x 7"," x 2³ x 3 x 7"," x 2³ x 3 x 7"," x 2³ x 3 x 7"," x 2³ x 3 x 7"," x 2³ x 3 x 7"," x 2³ x 3 x 7"," x 2³ x 3 x 7"," x 2³ x 3 x 7"," x 2³ x 3 x 7"," x 2³ x 3 x 7"," x 2³ x 3 x 7"," x 2³ x 3 x 7"," x 2³ x 3 x 7"," x 2³ x 3 x 7"," x 2³ x 3 x 7"," x 2³ x 3 x 7"," x 2³ x 3 x 7"," x 2³ x 3 x 7"," x 2³ x 3 x 7"," x 2³ x 3 x 7"," x 2³ x 3 x 7"," x 2³ x 3 x 7"," x 2³ x 3 x 7"," x 2³ x 3 x 7"," x 2³ x 3 x 7"," x 2³ x 3 x 7"," x 2³ x 3 x 7"," x 2³ x 3 x 7"," x 2³ x 3 x 7"," x 2³ x 3 x 7"," x 2³ x 3 x 7"," x 2³ x 3 x 7"," x 2³ x 3 x 7"," x 2³ x 3 x 7"," x 2³ x 3 x 7",{"$f":"SX60&SY25","v":" x 2³ x 3 x 7"}," x 2³ x 3 x 7"," x 2³ x 3 x 7"," x 2³ x 3 x 7"," x 2³ x 3 x 7"," x 2³ x 3 x 7"," x 2³ x 3 x 7"," x 2³ x 3 x 7"," x 2³ x 3 x 7"," x 2³ x 3 x 7"," x 2³ x 3 x 7"," x 2³ x 3 x 7"," x 2³ x 3 x 7"," x 2³ x 3 x 7"," x 2³ x 3 x 7"," x 2³ x 3 x 7"," x 2³ x 3 x 7"," x 2³ x 3 x 7"," x 2³ x 3 x 7"," x 2³ x 3 x 7"," x 2³ x 3 x 7"," x 2³ x 3 x 7"," x 2³ x 3 x 7"," x 2³ x 3 x 7"," x 2³ x 3 x 7"," x 2³ x 3 x 7"," x 2³ x 3 x 7"," x 2³ x 3 x 7"," x 2³ x 3 x 7"," x 2³ x 3 x 7"," x 2³ x 3 x 7"," x 2³ x 3 x 7"," x 2³ x 3 x 7"," x 2³ x 3 x 7"," x 2³ x 3 x 7"," x 2³ x 3 x 7"," x 2³ x 3 x 7"," x 2³ x 3 x 7"," x 2³ x 3 x 7"," x 2³ x 3 x 7"," x 2³ x 3 x 7"," x 2³ x 3 x 7"," x 2³ x 3 x 7"," x 2³ x 3 x 7"," x 2³ x 3 x 7"," x 2³ x 3 x 7"," x 2³ x 3 x 7"," x 2³ x 3 x 7"," x 2³ x 3 x 7"," x 2³ x 3 x 7"," x 2³ x 3 x 7"," x 2³ x 3 x 7"," x 2³ x 3 x 7"," x 2³ x 3 x 7"," x 2³ x 3 x 7"," x 2³ x 3 x 7"," x 2³ x 3 x 7"," x 2³ x 3 x 7"," x 2³ x 3 x 7"," x 2³ x 3 x 7"," x 2³ x 3 x 7"," x 2³ x 3 x 7"," x 2³ x 3 x 7"," x 2³ x 3 x 7",{"$f":"VJ60&VK25","v":" x 2³ x 3 x 7"}," x 2³ x 3 x 7"," x 2³ x 3 x 7"," x 2³ x 3 x 7"," x 2³ x 3 x 7"," x 2³ x 3 x 7"," x 2³ x 3 x 7"," x 2³ x 3 x 7"," x 2³ x 3 x 7"," x 2³ x 3 x 7"," x 2³ x 3 x 7"," x 2³ x 3 x 7"," x 2³ x 3 x 7"," x 2³ x 3 x 7"," x 2³ x 3 x 7"," x 2³ x 3 x 7"," x 2³ x 3 x 7"," x 2³ x 3 x 7"," x 2³ x 3 x 7"," x 2³ x 3 x 7"," x 2³ x 3 x 7"," x 2³ x 3 x 7"," x 2³ x 3 x 7"," x 2³ x 3 x 7"," x 2³ x 3 x 7"," x 2³ x 3 x 7"," x 2³ x 3 x 7"," x 2³ x 3 x 7"," x 2³ x 3 x 7"," x 2³ x 3 x 7"," x 2³ x 3 x 7"," x 2³ x 3 x 7"," x 2³ x 3 x 7"," x 2³ x 3 x 7"," x 2³ x 3 x 7"," x 2³ x 3 x 7"," x 2³ x 3 x 7"," x 2³ x 3 x 7"," x 2³ x 3 x 7"," x 2³ x 3 x 7"," x 2³ x 3 x 7"," x 2³ x 3 x 7"," x 2³ x 3 x 7"," x 2³ x 3 x 7"," x 2³ x 3 x 7"," x 2³ x 3 x 7"," x 2³ x 3 x 7"," x 2³ x 3 x 7"," x 2³ x 3 x 7"," x 2³ x 3 x 7"," x 2³ x 3 x 7"," x 2³ x 3 x 7"," x 2³ x 3 x 7"," x 2³ x 3 x 7"," x 2³ x 3 x 7"," x 2³ x 3 x 7"," x 2³ x 3 x 7"," x 2³ x 3 x 7"," x 2³ x 3 x 7"," x 2³ x 3 x 7"," x 2³ x 3 x 7"," x 2³ x 3 x 7"," x 2³ x 3 x 7"," x 2³ x 3 x 7",{"$f":"XV60&XW25","v":" x 2³ x 3 x 7"}," x 2³ x 3 x 7"," x 2³ x 3 x 7"," x 2³ x 3 x 7"," x 2³ x 3 x 7"," x 2³ x 3 x 7"," x 2³ x 3 x 7"," x 2³ x 3 x 7"," x 2³ x 3 x 7"," x 2³ x 3 x 7"," x 2³ x 3 x 7"," x 2³ x 3 x 7"," x 2³ x 3 x 7"," x 2³ x 3 x 7"," x 2³ x 3 x 7"," x 2³ x 3 x 7"," x 2³ x 3 x 7"," x 2³ x 3 x 7"," x 2³ x 3 x 7"," x 2³ x 3 x 7"," x 2³ x 3 x 7"," x 2³ x 3 x 7"," x 2³ x 3 x 7"," x 2³ x 3 x 7"," x 2³ x 3 x 7"," x 2³ x 3 x 7"," x 2³ x 3 x 7"," x 2³ x 3 x 7"," x 2³ x 3 x 7"," x 2³ x 3 x 7"," x 2³ x 3 x 7"," x 2³ x 3 x 7"," x 2³ x 3 x 7"," x 2³ x 3 x 7"," x 2³ x 3 x 7"," x 2³ x 3 x 7"," x 2³ x 3 x 7"," x 2³ x 3 x 7"," x 2³ x 3 x 7"," x 2³ x 3 x 7"," x 2³ x 3 x 7"," x 2³ x 3 x 7"," x 2³ x 3 x 7"," x 2³ x 3 x 7"," x 2³ x 3 x 7"," x 2³ x 3 x 7"," x 2³ x 3 x 7"," x 2³ x 3 x 7"," x 2³ x 3 x 7"," x 2³ x 3 x 7"," x 2³ x 3 x 7"," x 2³ x 3 x 7"," x 2³ x 3 x 7"," x 2³ x 3 x 7"," x 2³ x 3 x 7"," x 2³ x 3 x 7"," x 2³ x 3 x 7"," x 2³ x 3 x 7"," x 2³ x 3 x 7"," x 2³ x 3 x 7"," x 2³ x 3 x 7"," x 2³ x 3 x 7"," x 2³ x 3 x 7"," x 2³ x 3 x 7",{"$f":"AAH60&AAI25","v":" x 2³ x 3 x 7"}," x 2³ x 3 x 7"," x 2³ x 3 x 7"," x 2³ x 3 x 7"," x 2³ x 3 x 7"," x 2³ x 3 x 7"," x 2³ x 3 x 7"," x 2³ x 3 x 7"," x 2³ x 3 x 7"," x 2³ x 3 x 7"," x 2³ x 3 x 7"," x 2³ x 3 x 7"," x 2³ x 3 x 7"," x 2³ x 3 x 7"," x 2³ x 3 x 7"," x 2³ x 3 x 7"," x 2³ x 3 x 7"," x 2³ x 3 x 7"," x 2³ x 3 x 7"," x 2³ x 3 x 7"," x 2³ x 3 x 7"," x 2³ x 3 x 7"," x 2³ x 3 x 7"," x 2³ x 3 x 7"," x 2³ x 3 x 7"," x 2³ x 3 x 7"," x 2³ x 3 x 7"," x 2³ x 3 x 7"," x 2³ x 3 x 7"," x 2³ x 3 x 7"," x 2³ x 3 x 7"," x 2³ x 3 x 7"," x 2³ x 3 x 7"," x 2³ x 3 x 7"," x 2³ x 3 x 7"," x 2³ x 3 x 7"," x 2³ x 3 x 7"," x 2³ x 3 x 7"," x 2³ x 3 x 7"," x 2³ x 3 x 7"," x 2³ x 3 x 7"," x 2³ x 3 x 7"," x 2³ x 3 x 7"," x 2³ x 3 x 7"," x 2³ x 3 x 7"," x 2³ x 3 x 7"," x 2³ x 3 x 7"," x 2³ x 3 x 7"," x 2³ x 3 x 7"," x 2³ x 3 x 7"," x 2³ x 3 x 7"," x 2³ x 3 x 7"," x 2³ x 3 x 7"," x 2³ x 3 x 7"," x 2³ x 3 x 7"," x 2³ x 3 x 7"," x 2³ x 3 x 7"," x 2³ x 3 x 7"," x 2³ x 3 x 7"," x 2³ x 3 x 7"," x 2³ x 3 x 7"," x 2³ x 3 x 7"," x 2³ x 3 x 7"," x 2³ x 3 x 7",{"$f":"ACT60&ACU25","v":" x 2³ x 3 x 7"}," x 2³ x 3 x 7"," x 2³ x 3 x 7"," x 2³ x 3 x 7"," x 2³ x 3 x 7"," x 2³ x 3 x 7"," x 2³ x 3 x 7"," x 2³ x 3 x 7"," x 2³ x 3 x 7"," x 2³ x 3 x 7"," x 2³ x 3 x 7"," x 2³ x 3 x 7"," x 2³ x 3 x 7"," x 2³ x 3 x 7"," x 2³ x 3 x 7"," x 2³ x 3 x 7"," x 2³ x 3 x 7"," x 2³ x 3 x 7"," x 2³ x 3 x 7"," x 2³ x 3 x 7"," x 2³ x 3 x 7"," x 2³ x 3 x 7"," x 2³ x 3 x 7"," x 2³ x 3 x 7"," x 2³ x 3 x 7"," x 2³ x 3 x 7"," x 2³ x 3 x 7"," x 2³ x 3 x 7"," x 2³ x 3 x 7"," x 2³ x 3 x 7"," x 2³ x 3 x 7"," x 2³ x 3 x 7"," x 2³ x 3 x 7"," x 2³ x 3 x 7"," x 2³ x 3 x 7"," x 2³ x 3 x 7"," x 2³ x 3 x 7"," x 2³ x 3 x 7"," x 2³ x 3 x 7"," x 2³ x 3 x 7"," x 2³ x 3 x 7"," x 2³ x 3 x 7"," x 2³ x 3 x 7"," x 2³ x 3 x 7"," x 2³ x 3 x 7"," x 2³ x 3 x 7"," x 2³ x 3 x 7"," x 2³ x 3 x 7"," x 2³ x 3 x 7"," x 2³ x 3 x 7"," x 2³ x 3 x 7"," x 2³ x 3 x 7"," x 2³ x 3 x 7"," x 2³ x 3 x 7"," x 2³ x 3 x 7"," x 2³ x 3 x 7"," x 2³ x 3 x 7"," x 2³ x 3 x 7"," x 2³ x 3 x 7"," x 2³ x 3 x 7"," x 2³ x 3 x 7"," x 2³ x 3 x 7"," x 2³ x 3 x 7"," x 2³ x 3 x 7",{"$f":"AFF60&AFG25","v":" x 2³ x 3 x 7"}," x 2³ x 3 x 7"," x 2³ x 3 x 7"," x 2³ x 3 x 7"," x 2³ x 3 x 7"," x 2³ x 3 x 7"," x 2³ x 3 x 7"," x 2³ x 3 x 7"," x 2³ x 3 x 7"," x 2³ x 3 x 7"," x 2³ x 3 x 7"," x 2³ x 3 x 7"," x 2³ x 3 x 7"," x 2³ x 3 x 7"," x 2³ x 3 x 7"," x 2³ x 3 x 7"," x 2³ x 3 x 7"," x 2³ x 3 x 7"," x 2³ x 3 x 7"," x 2³ x 3 x 7"," x 2³ x 3 x 7"," x 2³ x 3 x 7"," x 2³ x 3 x 7"," x 2³ x 3 x 7"," x 2³ x 3 x 7"," x 2³ x 3 x 7"," x 2³ x 3 x 7"," x 2³ x 3 x 7"," x 2³ x 3 x 7"," x 2³ x 3 x 7"," x 2³ x 3 x 7"," x 2³ x 3 x 7"," x 2³ x 3 x 7"," x 2³ x 3 x 7"," x 2³ x 3 x 7"," x 2³ x 3 x 7"," x 2³ x 3 x 7"," x 2³ x 3 x 7"," x 2³ x 3 x 7"," x 2³ x 3 x 7"," x 2³ x 3 x 7"," x 2³ x 3 x 7"," x 2³ x 3 x 7"," x 2³ x 3 x 7"," x 2³ x 3 x 7"," x 2³ x 3 x 7"," x 2³ x 3 x 7"," x 2³ x 3 x 7"," x 2³ x 3 x 7"," x 2³ x 3 x 7"," x 2³ x 3 x 7"," x 2³ x 3 x 7"," x 2³ x 3 x 7"," x 2³ x 3 x 7"," x 2³ x 3 x 7"," x 2³ x 3 x 7"," x 2³ x 3 x 7"," x 2³ x 3 x 7"," x 2³ x 3 x 7"," x 2³ x 3 x 7"," x 2³ x 3 x 7"," x 2³ x 3 x 7"," x 2³ x 3 x 7"," x 2³ x 3 x 7",{"$f":"AHR60&AHS25","v":" x 2³ x 3 x 7"}," x 2³ x 3 x 7"," x 2³ x 3 x 7"," x 2³ x 3 x 7"," x 2³ x 3 x 7"," x 2³ x 3 x 7"," x 2³ x 3 x 7"," x 2³ x 3 x 7"," x 2³ x 3 x 7"," x 2³ x 3 x 7"," x 2³ x 3 x 7"," x 2³ x 3 x 7"," x 2³ x 3 x 7"," x 2³ x 3 x 7"," x 2³ x 3 x 7"," x 2³ x 3 x 7"," x 2³ x 3 x 7"," x 2³ x 3 x 7"," x 2³ x 3 x 7"," x 2³ x 3 x 7"," x 2³ x 3 x 7"," x 2³ x 3 x 7"," x 2³ x 3 x 7"," x 2³ x 3 x 7"," x 2³ x 3 x 7"," x 2³ x 3 x 7"," x 2³ x 3 x 7"," x 2³ x 3 x 7"," x 2³ x 3 x 7"," x 2³ x 3 x 7"," x 2³ x 3 x 7"," x 2³ x 3 x 7"," x 2³ x 3 x 7"," x 2³ x 3 x 7"," x 2³ x 3 x 7"," x 2³ x 3 x 7"," x 2³ x 3 x 7"," x 2³ x 3 x 7"," x 2³ x 3 x 7"," x 2³ x 3 x 7"," x 2³ x 3 x 7"," x 2³ x 3 x 7"," x 2³ x 3 x 7"," x 2³ x 3 x 7"," x 2³ x 3 x 7"," x 2³ x 3 x 7"," x 2³ x 3 x 7"," x 2³ x 3 x 7"," x 2³ x 3 x 7"," x 2³ x 3 x 7"," x 2³ x 3 x 7"," x 2³ x 3 x 7"," x 2³ x 3 x 7"," x 2³ x 3 x 7"," x 2³ x 3 x 7"," x 2³ x 3 x 7"," x 2³ x 3 x 7"," x 2³ x 3 x 7"," x 2³ x 3 x 7"," x 2³ x 3 x 7"," x 2³ x 3 x 7"," x 2³ x 3 x 7"," x 2³ x 3 x 7"," x 2³ x 3 x 7",{"$f":"AKD60&AKE25","v":" x 2³ x 3 x 7"}," x 2³ x 3 x 7"," x 2³ x 3 x 7"," x 2³ x 3 x 7"," x 2³ x 3 x 7"," x 2³ x 3 x 7"," x 2³ x 3 x 7"," x 2³ x 3 x 7"," x 2³ x 3 x 7"," x 2³ x 3 x 7"," x 2³ x 3 x 7"," x 2³ x 3 x 7"," x 2³ x 3 x 7"," x 2³ x 3 x 7"," x 2³ x 3 x 7"," x 2³ x 3 x 7"," x 2³ x 3 x 7"," x 2³ x 3 x 7"," x 2³ x 3 x 7"," x 2³ x 3 x 7"," x 2³ x 3 x 7"," x 2³ x 3 x 7"," x 2³ x 3 x 7"," x 2³ x 3 x 7"," x 2³ x 3 x 7"," x 2³ x 3 x 7"," x 2³ x 3 x 7"," x 2³ x 3 x 7"," x 2³ x 3 x 7"," x 2³ x 3 x 7"," x 2³ x 3 x 7"," x 2³ x 3 x 7"," x 2³ x 3 x 7"," x 2³ x 3 x 7"," x 2³ x 3 x 7"," x 2³ x 3 x 7"," x 2³ x 3 x 7"," x 2³ x 3 x 7"," x 2³ x 3 x 7"]
[13,{"$error":"#N/A"},{"$error":"#N/A"},0,{"$f":"IF(D61=0,IF(SUM(D62:$D$62)=0,\"\",E62),D61)","v":""},{"$f":"RIGHT(ALQ60,LEN(ALQ60)-3)","v":"2³ x 3 x 7"}]
[14,{"$error":"#N/A"},{"$error":"#N/A"},0,{"$f":"IF(D62=0,IF(SUM(D$62:$D63)=0,\"\",E63),D62)","v":""}]
[]
["#1 not HCF:"]
[1,{"$f":"MATCH(A65,$F$54:$ALQ$54,0)","v":1},{"$f":"LOOKUP(B65,$F$1:$ALQ$1,$F$6:$ALQ$6)","v":2},{"$f":"IF(ISERROR(C65),0,C65)","v":2},{"$f":"IF(D65=0,IF(SUM(D66:$D$78)=0,\"\",E66),D65)","v":2}]
[2,{"$f":"MATCH(A66,$F$54:$ALQ$54,0)","v":2},{"$f":"LOOKUP(B66,$F$1:$ALQ$1,$F$6:$ALQ$6)","v":3},{"$f":"IF(ISERROR(C66),0,C66)","v":3},{"$f":"IF(D66=0,IF(SUM(D67:$D$78)=0,\"\",E67),D66)","v":3}]
[3,3,5,5,{"$f":"IF(D67=0,IF(SUM(D68:$D$78)=0,\"\",E68),D67)","v":5}]
[4,{"$error":"#N/A"},{"$error":"#N/A"},0,{"$f":"IF(D68=0,IF(SUM(D69:$D$78)=0,\"\",E69),D68)","v":""}]
[5,{"$error":"#N/A"},{"$error":"#N/A"},0,{"$f":"IF(D69=0,IF(SUM(D70:$D$78)=0,\"\",E70),D69)","v":""}]
[6,{"$error":"#N/A"},{"$error":"#N/A"},0,{"$f":"IF(D70=0,IF(SUM(D71:$D$78)=0,\"\",E71),D70)","v":""}]
[7,{"$error":"#N/A"},{"$error":"#N/A"},0,{"$f":"IF(D71=0,IF(SUM(D72:$D$78)=0,\"\",E72),D71)","v":""}]
[8,{"$error":"#N/A"},{"$error":"#N/A"},0,{"$f":"IF(D72=0,IF(SUM(D73:$D$78)=0,\"\",E73),D72)","v":""}]
[9,{"$error":"#N/A"},{"$error":"#N/A"},0,{"$f":"IF(D73=0,IF(SUM(D74:$D$78)=0,\"\",E74),D73)","v":""}]
[10,{"$error":"#N/A"},{"$error":"#N/A"},0,{"$f":"IF(D74=0,IF(SUM(D75:$D$78)=0,\"\",E75),D74)","v":""}]
[11,{"$error":"#N/A"},{"$error":"#N/A"},0,{"$f":"IF(D75=0,IF(SUM(D76:$D$78)=0,\"\",E76),D75)","v":""}]
[12,{"$error":"#N/A"},{"$error":"#N/A"},0,{"$f":"IF(D76=0,IF(SUM(D77:$D$78)=0,\"\",E77),D76)","v":""}]
[13,{"$error":"#N/A"},{"$error":"#N/A"},0,{"$f":"IF(D77=0,IF(SUM(D78:$D$78)=0,\"\",E78),D77)","v":""}]
[14,{"$error":"#N/A"},{"$error":"#N/A"},0,{"$f":"IF(D78=0,IF(SUM(D$78:$D79)=0,\"\",E79),D78)","v":""}]
[]
["#2 Not HCF:"]
[1,{"$f":"MATCH(A81,$F$55:$ALQ$55,0)","v":4},{"$f":"LOOKUP(B81,$F$1:$ALQ$1,$F$6:$ALQ$6)","v":7},{"$f":"IF(ISERROR(C81),0,C81)","v":7},{"$f":"IF(D81=0,IF(SUM(D82:$D$94)=0,\"\",E82),D81)","v":7}]
[2,{"$f":"MATCH(A82,$F$55:$ALQ$55,0)","v":{"$error":"#N/A"}},{"$f":"LOOKUP(B82,$F$1:$ALQ$1,$F$6:$ALQ$6)","v":{"$error":"#N/A"}},{"$f":"IF(ISERROR(C82),0,C82)","v":0},{"$f":"IF(D82=0,IF(SUM(D83:$D$94)=0,\"\",E83),D82)","v":""}]
[3,{"$error":"#N/A"},{"$error":"#N/A"},0,{"$f":"IF(D83=0,IF(SUM(D84:$D$94)=0,\"\",E84),D83)","v":""}]
[4,{"$error":"#N/A"},{"$error":"#N/A"},0,{"$f":"IF(D84=0,IF(SUM(D85:$D$94)=0,\"\",E85),D84)","v":""}]
[5,{"$error":"#N/A"},{"$error":"#N/A"},0,{"$f":"IF(D85=0,IF(SUM(D86:$D$94)=0,\"\",E86),D85)","v":""}]
[6,{"$error":"#N/A"},{"$error":"#N/A"},0,{"$f":"IF(D86=0,IF(SUM(D87:$D$94)=0,\"\",E87),D86)","v":""}]
[7,{"$error":"#N/A"},{"$error":"#N/A"},0,{"$f":"IF(D87=0,IF(SUM(D88:$D$94)=0,\"\",E88),D87)","v":""}]
[8,{"$error":"#N/A"},{"$error":"#N/A"},0,{"$f":"IF(D88=0,IF(SUM(D89:$D$94)=0,\"\",E89),D88)","v":""}]
[9,{"$error":"#N/A"},{"$error":"#N/A"},0,{"$f":"IF(D89=0,IF(SUM(D90:$D$94)=0,\"\",E90),D89)","v":""}]
[10,{"$error":"#N/A"},{"$error":"#N/A"},0,{"$f":"IF(D90=0,IF(SUM(D91:$D$94)=0,\"\",E91),D90)","v":""}]
[11,{"$error":"#N/A"},{"$error":"#N/A"},0,{"$f":"IF(D91=0,IF(SUM(D92:$D$94)=0,\"\",E92),D91)","v":""}]
[12,{"$error":"#N/A"},{"$error":"#N/A"},0,{"$f":"IF(D92=0,IF(SUM(D93:$D$94)=0,\"\",E93),D92)","v":""}]
[13,{"$error":"#N/A"},{"$error":"#N/A"},0,{"$f":"IF(D93=0,IF(SUM(D94:$D$94)=0,\"\",E94),D93)","v":""}]
[14,{"$error":"#N/A"},{"$error":"#N/A"},0,{"$f":"IF(D94=0,IF(SUM(D$94:$D95)=0,\"\",E95),D94)","v":""}]
[]
[0,"⁰"]
[1,"¹"]
[2,"²"]
[3,"³"]
[4,"⁴"]
[5,"⁵"]
[6,"⁶"]
[7,"⁷"]
[8,"⁸"]
[9,"⁹"]
[10,"¹⁰"]
[11,"¹¹"]
[12,"¹²"]
[13,"¹³"]
[14,"¹⁴"]
[15,"¹⁵"]
[16,"¹⁶"]
[17,"¹⁷"]